{"text_format":"1","workbook":"xlsx","n_sheets":10,"sheets":["Introduction","Technical User Guide","CSA","ES Annex","Justifications","WPG","UMC","Inhalation data","Dermal data","Add"],"not_rendered":{"charts":0,"images":8,"macros":1,"external_links":3,"defined_names":28,"comments":3,"pivot_tables":0},"unopened":[],"bounds":{"document_bytes":16777216,"sheet_cells":100000,"rows_first":2000,"rows_last":500,"rows_between":2000,"halvings":0,"cell_chars":16384,"cell_head_chars":4096},"cells_cut":0,"cells_raw":0,"read":"whole","date_system":"1900"}

{"sheet":"Introduction","index":0,"n_rows":64,"n_cols":9,"rows_kept":64,"cut":false,"hidden":false,"merged":[[63,1,63,7],[61,1,61,7],[62,1,62,7],[44,1,44,7],[45,1,45,7],[46,0,60,0],[46,1,46,7],[52,1,52,7],[53,1,53,7],[54,1,54,7],[55,1,55,7],[56,1,56,7],[58,1,58,7],[59,1,59,7],[60,1,60,7],[46,8,60,8],[47,1,47,7],[48,1,48,7],[49,1,49,7],[50,1,50,7],[51,1,51,7],[57,1,57,7]]}
[]
[]
[]
[]
[]
[]
[]
[]
[]
[]
[]
[]
[]
[]
[]
[]
[]
[]
[]
[]
[]
[]
[]
[]
[]
[]
[]
[]
[]
[]
[]
[]
[]
[]
[]
[]
[]
[]
[]
[]
[]
[]
[]
["Document History"]
["Version","Comment",null,null,null,null,null,null,"Date"]
["Version 0","First edition",null,null,null,null,null,null,"2009-12-01"]
["Version 1","Editorial adjustments applied",null,null,null,null,null,null,"2010-02-01"]
[null,"Worksheet 0. 'Introduction and Contents'"]
[null,"Under 'References': added weblink to draft up-dates to ECHA guidance and adjusted identified Version numbers."]
[null,"Worksheet 2. 'Worker CSA Template'"]
[null,"a. Column 'C' Revised life cycle stage for 'Manufacture of Substance A' to reflect 'Industrial - SU3'"]
[null,"b. Annotation added to the cell for the short term inhalation DNEL to highlight that an adjustment to the worksheet is required if a short term DNEL is to be applied in place of/alongside the long term inhalation DNEL."]
[null,"Worksheet 3. 'Worker - Ex ES Annex'"]
[null,"a. Row 2, Revised reference to ECHA ES Template to reflect Draft Version 2"]
[null,"Ref 1 Example GES Titles"]
[null,"a. Additional comment included to indicate that Use Descriptors and scope statements may be expected for Substances of Very High Concern (SVHC)"]
[null,"b. Some adjustments to Use Descriptor details."]
[null,"c. Deleted entries for 'Propellant' and 'Polymer Production' which are not in the Solvents GES Library of titles"]
[null,"Ref 3 TRA Worker Expo modifers"]
[null,"a. Updated entries to clarify where LEV efficiencies are applicable only to 'Solids' or 'Volatiles' for certain PROCs."]
[null,"b. Deleted row 18 detailing 95% efficiency for LEV Professional for PROC17 and 18. Entry included in error. 95% efficiency not relevant for any PROCs applicable to professional activities within the TRA."]
["Version 2","Editorial adjustments to the 'Introduction and Contents' worksheet",null,null,null,null,null,null,"2011-09-01"]
["Version 3","Fully revised and semi-automated tool, which incorporates the ECETOC TRA v3 tool",null,null,null,null,null,null,"mar-13"]
["Version 4","PROC 3 added to CSA ",null,null,null,null,null,null,"2020-11-01"]

{"sheet":"Technical User Guide","index":1,"n_rows":0,"n_cols":0,"rows_kept":0,"cut":false,"hidden":false,"merged":[]}

{"sheet":"CSA","index":2,"n_rows":259,"n_cols":89,"rows_kept":259,"cut":false,"hidden":false,"merged":[[23,2,23,3],[32,4,32,5],[27,6,27,7],[44,6,44,7],[44,1,44,2],[44,3,44,5],[26,6,26,7],[34,2,34,3],[0,0,0,3],[19,2,19,3],[20,2,20,3],[21,2,21,3],[22,2,22,3],[1,7,11,8],[44,48,44,49],[39,15,39,16],[42,46,42,51],[44,46,44,47],[44,23,44,25],[44,36,44,39],[44,34,44,35]]}
["Use in functional fluids (Industrial) - medium volatility, low DNEL"]
["Worksheet 2. Worker Chemical Safety Assessment Template: Tables 1 and 2 - Worker Chemical Safety Assessment (CSA)- LIQUIDS ONLY"]
[null,null,null,"Title (1st field predefined, 2nd field is free text)","Functional Fluids [GEST13_I]. "]
[null,null,null,"Life cycle stage","Use at industrial sites"]
["SETTINGS",null,"Substance specific information"]
[null,null,"Substance:Trade name in col D and chemical name in col E (translated)",null,"medium volatility substance","liquid"]
["Model modifications:",null,null,"CAS:"]
["Cap at saturated conc?","NO","Substance volatility (Pa) at 20-25C:",null,900]
["Reduce dermal exposure","YES","TRA volatility range",null,{"$f":"IF(E8>10000,\"high\",IF(E8>500,\"medium\",IF(E8>0.01,\"low\",\"very low\")))","v":"medium"},{"$f":"IF(E8>10000,WPG!F339,IF(E8>500,WPG!F338,IF(E8>0.01,WPG!F365,WPG!F364)))","v":"Liquid, vapour pressure 0.5 - 10 kPa at STP [OC4]. "}]
["with use of LEV?",null,"molecular weight (g/mol)",null,120,null,null,null,null,null,null,null,null,null,null,null,null,null,null,null,null,null,null,null,null,null,null,null,null,null,null,null,null,null,null,null,null,null,null,null,null,null,null,null,null,null,null,null,null,null,null,null,"Saturated vapour concentration (ppm):",{"$f":"ROUND(E8/0.101325,2-1-INT(LOG10(ABS(E8/0.101325))))","v":8900}]
[]
["Output formatting:",null,"Reference Values",null,null,"Suppress RCR calculation in ES annex sheet"]
["Suppress inhalation exposure predictions","YES","DNEL worker - inhalation  (long term)","mg/m3",50,"YES"]
["Suppress dermal exposure predictions","YES","DNEL worker - inhalation  (short term)","mg/m3",null,"YES"]
["Use reference nos?","YES","DNEL worker - inhalation  (long term) aerosol","mg/m3",5,"YES",null,"Colour coding for cells"]
[null,null,"DNEL worker - dermal (long term)","mg/kg/day",5,"YES",null,"Cells of this colour require direct numeric  entries"]
[null,null,null,"Classified as a CMR under GHS category 1?","NO",null,null,"cells like this are drop down boxes"]
["TIDY ES ANNEX SHEET (SUPPRESS UNUSED ROWS, AUTOFIT ROW HEIGHT ETC )",null,"Classification","Classification in contact with skin (irritant, corrosive, sensitiser)","Any of: H310-H311-H312-H314-H315-H317",null,null,"cells like this permit multiple choices (use list box or ctrl+M)"]
[null,null,null,"Classified as an eye irritant","YES",null,null,"Text in red is free text"]
["Flags to determine text to use to make us contributing scenarios - At least one must be set as Yes",null,"Exposure scenario number",null,11,null,null,"Empty white background cells are automatically filled"]
["Use contributing scenario descriptors in ES Annex sheet contributing scenarios","YES","Scope of assessment.  Processes, tasks, activities covered.  First box is a predefined list.  Second box can be used for free text as an addition or alternative",null,"Use as functional fluids e.g. cable oils, transfer oils, coolants, insulators, refrigerants, hydraulic fluids in industrial equipment including maintenance and related material transfers [GES13_I]. ",null,null,"Warning messages are in red bold on white background"]
["Use Proc numbers only without descriptors in contributing scenario descriptors","YES",null,null,null,null,null,"Instructions, field descriptions, comments are in bold"]
["Use Proc descriptors in contributing scenario descriptions","NO","Applicable Use Descriptors (PROC)  Enter in the form eg PROC1.  (Do not leave a space between the characters otherwise autotext allocation will not function correctly)",null,"PROC1, PROC2, PROC3, PROC4, PROC8a, PROC8b, PROC9.",null,null," Please note some comments included in cell annotations"]
[{"$f":"IF(AND(B21=\"NO\",B22=\"NO\",B23=\"NO\"),\"At least one of these must be set to YES\",\"\")","v":""},null,"Environmental release categories",null,"ERC7.",null,null,"Some section headings look like this",null,null,null,null,null,null,null,null,null,null,null,null,null,null,null,null,null,null,null,null,null,null,null,null,null,null,null,null,null,null,null,null,null,null,null,null,null,null,null,null,null,null,null,null,"PROCs include spraying activities or activities that can lead to significant aerosol production (PROC 7, 11, 17, 18)",{"$f":"NOT(IF(AND(ISERR(SEARCH(\"PROC7\",E23,1)),ISERR(SEARCH(\"PROC11\",E23,1)),ISERR(SEARCH(\"PROC17\",E23,1)),ISERR(SEARCH(\"PROC18\",E23,1))),TRUE,FALSE))","v":false}]
[]
[]
[]
[null,null,"Assessment method","Worker",{"$f":"WPG!F331","v":"The ECETOC TRA v3 tool has been used to estimate workplace exposures unless otherwise indicated [G46]. "}]
[null,null,"Default Operational Conditions",null,null,null,"Text used in ES Annex"]
[null,null,null,null,null,null,null,null,null,"Maximum concentration"]
[null,null,"concentration of substance in product","Covers percentage in product up to:","25-100%",null,{"$f":"IF(E31=\"<1%\",WPG!F291,IF(E31=\"1-5%\",WPG!F295,IF(E31=\"5-25%\",WPG!F296,WPG!F297)))","v":"Covers percentage substance in the product up to 100 % (unless stated differently) [G13 ]. "},null,null,{"$f":"IF(E31=\"<1%\",1,IF(E31=\"1-5%\",5,IF(E31=\"5-25%\",25,100)))","v":100}]
[null,null,"physical form of product",null,{"$f":"F9","v":"Liquid, vapour pressure 0.5 - 10 kPa at STP [OC4]. "}]
[null,null,"frequency and duration of use (worker)",null,"Covers daily exposures up to 8 hours (unless stated differently) [G2] "]
[null,null,null,null,"Phrase"]
[null,null,"other Operational Conditions of use.  [G1] and [G15] are good practice as standard phrases",null,"Assumes use at not more than 20°C above ambient temperature, unless stated differently [G15]. ;  Assumes a good basic standard of occupational hygiene is implemented  [G1]. "]
[null,null,"Human factors not influenced by risk management",null,"Not applicable. "]
[null,null,"Technical conditions and measures at a process level to prevent release and technical conditions and measures to control dispersion from source towards workers (often related to classification). "," These  measures are integrated into the type of RMM phrase(s) selected.","Not applicable. "]
[null,null,"Risk management measures common to all contributing scenarios. SOME ARE AUTOMATICALLY ALLOCATED BY CLASSIFICATION - SEE ES Annex. ","Manually selected measures"]
[]
[null,null,null,null,null,null,null,null,null,null,null,null,null,null,"Choice of phrase for 30% effective ventilation","Provide a good standard of general ventilation (not less than 3 to 5 air changes per hour) "]
[null,null,null,null,null,null,null,null,null,null,null,null,null,null,null,null,null,null,null,null,null,null,null,null,null,null,null,null,null,null,null,null,null,null,null,null,null,null,null,null,null,null,"You can suppress the automatic text allocation cell by cell by setting flags in this row and col AY to NO.  Intersecting 'NO' cells are suppressed"]
[null,null,null,null,null,null,null,null,null,null,null,null,null,null,null,null,null,null,null,null,null,null,null,null,null,null,null,null,null,null,null,null,null,null,null,null,null,null,null,null,null,"Allocate auto text?","NO","YES","YES","YES"]
[]
[null,null,null,"Table 1: Mapping Uses in the Supply Chain",null,null,null,null,null,null,null,null,null,"Table 2: Characterizing the risk - Chemical Safety Assessment - Evaluation of Safe Use",null,null,null,null,null,null,null,null,null,null,null,null,null,null,null,null,null,null,null,null,null,null,null,null,null,null,null,null,"GES RMM phrases to build RMM advice (ref: GES Phrases ESIG/ESVOC 2009-12-07) - REACH ADVISED"]
["Add ES number to row to activate cells","Generic Exposure Scenario",null,"Contributing Scenarios",null,null,"Fugacity band at operating temperature (blank if ambient or aerosol)",null,null,null,null,"General measures",null,"Inhalatory exposure ",null,null,null,null,null,null,null,null,null,"Alternative exposure estimates from tier 2 tools or measured data.  ",null,null,"Dermal exposure",null,null,null,null,null,null,null,"Alternative exposure estimates from tier 2 tools or measured data.  ",null,"Risk Characterization (When RCR ≥ 1 the cell background will change to pink)",null,null,null," Risk Management Measures (RMMs)",null,null,null,"AUTOMATICALLY POPULATED",null,"Technical Measures and Conditions (ref: GES Phrases 2.1.1_2.1.2 )",null,"Organizational Measures (ref: GES Phrases 2.1.3 )",null,"Environmental Measures\n (ref: GES Phrases 2.2 )",null,null,null,null,null,null,null,null,null,null,null,null,null,null,null,null,"Calculations to set correct flags for concentration"]
["CS #","Vapour or aerosol exposure","Exposure model to use","Name (After selecting first phrases, use CTRL + m to permit addition of extra phrases)","Typical mapped operating conditions (free text)","Typical mapped RMM (free text)","Select higher band than default if required","Fugacity band selected for CSA","Process Category [scroll list]","LEV  (Yes/No] Empty = No","Manually set TRA concentration factor","Automatically set worse case TRA concentration factor.  This is the lowest of the values set in cell E31 or the adjacent column K","TRA duration factor","TRA Predicted Exposure -   (mg/m3) aerosol in purple) -            no modifiers","TRA LEV efficiency","Dilution ventilation effectiveness (%) ","TRA RPE factor","Extra exposure modifier: [optional]","Free text - comment to clarify additional modifier (inhalation)","Data validation warning messages","Multiplier for Long term to short term exposure","Predicted 8hr Exposure -      (mg/m3) aerosol in purple font) - modified","Predicted short term Exposure -      (mg/m3 - aerosol in purple font) - modified","Tier 2/measured 8hr Exposure -      (mg/m3)","Predicted short term Exposure -      (mg/m3)","Free text - comment to explain where data comes from","TRA Predicted Dermal exposure (mg/kg/d) - no modifiers","TRA Predicted Dermal exposure (mg/cm2) - no modifiers","TRA Dermal exposure LEV reduction factor IF SWITCHED ON","Manually set PPE","extra exposure modifier: [optional] to be defined by exposure assessor","Free text - comment to clarify additional modifier (dermal)","Data validation warning messages","Predicted Dermal Exposure (mg/kg/d) - modified","Tier 2/measured 8hr Exposure -      (mg/kg/day)","Free text - comment to explain where data comes from"," RCR (inhalation) - Short term"," RCR (inhalation) - long term","RCR (dermal)          long term","RCR (long term inhalation + dermal combined)","RMMs for communication  - Consolidate into GES or e-SDS ","Automatic allocation (see explanation above","Automatically prescribed inhalation RRMs","Automatically prescribed PPE measures (gloves if dermal exposure)","Automatically prescribed duration RRMS","Automatically prescribed product concentration RRMs","Technical measures at process level (source) to prevent release ","Additional Technical conditions and measures to control dispersion from source towards the worker ","Additional Organisational measures to prevent/limit releases, dispersion and exposure","(respiratory & dermal protection)","Environment",null,null,null,null,null,null,null,null,null,null,null,null,"PROC code","PROC text","PROC descriptor",null,"Default","Manually set for scenario","Automatically determined"]
["1-1","Vapour exposure",{"$f":"IF(E$4=\"Widespread use by professional workers\",\"Professional \",\"Industrial\")","v":"Industrial"},"Bulk transfers [CS14].;  (closed systems) [CS107]. ","Daily; 15 min - 1 hour; ambient temp","Enclosed transfers; clear lines prior to decoupling",null,{"$f":"IF(B47=\"Aerosol exposure\",\"not applicable for aerosols\",IF(G47=\"\",F$9,G47))","v":"Liquid, vapour pressure 0.5 - 10 kPa at STP [OC4]. "},"1 - Use in closed process, no likelihood of exposure",null,null,{"$f":"IF(BR47=25,\"5-25%\",IF(BR47=5,\"1-5%\",IF(BR47=1,\"<1%\",\"\")))","v":""},null,{"$f":"IF(AND(OR(I47=A$124,I47=A$133),E$8<0.01,J47=\"Yes\"),IF(B$8=\"YES\",MIN(0.1*E$10/24,BB$10),0.1*E$10/24),IF(I47=\"\",\"\",IF(B47=\"Vapour exposure\",IF(C47=\"Industrial\",VLOOKUP(I47,'Inhalation data'!A$3:I$24,IF(H47=WPG!F$339,2,IF(H47=WPG!F$338,3,5)),FALSE),VLOOKUP(I47,'Inhalation data'!A$3:I$24,IF(H47=WPG!F$339,6,IF(H47=WPG!F$338,7,9)),FALSE))*E$10/24,IF(C47=\"Industrial\",VLOOKUP(I47,'Inhalation data'!A$3:X$24,23,FALSE),VLOOKUP(I47,'Inhalation data'!A$3:X$24,24,FALSE)))))","v":4.9999999999999996E-2},{"$f":"IF(OR(I47=\"\",J47=\"No\",J47=\"\"),\"\",VLOOKUP(I47,'Inhalation data'!A$3:O$24,IF(C47=\"Industrial\",14,15),FALSE))","v":""},null,null,null,null,{"$f":"IF(AND(P47=\"30 (outdoor)\",J47=\"Yes\"),\"You cannot have LEV and outdoor together. \",\"\")&IF(AND(C47=\"Professional - SU22\",I47=\"7 -Industrial Spraying\"),\"PROC 7 is for Industrial use only. \",\"\")&IF(AND(TRIM(I47)=\"20 - Heat and pressure transfer fluids (closed systems) in dispersive use\",C47=\"Industrial - SU3\"),\"PROC 20 is for Professional use only. \",\"\")&IF(AND(I47=\"11 - Non industrial spraying\",C47=\"Industrial - SU3\"),\"PROC 11 is for Professional Use only. \",\"\")&IF(AND(I47=\"1 - Use in closed process, no likelihood of exposure\",J47=\"Yes\"),\"LEV with Proc 1 will be ignored. \",\"\")&IF(AND(C47=\"Professional - (SU22)\",J47=\"Yes\",P47=\"70 (ventilation)\"),\"It is not valid to have forced ventilation and LEV with a professional scenario. \",\"\")","v":""},{"$f":"IF(I47=\"\",\"\",VLOOKUP(I47,'Inhalation data'!A$3:AS$24,45,FALSE))","v":4},{"$f":"IF(N47=\"\",0,N47*(100-IF(P47=\"\",0,IF(P47=\"70 (ventilation)\",70,30)))/100*(IF(L47=\">25%\",1,(IF(L47=\"5-25%\",0.6,(IF(L47=\"1-5%\",0.2,(IF(L47=\"<1%\",0.1,1))))))))*IF(M47=\"\",1,(IF(M47=\">4 hours\",1,(IF(M47=\"1-4 hours\",0.6,(IF(M47=\"15 min-1 hour\",0.2,0.1)))))))*IF(R47=\"\",1,R47))*IF(Q47=\"half mask\",0.1,(IF(Q47=\"full face\",0.05,1)))*(100-IF(O47=\"\",0,O47))/100","v":0.05},{"$f":"IF(OR(U47=\"\",V47=\"\"),\"\",IF(AND($B$8=\"YES\",B47=\"Vapour exposure\"),MIN(N47*U47,$BB$10*E$10/24),N47*U47)*(100-IF(P47=\"\",0,IF(P47=\"70 (ventilation)\",70,30)))/100*(IF(L47=\">25%\",1,(IF(L47=\"5-25%\",0.6,(IF(L47=\"1-5%\",0.2,(IF(L47=\"<1%\",0.1,1)))))))*IF(R47=\"\",1,R47))*IF(Q47=\"half mask\",0.1,(IF(Q47=\"full face\",0.05,1)))*(100-IF(O47=\"\",0,O47))/100)","v":0.2},null,null,null,{"$f":"IF(I47=\"\",\"\",VLOOKUP(I47,'Dermal data'!A$4:F$25,6,FALSE))","v":0.03},{"$f":"IF(I47=\"\",\"\",VLOOKUP(I47,'Dermal data'!A$4:F$25,5,FALSE)/1000)","v":0.01},{"$f":"IF(AND(J47=\"Yes\",B$9=\"YES\"),IF(C47=\"Industrial - SU3\",VLOOKUP(I47,'Dermal data'!A$4:G$25,7,),VLOOKUP(I47,'Dermal data'!A$4:H$25,8,)),\"\")","v":""},null,null,null,{"$f":"IF(AND(AD47=\"gloves-intensive controls\",C47=\"Professional - SU22\"),\"Intensive glove controls cannot usually be operated in a professional environment\",\"\")","v":""},{"$f":"IF(AA47=\"\",0,AA47*(IF(AC47=\"\",1,AC47))*(IF(L47=\">25%\",1,(IF(L47=\"5-25%\",0.6,(IF(L47=\"1-5%\",0.2,(IF(L47=\"<1%\",0.1,1))))))))*(IF(AD47=\"gloves\",0.2,(IF(AD47=\"gloves-basic training\",0.1,(IF(AD47=\"gloves-specific training\",0.05,(IF(AD47=\"gloves-intensive controls\",0.02,1))))))))*(IF(AE47=\"\",1,AE47))*IF(E$8<500,1,IF(OR(M47=\">4 hours\",M47=\"\"),1,IF(M47=\"1-4 hours\",0.6,IF(M47=\"15 min-1 hour\",0.2,0.1)))))","v":0.03},null,null,{"$f":"IF(OR($E$14=\"\",$E$14=0,W47=\"\"),0,IF(Y47=\"\",W47,Y47)/$E$14)","v":0},{"$f":"IF(B47=\"Vapour exposure\",IF(OR(ISBLANK($E$13),$E$13=0,ISBLANK(V47)),0,IF(X47=\"\",V47,X47)/E$13),IF(OR(ISBLANK($E$15),$E$15=0,ISBLANK(V47)),0,IF(X47=\"\",V47,X47)/E$15))","v":1E-3},{"$f":"IF(OR($E$16=\"\",$E$16=0),0,IF(AI47=\"\",AH47,AI47)/$E$16)","v":6.0000000000000001E-3},{"$f":"AL47+AM47","v":7.0000000000000001E-3},{"$f":"AQ47&AS47&AT47&AU47&AV47&AW47&AY47&AR47&AX47","v":""},"YES",{"$f":"IF(AND(AQ$42=\"NO\",AP47=\"NO\"),\"\",IF(OR(J47=\"No\",J47=\"\"),\"\",VLOOKUP(I47,'Inhalation data'!A$3:S$24,IF(C47=\"Industrial\",16,17),FALSE))&IF(P47=\"\",\"\",IF(P47=\"70 (ventilation)\",WPG!F$383,IF(P47=\"30 (ventilation)\",Findandtranslate_WPG(P$40),IF(OR(D47=WPG!F$228,E47=WPG!F$228,F47=WPG!F$228),WPG!F$367,WPG!F$412)))))","v":""},{"$f":"IF(AND(AR$42=\"NO\",AP47=\"NO\"),\"\",IF(Q47=\"half mask\",WPG!F$465,IF(Q47=\"full face\",WPG!F$467&WPG!F$468,\"\"))&IF(AD47=\"gloves\",WPG!F$458,IF(AD47=\"gloves-basic training\",WPG!F$459,IF(AD47=\"gloves-specific training\",WPG!F$460,IF(AD47=\"gloves-intensive controls\",WPG!F$461,\"\"))))&IF(AD47=\"\",\"\",VLOOKUP(I47,'Inhalation data'!A$3:V$24,22,FALSE)))","v":""},{"$f":"IF(AND(AS$42=\"NO\",AP47=\"NO\"),\"\",IF(M47=\"<15 min\",WPG!F$360,IF(M47=\"1-4 hours\",WPG!F$362,IF(M47=\"15 min-1 hour\",WPG!F$361,\"\"))))","v":""},{"$f":"IF(OR(AND(AT$42=\"NO\",AP47=\"NO\"),BQ47>BP47),\"\",IF(L47=\"5-25%\",WPG!F$352,IF(L47=\"1-5%\",WPG!F$351,IF(L47=\"<1%\",WPG!F$350,\"\"))))","v":""},null,null,null,null,null,null,null,null,null,null,null,null,null,null,{"$f":"BB47&BC47&BD47&BE47&BF47&BG47&BH47","v":""},null,null,{"$f":"IF(ISERROR(VLOOKUP(I47,'Dermal data'!A$3:K$25,1,FALSE)),\"\",LEFT(VLOOKUP(I47,'Dermal data'!A$3:K$25,1,FALSE),2))","v":"1 "},{"$f":"IF(ISERROR(VLOOKUP(I47,'Dermal data'!A$3:K$25,11,FALSE)),\"\",VLOOKUP(I47,'Dermal data'!A$3:K$25,11,FALSE))","v":"Use in closed process, no likelihood of exposure [PROC 1]. "},{"$f":"IF(ISERROR(VLOOKUP(I47,'Dermal data'!A$3:L$25,12,FALSE)),\"\",VLOOKUP(I47,'Dermal data'!A$3:L$25,12,FALSE))","v":"Use of the substances in high integrity contained systemwhere little potential exists for exposures, e.g. any sam-pling via closed loop systems. "},null,{"$f":"J$31","v":100},{"$f":"IF(K47=\"<1%\",1,IF(K47=\"1-5%\",5,IF(K47=\"5-25%\",25,100)))","v":100},{"$f":"IF(OR(A47=\"\",AND(BP47=100,BQ47=100)),\"\",MIN(BP47,BQ47))","v":""},null,null,null,null,null,null,null,null,null,null,null,null,null,null,null,null,null,null,{"$f":"IF(H47=WPG!F$339,2,IF(H47=WPG!F$338,3,5))","v":3}]
["1-2","Vapour exposure",{"$f":"IF(E$4=\"Widespread use by professional workers\",\"Professional \",\"Industrial\")","v":"Industrial"},"Bulk transfers [CS14].;  (closed systems) [CS107]. ","Daily; 15 min - 1 hour; ambient temp","Enclosed transfers; clear lines prior to decoupling",null,"Liquid, vapour pressure 0.5 - 10 kPa at STP [OC4]. ","2 - Use in closed, continuous  process with occasional controlled exposure ",null,null,{"$f":"IF(BR48=25,\"5-25%\",IF(BR48=5,\"1-5%\",IF(BR48=1,\"<1%\",\"\")))","v":""},null,{"$f":"IF(AND(OR(I48=A$124,I48=A$133),E$8<0.01,J48=\"Yes\"),IF(B$8=\"YES\",MIN(0.1*E$10/24,BB$10),0.1*E$10/24),IF(I48=\"\",\"\",IF(B48=\"Vapour exposure\",IF(C48=\"Industrial\",VLOOKUP(I48,'Inhalation data'!A$3:I$24,IF(H48=WPG!F$339,2,IF(H48=WPG!F$338,3,5)),FALSE),VLOOKUP(I48,'Inhalation data'!A$3:I$24,IF(H48=WPG!F$339,6,IF(H48=WPG!F$338,7,9)),FALSE))*E$10/24,IF(C48=\"Industrial\",VLOOKUP(I48,'Inhalation data'!A$3:X$24,23,FALSE),VLOOKUP(I48,'Inhalation data'!A$3:X$24,24,FALSE)))))","v":25},{"$f":"IF(OR(I48=\"\",J48=\"No\",J48=\"\"),\"\",VLOOKUP(I48,'Inhalation data'!A$3:O$24,IF(C48=\"Industrial\",14,15),FALSE))","v":""},null,null,null,null,{"$f":"IF(AND(P48=\"30 (outdoor)\",J48=\"Yes\"),\"You cannot have LEV and outdoor together. \",\"\")&IF(AND(C48=\"Professional - SU22\",I48=\"7 -Industrial Spraying\"),\"PROC 7 is for Industrial use only. \",\"\")&IF(AND(TRIM(I48)=\"20 - Heat and pressure transfer fluids (closed systems) in dispersive use\",C48=\"Industrial - SU3\"),\"PROC 20 is for Professional use only. \",\"\")&IF(AND(I48=\"11 - Non industrial spraying\",C48=\"Industrial - SU3\"),\"PROC 11 is for Professional Use only. \",\"\")&IF(AND(I48=\"1 - Use in closed process, no likelihood of exposure\",J48=\"Yes\"),\"LEV with Proc 1 will be ignored. \",\"\")&IF(AND(C48=\"Professional - (SU22)\",J48=\"Yes\",P48=\"70 (ventilation)\"),\"It is not valid to have forced ventilation and LEV with a professional scenario. \",\"\")","v":""},{"$f":"IF(I48=\"\",\"\",VLOOKUP(I48,'Inhalation data'!A$3:AS$24,45,FALSE))","v":4},{"$f":"IF(N48=\"\",0,N48*(100-IF(P48=\"\",0,IF(P48=\"70 (ventilation)\",70,30)))/100*(IF(L48=\">25%\",1,(IF(L48=\"5-25%\",0.6,(IF(L48=\"1-5%\",0.2,(IF(L48=\"<1%\",0.1,1))))))))*IF(M48=\"\",1,(IF(M48=\">4 hours\",1,(IF(M48=\"1-4 hours\",0.6,(IF(M48=\"15 min-1 hour\",0.2,0.1)))))))*IF(R48=\"\",1,R48))*IF(Q48=\"half mask\",0.1,(IF(Q48=\"full face\",0.05,1)))*(100-IF(O48=\"\",0,O48))/100","v":25},{"$f":"IF(OR(U48=\"\",V48=\"\"),\"\",IF(AND($B$8=\"YES\",B48=\"Vapour exposure\"),MIN(N48*U48,$BB$10*E$10/24),N48*U48)*(100-IF(P48=\"\",0,IF(P48=\"70 (ventilation)\",70,30)))/100*(IF(L48=\">25%\",1,(IF(L48=\"5-25%\",0.6,(IF(L48=\"1-5%\",0.2,(IF(L48=\"<1%\",0.1,1)))))))*IF(R48=\"\",1,R48))*IF(Q48=\"half mask\",0.1,(IF(Q48=\"full face\",0.05,1)))*(100-IF(O48=\"\",0,O48))/100)","v":100},null,null,null,{"$f":"IF(I48=\"\",\"\",VLOOKUP(I48,'Dermal data'!A$4:F$25,6,FALSE))","v":1.37},{"$f":"IF(I48=\"\",\"\",VLOOKUP(I48,'Dermal data'!A$4:F$25,5,FALSE)/1000)","v":0.2},{"$f":"IF(AND(J48=\"Yes\",B$9=\"YES\"),IF(C48=\"Industrial - SU3\",VLOOKUP(I48,'Dermal data'!A$4:G$25,7,),VLOOKUP(I48,'Dermal data'!A$4:H$25,8,)),\"\")","v":""},null,null,null,"",1.37,null,null,{"$f":"IF(OR($E$14=\"\",$E$14=0,W48=\"\"),0,IF(Y48=\"\",W48,Y48)/$E$14)","v":0},{"$f":"IF(B48=\"Vapour exposure\",IF(OR(ISBLANK($E$13),$E$13=0,ISBLANK(V48)),0,IF(X48=\"\",V48,X48)/E$13),IF(OR(ISBLANK($E$15),$E$15=0,ISBLANK(V48)),0,IF(X48=\"\",V48,X48)/E$15))","v":0.5},{"$f":"IF(OR($E$16=\"\",$E$16=0),0,IF(AI48=\"\",AH48,AI48)/$E$16)","v":0.27400000000000002},{"$f":"AL48+AM48","v":0.77400000000000002},{"$f":"AQ48&AS48&AT48&AU48&AV48&AW48&AY48&AR48&AX48","v":""},"YES",{"$f":"IF(AND(AQ$42=\"NO\",AP48=\"NO\"),\"\",IF(OR(J48=\"No\",J48=\"\"),\"\",VLOOKUP(I48,'Inhalation data'!A$3:S$24,IF(C48=\"Industrial\",16,17),FALSE))&IF(P48=\"\",\"\",IF(P48=\"70 (ventilation)\",WPG!F$383,IF(P48=\"30 (ventilation)\",Findandtranslate_WPG(P$40),IF(OR(D48=WPG!F$228,E48=WPG!F$228,F48=WPG!F$228),WPG!F$367,WPG!F$412)))))","v":""},{"$f":"IF(AND(AR$42=\"NO\",AP48=\"NO\"),\"\",IF(Q48=\"half mask\",WPG!F$465,IF(Q48=\"full face\",WPG!F$467&WPG!F$468,\"\"))&IF(AD48=\"gloves\",WPG!F$458,IF(AD48=\"gloves-basic training\",WPG!F$459,IF(AD48=\"gloves-specific training\",WPG!F$460,IF(AD48=\"gloves-intensive controls\",WPG!F$461,\"\"))))&IF(AD48=\"\",\"\",VLOOKUP(I48,'Inhalation data'!A$3:V$24,22,FALSE)))","v":""},{"$f":"IF(AND(AS$42=\"NO\",AP48=\"NO\"),\"\",IF(M48=\"<15 min\",WPG!F$360,IF(M48=\"1-4 hours\",WPG!F$362,IF(M48=\"15 min-1 hour\",WPG!F$361,\"\"))))","v":""},{"$f":"IF(OR(AND(AT$42=\"NO\",AP48=\"NO\"),BQ48>BP48),\"\",IF(L48=\"5-25%\",WPG!F$352,IF(L48=\"1-5%\",WPG!F$351,IF(L48=\"<1%\",WPG!F$350,\"\"))))","v":""},null,null,null,null,null,null,null,null,null,null,null,null,null,null,{"$f":"BB48&BC48&BD48&BE48&BF48&BG48&BH48","v":""},null,null,{"$f":"IF(ISERROR(VLOOKUP(I48,'Dermal data'!A$3:K$25,1,FALSE)),\"\",LEFT(VLOOKUP(I48,'Dermal data'!A$3:K$25,1,FALSE),2))","v":"2 "},{"$f":"IF(ISERROR(VLOOKUP(I48,'Dermal data'!A$3:K$25,11,FALSE)),\"\",VLOOKUP(I48,'Dermal data'!A$3:K$25,11,FALSE))","v":"Use in closed, continuous process with occasional controlled exposure [PROC 2]. "},{"$f":"IF(ISERROR(VLOOKUP(I48,'Dermal data'!A$3:L$25,12,FALSE)),\"\",VLOOKUP(I48,'Dermal data'!A$3:L$25,12,FALSE))","v":"Continuous process but where the design philosophy is not specifically aimed at minimizing emissions  It is not high integrity and occasional expose will arise e.g. through maintenance, sampling and equipment breakages. "},null,{"$f":"J$31","v":100},{"$f":"IF(K48=\"<1%\",1,IF(K48=\"1-5%\",5,IF(K48=\"5-25%\",25,100)))","v":100},"",null,null,null,null,null,null,null,null,null,null,null,null,null,null,null,null,null,null,{"$f":"IF(H48=WPG!F$339,2,IF(H48=WPG!F$338,3,5))","v":3}]
["2","Vapour exposure",{"$f":"IF(E$4=\"Widespread use by professional workers\",\"Professional \",\"Industrial\")","v":"Industrial"},"Drum/batch transfers  [CS8]. ;  Dedicated facility [CS81]. ","Daily; 15 min - 1 hour; ambient temp","Pumped transfer from drum to holding tanks. ",null,"Liquid, vapour pressure 0.5 - 10 kPa at STP [OC4]. ","8b -Transfer of chemicals from/to vessels/ large containers at dedicated facilities","Yes",null,"",null,{"$f":"IF(AND(OR(I49=A$124,I49=A$133),E$8<0.01,J49=\"Yes\"),IF(B$8=\"YES\",MIN(0.1*E$10/24,BB$10),0.1*E$10/24),IF(I49=\"\",\"\",IF(B49=\"Vapour exposure\",IF(C49=\"Industrial\",VLOOKUP(I49,'Inhalation data'!A$3:I$24,IF(H49=WPG!F$339,2,IF(H49=WPG!F$338,3,5)),FALSE),VLOOKUP(I49,'Inhalation data'!A$3:I$24,IF(H49=WPG!F$339,6,IF(H49=WPG!F$338,7,9)),FALSE))*E$10/24,IF(C49=\"Industrial\",VLOOKUP(I49,'Inhalation data'!A$3:X$24,23,FALSE),VLOOKUP(I49,'Inhalation data'!A$3:X$24,24,FALSE)))))","v":125},{"$f":"IF(OR(I49=\"\",J49=\"No\",J49=\"\"),\"\",VLOOKUP(I49,'Inhalation data'!A$3:O$24,IF(C49=\"Industrial\",14,15),FALSE))","v":95},null,null,null,null,"",{"$f":"IF(I49=\"\",\"\",VLOOKUP(I49,'Inhalation data'!A$3:AS$24,45,FALSE))","v":4},6.25,25,null,null,null,{"$f":"IF(I49=\"\",\"\",VLOOKUP(I49,'Dermal data'!A$4:F$25,6,FALSE))","v":13.71},{"$f":"IF(I49=\"\",\"\",VLOOKUP(I49,'Dermal data'!A$4:F$25,5,FALSE)/1000)","v":1},{"$f":"IF(AND(J49=\"Yes\",B$9=\"YES\"),IF(C49=\"Industrial - SU3\",VLOOKUP(I49,'Dermal data'!A$4:G$25,7,),VLOOKUP(I49,'Dermal data'!A$4:H$25,8,)),\"\")","v":0.2},"gloves",null,null,"",0.54840000000000011,null,null,0,0.125,0.10968000000000003,0.23468000000000003,"Ensure material transfers are under containment or extract ventilation [E66]. Wear suitable gloves tested to EN374 [PPE15]. ","YES",{"$f":"IF(AND(AQ$42=\"NO\",AP49=\"NO\"),\"\",IF(OR(J49=\"No\",J49=\"\"),\"\",VLOOKUP(I49,'Inhalation data'!A$3:S$24,IF(C49=\"Industrial\",16,17),FALSE))&IF(P49=\"\",\"\",IF(P49=\"70 (ventilation)\",WPG!F$383,IF(P49=\"30 (ventilation)\",Findandtranslate_WPG(P$40),IF(OR(D49=WPG!F$228,E49=WPG!F$228,F49=WPG!F$228),WPG!F$367,WPG!F$412)))))","v":"Ensure material transfers are under containment or extract ventilation [E66]. "},{"$f":"IF(AND(AR$42=\"NO\",AP49=\"NO\"),\"\",IF(Q49=\"half mask\",WPG!F$465,IF(Q49=\"full face\",WPG!F$467&WPG!F$468,\"\"))&IF(AD49=\"gloves\",WPG!F$458,IF(AD49=\"gloves-basic training\",WPG!F$459,IF(AD49=\"gloves-specific training\",WPG!F$460,IF(AD49=\"gloves-intensive controls\",WPG!F$461,\"\"))))&IF(AD49=\"\",\"\",VLOOKUP(I49,'Inhalation data'!A$3:V$24,22,FALSE)))","v":"Wear suitable gloves tested to EN374 [PPE15]. "},{"$f":"IF(AND(AS$42=\"NO\",AP49=\"NO\"),\"\",IF(M49=\"<15 min\",WPG!F$360,IF(M49=\"1-4 hours\",WPG!F$362,IF(M49=\"15 min-1 hour\",WPG!F$361,\"\"))))","v":""},{"$f":"IF(OR(AND(AT$42=\"NO\",AP49=\"NO\"),BQ49>BP49),\"\",IF(L49=\"5-25%\",WPG!F$352,IF(L49=\"1-5%\",WPG!F$351,IF(L49=\"<1%\",WPG!F$350,\"\"))))","v":""},null,null,null,null,null,null,null,null,null,null,null,null,null,null,"",null,null,{"$f":"IF(ISERROR(VLOOKUP(I49,'Dermal data'!A$3:K$25,1,FALSE)),\"\",LEFT(VLOOKUP(I49,'Dermal data'!A$3:K$25,1,FALSE),2))","v":"8b"},{"$f":"IF(ISERROR(VLOOKUP(I49,'Dermal data'!A$3:K$25,11,FALSE)),\"\",VLOOKUP(I49,'Dermal data'!A$3:K$25,11,FALSE))","v":"Transfer of substance or preparation (charging/discharging) from/to vessels/large containers at dedicated facilities [PROC 8b]. "},{"$f":"IF(ISERROR(VLOOKUP(I49,'Dermal data'!A$3:L$25,12,FALSE)),\"\",VLOOKUP(I49,'Dermal data'!A$3:L$25,12,FALSE))","v":"Sampling, loading, filling, transfer, dumping, bagging in dedicated facilities. Exposure related to dust, vapour, aerosols or spillage, and cleaning of equipment to be expected. "},null,100,100,"",null,null,null,null,null,null,null,null,null,null,null,null,null,null,null,null,null,null,{"$f":"IF(H49=WPG!F$339,2,IF(H49=WPG!F$338,3,5))","v":3}]
["3","Vapour exposure","Industrial","Filling of articles/equipment [CS84]. ;  (closed systems) [CS107]. ","Daily; >4 hours, ambient","Enclosed operations, size of openings minimised",null,"Liquid, vapour pressure 0.5 - 10 kPa at STP [OC4]. ","9 -Transfer of chemicals into small containers (dedicated filling line)","Yes",null,"",null,{"$f":"IF(AND(OR(I50=A$124,I50=A$133),E$8<0.01,J50=\"Yes\"),IF(B$8=\"YES\",MIN(0.1*E$10/24,BB$10),0.1*E$10/24),IF(I50=\"\",\"\",IF(B50=\"Vapour exposure\",IF(C50=\"Industrial\",VLOOKUP(I50,'Inhalation data'!A$3:I$24,IF(H50=WPG!F$339,2,IF(H50=WPG!F$338,3,5)),FALSE),VLOOKUP(I50,'Inhalation data'!A$3:I$24,IF(H50=WPG!F$339,6,IF(H50=WPG!F$338,7,9)),FALSE))*E$10/24,IF(C50=\"Industrial\",VLOOKUP(I50,'Inhalation data'!A$3:X$24,23,FALSE),VLOOKUP(I50,'Inhalation data'!A$3:X$24,24,FALSE)))))","v":250},{"$f":"IF(OR(I50=\"\",J50=\"No\",J50=\"\"),\"\",VLOOKUP(I50,'Inhalation data'!A$3:O$24,IF(C50=\"Industrial\",14,15),FALSE))","v":90},null,null,null,null,"",{"$f":"IF(I50=\"\",\"\",VLOOKUP(I50,'Inhalation data'!A$3:AS$24,45,FALSE))","v":4},25,100,null,null,null,{"$f":"IF(I50=\"\",\"\",VLOOKUP(I50,'Dermal data'!A$4:F$25,6,FALSE))","v":6.86},{"$f":"IF(I50=\"\",\"\",VLOOKUP(I50,'Dermal data'!A$4:F$25,5,FALSE)/1000)","v":1},{"$f":"IF(AND(J50=\"Yes\",B$9=\"YES\"),IF(C50=\"Industrial - SU3\",VLOOKUP(I50,'Dermal data'!A$4:G$25,7,),VLOOKUP(I50,'Dermal data'!A$4:H$25,8,)),\"\")","v":0.2},"gloves",null,null,"",0.27440000000000003,null,null,0,0.5,5.4880000000000005E-2,0.55488000000000004,"Fill containers/cans at dedicated fill points supplied with local extract ventilation [E51]. Wear suitable gloves tested to EN374 [PPE15]. ","YES",{"$f":"IF(AND(AQ$42=\"NO\",AP50=\"NO\"),\"\",IF(OR(J50=\"No\",J50=\"\"),\"\",VLOOKUP(I50,'Inhalation data'!A$3:S$24,IF(C50=\"Industrial\",16,17),FALSE))&IF(P50=\"\",\"\",IF(P50=\"70 (ventilation)\",WPG!F$383,IF(P50=\"30 (ventilation)\",Findandtranslate_WPG(P$40),IF(OR(D50=WPG!F$228,E50=WPG!F$228,F50=WPG!F$228),WPG!F$367,WPG!F$412)))))","v":"Fill containers/cans at dedicated fill points supplied with local extract ventilation [E51]. "},{"$f":"IF(AND(AR$42=\"NO\",AP50=\"NO\"),\"\",IF(Q50=\"half mask\",WPG!F$465,IF(Q50=\"full face\",WPG!F$467&WPG!F$468,\"\"))&IF(AD50=\"gloves\",WPG!F$458,IF(AD50=\"gloves-basic training\",WPG!F$459,IF(AD50=\"gloves-specific training\",WPG!F$460,IF(AD50=\"gloves-intensive controls\",WPG!F$461,\"\"))))&IF(AD50=\"\",\"\",VLOOKUP(I50,'Inhalation data'!A$3:V$24,22,FALSE)))","v":"Wear suitable gloves tested to EN374 [PPE15]. "},{"$f":"IF(AND(AS$42=\"NO\",AP50=\"NO\"),\"\",IF(M50=\"<15 min\",WPG!F$360,IF(M50=\"1-4 hours\",WPG!F$362,IF(M50=\"15 min-1 hour\",WPG!F$361,\"\"))))","v":""},{"$f":"IF(OR(AND(AT$42=\"NO\",AP50=\"NO\"),BQ50>BP50),\"\",IF(L50=\"5-25%\",WPG!F$352,IF(L50=\"1-5%\",WPG!F$351,IF(L50=\"<1%\",WPG!F$350,\"\"))))","v":""},null,null,null,null,null,null,null,null,null,null,null,null,null,null,"",null,null,{"$f":"IF(ISERROR(VLOOKUP(I50,'Dermal data'!A$3:K$25,1,FALSE)),\"\",LEFT(VLOOKUP(I50,'Dermal data'!A$3:K$25,1,FALSE),2))","v":"9 "},{"$f":"IF(ISERROR(VLOOKUP(I50,'Dermal data'!A$3:K$25,11,FALSE)),\"\",VLOOKUP(I50,'Dermal data'!A$3:K$25,11,FALSE))","v":"Transfer of substance or preparation into small containers (dedicated filling line, including weighing) [PROC 9]. "},{"$f":"IF(ISERROR(VLOOKUP(I50,'Dermal data'!A$3:L$25,12,FALSE)),\"\",VLOOKUP(I50,'Dermal data'!A$3:L$25,12,FALSE))","v":"Filling lines specifically designed to both capture vapour and aerosol emissions and minimise spillage. "},null,100,100,"",null,null,null,null,null,null,null,null,null,null,null,null,null,null,null,null,null,null,{"$f":"IF(H50=WPG!F$339,2,IF(H50=WPG!F$338,3,5))","v":3}]
[4,"Vapour exposure","Industrial","Filling / preparation of equipment from drums or containers. [CS45]. ;  Non-dedicated facility [CS82]. ","Daily; 1-4 hours, ambient","Careful pouring, worker instructions",null,"Liquid, vapour pressure 0.5 - 10 kPa at STP [OC4]. ","8a -Transfer of chemicals from/to vessels/ large containers at non dedicated facilities","Yes",null,"",null,{"$f":"IF(AND(OR(I51=A$124,I51=A$133),E$8<0.01,J51=\"Yes\"),IF(B$8=\"YES\",MIN(0.1*E$10/24,BB$10),0.1*E$10/24),IF(I51=\"\",\"\",IF(B51=\"Vapour exposure\",IF(C51=\"Industrial\",VLOOKUP(I51,'Inhalation data'!A$3:I$24,IF(H51=WPG!F$339,2,IF(H51=WPG!F$338,3,5)),FALSE),VLOOKUP(I51,'Inhalation data'!A$3:I$24,IF(H51=WPG!F$339,6,IF(H51=WPG!F$338,7,9)),FALSE))*E$10/24,IF(C51=\"Industrial\",VLOOKUP(I51,'Inhalation data'!A$3:X$24,23,FALSE),VLOOKUP(I51,'Inhalation data'!A$3:X$24,24,FALSE)))))","v":250},{"$f":"IF(OR(I51=\"\",J51=\"No\",J51=\"\"),\"\",VLOOKUP(I51,'Inhalation data'!A$3:O$24,IF(C51=\"Industrial\",14,15),FALSE))","v":90},null,null,null,null,"",{"$f":"IF(I51=\"\",\"\",VLOOKUP(I51,'Inhalation data'!A$3:AS$24,45,FALSE))","v":4},25,100,null,null,null,{"$f":"IF(I51=\"\",\"\",VLOOKUP(I51,'Dermal data'!A$4:F$25,6,FALSE))","v":13.71},{"$f":"IF(I51=\"\",\"\",VLOOKUP(I51,'Dermal data'!A$4:F$25,5,FALSE)/1000)","v":1},{"$f":"IF(AND(J51=\"Yes\",B$9=\"YES\"),IF(C51=\"Industrial - SU3\",VLOOKUP(I51,'Dermal data'!A$4:G$25,7,),VLOOKUP(I51,'Dermal data'!A$4:H$25,8,)),\"\")","v":0.2},"gloves-basic training",null,null,"",0.27420000000000005,null,null,0,0.5,5.4840000000000014E-2,0.55484,"Ensure material transfers are under containment or extract ventilation [E66]. Wear chemically resistant gloves (tested to EN374) in combination with ‘basic’ employee training [PPE16]. ","NO",{"$f":"IF(AND(AQ$42=\"NO\",AP51=\"NO\"),\"\",IF(OR(J51=\"No\",J51=\"\"),\"\",VLOOKUP(I51,'Inhalation data'!A$3:S$24,IF(C51=\"Industrial\",16,17),FALSE))&IF(P51=\"\",\"\",IF(P51=\"70 (ventilation)\",WPG!F$383,IF(P51=\"30 (ventilation)\",Findandtranslate_WPG(P$40),IF(OR(D51=WPG!F$228,E51=WPG!F$228,F51=WPG!F$228),WPG!F$367,WPG!F$412)))))","v":""},{"$f":"IF(AND(AR$42=\"NO\",AP51=\"NO\"),\"\",IF(Q51=\"half mask\",WPG!F$465,IF(Q51=\"full face\",WPG!F$467&WPG!F$468,\"\"))&IF(AD51=\"gloves\",WPG!F$458,IF(AD51=\"gloves-basic training\",WPG!F$459,IF(AD51=\"gloves-specific training\",WPG!F$460,IF(AD51=\"gloves-intensive controls\",WPG!F$461,\"\"))))&IF(AD51=\"\",\"\",VLOOKUP(I51,'Inhalation data'!A$3:V$24,22,FALSE)))","v":"Wear chemically resistant gloves (tested to EN374) in combination with ‘basic’ employee training [PPE16]. "},{"$f":"IF(AND(AS$42=\"NO\",AP51=\"NO\"),\"\",IF(M51=\"<15 min\",WPG!F$360,IF(M51=\"1-4 hours\",WPG!F$362,IF(M51=\"15 min-1 hour\",WPG!F$361,\"\"))))","v":""},{"$f":"IF(OR(AND(AT$42=\"NO\",AP51=\"NO\"),BQ51>BP51),\"\",IF(L51=\"5-25%\",WPG!F$352,IF(L51=\"1-5%\",WPG!F$351,IF(L51=\"<1%\",WPG!F$350,\"\"))))","v":""},null,"Ensure material transfers are under containment or extract ventilation [E66]. ",null,null,null,null,null,null,null,null,null,null,null,null,"",null,null,{"$f":"IF(ISERROR(VLOOKUP(I51,'Dermal data'!A$3:K$25,1,FALSE)),\"\",LEFT(VLOOKUP(I51,'Dermal data'!A$3:K$25,1,FALSE),2))","v":"8a"},{"$f":"IF(ISERROR(VLOOKUP(I51,'Dermal data'!A$3:K$25,11,FALSE)),\"\",VLOOKUP(I51,'Dermal data'!A$3:K$25,11,FALSE))","v":"Transfer of substance or preparation (charging/discharging) from/to vessels/large containers at non-dedicated facilities [PROC 8a]. "},{"$f":"IF(ISERROR(VLOOKUP(I51,'Dermal data'!A$3:L$25,12,FALSE)),\"\",VLOOKUP(I51,'Dermal data'!A$3:L$25,12,FALSE))","v":"Sampling, loading, filling, transfer, dumping, bagging in non- dedicated facilities. Exposure related to dust, va-pour, aerosols or spillage, and cleaning of equipment to be expected. "},null,100,100,"",null,null,null,null,null,null,null,null,null,null,null,null,null,null,null,null,null,null,{"$f":"IF(H51=WPG!F$339,2,IF(H51=WPG!F$338,3,5))","v":3}]
["5","Vapour exposure","Industrial","General exposures (closed systems)  [CS15]. ","Daily; >4 hours, ambient","Closed system",null,"Liquid, vapour pressure 0.5 - 10 kPa at STP [OC4]. ","2 - Use in closed, continuous  process with occasional controlled exposure ","Yes",null,"",null,{"$f":"IF(AND(OR(I52=A$124,I52=A$133),E$8<0.01,J52=\"Yes\"),IF(B$8=\"YES\",MIN(0.1*E$10/24,BB$10),0.1*E$10/24),IF(I52=\"\",\"\",IF(B52=\"Vapour exposure\",IF(C52=\"Industrial\",VLOOKUP(I52,'Inhalation data'!A$3:I$24,IF(H52=WPG!F$339,2,IF(H52=WPG!F$338,3,5)),FALSE),VLOOKUP(I52,'Inhalation data'!A$3:I$24,IF(H52=WPG!F$339,6,IF(H52=WPG!F$338,7,9)),FALSE))*E$10/24,IF(C52=\"Industrial\",VLOOKUP(I52,'Inhalation data'!A$3:X$24,23,FALSE),VLOOKUP(I52,'Inhalation data'!A$3:X$24,24,FALSE)))))","v":25},{"$f":"IF(OR(I52=\"\",J52=\"No\",J52=\"\"),\"\",VLOOKUP(I52,'Inhalation data'!A$3:O$24,IF(C52=\"Industrial\",14,15),FALSE))","v":90},null,null,null,null,"",{"$f":"IF(I52=\"\",\"\",VLOOKUP(I52,'Inhalation data'!A$3:AS$24,45,FALSE))","v":4},2.5,10,null,null,null,{"$f":"IF(I52=\"\",\"\",VLOOKUP(I52,'Dermal data'!A$4:F$25,6,FALSE))","v":1.37},{"$f":"IF(I52=\"\",\"\",VLOOKUP(I52,'Dermal data'!A$4:F$25,5,FALSE)/1000)","v":0.2},{"$f":"IF(AND(J52=\"Yes\",B$9=\"YES\"),IF(C52=\"Industrial - SU3\",VLOOKUP(I52,'Dermal data'!A$4:G$25,7,),VLOOKUP(I52,'Dermal data'!A$4:H$25,8,)),\"\")","v":0.2},null,null,null,"",0.27400000000000002,null,null,0,{"$f":"IF(B52=\"Vapour exposure\",IF(OR(ISBLANK($E$13),$E$13=0,ISBLANK(V52)),0,IF(X52=\"\",V52,X52)/E$13),IF(OR(ISBLANK($E$15),$E$15=0,ISBLANK(V52)),0,IF(X52=\"\",V52,X52)/E$15))","v":0.05},5.4800000000000001E-2,0.1048,"Handle substance within a predominantly closed system provided with extract ventilation [E49]. ","YES",{"$f":"IF(AND(AQ$42=\"NO\",AP52=\"NO\"),\"\",IF(OR(J52=\"No\",J52=\"\"),\"\",VLOOKUP(I52,'Inhalation data'!A$3:S$24,IF(C52=\"Industrial\",16,17),FALSE))&IF(P52=\"\",\"\",IF(P52=\"70 (ventilation)\",WPG!F$383,IF(P52=\"30 (ventilation)\",Findandtranslate_WPG(P$40),IF(OR(D52=WPG!F$228,E52=WPG!F$228,F52=WPG!F$228),WPG!F$367,WPG!F$412)))))","v":"Handle substance within a predominantly closed system provided with extract ventilation [E49]. "},{"$f":"IF(AND(AR$42=\"NO\",AP52=\"NO\"),\"\",IF(Q52=\"half mask\",WPG!F$465,IF(Q52=\"full face\",WPG!F$467&WPG!F$468,\"\"))&IF(AD52=\"gloves\",WPG!F$458,IF(AD52=\"gloves-basic training\",WPG!F$459,IF(AD52=\"gloves-specific training\",WPG!F$460,IF(AD52=\"gloves-intensive controls\",WPG!F$461,\"\"))))&IF(AD52=\"\",\"\",VLOOKUP(I52,'Inhalation data'!A$3:V$24,22,FALSE)))","v":""},{"$f":"IF(AND(AS$42=\"NO\",AP52=\"NO\"),\"\",IF(M52=\"<15 min\",WPG!F$360,IF(M52=\"1-4 hours\",WPG!F$362,IF(M52=\"15 min-1 hour\",WPG!F$361,\"\"))))","v":""},{"$f":"IF(OR(AND(AT$42=\"NO\",AP52=\"NO\"),BQ52>BP52),\"\",IF(L52=\"5-25%\",WPG!F$352,IF(L52=\"1-5%\",WPG!F$351,IF(L52=\"<1%\",WPG!F$350,\"\"))))","v":""},null,null,null,null,null,null,null,null,null,null,null,null,null,null,"",null,null,{"$f":"IF(ISERROR(VLOOKUP(I52,'Dermal data'!A$3:K$25,1,FALSE)),\"\",LEFT(VLOOKUP(I52,'Dermal data'!A$3:K$25,1,FALSE),2))","v":"2 "},{"$f":"IF(ISERROR(VLOOKUP(I52,'Dermal data'!A$3:K$25,11,FALSE)),\"\",VLOOKUP(I52,'Dermal data'!A$3:K$25,11,FALSE))","v":"Use in closed, continuous process with occasional controlled exposure [PROC 2]. "},{"$f":"IF(ISERROR(VLOOKUP(I52,'Dermal data'!A$3:L$25,12,FALSE)),\"\",VLOOKUP(I52,'Dermal data'!A$3:L$25,12,FALSE))","v":"Continuous process but where the design philosophy is not specifically aimed at minimizing emissions  It is not high integrity and occasional expose will arise e.g. through maintenance, sampling and equipment breakages. "},null,100,100,"",null,null,null,null,null,null,null,null,null,null,null,null,null,null,null,null,null,null,{"$f":"IF(H52=WPG!F$339,2,IF(H52=WPG!F$338,3,5))","v":3}]
["6","Vapour exposure","Industrial","General exposures (open systems)  [CS16]. ","Daily; >4 hours, ambient","Well ventilated area (Enhanced GV).",null,"Liquid, vapour pressure 0.5 - 10 kPa at STP [OC4]. ","4 - Use in batch and other process (synthesis) where opportunity for exposure arises ","Yes",null,"",null,{"$f":"IF(AND(OR(I53=A$124,I53=A$133),E$8<0.01,J53=\"Yes\"),IF(B$8=\"YES\",MIN(0.1*E$10/24,BB$10),0.1*E$10/24),IF(I53=\"\",\"\",IF(B53=\"Vapour exposure\",IF(C53=\"Industrial\",VLOOKUP(I53,'Inhalation data'!A$3:I$24,IF(H53=WPG!F$339,2,IF(H53=WPG!F$338,3,5)),FALSE),VLOOKUP(I53,'Inhalation data'!A$3:I$24,IF(H53=WPG!F$339,6,IF(H53=WPG!F$338,7,9)),FALSE))*E$10/24,IF(C53=\"Industrial\",VLOOKUP(I53,'Inhalation data'!A$3:X$24,23,FALSE),VLOOKUP(I53,'Inhalation data'!A$3:X$24,24,FALSE)))))","v":100},{"$f":"IF(OR(I53=\"\",J53=\"No\",J53=\"\"),\"\",VLOOKUP(I53,'Inhalation data'!A$3:O$24,IF(C53=\"Industrial\",14,15),FALSE))","v":90},null,null,null,null,"",{"$f":"IF(I53=\"\",\"\",VLOOKUP(I53,'Inhalation data'!A$3:AS$24,45,FALSE))","v":4},10,40,null,null,null,{"$f":"IF(I53=\"\",\"\",VLOOKUP(I53,'Dermal data'!A$4:F$25,6,FALSE))","v":6.86},{"$f":"IF(I53=\"\",\"\",VLOOKUP(I53,'Dermal data'!A$4:F$25,5,FALSE)/1000)","v":1},{"$f":"IF(AND(J53=\"Yes\",B$9=\"YES\"),IF(C53=\"Industrial - SU3\",VLOOKUP(I53,'Dermal data'!A$4:G$25,7,),VLOOKUP(I53,'Dermal data'!A$4:H$25,8,)),\"\")","v":0.2},"gloves",null,null,"",0.27440000000000003,null,null,0,0.2,5.4880000000000005E-2,{"$f":"AL53+AM53","v":0.25488},"Provide extract ventilation to points where emissions occur [E54]. Wear suitable gloves tested to EN374 [PPE15]. ","YES",{"$f":"IF(AND(AQ$42=\"NO\",AP53=\"NO\"),\"\",IF(OR(J53=\"No\",J53=\"\"),\"\",VLOOKUP(I53,'Inhalation data'!A$3:S$24,IF(C53=\"Industrial\",16,17),FALSE))&IF(P53=\"\",\"\",IF(P53=\"70 (ventilation)\",WPG!F$383,IF(P53=\"30 (ventilation)\",Findandtranslate_WPG(P$40),IF(OR(D53=WPG!F$228,E53=WPG!F$228,F53=WPG!F$228),WPG!F$367,WPG!F$412)))))","v":"Provide extract ventilation to points where emissions occur [E54]. "},{"$f":"IF(AND(AR$42=\"NO\",AP53=\"NO\"),\"\",IF(Q53=\"half mask\",WPG!F$465,IF(Q53=\"full face\",WPG!F$467&WPG!F$468,\"\"))&IF(AD53=\"gloves\",WPG!F$458,IF(AD53=\"gloves-basic training\",WPG!F$459,IF(AD53=\"gloves-specific training\",WPG!F$460,IF(AD53=\"gloves-intensive controls\",WPG!F$461,\"\"))))&IF(AD53=\"\",\"\",VLOOKUP(I53,'Inhalation data'!A$3:V$24,22,FALSE)))","v":"Wear suitable gloves tested to EN374 [PPE15]. "},{"$f":"IF(AND(AS$42=\"NO\",AP53=\"NO\"),\"\",IF(M53=\"<15 min\",WPG!F$360,IF(M53=\"1-4 hours\",WPG!F$362,IF(M53=\"15 min-1 hour\",WPG!F$361,\"\"))))","v":""},{"$f":"IF(OR(AND(AT$42=\"NO\",AP53=\"NO\"),BQ53>BP53),\"\",IF(L53=\"5-25%\",WPG!F$352,IF(L53=\"1-5%\",WPG!F$351,IF(L53=\"<1%\",WPG!F$350,\"\"))))","v":""},null,null,null,null,null,null,null,null,null,null,null,null,null,null,"",null,null,{"$f":"IF(ISERROR(VLOOKUP(I53,'Dermal data'!A$3:K$25,1,FALSE)),\"\",LEFT(VLOOKUP(I53,'Dermal data'!A$3:K$25,1,FALSE),2))","v":"4 "},{"$f":"IF(ISERROR(VLOOKUP(I53,'Dermal data'!A$3:K$25,11,FALSE)),\"\",VLOOKUP(I53,'Dermal data'!A$3:K$25,11,FALSE))","v":"Use in batch and other process (synthesis) where opportunity for exposure arises [PROC 4]. "},{"$f":"IF(ISERROR(VLOOKUP(I53,'Dermal data'!A$3:L$25,12,FALSE)),\"\",VLOOKUP(I53,'Dermal data'!A$3:L$25,12,FALSE))","v":"Use in batch manufacture of a chemical where significant opportunity for exposure arises, e.g. during charging, sampling or discharge of material, and when the nature of the design is likely to result in exposure. "},null,100,100,"",null,null,null,null,null,null,null,null,null,null,null,null,null,null,null,null,null,null,{"$f":"IF(H53=WPG!F$339,2,IF(H53=WPG!F$338,3,5))","v":3}]
["7a","Vapour exposure","Industrial","General exposures (open systems)  [CS16]. ;  elevated temperature [CS111]. ","Daily; >4 hours, ambient (product at 80oC)","Well ventilated area (Enhanced GV).","Liquid, vapour pressure > 10 kPa at STP [OC5]. ","Liquid, vapour pressure > 10 kPa at STP [OC5]. ","4 - Use in batch and other process (synthesis) where opportunity for exposure arises ","Yes",null,"",null,{"$f":"IF(AND(OR(I54=A$124,I54=A$133),E$8<0.01,J54=\"Yes\"),IF(B$8=\"YES\",MIN(0.1*E$10/24,BB$10),0.1*E$10/24),IF(I54=\"\",\"\",IF(B54=\"Vapour exposure\",IF(C54=\"Industrial\",VLOOKUP(I54,'Inhalation data'!A$3:I$24,IF(H54=WPG!F$339,2,IF(H54=WPG!F$338,3,5)),FALSE),VLOOKUP(I54,'Inhalation data'!A$3:I$24,IF(H54=WPG!F$339,6,IF(H54=WPG!F$338,7,9)),FALSE))*E$10/24,IF(C54=\"Industrial\",VLOOKUP(I54,'Inhalation data'!A$3:X$24,23,FALSE),VLOOKUP(I54,'Inhalation data'!A$3:X$24,24,FALSE)))))","v":500},{"$f":"IF(OR(I54=\"\",J54=\"No\",J54=\"\"),\"\",VLOOKUP(I54,'Inhalation data'!A$3:O$24,IF(C54=\"Industrial\",14,15),FALSE))","v":90},"30 (ventilation)",null,null,null,"",{"$f":"IF(I54=\"\",\"\",VLOOKUP(I54,'Inhalation data'!A$3:AS$24,45,FALSE))","v":4},35,140,null,null,null,{"$f":"IF(I54=\"\",\"\",VLOOKUP(I54,'Dermal data'!A$4:F$25,6,FALSE))","v":6.86},{"$f":"IF(I54=\"\",\"\",VLOOKUP(I54,'Dermal data'!A$4:F$25,5,FALSE)/1000)","v":1},{"$f":"IF(AND(J54=\"Yes\",B$9=\"YES\"),IF(C54=\"Industrial - SU3\",VLOOKUP(I54,'Dermal data'!A$4:G$25,7,),VLOOKUP(I54,'Dermal data'!A$4:H$25,8,)),\"\")","v":0.2},"gloves-basic training",null,null,"",0.13720000000000002,null,null,0,0.7,2.7440000000000003E-2,0.72743999999999998,"Minimise exposure by partial enclosure of the operation or equipment and provide extract ventilation at openings [E60]. ;  Provide a good standard of general ventilation (not less than 3-5 air changes per hour) [E11]Wear chemically resistant gloves (tested to EN374) in combination with ‘basic’ employee training [PPE16]. ","NO",{"$f":"IF(AND(AQ$42=\"NO\",AP54=\"NO\"),\"\",IF(OR(J54=\"No\",J54=\"\"),\"\",VLOOKUP(I54,'Inhalation data'!A$3:S$24,IF(C54=\"Industrial\",16,17),FALSE))&IF(P54=\"\",\"\",IF(P54=\"70 (ventilation)\",WPG!F$383,IF(P54=\"30 (ventilation)\",Findandtranslate_WPG(P$40),IF(OR(D54=WPG!F$228,E54=WPG!F$228,F54=WPG!F$228),WPG!F$367,WPG!F$412)))))","v":""},{"$f":"IF(AND(AR$42=\"NO\",AP54=\"NO\"),\"\",IF(Q54=\"half mask\",WPG!F$465,IF(Q54=\"full face\",WPG!F$467&WPG!F$468,\"\"))&IF(AD54=\"gloves\",WPG!F$458,IF(AD54=\"gloves-basic training\",WPG!F$459,IF(AD54=\"gloves-specific training\",WPG!F$460,IF(AD54=\"gloves-intensive controls\",WPG!F$461,\"\"))))&IF(AD54=\"\",\"\",VLOOKUP(I54,'Inhalation data'!A$3:V$24,22,FALSE)))","v":"Wear chemically resistant gloves (tested to EN374) in combination with ‘basic’ employee training [PPE16]. "},{"$f":"IF(AND(AS$42=\"NO\",AP54=\"NO\"),\"\",IF(M54=\"<15 min\",WPG!F$360,IF(M54=\"1-4 hours\",WPG!F$362,IF(M54=\"15 min-1 hour\",WPG!F$361,\"\"))))","v":""},{"$f":"IF(OR(AND(AT$42=\"NO\",AP54=\"NO\"),BQ54>BP54),\"\",IF(L54=\"5-25%\",WPG!F$352,IF(L54=\"1-5%\",WPG!F$351,IF(L54=\"<1%\",WPG!F$350,\"\"))))","v":""},null,"Minimise exposure by partial enclosure of the operation or equipment and provide extract ventilation at openings [E60]. ;  Provide a good standard of general ventilation (not less than 3-5 air changes per hour) [E11]",null,null,null,null,null,null,null,null,null,null,null,null,"",null,null,{"$f":"IF(ISERROR(VLOOKUP(I54,'Dermal data'!A$3:K$25,1,FALSE)),\"\",LEFT(VLOOKUP(I54,'Dermal data'!A$3:K$25,1,FALSE),2))","v":"4 "},{"$f":"IF(ISERROR(VLOOKUP(I54,'Dermal data'!A$3:K$25,11,FALSE)),\"\",VLOOKUP(I54,'Dermal data'!A$3:K$25,11,FALSE))","v":"Use in batch and other process (synthesis) where opportunity for exposure arises [PROC 4]. "},{"$f":"IF(ISERROR(VLOOKUP(I54,'Dermal data'!A$3:L$25,12,FALSE)),\"\",VLOOKUP(I54,'Dermal data'!A$3:L$25,12,FALSE))","v":"Use in batch manufacture of a chemical where significant opportunity for exposure arises, e.g. during charging, sampling or discharge of material, and when the nature of the design is likely to result in exposure. "},null,100,100,"",null,null,null,null,null,null,null,null,null,null,null,null,null,null,null,null,null,null,{"$f":"IF(H54=WPG!F$339,2,IF(H54=WPG!F$338,3,5))","v":2}]
["7b","Aerosol exposure","Industrial","General exposures (open systems)  [CS16]. ;  elevated temperature [CS111]. ","Daily; >4 hours, ambient (product at 80oC)","Well ventilated area (Enhanced GV).",null,"not applicable for aerosols","4 - Use in batch and other process (synthesis) where opportunity for exposure arises ","Yes",null,"",null,{"$f":"IF(AND(OR(I55=A$124,I55=A$133),E$8<0.01,J55=\"Yes\"),IF(B$8=\"YES\",MIN(0.1*E$10/24,BB$10),0.1*E$10/24),IF(I55=\"\",\"\",IF(B55=\"Vapour exposure\",IF(C55=\"Industrial\",VLOOKUP(I55,'Inhalation data'!A$3:I$24,IF(H55=WPG!F$339,2,IF(H55=WPG!F$338,3,5)),FALSE),VLOOKUP(I55,'Inhalation data'!A$3:I$24,IF(H55=WPG!F$339,6,IF(H55=WPG!F$338,7,9)),FALSE))*E$10/24,IF(C55=\"Industrial\",VLOOKUP(I55,'Inhalation data'!A$3:X$24,23,FALSE),VLOOKUP(I55,'Inhalation data'!A$3:X$24,24,FALSE)))))","v":5},{"$f":"IF(OR(I55=\"\",J55=\"No\",J55=\"\"),\"\",VLOOKUP(I55,'Inhalation data'!A$3:O$24,IF(C55=\"Industrial\",14,15),FALSE))","v":90},"30 (ventilation)",null,null,null,"",{"$f":"IF(I55=\"\",\"\",VLOOKUP(I55,'Inhalation data'!A$3:AS$24,45,FALSE))","v":4},0.35,1.4,null,null,null,{"$f":"IF(I55=\"\",\"\",VLOOKUP(I55,'Dermal data'!A$4:F$25,6,FALSE))","v":6.86},{"$f":"IF(I55=\"\",\"\",VLOOKUP(I55,'Dermal data'!A$4:F$25,5,FALSE)/1000)","v":1},{"$f":"IF(AND(J55=\"Yes\",B$9=\"YES\"),IF(C55=\"Industrial - SU3\",VLOOKUP(I55,'Dermal data'!A$4:G$25,7,),VLOOKUP(I55,'Dermal data'!A$4:H$25,8,)),\"\")","v":0.2},"gloves-basic training",null,null,"",0.13720000000000002,null,null,0,6.9999999999999993E-2,2.7440000000000003E-2,9.7439999999999999E-2,"Minimise exposure by partial enclosure of the operation or equipment and provide extract ventilation at openings [E60]. ;  Provide a good standard of general ventilation (not less than 3-5 air changes per hour) [E11]Wear chemically resistant gloves (tested to EN374) in combination with ‘basic’ employee training [PPE16]. ","NO",{"$f":"IF(AND(AQ$42=\"NO\",AP55=\"NO\"),\"\",IF(OR(J55=\"No\",J55=\"\"),\"\",VLOOKUP(I55,'Inhalation data'!A$3:S$24,IF(C55=\"Industrial\",16,17),FALSE))&IF(P55=\"\",\"\",IF(P55=\"70 (ventilation)\",WPG!F$383,IF(P55=\"30 (ventilation)\",Findandtranslate_WPG(P$40),IF(OR(D55=WPG!F$228,E55=WPG!F$228,F55=WPG!F$228),WPG!F$367,WPG!F$412)))))","v":""},{"$f":"IF(AND(AR$42=\"NO\",AP55=\"NO\"),\"\",IF(Q55=\"half mask\",WPG!F$465,IF(Q55=\"full face\",WPG!F$467&WPG!F$468,\"\"))&IF(AD55=\"gloves\",WPG!F$458,IF(AD55=\"gloves-basic training\",WPG!F$459,IF(AD55=\"gloves-specific training\",WPG!F$460,IF(AD55=\"gloves-intensive controls\",WPG!F$461,\"\"))))&IF(AD55=\"\",\"\",VLOOKUP(I55,'Inhalation data'!A$3:V$24,22,FALSE)))","v":"Wear chemically resistant gloves (tested to EN374) in combination with ‘basic’ employee training [PPE16]. "},{"$f":"IF(AND(AS$42=\"NO\",AP55=\"NO\"),\"\",IF(M55=\"<15 min\",WPG!F$360,IF(M55=\"1-4 hours\",WPG!F$362,IF(M55=\"15 min-1 hour\",WPG!F$361,\"\"))))","v":""},{"$f":"IF(OR(AND(AT$42=\"NO\",AP55=\"NO\"),BQ55>BP55),\"\",IF(L55=\"5-25%\",WPG!F$352,IF(L55=\"1-5%\",WPG!F$351,IF(L55=\"<1%\",WPG!F$350,\"\"))))","v":""},null,"Minimise exposure by partial enclosure of the operation or equipment and provide extract ventilation at openings [E60]. ;  Provide a good standard of general ventilation (not less than 3-5 air changes per hour) [E11]",null,null,null,null,null,null,null,null,null,null,null,null,"",null,null,{"$f":"IF(ISERROR(VLOOKUP(I55,'Dermal data'!A$3:K$25,1,FALSE)),\"\",LEFT(VLOOKUP(I55,'Dermal data'!A$3:K$25,1,FALSE),2))","v":"4 "},{"$f":"IF(ISERROR(VLOOKUP(I55,'Dermal data'!A$3:K$25,11,FALSE)),\"\",VLOOKUP(I55,'Dermal data'!A$3:K$25,11,FALSE))","v":"Use in batch and other process (synthesis) where opportunity for exposure arises [PROC 4]. "},{"$f":"IF(ISERROR(VLOOKUP(I55,'Dermal data'!A$3:L$25,12,FALSE)),\"\",VLOOKUP(I55,'Dermal data'!A$3:L$25,12,FALSE))","v":"Use in batch manufacture of a chemical where significant opportunity for exposure arises, e.g. during charging, sampling or discharge of material, and when the nature of the design is likely to result in exposure. "},null,100,100,""]
[8,"Vapour exposure","Industrial","Remanufacture of reject articles [CS19]. ","Daily; >4 hours, ambient","work methods, drain prior to work, retain spills",null,"Liquid, vapour pressure 0.5 - 10 kPa at STP [OC4]. ","9 -Transfer of chemicals into small containers (dedicated filling line)","Yes",null,"",null,{"$f":"IF(AND(OR(I56=A$124,I56=A$133),E$8<0.01,J56=\"Yes\"),IF(B$8=\"YES\",MIN(0.1*E$10/24,BB$10),0.1*E$10/24),IF(I56=\"\",\"\",IF(B56=\"Vapour exposure\",IF(C56=\"Industrial\",VLOOKUP(I56,'Inhalation data'!A$3:I$24,IF(H56=WPG!F$339,2,IF(H56=WPG!F$338,3,5)),FALSE),VLOOKUP(I56,'Inhalation data'!A$3:I$24,IF(H56=WPG!F$339,6,IF(H56=WPG!F$338,7,9)),FALSE))*E$10/24,IF(C56=\"Industrial\",VLOOKUP(I56,'Inhalation data'!A$3:X$24,23,FALSE),VLOOKUP(I56,'Inhalation data'!A$3:X$24,24,FALSE)))))","v":250},{"$f":"IF(OR(I56=\"\",J56=\"No\",J56=\"\"),\"\",VLOOKUP(I56,'Inhalation data'!A$3:O$24,IF(C56=\"Industrial\",14,15),FALSE))","v":90},null,null,null,null,"",{"$f":"IF(I56=\"\",\"\",VLOOKUP(I56,'Inhalation data'!A$3:AS$24,45,FALSE))","v":4},25,100,null,null,null,{"$f":"IF(I56=\"\",\"\",VLOOKUP(I56,'Dermal data'!A$4:F$25,6,FALSE))","v":6.86},{"$f":"IF(I56=\"\",\"\",VLOOKUP(I56,'Dermal data'!A$4:F$25,5,FALSE)/1000)","v":1},{"$f":"IF(AND(J56=\"Yes\",B$9=\"YES\"),IF(C56=\"Industrial - SU3\",VLOOKUP(I56,'Dermal data'!A$4:G$25,7,),VLOOKUP(I56,'Dermal data'!A$4:H$25,8,)),\"\")","v":0.2},"gloves",null,null,"",0.27440000000000003,null,null,0,0.5,5.4880000000000005E-2,{"$f":"AL56+AM56","v":0.55488000000000004},{"$f":"AQ56&AS56&AT56&AU56&AV56&AW56&AY56&AR56&AX56","v":"Provide extract ventilation to points where emissions occur [E54]. Wear suitable gloves tested to EN374 [PPE15]. "},"NO",{"$f":"IF(AND(AQ$42=\"NO\",AP56=\"NO\"),\"\",IF(OR(J56=\"No\",J56=\"\"),\"\",VLOOKUP(I56,'Inhalation data'!A$3:S$24,IF(C56=\"Industrial\",16,17),FALSE))&IF(P56=\"\",\"\",IF(P56=\"70 (ventilation)\",WPG!F$383,IF(P56=\"30 (ventilation)\",Findandtranslate_WPG(P$40),IF(OR(D56=WPG!F$228,E56=WPG!F$228,F56=WPG!F$228),WPG!F$367,WPG!F$412)))))","v":""},{"$f":"IF(AND(AR$42=\"NO\",AP56=\"NO\"),\"\",IF(Q56=\"half mask\",WPG!F$465,IF(Q56=\"full face\",WPG!F$467&WPG!F$468,\"\"))&IF(AD56=\"gloves\",WPG!F$458,IF(AD56=\"gloves-basic training\",WPG!F$459,IF(AD56=\"gloves-specific training\",WPG!F$460,IF(AD56=\"gloves-intensive controls\",WPG!F$461,\"\"))))&IF(AD56=\"\",\"\",VLOOKUP(I56,'Inhalation data'!A$3:V$24,22,FALSE)))","v":"Wear suitable gloves tested to EN374 [PPE15]. "},{"$f":"IF(AND(AS$42=\"NO\",AP56=\"NO\"),\"\",IF(M56=\"<15 min\",WPG!F$360,IF(M56=\"1-4 hours\",WPG!F$362,IF(M56=\"15 min-1 hour\",WPG!F$361,\"\"))))","v":""},{"$f":"IF(OR(AND(AT$42=\"NO\",AP56=\"NO\"),BQ56>BP56),\"\",IF(L56=\"5-25%\",WPG!F$352,IF(L56=\"1-5%\",WPG!F$351,IF(L56=\"<1%\",WPG!F$350,\"\"))))","v":""},null,"Provide extract ventilation to points where emissions occur [E54]. ",null,null,null,null,null,null,null,null,null,null,null,null,"",null,null,{"$f":"IF(ISERROR(VLOOKUP(I56,'Dermal data'!A$3:K$25,1,FALSE)),\"\",LEFT(VLOOKUP(I56,'Dermal data'!A$3:K$25,1,FALSE),2))","v":"9 "},{"$f":"IF(ISERROR(VLOOKUP(I56,'Dermal data'!A$3:K$25,11,FALSE)),\"\",VLOOKUP(I56,'Dermal data'!A$3:K$25,11,FALSE))","v":"Transfer of substance or preparation into small containers (dedicated filling line, including weighing) [PROC 9]. "},{"$f":"IF(ISERROR(VLOOKUP(I56,'Dermal data'!A$3:L$25,12,FALSE)),\"\",VLOOKUP(I56,'Dermal data'!A$3:L$25,12,FALSE))","v":"Filling lines specifically designed to both capture vapour and aerosol emissions and minimise spillage. "},null,100,100,""]
["9-1","Vapour exposure","Industrial","Equipment maintenance   [CS5]. ","Daily; 1-4 hours, ambient","work methods, drain prior to work, retain spills, gloves",null,"Liquid, vapour pressure 0.5 - 10 kPa at STP [OC4]. ","8a -Transfer of chemicals from/to vessels/ large containers at non dedicated facilities",null,null,"",null,{"$f":"IF(AND(OR(I57=A$124,I57=A$133),E$8<0.01,J57=\"Yes\"),IF(B$8=\"YES\",MIN(0.1*E$10/24,BB$10),0.1*E$10/24),IF(I57=\"\",\"\",IF(B57=\"Vapour exposure\",IF(C57=\"Industrial\",VLOOKUP(I57,'Inhalation data'!A$3:I$24,IF(H57=WPG!F$339,2,IF(H57=WPG!F$338,3,5)),FALSE),VLOOKUP(I57,'Inhalation data'!A$3:I$24,IF(H57=WPG!F$339,6,IF(H57=WPG!F$338,7,9)),FALSE))*E$10/24,IF(C57=\"Industrial\",VLOOKUP(I57,'Inhalation data'!A$3:X$24,23,FALSE),VLOOKUP(I57,'Inhalation data'!A$3:X$24,24,FALSE)))))","v":250},{"$f":"IF(OR(I57=\"\",J57=\"No\",J57=\"\"),\"\",VLOOKUP(I57,'Inhalation data'!A$3:O$24,IF(C57=\"Industrial\",14,15),FALSE))","v":""},null,null,"0.1","SOP for draining before maintenance equivalent reduction factor to use of LEV","",{"$f":"IF(I57=\"\",\"\",VLOOKUP(I57,'Inhalation data'!A$3:AS$24,45,FALSE))","v":4},25,100,null,null,null,{"$f":"IF(I57=\"\",\"\",VLOOKUP(I57,'Dermal data'!A$4:F$25,6,FALSE))","v":13.71},{"$f":"IF(I57=\"\",\"\",VLOOKUP(I57,'Dermal data'!A$4:F$25,5,FALSE)/1000)","v":1},{"$f":"IF(AND(J57=\"Yes\",B$9=\"YES\"),IF(C57=\"Industrial - SU3\",VLOOKUP(I57,'Dermal data'!A$4:G$25,7,),VLOOKUP(I57,'Dermal data'!A$4:H$25,8,)),\"\")","v":""},"gloves-basic training",null,null,"",1.3710000000000002,null,null,0,0.5,0.27420000000000005,0.7742,"Drain down system prior to equipment break-in or maintenance [E65].Wear chemically resistant gloves (tested to EN374) in combination with ‘basic’ employee training [PPE16]. ","NO",{"$f":"IF(AND(AQ$42=\"NO\",AP57=\"NO\"),\"\",IF(OR(J57=\"No\",J57=\"\"),\"\",VLOOKUP(I57,'Inhalation data'!A$3:S$24,IF(C57=\"Industrial\",16,17),FALSE))&IF(P57=\"\",\"\",IF(P57=\"70 (ventilation)\",WPG!F$383,IF(P57=\"30 (ventilation)\",Findandtranslate_WPG(P$40),IF(OR(D57=WPG!F$228,E57=WPG!F$228,F57=WPG!F$228),WPG!F$367,WPG!F$412)))))","v":""},{"$f":"IF(AND(AR$42=\"NO\",AP57=\"NO\"),\"\",IF(Q57=\"half mask\",WPG!F$465,IF(Q57=\"full face\",WPG!F$467&WPG!F$468,\"\"))&IF(AD57=\"gloves\",WPG!F$458,IF(AD57=\"gloves-basic training\",WPG!F$459,IF(AD57=\"gloves-specific training\",WPG!F$460,IF(AD57=\"gloves-intensive controls\",WPG!F$461,\"\"))))&IF(AD57=\"\",\"\",VLOOKUP(I57,'Inhalation data'!A$3:V$24,22,FALSE)))","v":"Wear chemically resistant gloves (tested to EN374) in combination with ‘basic’ employee training [PPE16]. "},{"$f":"IF(AND(AS$42=\"NO\",AP57=\"NO\"),\"\",IF(M57=\"<15 min\",WPG!F$360,IF(M57=\"1-4 hours\",WPG!F$362,IF(M57=\"15 min-1 hour\",WPG!F$361,\"\"))))","v":""},{"$f":"IF(OR(AND(AT$42=\"NO\",AP57=\"NO\"),BQ57>BP57),\"\",IF(L57=\"5-25%\",WPG!F$352,IF(L57=\"1-5%\",WPG!F$351,IF(L57=\"<1%\",WPG!F$350,\"\"))))","v":""},"Drain down system prior to equipment break-in or maintenance [E65].",null,null,null,null,null,null,null,null,null,null,null,null,null,"",null,null,{"$f":"IF(ISERROR(VLOOKUP(I57,'Dermal data'!A$3:K$25,1,FALSE)),\"\",LEFT(VLOOKUP(I57,'Dermal data'!A$3:K$25,1,FALSE),2))","v":"8a"},{"$f":"IF(ISERROR(VLOOKUP(I57,'Dermal data'!A$3:K$25,11,FALSE)),\"\",VLOOKUP(I57,'Dermal data'!A$3:K$25,11,FALSE))","v":"Transfer of substance or preparation (charging/discharging) from/to vessels/large containers at non-dedicated facilities [PROC 8a]. "},{"$f":"IF(ISERROR(VLOOKUP(I57,'Dermal data'!A$3:L$25,12,FALSE)),\"\",VLOOKUP(I57,'Dermal data'!A$3:L$25,12,FALSE))","v":"Sampling, loading, filling, transfer, dumping, bagging in non- dedicated facilities. Exposure related to dust, va-pour, aerosols or spillage, and cleaning of equipment to be expected. "},null,100,100,""]
["9-2","Vapour exposure","Industrial","Equipment maintenance   [CS5]. ","Daily; 1-4 hours, ambient","work methods, drain prior to work, retain spills, gloves",null,"Liquid, vapour pressure 0.5 - 10 kPa at STP [OC4]. ","28 - Manual maintenance (cleaning and repair) of machinery ",null,null,"",null,{"$f":"IF(AND(OR(I58=A$124,I58=A$133),E$8<0.01,J58=\"Yes\"),IF(B$8=\"YES\",MIN(0.1*E$10/24,BB$10),0.1*E$10/24),IF(I58=\"\",\"\",IF(B58=\"Vapour exposure\",IF(C58=\"Industrial\",VLOOKUP(I58,'Inhalation data'!A$3:I$24,IF(H58=WPG!F$339,2,IF(H58=WPG!F$338,3,5)),FALSE),VLOOKUP(I58,'Inhalation data'!A$3:I$24,IF(H58=WPG!F$339,6,IF(H58=WPG!F$338,7,9)),FALSE))*E$10/24,IF(C58=\"Industrial\",VLOOKUP(I58,'Inhalation data'!A$3:X$24,23,FALSE),VLOOKUP(I58,'Inhalation data'!A$3:X$24,24,FALSE)))))","v":250},{"$f":"IF(OR(I58=\"\",J58=\"No\",J58=\"\"),\"\",VLOOKUP(I58,'Inhalation data'!A$3:O$24,IF(C58=\"Industrial\",14,15),FALSE))","v":""},null,null,"0.1","SOP for draining before maintenance equivalent reduction factor to use of LEV","",{"$f":"IF(I58=\"\",\"\",VLOOKUP(I58,'Inhalation data'!A$3:AS$24,45,FALSE))","v":4},25,100,null,null,null,{"$f":"IF(I58=\"\",\"\",VLOOKUP(I58,'Dermal data'!A$4:F$25,6,FALSE))","v":13.71},{"$f":"IF(I58=\"\",\"\",VLOOKUP(I58,'Dermal data'!A$4:F$25,5,FALSE)/1000)","v":1},{"$f":"IF(AND(J58=\"Yes\",B$9=\"YES\"),IF(C58=\"Industrial - SU3\",VLOOKUP(I58,'Dermal data'!A$4:G$25,7,),VLOOKUP(I58,'Dermal data'!A$4:H$25,8,)),\"\")","v":""},"gloves-basic training",null,null,"",1.3710000000000002,null,null,0,0.5,0.27420000000000005,0.7742,"Drain down system prior to equipment break-in or maintenance [E65].Wear chemically resistant gloves (tested to EN374) in combination with ‘basic’ employee training [PPE16]. ","NO",{"$f":"IF(AND(AQ$42=\"NO\",AP58=\"NO\"),\"\",IF(OR(J58=\"No\",J58=\"\"),\"\",VLOOKUP(I58,'Inhalation data'!A$3:S$24,IF(C58=\"Industrial\",16,17),FALSE))&IF(P58=\"\",\"\",IF(P58=\"70 (ventilation)\",WPG!F$383,IF(P58=\"30 (ventilation)\",Findandtranslate_WPG(P$40),IF(OR(D58=WPG!F$228,E58=WPG!F$228,F58=WPG!F$228),WPG!F$367,WPG!F$412)))))","v":""},{"$f":"IF(AND(AR$42=\"NO\",AP58=\"NO\"),\"\",IF(Q58=\"half mask\",WPG!F$465,IF(Q58=\"full face\",WPG!F$467&WPG!F$468,\"\"))&IF(AD58=\"gloves\",WPG!F$458,IF(AD58=\"gloves-basic training\",WPG!F$459,IF(AD58=\"gloves-specific training\",WPG!F$460,IF(AD58=\"gloves-intensive controls\",WPG!F$461,\"\"))))&IF(AD58=\"\",\"\",VLOOKUP(I58,'Inhalation data'!A$3:V$24,22,FALSE)))","v":"Wear chemically resistant gloves (tested to EN374) in combination with ‘basic’ employee training [PPE16]. "},{"$f":"IF(AND(AS$42=\"NO\",AP58=\"NO\"),\"\",IF(M58=\"<15 min\",WPG!F$360,IF(M58=\"1-4 hours\",WPG!F$362,IF(M58=\"15 min-1 hour\",WPG!F$361,\"\"))))","v":""},{"$f":"IF(OR(AND(AT$42=\"NO\",AP58=\"NO\"),BQ58>BP58),\"\",IF(L58=\"5-25%\",WPG!F$352,IF(L58=\"1-5%\",WPG!F$351,IF(L58=\"<1%\",WPG!F$350,\"\"))))","v":""},"Drain down system prior to equipment break-in or maintenance [E65].",null,null,null,null,null,null,null,null,null,null,null,null,null,"",null,null,{"$f":"IF(ISERROR(VLOOKUP(I58,'Dermal data'!A$3:K$25,1,FALSE)),\"\",LEFT(VLOOKUP(I58,'Dermal data'!A$3:K$25,1,FALSE),2))","v":"28"},{"$f":"IF(ISERROR(VLOOKUP(I58,'Dermal data'!A$3:K$25,11,FALSE)),\"\",VLOOKUP(I58,'Dermal data'!A$3:K$25,11,FALSE))","v":"Manual maintenance (cleaning and repair) of machinery [PROC 28]. "},{"$f":"IF(ISERROR(VLOOKUP(I58,'Dermal data'!A$3:L$25,12,FALSE)),\"\",VLOOKUP(I58,'Dermal data'!A$3:L$25,12,FALSE))","v":"Covers maintenance activities for uses where the maintenance is not already included in any of the other process categories. The category covers for example:\n• activities when closed systems are opened and potentially entered for cleaning\n• generally dedicated/separate cleaning tasks conducted on a shift or less frequent basis (e.g. between individual production batches)\n• removal of splashes around the machinery removal of filters or material from filters\n• cleaning of floors that are not directly around the machinery, but still need cleaning for instance because of dust deposition when handling a dusty product . "},null,100,100,""]
["10-1","Vapour exposure","Industrial","Storage [CS67]. ","Daily; exposure < 1hour; ambient temp; ","samples collected at dedicated sample point",null,"Liquid, vapour pressure 0.5 - 10 kPa at STP [OC4]. ","1 - Use in closed process, no likelihood of exposure",null,null,"",null,{"$f":"IF(AND(OR(I59=A$124,I59=A$133),E$8<0.01,J59=\"Yes\"),IF(B$8=\"YES\",MIN(0.1*E$10/24,BB$10),0.1*E$10/24),IF(I59=\"\",\"\",IF(B59=\"Vapour exposure\",IF(C59=\"Industrial\",VLOOKUP(I59,'Inhalation data'!A$3:I$24,IF(H59=WPG!F$339,2,IF(H59=WPG!F$338,3,5)),FALSE),VLOOKUP(I59,'Inhalation data'!A$3:I$24,IF(H59=WPG!F$339,6,IF(H59=WPG!F$338,7,9)),FALSE))*E$10/24,IF(C59=\"Industrial\",VLOOKUP(I59,'Inhalation data'!A$3:X$24,23,FALSE),VLOOKUP(I59,'Inhalation data'!A$3:X$24,24,FALSE)))))","v":4.9999999999999996E-2},{"$f":"IF(OR(I59=\"\",J59=\"No\",J59=\"\"),\"\",VLOOKUP(I59,'Inhalation data'!A$3:O$24,IF(C59=\"Industrial\",14,15),FALSE))","v":""},null,null,null,null,"",{"$f":"IF(I59=\"\",\"\",VLOOKUP(I59,'Inhalation data'!A$3:AS$24,45,FALSE))","v":4},0.05,0.2,null,null,null,{"$f":"IF(I59=\"\",\"\",VLOOKUP(I59,'Dermal data'!A$4:F$25,6,FALSE))","v":0.03},{"$f":"IF(I59=\"\",\"\",VLOOKUP(I59,'Dermal data'!A$4:F$25,5,FALSE)/1000)","v":0.01},{"$f":"IF(AND(J59=\"Yes\",B$9=\"YES\"),IF(C59=\"Industrial - SU3\",VLOOKUP(I59,'Dermal data'!A$4:G$25,7,),VLOOKUP(I59,'Dermal data'!A$4:H$25,8,)),\"\")","v":""},null,null,null,"",0.03,null,null,0,1E-3,6.0000000000000001E-3,7.0000000000000001E-3,"Store substance within a closed system [E84].","YES",{"$f":"IF(AND(AQ$42=\"NO\",AP59=\"NO\"),\"\",IF(OR(J59=\"No\",J59=\"\"),\"\",VLOOKUP(I59,'Inhalation data'!A$3:S$24,IF(C59=\"Industrial\",16,17),FALSE))&IF(P59=\"\",\"\",IF(P59=\"70 (ventilation)\",WPG!F$383,IF(P59=\"30 (ventilation)\",Findandtranslate_WPG(P$40),IF(OR(D59=WPG!F$228,E59=WPG!F$228,F59=WPG!F$228),WPG!F$367,WPG!F$412)))))","v":""},{"$f":"IF(AND(AR$42=\"NO\",AP59=\"NO\"),\"\",IF(Q59=\"half mask\",WPG!F$465,IF(Q59=\"full face\",WPG!F$467&WPG!F$468,\"\"))&IF(AD59=\"gloves\",WPG!F$458,IF(AD59=\"gloves-basic training\",WPG!F$459,IF(AD59=\"gloves-specific training\",WPG!F$460,IF(AD59=\"gloves-intensive controls\",WPG!F$461,\"\"))))&IF(AD59=\"\",\"\",VLOOKUP(I59,'Inhalation data'!A$3:V$24,22,FALSE)))","v":""},{"$f":"IF(AND(AS$42=\"NO\",AP59=\"NO\"),\"\",IF(M59=\"<15 min\",WPG!F$360,IF(M59=\"1-4 hours\",WPG!F$362,IF(M59=\"15 min-1 hour\",WPG!F$361,\"\"))))","v":""},{"$f":"IF(OR(AND(AT$42=\"NO\",AP59=\"NO\"),BQ59>BP59),\"\",IF(L59=\"5-25%\",WPG!F$352,IF(L59=\"1-5%\",WPG!F$351,IF(L59=\"<1%\",WPG!F$350,\"\"))))","v":""},"Store substance within a closed system [E84].",null,null,null,null,null,null,null,null,null,null,null,null,null,"",null,null,{"$f":"IF(ISERROR(VLOOKUP(I59,'Dermal data'!A$3:K$25,1,FALSE)),\"\",LEFT(VLOOKUP(I59,'Dermal data'!A$3:K$25,1,FALSE),2))","v":"1 "},{"$f":"IF(ISERROR(VLOOKUP(I59,'Dermal data'!A$3:K$25,11,FALSE)),\"\",VLOOKUP(I59,'Dermal data'!A$3:K$25,11,FALSE))","v":"Use in closed process, no likelihood of exposure [PROC 1]. "},{"$f":"IF(ISERROR(VLOOKUP(I59,'Dermal data'!A$3:L$25,12,FALSE)),\"\",VLOOKUP(I59,'Dermal data'!A$3:L$25,12,FALSE))","v":"Use of the substances in high integrity contained systemwhere little potential exists for exposures, e.g. any sam-pling via closed loop systems. "},null,100,100,""]
["10-2","Vapour exposure","Industrial","Storage [CS67]. ","Daily; exposure <1hour; ambient temp; ","samples collected at dedicated sample point",null,"Liquid, vapour pressure 0.5 - 10 kPa at STP [OC4]. ","2 - Use in closed, continuous  process with occasional controlled exposure ",null,null,"",null,{"$f":"IF(AND(OR(I60=A$124,I60=A$133),E$8<0.01,J60=\"Yes\"),IF(B$8=\"YES\",MIN(0.1*E$10/24,BB$10),0.1*E$10/24),IF(I60=\"\",\"\",IF(B60=\"Vapour exposure\",IF(C60=\"Industrial\",VLOOKUP(I60,'Inhalation data'!A$3:I$24,IF(H60=WPG!F$339,2,IF(H60=WPG!F$338,3,5)),FALSE),VLOOKUP(I60,'Inhalation data'!A$3:I$24,IF(H60=WPG!F$339,6,IF(H60=WPG!F$338,7,9)),FALSE))*E$10/24,IF(C60=\"Industrial\",VLOOKUP(I60,'Inhalation data'!A$3:X$24,23,FALSE),VLOOKUP(I60,'Inhalation data'!A$3:X$24,24,FALSE)))))","v":25},{"$f":"IF(OR(I60=\"\",J60=\"No\",J60=\"\"),\"\",VLOOKUP(I60,'Inhalation data'!A$3:O$24,IF(C60=\"Industrial\",14,15),FALSE))","v":""},null,null,null,null,"",{"$f":"IF(I60=\"\",\"\",VLOOKUP(I60,'Inhalation data'!A$3:AS$24,45,FALSE))","v":4},25,100,null,null,null,{"$f":"IF(I60=\"\",\"\",VLOOKUP(I60,'Dermal data'!A$4:F$25,6,FALSE))","v":1.37},{"$f":"IF(I60=\"\",\"\",VLOOKUP(I60,'Dermal data'!A$4:F$25,5,FALSE)/1000)","v":0.2},{"$f":"IF(AND(J60=\"Yes\",B$9=\"YES\"),IF(C60=\"Industrial - SU3\",VLOOKUP(I60,'Dermal data'!A$4:G$25,7,),VLOOKUP(I60,'Dermal data'!A$4:H$25,8,)),\"\")","v":""},null,null,null,"",1.37,null,null,0,0.5,0.27400000000000002,0.77400000000000002,"Store substance within a closed system [E84].","YES",{"$f":"IF(AND(AQ$42=\"NO\",AP60=\"NO\"),\"\",IF(OR(J60=\"No\",J60=\"\"),\"\",VLOOKUP(I60,'Inhalation data'!A$3:S$24,IF(C60=\"Industrial\",16,17),FALSE))&IF(P60=\"\",\"\",IF(P60=\"70 (ventilation)\",WPG!F$383,IF(P60=\"30 (ventilation)\",Findandtranslate_WPG(P$40),IF(OR(D60=WPG!F$228,E60=WPG!F$228,F60=WPG!F$228),WPG!F$367,WPG!F$412)))))","v":""},{"$f":"IF(AND(AR$42=\"NO\",AP60=\"NO\"),\"\",IF(Q60=\"half mask\",WPG!F$465,IF(Q60=\"full face\",WPG!F$467&WPG!F$468,\"\"))&IF(AD60=\"gloves\",WPG!F$458,IF(AD60=\"gloves-basic training\",WPG!F$459,IF(AD60=\"gloves-specific training\",WPG!F$460,IF(AD60=\"gloves-intensive controls\",WPG!F$461,\"\"))))&IF(AD60=\"\",\"\",VLOOKUP(I60,'Inhalation data'!A$3:V$24,22,FALSE)))","v":""},{"$f":"IF(AND(AS$42=\"NO\",AP60=\"NO\"),\"\",IF(M60=\"<15 min\",WPG!F$360,IF(M60=\"1-4 hours\",WPG!F$362,IF(M60=\"15 min-1 hour\",WPG!F$361,\"\"))))","v":""},{"$f":"IF(OR(AND(AT$42=\"NO\",AP60=\"NO\"),BQ60>BP60),\"\",IF(L60=\"5-25%\",WPG!F$352,IF(L60=\"1-5%\",WPG!F$351,IF(L60=\"<1%\",WPG!F$350,\"\"))))","v":""},"Store substance within a closed system [E84].",null,null,null,null,null,null,null,null,null,null,null,null,null,"",null,null,{"$f":"IF(ISERROR(VLOOKUP(I60,'Dermal data'!A$3:K$25,1,FALSE)),\"\",LEFT(VLOOKUP(I60,'Dermal data'!A$3:K$25,1,FALSE),2))","v":"2 "},{"$f":"IF(ISERROR(VLOOKUP(I60,'Dermal data'!A$3:K$25,11,FALSE)),\"\",VLOOKUP(I60,'Dermal data'!A$3:K$25,11,FALSE))","v":"Use in closed, continuous process with occasional controlled exposure [PROC 2]. "},{"$f":"IF(ISERROR(VLOOKUP(I60,'Dermal data'!A$3:L$25,12,FALSE)),\"\",VLOOKUP(I60,'Dermal data'!A$3:L$25,12,FALSE))","v":"Continuous process but where the design philosophy is not specifically aimed at minimizing emissions  It is not high integrity and occasional expose will arise e.g. through maintenance, sampling and equipment breakages. "},null,100,100,""]
[11,"Vapour exposure","Industrial","General exposures (closed systems)  [CS15]. ","Daily; >4 hours, ambient","Closed systems",null,"Liquid, vapour pressure 0.5 - 10 kPa at STP [OC4]. ","3 - Use in closed batch process (synthesis or formulation)","Yes",null,"",null,{"$f":"IF(AND(OR(I61=A$124,I61=A$133),E$8<0.01,J61=\"Yes\"),IF(B$8=\"YES\",MIN(0.1*E$10/24,BB$10),0.1*E$10/24),IF(I61=\"\",\"\",IF(B61=\"Vapour exposure\",IF(C61=\"Industrial\",VLOOKUP(I61,'Inhalation data'!A$3:I$24,IF(H61=WPG!F$339,2,IF(H61=WPG!F$338,3,5)),FALSE),VLOOKUP(I61,'Inhalation data'!A$3:I$24,IF(H61=WPG!F$339,6,IF(H61=WPG!F$338,7,9)),FALSE))*E$10/24,IF(C61=\"Industrial\",VLOOKUP(I61,'Inhalation data'!A$3:X$24,23,FALSE),VLOOKUP(I61,'Inhalation data'!A$3:X$24,24,FALSE)))))","v":50},{"$f":"IF(OR(I61=\"\",J61=\"No\",J61=\"\"),\"\",VLOOKUP(I61,'Inhalation data'!A$3:O$24,IF(C61=\"Industrial\",14,15),FALSE))","v":90},null,null,null,null,"",{"$f":"IF(I61=\"\",\"\",VLOOKUP(I61,'Inhalation data'!A$3:AS$24,45,FALSE))","v":4},5,20,null,null,null,{"$f":"IF(I61=\"\",\"\",VLOOKUP(I61,'Dermal data'!A$4:F$25,6,FALSE))","v":0.69},{"$f":"IF(I61=\"\",\"\",VLOOKUP(I61,'Dermal data'!A$4:F$25,5,FALSE)/1000)","v":0.2},{"$f":"IF(AND(J61=\"Yes\",B$9=\"YES\"),IF(C61=\"Industrial - SU3\",VLOOKUP(I61,'Dermal data'!A$4:G$25,7,),VLOOKUP(I61,'Dermal data'!A$4:H$25,8,)),\"\")","v":0.2},null,null,null,"",0.13799999999999998,null,null,0,0.1,2.7599999999999996E-2,0.12759999999999999,"Handle substance within a predominantly closed system provided with extract ventilation [E49]. ","YES",{"$f":"IF(AND(AQ$42=\"NO\",AP61=\"NO\"),\"\",IF(OR(J61=\"No\",J61=\"\"),\"\",VLOOKUP(I61,'Inhalation data'!A$3:S$24,IF(C61=\"Industrial\",16,17),FALSE))&IF(P61=\"\",\"\",IF(P61=\"70 (ventilation)\",WPG!F$383,IF(P61=\"30 (ventilation)\",Findandtranslate_WPG(P$40),IF(OR(D61=WPG!F$228,E61=WPG!F$228,F61=WPG!F$228),WPG!F$367,WPG!F$412)))))","v":"Handle substance within a predominantly closed system provided with extract ventilation [E49]. "},{"$f":"IF(AND(AR$42=\"NO\",AP61=\"NO\"),\"\",IF(Q61=\"half mask\",WPG!F$465,IF(Q61=\"full face\",WPG!F$467&WPG!F$468,\"\"))&IF(AD61=\"gloves\",WPG!F$458,IF(AD61=\"gloves-basic training\",WPG!F$459,IF(AD61=\"gloves-specific training\",WPG!F$460,IF(AD61=\"gloves-intensive controls\",WPG!F$461,\"\"))))&IF(AD61=\"\",\"\",VLOOKUP(I61,'Inhalation data'!A$3:V$24,22,FALSE)))","v":""},{"$f":"IF(AND(AS$42=\"NO\",AP61=\"NO\"),\"\",IF(M61=\"<15 min\",WPG!F$360,IF(M61=\"1-4 hours\",WPG!F$362,IF(M61=\"15 min-1 hour\",WPG!F$361,\"\"))))","v":""},{"$f":"IF(OR(AND(AT$42=\"NO\",AP61=\"NO\"),BQ61>BP61),\"\",IF(L61=\"5-25%\",WPG!F$352,IF(L61=\"1-5%\",WPG!F$351,IF(L61=\"<1%\",WPG!F$350,\"\"))))","v":""},null,null,null,null,null,null,null,null,null,null,null,null,null,null,"",null,null,{"$f":"IF(ISERROR(VLOOKUP(I61,'Dermal data'!A$3:K$25,1,FALSE)),\"\",LEFT(VLOOKUP(I61,'Dermal data'!A$3:K$25,1,FALSE),2))","v":"3 "},{"$f":"IF(ISERROR(VLOOKUP(I61,'Dermal data'!A$3:K$25,11,FALSE)),\"\",VLOOKUP(I61,'Dermal data'!A$3:K$25,11,FALSE))","v":"Use in closed batch process (synthesis or formulation) [PROC 3]. "},{"$f":"IF(ISERROR(VLOOKUP(I61,'Dermal data'!A$3:L$25,12,FALSE)),\"\",VLOOKUP(I61,'Dermal data'!A$3:L$25,12,FALSE))","v":"Batch manufacture of a chemical or formulation where the predominant handling is in a contained manner, e.g. through enclosed transfers, but where some opportunity for contact with chemicals occurs, e.g. through sampling. "},null,100,100,""]
[null,null,"Industrial",null,null,null,null,"Liquid, vapour pressure 0.5 - 10 kPa at STP [OC4]. ",null,null,null,"",null,{"$f":"IF(AND(OR(I62=A$124,I62=A$133),E$8<0.01,J62=\"Yes\"),IF(B$8=\"YES\",MIN(0.1*E$10/24,BB$10),0.1*E$10/24),IF(I62=\"\",\"\",IF(B62=\"Vapour exposure\",IF(C62=\"Industrial\",VLOOKUP(I62,'Inhalation data'!A$3:I$24,IF(H62=WPG!F$339,2,IF(H62=WPG!F$338,3,5)),FALSE),VLOOKUP(I62,'Inhalation data'!A$3:I$24,IF(H62=WPG!F$339,6,IF(H62=WPG!F$338,7,9)),FALSE))*E$10/24,IF(C62=\"Industrial\",VLOOKUP(I62,'Inhalation data'!A$3:X$24,23,FALSE),VLOOKUP(I62,'Inhalation data'!A$3:X$24,24,FALSE)))))","v":""},{"$f":"IF(OR(I62=\"\",J62=\"No\",J62=\"\"),\"\",VLOOKUP(I62,'Inhalation data'!A$3:O$24,IF(C62=\"Industrial\",14,15),FALSE))","v":""},null,null,null,null,"",{"$f":"IF(I62=\"\",\"\",VLOOKUP(I62,'Inhalation data'!A$3:AS$24,45,FALSE))","v":""},0,"",null,null,null,{"$f":"IF(I62=\"\",\"\",VLOOKUP(I62,'Dermal data'!A$4:F$25,6,FALSE))","v":""},{"$f":"IF(I62=\"\",\"\",VLOOKUP(I62,'Dermal data'!A$4:F$25,5,FALSE)/1000)","v":""},{"$f":"IF(AND(J62=\"Yes\",B$9=\"YES\"),IF(C62=\"Industrial - SU3\",VLOOKUP(I62,'Dermal data'!A$4:G$25,7,),VLOOKUP(I62,'Dermal data'!A$4:H$25,8,)),\"\")","v":""},null,null,null,"",0,null,null,0,0,0,0,"",null,{"$f":"IF(AND(AQ$42=\"NO\",AP62=\"NO\"),\"\",IF(OR(J62=\"No\",J62=\"\"),\"\",VLOOKUP(I62,'Inhalation data'!A$3:S$24,IF(C62=\"Industrial\",16,17),FALSE))&IF(P62=\"\",\"\",IF(P62=\"70 (ventilation)\",WPG!F$383,IF(P62=\"30 (ventilation)\",Findandtranslate_WPG(P$40),IF(OR(D62=WPG!F$228,E62=WPG!F$228,F62=WPG!F$228),WPG!F$367,WPG!F$412)))))","v":""},{"$f":"IF(AND(AR$42=\"NO\",AP62=\"NO\"),\"\",IF(Q62=\"half mask\",WPG!F$465,IF(Q62=\"full face\",WPG!F$467&WPG!F$468,\"\"))&IF(AD62=\"gloves\",WPG!F$458,IF(AD62=\"gloves-basic training\",WPG!F$459,IF(AD62=\"gloves-specific training\",WPG!F$460,IF(AD62=\"gloves-intensive controls\",WPG!F$461,\"\"))))&IF(AD62=\"\",\"\",VLOOKUP(I62,'Inhalation data'!A$3:V$24,22,FALSE)))","v":""},{"$f":"IF(AND(AS$42=\"NO\",AP62=\"NO\"),\"\",IF(M62=\"<15 min\",WPG!F$360,IF(M62=\"1-4 hours\",WPG!F$362,IF(M62=\"15 min-1 hour\",WPG!F$361,\"\"))))","v":""},{"$f":"IF(OR(AND(AT$42=\"NO\",AP62=\"NO\"),BQ62>BP62),\"\",IF(L62=\"5-25%\",WPG!F$352,IF(L62=\"1-5%\",WPG!F$351,IF(L62=\"<1%\",WPG!F$350,\"\"))))","v":""},null,null,null,null,null,null,null,null,null,null,null,null,null,null,"",null,null,{"$f":"IF(ISERROR(VLOOKUP(I62,'Dermal data'!A$3:K$25,1,FALSE)),\"\",LEFT(VLOOKUP(I62,'Dermal data'!A$3:K$25,1,FALSE),2))","v":""},{"$f":"IF(ISERROR(VLOOKUP(I62,'Dermal data'!A$3:K$25,11,FALSE)),\"\",VLOOKUP(I62,'Dermal data'!A$3:K$25,11,FALSE))","v":""},{"$f":"IF(ISERROR(VLOOKUP(I62,'Dermal data'!A$3:L$25,12,FALSE)),\"\",VLOOKUP(I62,'Dermal data'!A$3:L$25,12,FALSE))","v":""},null,100,100,""]
[null,null,"Industrial",null,null,null,null,"Liquid, vapour pressure 0.5 - 10 kPa at STP [OC4]. ",null,null,null,"",null,{"$f":"IF(AND(OR(I63=A$124,I63=A$133),E$8<0.01,J63=\"Yes\"),IF(B$8=\"YES\",MIN(0.1*E$10/24,BB$10),0.1*E$10/24),IF(I63=\"\",\"\",IF(B63=\"Vapour exposure\",IF(C63=\"Industrial\",VLOOKUP(I63,'Inhalation data'!A$3:I$24,IF(H63=WPG!F$339,2,IF(H63=WPG!F$338,3,5)),FALSE),VLOOKUP(I63,'Inhalation data'!A$3:I$24,IF(H63=WPG!F$339,6,IF(H63=WPG!F$338,7,9)),FALSE))*E$10/24,IF(C63=\"Industrial\",VLOOKUP(I63,'Inhalation data'!A$3:X$24,23,FALSE),VLOOKUP(I63,'Inhalation data'!A$3:X$24,24,FALSE)))))","v":""},{"$f":"IF(OR(I63=\"\",J63=\"No\",J63=\"\"),\"\",VLOOKUP(I63,'Inhalation data'!A$3:O$24,IF(C63=\"Industrial\",14,15),FALSE))","v":""},null,null,null,null,"",{"$f":"IF(I63=\"\",\"\",VLOOKUP(I63,'Inhalation data'!A$3:AS$24,45,FALSE))","v":""},0,"",null,null,null,{"$f":"IF(I63=\"\",\"\",VLOOKUP(I63,'Dermal data'!A$4:F$25,6,FALSE))","v":""},{"$f":"IF(I63=\"\",\"\",VLOOKUP(I63,'Dermal data'!A$4:F$25,5,FALSE)/1000)","v":""},{"$f":"IF(AND(J63=\"Yes\",B$9=\"YES\"),IF(C63=\"Industrial - SU3\",VLOOKUP(I63,'Dermal data'!A$4:G$25,7,),VLOOKUP(I63,'Dermal data'!A$4:H$25,8,)),\"\")","v":""},null,null,null,"",0,null,null,0,0,0,0,"",null,{"$f":"IF(AND(AQ$42=\"NO\",AP63=\"NO\"),\"\",IF(OR(J63=\"No\",J63=\"\"),\"\",VLOOKUP(I63,'Inhalation data'!A$3:S$24,IF(C63=\"Industrial\",16,17),FALSE))&IF(P63=\"\",\"\",IF(P63=\"70 (ventilation)\",WPG!F$383,IF(P63=\"30 (ventilation)\",Findandtranslate_WPG(P$40),IF(OR(D63=WPG!F$228,E63=WPG!F$228,F63=WPG!F$228),WPG!F$367,WPG!F$412)))))","v":""},{"$f":"IF(AND(AR$42=\"NO\",AP63=\"NO\"),\"\",IF(Q63=\"half mask\",WPG!F$465,IF(Q63=\"full face\",WPG!F$467&WPG!F$468,\"\"))&IF(AD63=\"gloves\",WPG!F$458,IF(AD63=\"gloves-basic training\",WPG!F$459,IF(AD63=\"gloves-specific training\",WPG!F$460,IF(AD63=\"gloves-intensive controls\",WPG!F$461,\"\"))))&IF(AD63=\"\",\"\",VLOOKUP(I63,'Inhalation data'!A$3:V$24,22,FALSE)))","v":""},{"$f":"IF(AND(AS$42=\"NO\",AP63=\"NO\"),\"\",IF(M63=\"<15 min\",WPG!F$360,IF(M63=\"1-4 hours\",WPG!F$362,IF(M63=\"15 min-1 hour\",WPG!F$361,\"\"))))","v":""},{"$f":"IF(OR(AND(AT$42=\"NO\",AP63=\"NO\"),BQ63>BP63),\"\",IF(L63=\"5-25%\",WPG!F$352,IF(L63=\"1-5%\",WPG!F$351,IF(L63=\"<1%\",WPG!F$350,\"\"))))","v":""},null,null,null,null,null,null,null,null,null,null,null,null,null,null,"",null,null,{"$f":"IF(ISERROR(VLOOKUP(I63,'Dermal data'!A$3:K$25,1,FALSE)),\"\",LEFT(VLOOKUP(I63,'Dermal data'!A$3:K$25,1,FALSE),2))","v":""},{"$f":"IF(ISERROR(VLOOKUP(I63,'Dermal data'!A$3:K$25,11,FALSE)),\"\",VLOOKUP(I63,'Dermal data'!A$3:K$25,11,FALSE))","v":""},{"$f":"IF(ISERROR(VLOOKUP(I63,'Dermal data'!A$3:L$25,12,FALSE)),\"\",VLOOKUP(I63,'Dermal data'!A$3:L$25,12,FALSE))","v":""},null,100,100,""]
[null,null,"Industrial",null,null,null,null,"Liquid, vapour pressure 0.5 - 10 kPa at STP [OC4]. ",null,null,null,"",null,{"$f":"IF(AND(OR(I64=A$124,I64=A$133),E$8<0.01,J64=\"Yes\"),IF(B$8=\"YES\",MIN(0.1*E$10/24,BB$10),0.1*E$10/24),IF(I64=\"\",\"\",IF(B64=\"Vapour exposure\",IF(C64=\"Industrial\",VLOOKUP(I64,'Inhalation data'!A$3:I$24,IF(H64=WPG!F$339,2,IF(H64=WPG!F$338,3,5)),FALSE),VLOOKUP(I64,'Inhalation data'!A$3:I$24,IF(H64=WPG!F$339,6,IF(H64=WPG!F$338,7,9)),FALSE))*E$10/24,IF(C64=\"Industrial\",VLOOKUP(I64,'Inhalation data'!A$3:X$24,23,FALSE),VLOOKUP(I64,'Inhalation data'!A$3:X$24,24,FALSE)))))","v":""},{"$f":"IF(OR(I64=\"\",J64=\"No\",J64=\"\"),\"\",VLOOKUP(I64,'Inhalation data'!A$3:O$24,IF(C64=\"Industrial\",14,15),FALSE))","v":""},null,null,null,null,"",{"$f":"IF(I64=\"\",\"\",VLOOKUP(I64,'Inhalation data'!A$3:AS$24,45,FALSE))","v":""},0,"",null,null,null,{"$f":"IF(I64=\"\",\"\",VLOOKUP(I64,'Dermal data'!A$4:F$25,6,FALSE))","v":""},{"$f":"IF(I64=\"\",\"\",VLOOKUP(I64,'Dermal data'!A$4:F$25,5,FALSE)/1000)","v":""},{"$f":"IF(AND(J64=\"Yes\",B$9=\"YES\"),IF(C64=\"Industrial - SU3\",VLOOKUP(I64,'Dermal data'!A$4:G$25,7,),VLOOKUP(I64,'Dermal data'!A$4:H$25,8,)),\"\")","v":""},null,null,null,"",0,null,null,0,0,0,{"$f":"AL64+AM64","v":0},"",null,{"$f":"IF(AND(AQ$42=\"NO\",AP64=\"NO\"),\"\",IF(OR(J64=\"No\",J64=\"\"),\"\",VLOOKUP(I64,'Inhalation data'!A$3:S$24,IF(C64=\"Industrial\",16,17),FALSE))&IF(P64=\"\",\"\",IF(P64=\"70 (ventilation)\",WPG!F$383,IF(P64=\"30 (ventilation)\",Findandtranslate_WPG(P$40),IF(OR(D64=WPG!F$228,E64=WPG!F$228,F64=WPG!F$228),WPG!F$367,WPG!F$412)))))","v":""},{"$f":"IF(AND(AR$42=\"NO\",AP64=\"NO\"),\"\",IF(Q64=\"half mask\",WPG!F$465,IF(Q64=\"full face\",WPG!F$467&WPG!F$468,\"\"))&IF(AD64=\"gloves\",WPG!F$458,IF(AD64=\"gloves-basic training\",WPG!F$459,IF(AD64=\"gloves-specific training\",WPG!F$460,IF(AD64=\"gloves-intensive controls\",WPG!F$461,\"\"))))&IF(AD64=\"\",\"\",VLOOKUP(I64,'Inhalation data'!A$3:V$24,22,FALSE)))","v":""},{"$f":"IF(AND(AS$42=\"NO\",AP64=\"NO\"),\"\",IF(M64=\"<15 min\",WPG!F$360,IF(M64=\"1-4 hours\",WPG!F$362,IF(M64=\"15 min-1 hour\",WPG!F$361,\"\"))))","v":""},{"$f":"IF(OR(AND(AT$42=\"NO\",AP64=\"NO\"),BQ64>BP64),\"\",IF(L64=\"5-25%\",WPG!F$352,IF(L64=\"1-5%\",WPG!F$351,IF(L64=\"<1%\",WPG!F$350,\"\"))))","v":""},null,null,null,null,null,null,null,null,null,null,null,null,null,null,"",null,null,{"$f":"IF(ISERROR(VLOOKUP(I64,'Dermal data'!A$3:K$25,1,FALSE)),\"\",LEFT(VLOOKUP(I64,'Dermal data'!A$3:K$25,1,FALSE),2))","v":""},{"$f":"IF(ISERROR(VLOOKUP(I64,'Dermal data'!A$3:K$25,11,FALSE)),\"\",VLOOKUP(I64,'Dermal data'!A$3:K$25,11,FALSE))","v":""},{"$f":"IF(ISERROR(VLOOKUP(I64,'Dermal data'!A$3:L$25,12,FALSE)),\"\",VLOOKUP(I64,'Dermal data'!A$3:L$25,12,FALSE))","v":""},null,{"$f":"J$31","v":100},{"$f":"IF(K64=\"<1%\",1,IF(K64=\"1-5%\",5,IF(K64=\"5-25%\",25,100)))","v":100},""]
[null,null,"Industrial",null,null,null,null,"Liquid, vapour pressure 0.5 - 10 kPa at STP [OC4]. ",null,null,null,"",null,{"$f":"IF(AND(OR(I65=A$124,I65=A$133),E$8<0.01,J65=\"Yes\"),IF(B$8=\"YES\",MIN(0.1*E$10/24,BB$10),0.1*E$10/24),IF(I65=\"\",\"\",IF(B65=\"Vapour exposure\",IF(C65=\"Industrial\",VLOOKUP(I65,'Inhalation data'!A$3:I$24,IF(H65=WPG!F$339,2,IF(H65=WPG!F$338,3,5)),FALSE),VLOOKUP(I65,'Inhalation data'!A$3:I$24,IF(H65=WPG!F$339,6,IF(H65=WPG!F$338,7,9)),FALSE))*E$10/24,IF(C65=\"Industrial\",VLOOKUP(I65,'Inhalation data'!A$3:X$24,23,FALSE),VLOOKUP(I65,'Inhalation data'!A$3:X$24,24,FALSE)))))","v":""},{"$f":"IF(OR(I65=\"\",J65=\"No\",J65=\"\"),\"\",VLOOKUP(I65,'Inhalation data'!A$3:O$24,IF(C65=\"Industrial\",14,15),FALSE))","v":""},null,null,null,null,"",{"$f":"IF(I65=\"\",\"\",VLOOKUP(I65,'Inhalation data'!A$3:AS$24,45,FALSE))","v":""},0,"",null,null,null,{"$f":"IF(I65=\"\",\"\",VLOOKUP(I65,'Dermal data'!A$4:F$25,6,FALSE))","v":""},{"$f":"IF(I65=\"\",\"\",VLOOKUP(I65,'Dermal data'!A$4:F$25,5,FALSE)/1000)","v":""},{"$f":"IF(AND(J65=\"Yes\",B$9=\"YES\"),IF(C65=\"Industrial - SU3\",VLOOKUP(I65,'Dermal data'!A$4:G$25,7,),VLOOKUP(I65,'Dermal data'!A$4:H$25,8,)),\"\")","v":""},null,null,null,"",0,null,null,0,0,0,0,"",null,{"$f":"IF(AND(AQ$42=\"NO\",AP65=\"NO\"),\"\",IF(OR(J65=\"No\",J65=\"\"),\"\",VLOOKUP(I65,'Inhalation data'!A$3:S$24,IF(C65=\"Industrial\",16,17),FALSE))&IF(P65=\"\",\"\",IF(P65=\"70 (ventilation)\",WPG!F$383,IF(P65=\"30 (ventilation)\",Findandtranslate_WPG(P$40),IF(OR(D65=WPG!F$228,E65=WPG!F$228,F65=WPG!F$228),WPG!F$367,WPG!F$412)))))","v":""},{"$f":"IF(AND(AR$42=\"NO\",AP65=\"NO\"),\"\",IF(Q65=\"half mask\",WPG!F$465,IF(Q65=\"full face\",WPG!F$467&WPG!F$468,\"\"))&IF(AD65=\"gloves\",WPG!F$458,IF(AD65=\"gloves-basic training\",WPG!F$459,IF(AD65=\"gloves-specific training\",WPG!F$460,IF(AD65=\"gloves-intensive controls\",WPG!F$461,\"\"))))&IF(AD65=\"\",\"\",VLOOKUP(I65,'Inhalation data'!A$3:V$24,22,FALSE)))","v":""},{"$f":"IF(AND(AS$42=\"NO\",AP65=\"NO\"),\"\",IF(M65=\"<15 min\",WPG!F$360,IF(M65=\"1-4 hours\",WPG!F$362,IF(M65=\"15 min-1 hour\",WPG!F$361,\"\"))))","v":""},{"$f":"IF(OR(AND(AT$42=\"NO\",AP65=\"NO\"),BQ65>BP65),\"\",IF(L65=\"5-25%\",WPG!F$352,IF(L65=\"1-5%\",WPG!F$351,IF(L65=\"<1%\",WPG!F$350,\"\"))))","v":""},null,null,null,null,null,null,null,null,null,null,null,null,null,null,"",null,null,{"$f":"IF(ISERROR(VLOOKUP(I65,'Dermal data'!A$3:K$25,1,FALSE)),\"\",LEFT(VLOOKUP(I65,'Dermal data'!A$3:K$25,1,FALSE),2))","v":""},{"$f":"IF(ISERROR(VLOOKUP(I65,'Dermal data'!A$3:K$25,11,FALSE)),\"\",VLOOKUP(I65,'Dermal data'!A$3:K$25,11,FALSE))","v":""},{"$f":"IF(ISERROR(VLOOKUP(I65,'Dermal data'!A$3:L$25,12,FALSE)),\"\",VLOOKUP(I65,'Dermal data'!A$3:L$25,12,FALSE))","v":""},null,100,100,""]
[null,null,"Industrial",null,null,null,null,"Liquid, vapour pressure 0.5 - 10 kPa at STP [OC4]. ",null,null,null,"",null,{"$f":"IF(AND(OR(I66=A$124,I66=A$133),E$8<0.01,J66=\"Yes\"),IF(B$8=\"YES\",MIN(0.1*E$10/24,BB$10),0.1*E$10/24),IF(I66=\"\",\"\",IF(B66=\"Vapour exposure\",IF(C66=\"Industrial\",VLOOKUP(I66,'Inhalation data'!A$3:I$24,IF(H66=WPG!F$339,2,IF(H66=WPG!F$338,3,5)),FALSE),VLOOKUP(I66,'Inhalation data'!A$3:I$24,IF(H66=WPG!F$339,6,IF(H66=WPG!F$338,7,9)),FALSE))*E$10/24,IF(C66=\"Industrial\",VLOOKUP(I66,'Inhalation data'!A$3:X$24,23,FALSE),VLOOKUP(I66,'Inhalation data'!A$3:X$24,24,FALSE)))))","v":""},{"$f":"IF(OR(I66=\"\",J66=\"No\",J66=\"\"),\"\",VLOOKUP(I66,'Inhalation data'!A$3:O$24,IF(C66=\"Industrial\",14,15),FALSE))","v":""},null,null,null,null,"",{"$f":"IF(I66=\"\",\"\",VLOOKUP(I66,'Inhalation data'!A$3:AS$24,45,FALSE))","v":""},0,"",null,null,null,{"$f":"IF(I66=\"\",\"\",VLOOKUP(I66,'Dermal data'!A$4:F$25,6,FALSE))","v":""},{"$f":"IF(I66=\"\",\"\",VLOOKUP(I66,'Dermal data'!A$4:F$25,5,FALSE)/1000)","v":""},{"$f":"IF(AND(J66=\"Yes\",B$9=\"YES\"),IF(C66=\"Industrial - SU3\",VLOOKUP(I66,'Dermal data'!A$4:G$25,7,),VLOOKUP(I66,'Dermal data'!A$4:H$25,8,)),\"\")","v":""},null,null,null,"",0,null,null,0,0,0,0,"",null,{"$f":"IF(AND(AQ$42=\"NO\",AP66=\"NO\"),\"\",IF(OR(J66=\"No\",J66=\"\"),\"\",VLOOKUP(I66,'Inhalation data'!A$3:S$24,IF(C66=\"Industrial\",16,17),FALSE))&IF(P66=\"\",\"\",IF(P66=\"70 (ventilation)\",WPG!F$383,IF(P66=\"30 (ventilation)\",Findandtranslate_WPG(P$40),IF(OR(D66=WPG!F$228,E66=WPG!F$228,F66=WPG!F$228),WPG!F$367,WPG!F$412)))))","v":""},{"$f":"IF(AND(AR$42=\"NO\",AP66=\"NO\"),\"\",IF(Q66=\"half mask\",WPG!F$465,IF(Q66=\"full face\",WPG!F$467&WPG!F$468,\"\"))&IF(AD66=\"gloves\",WPG!F$458,IF(AD66=\"gloves-basic training\",WPG!F$459,IF(AD66=\"gloves-specific training\",WPG!F$460,IF(AD66=\"gloves-intensive controls\",WPG!F$461,\"\"))))&IF(AD66=\"\",\"\",VLOOKUP(I66,'Inhalation data'!A$3:V$24,22,FALSE)))","v":""},{"$f":"IF(AND(AS$42=\"NO\",AP66=\"NO\"),\"\",IF(M66=\"<15 min\",WPG!F$360,IF(M66=\"1-4 hours\",WPG!F$362,IF(M66=\"15 min-1 hour\",WPG!F$361,\"\"))))","v":""},{"$f":"IF(OR(AND(AT$42=\"NO\",AP66=\"NO\"),BQ66>BP66),\"\",IF(L66=\"5-25%\",WPG!F$352,IF(L66=\"1-5%\",WPG!F$351,IF(L66=\"<1%\",WPG!F$350,\"\"))))","v":""},null,null,null,null,null,null,null,null,null,null,null,null,null,null,"",null,null,{"$f":"IF(ISERROR(VLOOKUP(I66,'Dermal data'!A$3:K$25,1,FALSE)),\"\",LEFT(VLOOKUP(I66,'Dermal data'!A$3:K$25,1,FALSE),2))","v":""},{"$f":"IF(ISERROR(VLOOKUP(I66,'Dermal data'!A$3:K$25,11,FALSE)),\"\",VLOOKUP(I66,'Dermal data'!A$3:K$25,11,FALSE))","v":""},{"$f":"IF(ISERROR(VLOOKUP(I66,'Dermal data'!A$3:L$25,12,FALSE)),\"\",VLOOKUP(I66,'Dermal data'!A$3:L$25,12,FALSE))","v":""},null,100,100,""]
[null,null,"Industrial",null,null,null,null,"Liquid, vapour pressure 0.5 - 10 kPa at STP [OC4]. ",null,null,null,"",null,{"$f":"IF(AND(OR(I67=A$124,I67=A$133),E$8<0.01,J67=\"Yes\"),IF(B$8=\"YES\",MIN(0.1*E$10/24,BB$10),0.1*E$10/24),IF(I67=\"\",\"\",IF(B67=\"Vapour exposure\",IF(C67=\"Industrial\",VLOOKUP(I67,'Inhalation data'!A$3:I$24,IF(H67=WPG!F$339,2,IF(H67=WPG!F$338,3,5)),FALSE),VLOOKUP(I67,'Inhalation data'!A$3:I$24,IF(H67=WPG!F$339,6,IF(H67=WPG!F$338,7,9)),FALSE))*E$10/24,IF(C67=\"Industrial\",VLOOKUP(I67,'Inhalation data'!A$3:X$24,23,FALSE),VLOOKUP(I67,'Inhalation data'!A$3:X$24,24,FALSE)))))","v":""},{"$f":"IF(OR(I67=\"\",J67=\"No\",J67=\"\"),\"\",VLOOKUP(I67,'Inhalation data'!A$3:O$24,IF(C67=\"Industrial\",14,15),FALSE))","v":""},null,null,null,null,"",{"$f":"IF(I67=\"\",\"\",VLOOKUP(I67,'Inhalation data'!A$3:AS$24,45,FALSE))","v":""},0,"",null,null,null,{"$f":"IF(I67=\"\",\"\",VLOOKUP(I67,'Dermal data'!A$4:F$25,6,FALSE))","v":""},{"$f":"IF(I67=\"\",\"\",VLOOKUP(I67,'Dermal data'!A$4:F$25,5,FALSE)/1000)","v":""},{"$f":"IF(AND(J67=\"Yes\",B$9=\"YES\"),IF(C67=\"Industrial - SU3\",VLOOKUP(I67,'Dermal data'!A$4:G$25,7,),VLOOKUP(I67,'Dermal data'!A$4:H$25,8,)),\"\")","v":""},null,null,null,"",0,null,null,0,0,0,{"$f":"AL67+AM67","v":0},"",null,{"$f":"IF(AND(AQ$42=\"NO\",AP67=\"NO\"),\"\",IF(OR(J67=\"No\",J67=\"\"),\"\",VLOOKUP(I67,'Inhalation data'!A$3:S$24,IF(C67=\"Industrial\",16,17),FALSE))&IF(P67=\"\",\"\",IF(P67=\"70 (ventilation)\",WPG!F$383,IF(P67=\"30 (ventilation)\",Findandtranslate_WPG(P$40),IF(OR(D67=WPG!F$228,E67=WPG!F$228,F67=WPG!F$228),WPG!F$367,WPG!F$412)))))","v":""},{"$f":"IF(AND(AR$42=\"NO\",AP67=\"NO\"),\"\",IF(Q67=\"half mask\",WPG!F$465,IF(Q67=\"full face\",WPG!F$467&WPG!F$468,\"\"))&IF(AD67=\"gloves\",WPG!F$458,IF(AD67=\"gloves-basic training\",WPG!F$459,IF(AD67=\"gloves-specific training\",WPG!F$460,IF(AD67=\"gloves-intensive controls\",WPG!F$461,\"\"))))&IF(AD67=\"\",\"\",VLOOKUP(I67,'Inhalation data'!A$3:V$24,22,FALSE)))","v":""},{"$f":"IF(AND(AS$42=\"NO\",AP67=\"NO\"),\"\",IF(M67=\"<15 min\",WPG!F$360,IF(M67=\"1-4 hours\",WPG!F$362,IF(M67=\"15 min-1 hour\",WPG!F$361,\"\"))))","v":""},{"$f":"IF(OR(AND(AT$42=\"NO\",AP67=\"NO\"),BQ67>BP67),\"\",IF(L67=\"5-25%\",WPG!F$352,IF(L67=\"1-5%\",WPG!F$351,IF(L67=\"<1%\",WPG!F$350,\"\"))))","v":""},null,null,null,null,null,null,null,null,null,null,null,null,null,null,"",null,null,{"$f":"IF(ISERROR(VLOOKUP(I67,'Dermal data'!A$3:K$25,1,FALSE)),\"\",LEFT(VLOOKUP(I67,'Dermal data'!A$3:K$25,1,FALSE),2))","v":""},{"$f":"IF(ISERROR(VLOOKUP(I67,'Dermal data'!A$3:K$25,11,FALSE)),\"\",VLOOKUP(I67,'Dermal data'!A$3:K$25,11,FALSE))","v":""},{"$f":"IF(ISERROR(VLOOKUP(I67,'Dermal data'!A$3:L$25,12,FALSE)),\"\",VLOOKUP(I67,'Dermal data'!A$3:L$25,12,FALSE))","v":""},null,{"$f":"J$31","v":100},{"$f":"IF(K67=\"<1%\",1,IF(K67=\"1-5%\",5,IF(K67=\"5-25%\",25,100)))","v":100},""]
[null,null,"Industrial",null,null,null,null,"Liquid, vapour pressure 0.5 - 10 kPa at STP [OC4]. ",null,null,null,"",null,{"$f":"IF(AND(OR(I68=A$124,I68=A$133),E$8<0.01,J68=\"Yes\"),IF(B$8=\"YES\",MIN(0.1*E$10/24,BB$10),0.1*E$10/24),IF(I68=\"\",\"\",IF(B68=\"Vapour exposure\",IF(C68=\"Industrial\",VLOOKUP(I68,'Inhalation data'!A$3:I$24,IF(H68=WPG!F$339,2,IF(H68=WPG!F$338,3,5)),FALSE),VLOOKUP(I68,'Inhalation data'!A$3:I$24,IF(H68=WPG!F$339,6,IF(H68=WPG!F$338,7,9)),FALSE))*E$10/24,IF(C68=\"Industrial\",VLOOKUP(I68,'Inhalation data'!A$3:X$24,23,FALSE),VLOOKUP(I68,'Inhalation data'!A$3:X$24,24,FALSE)))))","v":""},{"$f":"IF(OR(I68=\"\",J68=\"No\",J68=\"\"),\"\",VLOOKUP(I68,'Inhalation data'!A$3:O$24,IF(C68=\"Industrial\",14,15),FALSE))","v":""},null,null,null,null,"",{"$f":"IF(I68=\"\",\"\",VLOOKUP(I68,'Inhalation data'!A$3:AS$24,45,FALSE))","v":""},0,"",null,null,null,{"$f":"IF(I68=\"\",\"\",VLOOKUP(I68,'Dermal data'!A$4:F$25,6,FALSE))","v":""},{"$f":"IF(I68=\"\",\"\",VLOOKUP(I68,'Dermal data'!A$4:F$25,5,FALSE)/1000)","v":""},{"$f":"IF(AND(J68=\"Yes\",B$9=\"YES\"),IF(C68=\"Industrial - SU3\",VLOOKUP(I68,'Dermal data'!A$4:G$25,7,),VLOOKUP(I68,'Dermal data'!A$4:H$25,8,)),\"\")","v":""},null,null,null,"",0,null,null,0,0,0,0,"",null,{"$f":"IF(AND(AQ$42=\"NO\",AP68=\"NO\"),\"\",IF(OR(J68=\"No\",J68=\"\"),\"\",VLOOKUP(I68,'Inhalation data'!A$3:S$24,IF(C68=\"Industrial\",16,17),FALSE))&IF(P68=\"\",\"\",IF(P68=\"70 (ventilation)\",WPG!F$383,IF(P68=\"30 (ventilation)\",Findandtranslate_WPG(P$40),IF(OR(D68=WPG!F$228,E68=WPG!F$228,F68=WPG!F$228),WPG!F$367,WPG!F$412)))))","v":""},{"$f":"IF(AND(AR$42=\"NO\",AP68=\"NO\"),\"\",IF(Q68=\"half mask\",WPG!F$465,IF(Q68=\"full face\",WPG!F$467&WPG!F$468,\"\"))&IF(AD68=\"gloves\",WPG!F$458,IF(AD68=\"gloves-basic training\",WPG!F$459,IF(AD68=\"gloves-specific training\",WPG!F$460,IF(AD68=\"gloves-intensive controls\",WPG!F$461,\"\"))))&IF(AD68=\"\",\"\",VLOOKUP(I68,'Inhalation data'!A$3:V$24,22,FALSE)))","v":""},{"$f":"IF(AND(AS$42=\"NO\",AP68=\"NO\"),\"\",IF(M68=\"<15 min\",WPG!F$360,IF(M68=\"1-4 hours\",WPG!F$362,IF(M68=\"15 min-1 hour\",WPG!F$361,\"\"))))","v":""},{"$f":"IF(OR(AND(AT$42=\"NO\",AP68=\"NO\"),BQ68>BP68),\"\",IF(L68=\"5-25%\",WPG!F$352,IF(L68=\"1-5%\",WPG!F$351,IF(L68=\"<1%\",WPG!F$350,\"\"))))","v":""},null,null,null,null,null,null,null,null,null,null,null,null,null,null,"",null,null,{"$f":"IF(ISERROR(VLOOKUP(I68,'Dermal data'!A$3:K$25,1,FALSE)),\"\",LEFT(VLOOKUP(I68,'Dermal data'!A$3:K$25,1,FALSE),2))","v":""},{"$f":"IF(ISERROR(VLOOKUP(I68,'Dermal data'!A$3:K$25,11,FALSE)),\"\",VLOOKUP(I68,'Dermal data'!A$3:K$25,11,FALSE))","v":""},{"$f":"IF(ISERROR(VLOOKUP(I68,'Dermal data'!A$3:L$25,12,FALSE)),\"\",VLOOKUP(I68,'Dermal data'!A$3:L$25,12,FALSE))","v":""},null,100,100,""]
[null,null,"Industrial",null,null,null,null,"Liquid, vapour pressure 0.5 - 10 kPa at STP [OC4]. ",null,null,null,"",null,{"$f":"IF(AND(OR(I69=A$124,I69=A$133),E$8<0.01,J69=\"Yes\"),IF(B$8=\"YES\",MIN(0.1*E$10/24,BB$10),0.1*E$10/24),IF(I69=\"\",\"\",IF(B69=\"Vapour exposure\",IF(C69=\"Industrial\",VLOOKUP(I69,'Inhalation data'!A$3:I$24,IF(H69=WPG!F$339,2,IF(H69=WPG!F$338,3,5)),FALSE),VLOOKUP(I69,'Inhalation data'!A$3:I$24,IF(H69=WPG!F$339,6,IF(H69=WPG!F$338,7,9)),FALSE))*E$10/24,IF(C69=\"Industrial\",VLOOKUP(I69,'Inhalation data'!A$3:X$24,23,FALSE),VLOOKUP(I69,'Inhalation data'!A$3:X$24,24,FALSE)))))","v":""},{"$f":"IF(OR(I69=\"\",J69=\"No\",J69=\"\"),\"\",VLOOKUP(I69,'Inhalation data'!A$3:O$24,IF(C69=\"Industrial\",14,15),FALSE))","v":""},null,null,null,null,"",{"$f":"IF(I69=\"\",\"\",VLOOKUP(I69,'Inhalation data'!A$3:AS$24,45,FALSE))","v":""},0,"",null,null,null,{"$f":"IF(I69=\"\",\"\",VLOOKUP(I69,'Dermal data'!A$4:F$25,6,FALSE))","v":""},{"$f":"IF(I69=\"\",\"\",VLOOKUP(I69,'Dermal data'!A$4:F$25,5,FALSE)/1000)","v":""},{"$f":"IF(AND(J69=\"Yes\",B$9=\"YES\"),IF(C69=\"Industrial - SU3\",VLOOKUP(I69,'Dermal data'!A$4:G$25,7,),VLOOKUP(I69,'Dermal data'!A$4:H$25,8,)),\"\")","v":""},null,null,null,"",0,null,null,0,0,0,0,"",null,{"$f":"IF(AND(AQ$42=\"NO\",AP69=\"NO\"),\"\",IF(OR(J69=\"No\",J69=\"\"),\"\",VLOOKUP(I69,'Inhalation data'!A$3:S$24,IF(C69=\"Industrial\",16,17),FALSE))&IF(P69=\"\",\"\",IF(P69=\"70 (ventilation)\",WPG!F$383,IF(P69=\"30 (ventilation)\",Findandtranslate_WPG(P$40),IF(OR(D69=WPG!F$228,E69=WPG!F$228,F69=WPG!F$228),WPG!F$367,WPG!F$412)))))","v":""},{"$f":"IF(AND(AR$42=\"NO\",AP69=\"NO\"),\"\",IF(Q69=\"half mask\",WPG!F$465,IF(Q69=\"full face\",WPG!F$467&WPG!F$468,\"\"))&IF(AD69=\"gloves\",WPG!F$458,IF(AD69=\"gloves-basic training\",WPG!F$459,IF(AD69=\"gloves-specific training\",WPG!F$460,IF(AD69=\"gloves-intensive controls\",WPG!F$461,\"\"))))&IF(AD69=\"\",\"\",VLOOKUP(I69,'Inhalation data'!A$3:V$24,22,FALSE)))","v":""},{"$f":"IF(AND(AS$42=\"NO\",AP69=\"NO\"),\"\",IF(M69=\"<15 min\",WPG!F$360,IF(M69=\"1-4 hours\",WPG!F$362,IF(M69=\"15 min-1 hour\",WPG!F$361,\"\"))))","v":""},{"$f":"IF(OR(AND(AT$42=\"NO\",AP69=\"NO\"),BQ69>BP69),\"\",IF(L69=\"5-25%\",WPG!F$352,IF(L69=\"1-5%\",WPG!F$351,IF(L69=\"<1%\",WPG!F$350,\"\"))))","v":""},null,null,null,null,null,null,null,null,null,null,null,null,null,null,"",null,null,{"$f":"IF(ISERROR(VLOOKUP(I69,'Dermal data'!A$3:K$25,1,FALSE)),\"\",LEFT(VLOOKUP(I69,'Dermal data'!A$3:K$25,1,FALSE),2))","v":""},{"$f":"IF(ISERROR(VLOOKUP(I69,'Dermal data'!A$3:K$25,11,FALSE)),\"\",VLOOKUP(I69,'Dermal data'!A$3:K$25,11,FALSE))","v":""},{"$f":"IF(ISERROR(VLOOKUP(I69,'Dermal data'!A$3:L$25,12,FALSE)),\"\",VLOOKUP(I69,'Dermal data'!A$3:L$25,12,FALSE))","v":""},null,100,100,""]
[null,null,"Industrial",null,null,null,null,"Liquid, vapour pressure 0.5 - 10 kPa at STP [OC4]. ",null,null,null,"",null,{"$f":"IF(AND(OR(I70=A$124,I70=A$133),E$8<0.01,J70=\"Yes\"),IF(B$8=\"YES\",MIN(0.1*E$10/24,BB$10),0.1*E$10/24),IF(I70=\"\",\"\",IF(B70=\"Vapour exposure\",IF(C70=\"Industrial\",VLOOKUP(I70,'Inhalation data'!A$3:I$24,IF(H70=WPG!F$339,2,IF(H70=WPG!F$338,3,5)),FALSE),VLOOKUP(I70,'Inhalation data'!A$3:I$24,IF(H70=WPG!F$339,6,IF(H70=WPG!F$338,7,9)),FALSE))*E$10/24,IF(C70=\"Industrial\",VLOOKUP(I70,'Inhalation data'!A$3:X$24,23,FALSE),VLOOKUP(I70,'Inhalation data'!A$3:X$24,24,FALSE)))))","v":""},{"$f":"IF(OR(I70=\"\",J70=\"No\",J70=\"\"),\"\",VLOOKUP(I70,'Inhalation data'!A$3:O$24,IF(C70=\"Industrial\",14,15),FALSE))","v":""},null,null,null,null,"",{"$f":"IF(I70=\"\",\"\",VLOOKUP(I70,'Inhalation data'!A$3:AS$24,45,FALSE))","v":""},0,"",null,null,null,{"$f":"IF(I70=\"\",\"\",VLOOKUP(I70,'Dermal data'!A$4:F$25,6,FALSE))","v":""},{"$f":"IF(I70=\"\",\"\",VLOOKUP(I70,'Dermal data'!A$4:F$25,5,FALSE)/1000)","v":""},{"$f":"IF(AND(J70=\"Yes\",B$9=\"YES\"),IF(C70=\"Industrial - SU3\",VLOOKUP(I70,'Dermal data'!A$4:G$25,7,),VLOOKUP(I70,'Dermal data'!A$4:H$25,8,)),\"\")","v":""},null,null,null,"",0,null,null,0,0,0,0,"",null,{"$f":"IF(AND(AQ$42=\"NO\",AP70=\"NO\"),\"\",IF(OR(J70=\"No\",J70=\"\"),\"\",VLOOKUP(I70,'Inhalation data'!A$3:S$24,IF(C70=\"Industrial\",16,17),FALSE))&IF(P70=\"\",\"\",IF(P70=\"70 (ventilation)\",WPG!F$383,IF(P70=\"30 (ventilation)\",Findandtranslate_WPG(P$40),IF(OR(D70=WPG!F$228,E70=WPG!F$228,F70=WPG!F$228),WPG!F$367,WPG!F$412)))))","v":""},{"$f":"IF(AND(AR$42=\"NO\",AP70=\"NO\"),\"\",IF(Q70=\"half mask\",WPG!F$465,IF(Q70=\"full face\",WPG!F$467&WPG!F$468,\"\"))&IF(AD70=\"gloves\",WPG!F$458,IF(AD70=\"gloves-basic training\",WPG!F$459,IF(AD70=\"gloves-specific training\",WPG!F$460,IF(AD70=\"gloves-intensive controls\",WPG!F$461,\"\"))))&IF(AD70=\"\",\"\",VLOOKUP(I70,'Inhalation data'!A$3:V$24,22,FALSE)))","v":""},{"$f":"IF(AND(AS$42=\"NO\",AP70=\"NO\"),\"\",IF(M70=\"<15 min\",WPG!F$360,IF(M70=\"1-4 hours\",WPG!F$362,IF(M70=\"15 min-1 hour\",WPG!F$361,\"\"))))","v":""},{"$f":"IF(OR(AND(AT$42=\"NO\",AP70=\"NO\"),BQ70>BP70),\"\",IF(L70=\"5-25%\",WPG!F$352,IF(L70=\"1-5%\",WPG!F$351,IF(L70=\"<1%\",WPG!F$350,\"\"))))","v":""},null,null,null,null,null,null,null,null,null,null,null,null,null,null,"",null,null,{"$f":"IF(ISERROR(VLOOKUP(I70,'Dermal data'!A$3:K$25,1,FALSE)),\"\",LEFT(VLOOKUP(I70,'Dermal data'!A$3:K$25,1,FALSE),2))","v":""},{"$f":"IF(ISERROR(VLOOKUP(I70,'Dermal data'!A$3:K$25,11,FALSE)),\"\",VLOOKUP(I70,'Dermal data'!A$3:K$25,11,FALSE))","v":""},{"$f":"IF(ISERROR(VLOOKUP(I70,'Dermal data'!A$3:L$25,12,FALSE)),\"\",VLOOKUP(I70,'Dermal data'!A$3:L$25,12,FALSE))","v":""},null,100,100,""]
[null,null,"Industrial",null,null,null,null,"Liquid, vapour pressure 0.5 - 10 kPa at STP [OC4]. ",null,null,null,"",null,{"$f":"IF(AND(OR(I71=A$124,I71=A$133),E$8<0.01,J71=\"Yes\"),IF(B$8=\"YES\",MIN(0.1*E$10/24,BB$10),0.1*E$10/24),IF(I71=\"\",\"\",IF(B71=\"Vapour exposure\",IF(C71=\"Industrial\",VLOOKUP(I71,'Inhalation data'!A$3:I$24,IF(H71=WPG!F$339,2,IF(H71=WPG!F$338,3,5)),FALSE),VLOOKUP(I71,'Inhalation data'!A$3:I$24,IF(H71=WPG!F$339,6,IF(H71=WPG!F$338,7,9)),FALSE))*E$10/24,IF(C71=\"Industrial\",VLOOKUP(I71,'Inhalation data'!A$3:X$24,23,FALSE),VLOOKUP(I71,'Inhalation data'!A$3:X$24,24,FALSE)))))","v":""},{"$f":"IF(OR(I71=\"\",J71=\"No\",J71=\"\"),\"\",VLOOKUP(I71,'Inhalation data'!A$3:O$24,IF(C71=\"Industrial\",14,15),FALSE))","v":""},null,null,null,null,"",{"$f":"IF(I71=\"\",\"\",VLOOKUP(I71,'Inhalation data'!A$3:AS$24,45,FALSE))","v":""},0,"",null,null,null,{"$f":"IF(I71=\"\",\"\",VLOOKUP(I71,'Dermal data'!A$4:F$25,6,FALSE))","v":""},{"$f":"IF(I71=\"\",\"\",VLOOKUP(I71,'Dermal data'!A$4:F$25,5,FALSE)/1000)","v":""},{"$f":"IF(AND(J71=\"Yes\",B$9=\"YES\"),IF(C71=\"Industrial - SU3\",VLOOKUP(I71,'Dermal data'!A$4:G$25,7,),VLOOKUP(I71,'Dermal data'!A$4:H$25,8,)),\"\")","v":""},null,null,null,"",0,null,null,0,0,0,0,"",null,{"$f":"IF(AND(AQ$42=\"NO\",AP71=\"NO\"),\"\",IF(OR(J71=\"No\",J71=\"\"),\"\",VLOOKUP(I71,'Inhalation data'!A$3:S$24,IF(C71=\"Industrial\",16,17),FALSE))&IF(P71=\"\",\"\",IF(P71=\"70 (ventilation)\",WPG!F$383,IF(P71=\"30 (ventilation)\",Findandtranslate_WPG(P$40),IF(OR(D71=WPG!F$228,E71=WPG!F$228,F71=WPG!F$228),WPG!F$367,WPG!F$412)))))","v":""},{"$f":"IF(AND(AR$42=\"NO\",AP71=\"NO\"),\"\",IF(Q71=\"half mask\",WPG!F$465,IF(Q71=\"full face\",WPG!F$467&WPG!F$468,\"\"))&IF(AD71=\"gloves\",WPG!F$458,IF(AD71=\"gloves-basic training\",WPG!F$459,IF(AD71=\"gloves-specific training\",WPG!F$460,IF(AD71=\"gloves-intensive controls\",WPG!F$461,\"\"))))&IF(AD71=\"\",\"\",VLOOKUP(I71,'Inhalation data'!A$3:V$24,22,FALSE)))","v":""},{"$f":"IF(AND(AS$42=\"NO\",AP71=\"NO\"),\"\",IF(M71=\"<15 min\",WPG!F$360,IF(M71=\"1-4 hours\",WPG!F$362,IF(M71=\"15 min-1 hour\",WPG!F$361,\"\"))))","v":""},{"$f":"IF(OR(AND(AT$42=\"NO\",AP71=\"NO\"),BQ71>BP71),\"\",IF(L71=\"5-25%\",WPG!F$352,IF(L71=\"1-5%\",WPG!F$351,IF(L71=\"<1%\",WPG!F$350,\"\"))))","v":""},null,null,null,null,null,null,null,null,null,null,null,null,null,null,"",null,null,{"$f":"IF(ISERROR(VLOOKUP(I71,'Dermal data'!A$3:K$25,1,FALSE)),\"\",LEFT(VLOOKUP(I71,'Dermal data'!A$3:K$25,1,FALSE),2))","v":""},{"$f":"IF(ISERROR(VLOOKUP(I71,'Dermal data'!A$3:K$25,11,FALSE)),\"\",VLOOKUP(I71,'Dermal data'!A$3:K$25,11,FALSE))","v":""},{"$f":"IF(ISERROR(VLOOKUP(I71,'Dermal data'!A$3:L$25,12,FALSE)),\"\",VLOOKUP(I71,'Dermal data'!A$3:L$25,12,FALSE))","v":""},null,100,100,""]
[null,null,"Industrial",null,null,null,null,{"$f":"IF(B72=\"Aerosol exposure\",\"not applicable for aerosols\",IF(G72=\"\",F$9,G72))","v":"Liquid, vapour pressure 0.5 - 10 kPa at STP [OC4]. "},null,null,null,{"$f":"IF(BR72=25,\"5-25%\",IF(BR72=5,\"1-5%\",IF(BR72=1,\"<1%\",\"\")))","v":""},null,{"$f":"IF(AND(OR(I72=A$124,I72=A$133),E$8<0.01,J72=\"Yes\"),IF(B$8=\"YES\",MIN(0.1*E$10/24,BB$10),0.1*E$10/24),IF(I72=\"\",\"\",IF(B72=\"Vapour exposure\",IF(C72=\"Industrial\",VLOOKUP(I72,'Inhalation data'!A$3:I$24,IF(H72=WPG!F$339,2,IF(H72=WPG!F$338,3,5)),FALSE),VLOOKUP(I72,'Inhalation data'!A$3:I$24,IF(H72=WPG!F$339,6,IF(H72=WPG!F$338,7,9)),FALSE))*E$10/24,IF(C72=\"Industrial\",VLOOKUP(I72,'Inhalation data'!A$3:X$24,23,FALSE),VLOOKUP(I72,'Inhalation data'!A$3:X$24,24,FALSE)))))","v":""},{"$f":"IF(OR(I72=\"\",J72=\"No\",J72=\"\"),\"\",VLOOKUP(I72,'Inhalation data'!A$3:O$24,IF(C72=\"Industrial\",14,15),FALSE))","v":""},null,null,null,null,"",{"$f":"IF(I72=\"\",\"\",VLOOKUP(I72,'Inhalation data'!A$3:AS$24,45,FALSE))","v":""},{"$f":"IF(N72=\"\",0,N72*(100-IF(P72=\"\",0,IF(P72=\"70 (ventilation)\",70,30)))/100*(IF(L72=\">25%\",1,(IF(L72=\"5-25%\",0.6,(IF(L72=\"1-5%\",0.2,(IF(L72=\"<1%\",0.1,1))))))))*IF(M72=\"\",1,(IF(M72=\">4 hours\",1,(IF(M72=\"1-4 hours\",0.6,(IF(M72=\"15 min-1 hour\",0.2,0.1)))))))*IF(R72=\"\",1,R72))*IF(Q72=\"half mask\",0.1,(IF(Q72=\"full face\",0.05,1)))*(100-IF(O72=\"\",0,O72))/100","v":0},"",null,null,null,{"$f":"IF(I72=\"\",\"\",VLOOKUP(I72,'Dermal data'!A$4:F$25,6,FALSE))","v":""},{"$f":"IF(I72=\"\",\"\",VLOOKUP(I72,'Dermal data'!A$4:F$25,5,FALSE)/1000)","v":""},{"$f":"IF(AND(J72=\"Yes\",B$9=\"YES\"),IF(C72=\"Industrial - SU3\",VLOOKUP(I72,'Dermal data'!A$4:G$25,7,),VLOOKUP(I72,'Dermal data'!A$4:H$25,8,)),\"\")","v":""},null,null,null,{"$f":"IF(AND(AD72=\"gloves-intensive controls\",C72=\"Professional - SU22\"),\"Intensive glove controls cannot usually be operated in a professional environment\",\"\")","v":""},{"$f":"IF(AA72=\"\",0,AA72*(IF(AC72=\"\",1,AC72))*(IF(L72=\">25%\",1,(IF(L72=\"5-25%\",0.6,(IF(L72=\"1-5%\",0.2,(IF(L72=\"<1%\",0.1,1))))))))*(IF(AD72=\"gloves\",0.2,(IF(AD72=\"gloves-basic training\",0.1,(IF(AD72=\"gloves-specific training\",0.05,(IF(AD72=\"gloves-intensive controls\",0.02,1))))))))*(IF(AE72=\"\",1,AE72))*IF(E$8<500,1,IF(OR(M72=\">4 hours\",M72=\"\"),1,IF(M72=\"1-4 hours\",0.6,IF(M72=\"15 min-1 hour\",0.2,0.1)))))","v":0},null,null,{"$f":"IF(OR($E$14=\"\",$E$14=0,W72=\"\"),0,IF(Y72=\"\",W72,Y72)/$E$14)","v":0},{"$f":"IF(B72=\"Vapour exposure\",IF(OR(ISBLANK($E$13),$E$13=0,ISBLANK(V72)),0,IF(X72=\"\",V72,X72)/E$13),IF(OR(ISBLANK($E$15),$E$15=0,ISBLANK(V72)),0,IF(X72=\"\",V72,X72)/E$15))","v":0},{"$f":"IF(OR($E$16=\"\",$E$16=0),0,IF(AI72=\"\",AH72,AI72)/$E$16)","v":0},{"$f":"AL72+AM72","v":0},"",null,{"$f":"IF(AND(AQ$42=\"NO\",AP72=\"NO\"),\"\",IF(OR(J72=\"No\",J72=\"\"),\"\",VLOOKUP(I72,'Inhalation data'!A$3:S$24,IF(C72=\"Industrial\",16,17),FALSE))&IF(P72=\"\",\"\",IF(P72=\"70 (ventilation)\",WPG!F$383,IF(P72=\"30 (ventilation)\",Findandtranslate_WPG(P$40),IF(OR(D72=WPG!F$228,E72=WPG!F$228,F72=WPG!F$228),WPG!F$367,WPG!F$412)))))","v":""},{"$f":"IF(AND(AR$42=\"NO\",AP72=\"NO\"),\"\",IF(Q72=\"half mask\",WPG!F$465,IF(Q72=\"full face\",WPG!F$467&WPG!F$468,\"\"))&IF(AD72=\"gloves\",WPG!F$458,IF(AD72=\"gloves-basic training\",WPG!F$459,IF(AD72=\"gloves-specific training\",WPG!F$460,IF(AD72=\"gloves-intensive controls\",WPG!F$461,\"\"))))&IF(AD72=\"\",\"\",VLOOKUP(I72,'Inhalation data'!A$3:V$24,22,FALSE)))","v":""},{"$f":"IF(AND(AS$42=\"NO\",AP72=\"NO\"),\"\",IF(M72=\"<15 min\",WPG!F$360,IF(M72=\"1-4 hours\",WPG!F$362,IF(M72=\"15 min-1 hour\",WPG!F$361,\"\"))))","v":""},{"$f":"IF(OR(AND(AT$42=\"NO\",AP72=\"NO\"),BQ72>BP72),\"\",IF(L72=\"5-25%\",WPG!F$352,IF(L72=\"1-5%\",WPG!F$351,IF(L72=\"<1%\",WPG!F$350,\"\"))))","v":""},null,null,null,null,null,null,null,null,null,null,null,null,null,null,null,null,null,{"$f":"IF(ISERROR(VLOOKUP(I72,'Dermal data'!A$3:K$25,1,FALSE)),\"\",LEFT(VLOOKUP(I72,'Dermal data'!A$3:K$25,1,FALSE),2))","v":""},{"$f":"IF(ISERROR(VLOOKUP(I72,'Dermal data'!A$3:K$25,11,FALSE)),\"\",VLOOKUP(I72,'Dermal data'!A$3:K$25,11,FALSE))","v":""},{"$f":"IF(ISERROR(VLOOKUP(I72,'Dermal data'!A$3:L$25,12,FALSE)),\"\",VLOOKUP(I72,'Dermal data'!A$3:L$25,12,FALSE))","v":""},null,{"$f":"J$31","v":100},{"$f":"IF(K72=\"<1%\",1,IF(K72=\"1-5%\",5,IF(K72=\"5-25%\",25,100)))","v":100},""]
[null,null,"Industrial",null,null,null,null,"Liquid, vapour pressure 0.5 - 10 kPa at STP [OC4]. ",null,null,null,"",null,{"$f":"IF(AND(OR(I73=A$124,I73=A$133),E$8<0.01,J73=\"Yes\"),IF(B$8=\"YES\",MIN(0.1*E$10/24,BB$10),0.1*E$10/24),IF(I73=\"\",\"\",IF(B73=\"Vapour exposure\",IF(C73=\"Industrial\",VLOOKUP(I73,'Inhalation data'!A$3:I$24,IF(H73=WPG!F$339,2,IF(H73=WPG!F$338,3,5)),FALSE),VLOOKUP(I73,'Inhalation data'!A$3:I$24,IF(H73=WPG!F$339,6,IF(H73=WPG!F$338,7,9)),FALSE))*E$10/24,IF(C73=\"Industrial\",VLOOKUP(I73,'Inhalation data'!A$3:X$24,23,FALSE),VLOOKUP(I73,'Inhalation data'!A$3:X$24,24,FALSE)))))","v":""},{"$f":"IF(OR(I73=\"\",J73=\"No\",J73=\"\"),\"\",VLOOKUP(I73,'Inhalation data'!A$3:O$24,IF(C73=\"Industrial\",14,15),FALSE))","v":""},null,null,null,null,"",{"$f":"IF(I73=\"\",\"\",VLOOKUP(I73,'Inhalation data'!A$3:AS$24,45,FALSE))","v":""},0,"",null,null,null,{"$f":"IF(I73=\"\",\"\",VLOOKUP(I73,'Dermal data'!A$4:F$25,6,FALSE))","v":""},{"$f":"IF(I73=\"\",\"\",VLOOKUP(I73,'Dermal data'!A$4:F$25,5,FALSE)/1000)","v":""},{"$f":"IF(AND(J73=\"Yes\",B$9=\"YES\"),IF(C73=\"Industrial - SU3\",VLOOKUP(I73,'Dermal data'!A$4:G$25,7,),VLOOKUP(I73,'Dermal data'!A$4:H$25,8,)),\"\")","v":""},null,null,null,"",0,null,null,0,0,0,0,"","YES",{"$f":"IF(AND(AQ$42=\"NO\",AP73=\"NO\"),\"\",IF(OR(J73=\"No\",J73=\"\"),\"\",VLOOKUP(I73,'Inhalation data'!A$3:S$24,IF(C73=\"Industrial\",16,17),FALSE))&IF(P73=\"\",\"\",IF(P73=\"70 (ventilation)\",WPG!F$383,IF(P73=\"30 (ventilation)\",Findandtranslate_WPG(P$40),IF(OR(D73=WPG!F$228,E73=WPG!F$228,F73=WPG!F$228),WPG!F$367,WPG!F$412)))))","v":""},{"$f":"IF(AND(AR$42=\"NO\",AP73=\"NO\"),\"\",IF(Q73=\"half mask\",WPG!F$465,IF(Q73=\"full face\",WPG!F$467&WPG!F$468,\"\"))&IF(AD73=\"gloves\",WPG!F$458,IF(AD73=\"gloves-basic training\",WPG!F$459,IF(AD73=\"gloves-specific training\",WPG!F$460,IF(AD73=\"gloves-intensive controls\",WPG!F$461,\"\"))))&IF(AD73=\"\",\"\",VLOOKUP(I73,'Inhalation data'!A$3:V$24,22,FALSE)))","v":""},{"$f":"IF(AND(AS$42=\"NO\",AP73=\"NO\"),\"\",IF(M73=\"<15 min\",WPG!F$360,IF(M73=\"1-4 hours\",WPG!F$362,IF(M73=\"15 min-1 hour\",WPG!F$361,\"\"))))","v":""},{"$f":"IF(OR(AND(AT$42=\"NO\",AP73=\"NO\"),BQ73>BP73),\"\",IF(L73=\"5-25%\",WPG!F$352,IF(L73=\"1-5%\",WPG!F$351,IF(L73=\"<1%\",WPG!F$350,\"\"))))","v":""},null,null,null,null,null,null,null,null,null,null,null,null,null,null,null,null,null,{"$f":"IF(ISERROR(VLOOKUP(I73,'Dermal data'!A$3:K$25,1,FALSE)),\"\",LEFT(VLOOKUP(I73,'Dermal data'!A$3:K$25,1,FALSE),2))","v":""},{"$f":"IF(ISERROR(VLOOKUP(I73,'Dermal data'!A$3:K$25,11,FALSE)),\"\",VLOOKUP(I73,'Dermal data'!A$3:K$25,11,FALSE))","v":""},{"$f":"IF(ISERROR(VLOOKUP(I73,'Dermal data'!A$3:L$25,12,FALSE)),\"\",VLOOKUP(I73,'Dermal data'!A$3:L$25,12,FALSE))","v":""},null,100,100,""]
[null,null,"Industrial",null,null,null,null,"Liquid, vapour pressure 0.5 - 10 kPa at STP [OC4]. ",null,null,null,"",null,{"$f":"IF(AND(OR(I74=A$124,I74=A$133),E$8<0.01,J74=\"Yes\"),IF(B$8=\"YES\",MIN(0.1*E$10/24,BB$10),0.1*E$10/24),IF(I74=\"\",\"\",IF(B74=\"Vapour exposure\",IF(C74=\"Industrial\",VLOOKUP(I74,'Inhalation data'!A$3:I$24,IF(H74=WPG!F$339,2,IF(H74=WPG!F$338,3,5)),FALSE),VLOOKUP(I74,'Inhalation data'!A$3:I$24,IF(H74=WPG!F$339,6,IF(H74=WPG!F$338,7,9)),FALSE))*E$10/24,IF(C74=\"Industrial\",VLOOKUP(I74,'Inhalation data'!A$3:X$24,23,FALSE),VLOOKUP(I74,'Inhalation data'!A$3:X$24,24,FALSE)))))","v":""},{"$f":"IF(OR(I74=\"\",J74=\"No\",J74=\"\"),\"\",VLOOKUP(I74,'Inhalation data'!A$3:O$24,IF(C74=\"Industrial\",14,15),FALSE))","v":""},null,null,null,null,"",{"$f":"IF(I74=\"\",\"\",VLOOKUP(I74,'Inhalation data'!A$3:AS$24,45,FALSE))","v":""},0,"",null,null,null,{"$f":"IF(I74=\"\",\"\",VLOOKUP(I74,'Dermal data'!A$4:F$25,6,FALSE))","v":""},{"$f":"IF(I74=\"\",\"\",VLOOKUP(I74,'Dermal data'!A$4:F$25,5,FALSE)/1000)","v":""},{"$f":"IF(AND(J74=\"Yes\",B$9=\"YES\"),IF(C74=\"Industrial - SU3\",VLOOKUP(I74,'Dermal data'!A$4:G$25,7,),VLOOKUP(I74,'Dermal data'!A$4:H$25,8,)),\"\")","v":""},null,null,null,"",0,null,null,0,0,0,0,"","YES",{"$f":"IF(AND(AQ$42=\"NO\",AP74=\"NO\"),\"\",IF(OR(J74=\"No\",J74=\"\"),\"\",VLOOKUP(I74,'Inhalation data'!A$3:S$24,IF(C74=\"Industrial\",16,17),FALSE))&IF(P74=\"\",\"\",IF(P74=\"70 (ventilation)\",WPG!F$383,IF(P74=\"30 (ventilation)\",Findandtranslate_WPG(P$40),IF(OR(D74=WPG!F$228,E74=WPG!F$228,F74=WPG!F$228),WPG!F$367,WPG!F$412)))))","v":""},{"$f":"IF(AND(AR$42=\"NO\",AP74=\"NO\"),\"\",IF(Q74=\"half mask\",WPG!F$465,IF(Q74=\"full face\",WPG!F$467&WPG!F$468,\"\"))&IF(AD74=\"gloves\",WPG!F$458,IF(AD74=\"gloves-basic training\",WPG!F$459,IF(AD74=\"gloves-specific training\",WPG!F$460,IF(AD74=\"gloves-intensive controls\",WPG!F$461,\"\"))))&IF(AD74=\"\",\"\",VLOOKUP(I74,'Inhalation data'!A$3:V$24,22,FALSE)))","v":""},{"$f":"IF(AND(AS$42=\"NO\",AP74=\"NO\"),\"\",IF(M74=\"<15 min\",WPG!F$360,IF(M74=\"1-4 hours\",WPG!F$362,IF(M74=\"15 min-1 hour\",WPG!F$361,\"\"))))","v":""},{"$f":"IF(OR(AND(AT$42=\"NO\",AP74=\"NO\"),BQ74>BP74),\"\",IF(L74=\"5-25%\",WPG!F$352,IF(L74=\"1-5%\",WPG!F$351,IF(L74=\"<1%\",WPG!F$350,\"\"))))","v":""},null,null,null,null,null,null,null,null,null,null,null,null,null,null,null,null,null,{"$f":"IF(ISERROR(VLOOKUP(I74,'Dermal data'!A$3:K$25,1,FALSE)),\"\",LEFT(VLOOKUP(I74,'Dermal data'!A$3:K$25,1,FALSE),2))","v":""},{"$f":"IF(ISERROR(VLOOKUP(I74,'Dermal data'!A$3:K$25,11,FALSE)),\"\",VLOOKUP(I74,'Dermal data'!A$3:K$25,11,FALSE))","v":""},{"$f":"IF(ISERROR(VLOOKUP(I74,'Dermal data'!A$3:L$25,12,FALSE)),\"\",VLOOKUP(I74,'Dermal data'!A$3:L$25,12,FALSE))","v":""},null,100,100,""]
[null,null,"Industrial",null,null,null,null,"Liquid, vapour pressure 0.5 - 10 kPa at STP [OC4]. ",null,null,null,"",null,{"$f":"IF(AND(OR(I75=A$124,I75=A$133),E$8<0.01,J75=\"Yes\"),IF(B$8=\"YES\",MIN(0.1*E$10/24,BB$10),0.1*E$10/24),IF(I75=\"\",\"\",IF(B75=\"Vapour exposure\",IF(C75=\"Industrial\",VLOOKUP(I75,'Inhalation data'!A$3:I$24,IF(H75=WPG!F$339,2,IF(H75=WPG!F$338,3,5)),FALSE),VLOOKUP(I75,'Inhalation data'!A$3:I$24,IF(H75=WPG!F$339,6,IF(H75=WPG!F$338,7,9)),FALSE))*E$10/24,IF(C75=\"Industrial\",VLOOKUP(I75,'Inhalation data'!A$3:X$24,23,FALSE),VLOOKUP(I75,'Inhalation data'!A$3:X$24,24,FALSE)))))","v":""},{"$f":"IF(OR(I75=\"\",J75=\"No\",J75=\"\"),\"\",VLOOKUP(I75,'Inhalation data'!A$3:O$24,IF(C75=\"Industrial\",14,15),FALSE))","v":""},null,null,null,null,"",{"$f":"IF(I75=\"\",\"\",VLOOKUP(I75,'Inhalation data'!A$3:AS$24,45,FALSE))","v":""},0,"",null,null,null,{"$f":"IF(I75=\"\",\"\",VLOOKUP(I75,'Dermal data'!A$4:F$25,6,FALSE))","v":""},{"$f":"IF(I75=\"\",\"\",VLOOKUP(I75,'Dermal data'!A$4:F$25,5,FALSE)/1000)","v":""},{"$f":"IF(AND(J75=\"Yes\",B$9=\"YES\"),IF(C75=\"Industrial - SU3\",VLOOKUP(I75,'Dermal data'!A$4:G$25,7,),VLOOKUP(I75,'Dermal data'!A$4:H$25,8,)),\"\")","v":""},null,null,null,"",0,null,null,0,0,0,0,"","YES",{"$f":"IF(AND(AQ$42=\"NO\",AP75=\"NO\"),\"\",IF(OR(J75=\"No\",J75=\"\"),\"\",VLOOKUP(I75,'Inhalation data'!A$3:S$24,IF(C75=\"Industrial\",16,17),FALSE))&IF(P75=\"\",\"\",IF(P75=\"70 (ventilation)\",WPG!F$383,IF(P75=\"30 (ventilation)\",Findandtranslate_WPG(P$40),IF(OR(D75=WPG!F$228,E75=WPG!F$228,F75=WPG!F$228),WPG!F$367,WPG!F$412)))))","v":""},{"$f":"IF(AND(AR$42=\"NO\",AP75=\"NO\"),\"\",IF(Q75=\"half mask\",WPG!F$465,IF(Q75=\"full face\",WPG!F$467&WPG!F$468,\"\"))&IF(AD75=\"gloves\",WPG!F$458,IF(AD75=\"gloves-basic training\",WPG!F$459,IF(AD75=\"gloves-specific training\",WPG!F$460,IF(AD75=\"gloves-intensive controls\",WPG!F$461,\"\"))))&IF(AD75=\"\",\"\",VLOOKUP(I75,'Inhalation data'!A$3:V$24,22,FALSE)))","v":""},{"$f":"IF(AND(AS$42=\"NO\",AP75=\"NO\"),\"\",IF(M75=\"<15 min\",WPG!F$360,IF(M75=\"1-4 hours\",WPG!F$362,IF(M75=\"15 min-1 hour\",WPG!F$361,\"\"))))","v":""},{"$f":"IF(OR(AND(AT$42=\"NO\",AP75=\"NO\"),BQ75>BP75),\"\",IF(L75=\"5-25%\",WPG!F$352,IF(L75=\"1-5%\",WPG!F$351,IF(L75=\"<1%\",WPG!F$350,\"\"))))","v":""},null,null,null,null,null,null,null,null,null,null,null,null,null,null,null,null,null,{"$f":"IF(ISERROR(VLOOKUP(I75,'Dermal data'!A$3:K$25,1,FALSE)),\"\",LEFT(VLOOKUP(I75,'Dermal data'!A$3:K$25,1,FALSE),2))","v":""},{"$f":"IF(ISERROR(VLOOKUP(I75,'Dermal data'!A$3:K$25,11,FALSE)),\"\",VLOOKUP(I75,'Dermal data'!A$3:K$25,11,FALSE))","v":""},{"$f":"IF(ISERROR(VLOOKUP(I75,'Dermal data'!A$3:L$25,12,FALSE)),\"\",VLOOKUP(I75,'Dermal data'!A$3:L$25,12,FALSE))","v":""},null,100,100,""]
[null,null,"Industrial",null,null,null,null,"Liquid, vapour pressure 0.5 - 10 kPa at STP [OC4]. ",null,null,null,"",null,{"$f":"IF(AND(OR(I76=A$124,I76=A$133),E$8<0.01,J76=\"Yes\"),IF(B$8=\"YES\",MIN(0.1*E$10/24,BB$10),0.1*E$10/24),IF(I76=\"\",\"\",IF(B76=\"Vapour exposure\",IF(C76=\"Industrial\",VLOOKUP(I76,'Inhalation data'!A$3:I$24,IF(H76=WPG!F$339,2,IF(H76=WPG!F$338,3,5)),FALSE),VLOOKUP(I76,'Inhalation data'!A$3:I$24,IF(H76=WPG!F$339,6,IF(H76=WPG!F$338,7,9)),FALSE))*E$10/24,IF(C76=\"Industrial\",VLOOKUP(I76,'Inhalation data'!A$3:X$24,23,FALSE),VLOOKUP(I76,'Inhalation data'!A$3:X$24,24,FALSE)))))","v":""},{"$f":"IF(OR(I76=\"\",J76=\"No\",J76=\"\"),\"\",VLOOKUP(I76,'Inhalation data'!A$3:O$24,IF(C76=\"Industrial\",14,15),FALSE))","v":""},null,null,null,null,"",{"$f":"IF(I76=\"\",\"\",VLOOKUP(I76,'Inhalation data'!A$3:AS$24,45,FALSE))","v":""},0,"",null,null,null,{"$f":"IF(I76=\"\",\"\",VLOOKUP(I76,'Dermal data'!A$4:F$25,6,FALSE))","v":""},{"$f":"IF(I76=\"\",\"\",VLOOKUP(I76,'Dermal data'!A$4:F$25,5,FALSE)/1000)","v":""},{"$f":"IF(AND(J76=\"Yes\",B$9=\"YES\"),IF(C76=\"Industrial - SU3\",VLOOKUP(I76,'Dermal data'!A$4:G$25,7,),VLOOKUP(I76,'Dermal data'!A$4:H$25,8,)),\"\")","v":""},null,null,null,"",0,null,null,0,0,0,0,"","YES",{"$f":"IF(AND(AQ$42=\"NO\",AP76=\"NO\"),\"\",IF(OR(J76=\"No\",J76=\"\"),\"\",VLOOKUP(I76,'Inhalation data'!A$3:S$24,IF(C76=\"Industrial\",16,17),FALSE))&IF(P76=\"\",\"\",IF(P76=\"70 (ventilation)\",WPG!F$383,IF(P76=\"30 (ventilation)\",Findandtranslate_WPG(P$40),IF(OR(D76=WPG!F$228,E76=WPG!F$228,F76=WPG!F$228),WPG!F$367,WPG!F$412)))))","v":""},{"$f":"IF(AND(AR$42=\"NO\",AP76=\"NO\"),\"\",IF(Q76=\"half mask\",WPG!F$465,IF(Q76=\"full face\",WPG!F$467&WPG!F$468,\"\"))&IF(AD76=\"gloves\",WPG!F$458,IF(AD76=\"gloves-basic training\",WPG!F$459,IF(AD76=\"gloves-specific training\",WPG!F$460,IF(AD76=\"gloves-intensive controls\",WPG!F$461,\"\"))))&IF(AD76=\"\",\"\",VLOOKUP(I76,'Inhalation data'!A$3:V$24,22,FALSE)))","v":""},{"$f":"IF(AND(AS$42=\"NO\",AP76=\"NO\"),\"\",IF(M76=\"<15 min\",WPG!F$360,IF(M76=\"1-4 hours\",WPG!F$362,IF(M76=\"15 min-1 hour\",WPG!F$361,\"\"))))","v":""},{"$f":"IF(OR(AND(AT$42=\"NO\",AP76=\"NO\"),BQ76>BP76),\"\",IF(L76=\"5-25%\",WPG!F$352,IF(L76=\"1-5%\",WPG!F$351,IF(L76=\"<1%\",WPG!F$350,\"\"))))","v":""},null,null,null,null,null,null,null,null,null,null,null,null,null,null,null,null,null,{"$f":"IF(ISERROR(VLOOKUP(I76,'Dermal data'!A$3:K$25,1,FALSE)),\"\",LEFT(VLOOKUP(I76,'Dermal data'!A$3:K$25,1,FALSE),2))","v":""},{"$f":"IF(ISERROR(VLOOKUP(I76,'Dermal data'!A$3:K$25,11,FALSE)),\"\",VLOOKUP(I76,'Dermal data'!A$3:K$25,11,FALSE))","v":""},{"$f":"IF(ISERROR(VLOOKUP(I76,'Dermal data'!A$3:L$25,12,FALSE)),\"\",VLOOKUP(I76,'Dermal data'!A$3:L$25,12,FALSE))","v":""},null,100,100,""]
[null,null,"Industrial",null,null,null,null,"Liquid, vapour pressure 0.5 - 10 kPa at STP [OC4]. ",null,null,null,"",null,{"$f":"IF(AND(OR(I77=A$124,I77=A$133),E$8<0.01,J77=\"Yes\"),IF(B$8=\"YES\",MIN(0.1*E$10/24,BB$10),0.1*E$10/24),IF(I77=\"\",\"\",IF(B77=\"Vapour exposure\",IF(C77=\"Industrial\",VLOOKUP(I77,'Inhalation data'!A$3:I$24,IF(H77=WPG!F$339,2,IF(H77=WPG!F$338,3,5)),FALSE),VLOOKUP(I77,'Inhalation data'!A$3:I$24,IF(H77=WPG!F$339,6,IF(H77=WPG!F$338,7,9)),FALSE))*E$10/24,IF(C77=\"Industrial\",VLOOKUP(I77,'Inhalation data'!A$3:X$24,23,FALSE),VLOOKUP(I77,'Inhalation data'!A$3:X$24,24,FALSE)))))","v":""},{"$f":"IF(OR(I77=\"\",J77=\"No\",J77=\"\"),\"\",VLOOKUP(I77,'Inhalation data'!A$3:O$24,IF(C77=\"Industrial\",14,15),FALSE))","v":""},null,null,null,null,"",{"$f":"IF(I77=\"\",\"\",VLOOKUP(I77,'Inhalation data'!A$3:AS$24,45,FALSE))","v":""},0,"",null,null,null,{"$f":"IF(I77=\"\",\"\",VLOOKUP(I77,'Dermal data'!A$4:F$25,6,FALSE))","v":""},{"$f":"IF(I77=\"\",\"\",VLOOKUP(I77,'Dermal data'!A$4:F$25,5,FALSE)/1000)","v":""},{"$f":"IF(AND(J77=\"Yes\",B$9=\"YES\"),IF(C77=\"Industrial - SU3\",VLOOKUP(I77,'Dermal data'!A$4:G$25,7,),VLOOKUP(I77,'Dermal data'!A$4:H$25,8,)),\"\")","v":""},null,null,null,"",0,null,null,0,0,0,0,"","YES",{"$f":"IF(AND(AQ$42=\"NO\",AP77=\"NO\"),\"\",IF(OR(J77=\"No\",J77=\"\"),\"\",VLOOKUP(I77,'Inhalation data'!A$3:S$24,IF(C77=\"Industrial\",16,17),FALSE))&IF(P77=\"\",\"\",IF(P77=\"70 (ventilation)\",WPG!F$383,IF(P77=\"30 (ventilation)\",Findandtranslate_WPG(P$40),IF(OR(D77=WPG!F$228,E77=WPG!F$228,F77=WPG!F$228),WPG!F$367,WPG!F$412)))))","v":""},{"$f":"IF(AND(AR$42=\"NO\",AP77=\"NO\"),\"\",IF(Q77=\"half mask\",WPG!F$465,IF(Q77=\"full face\",WPG!F$467&WPG!F$468,\"\"))&IF(AD77=\"gloves\",WPG!F$458,IF(AD77=\"gloves-basic training\",WPG!F$459,IF(AD77=\"gloves-specific training\",WPG!F$460,IF(AD77=\"gloves-intensive controls\",WPG!F$461,\"\"))))&IF(AD77=\"\",\"\",VLOOKUP(I77,'Inhalation data'!A$3:V$24,22,FALSE)))","v":""},{"$f":"IF(AND(AS$42=\"NO\",AP77=\"NO\"),\"\",IF(M77=\"<15 min\",WPG!F$360,IF(M77=\"1-4 hours\",WPG!F$362,IF(M77=\"15 min-1 hour\",WPG!F$361,\"\"))))","v":""},{"$f":"IF(OR(AND(AT$42=\"NO\",AP77=\"NO\"),BQ77>BP77),\"\",IF(L77=\"5-25%\",WPG!F$352,IF(L77=\"1-5%\",WPG!F$351,IF(L77=\"<1%\",WPG!F$350,\"\"))))","v":""},null,null,null,null,null,null,null,null,null,null,null,null,null,null,null,null,null,{"$f":"IF(ISERROR(VLOOKUP(I77,'Dermal data'!A$3:K$25,1,FALSE)),\"\",LEFT(VLOOKUP(I77,'Dermal data'!A$3:K$25,1,FALSE),2))","v":""},{"$f":"IF(ISERROR(VLOOKUP(I77,'Dermal data'!A$3:K$25,11,FALSE)),\"\",VLOOKUP(I77,'Dermal data'!A$3:K$25,11,FALSE))","v":""},{"$f":"IF(ISERROR(VLOOKUP(I77,'Dermal data'!A$3:L$25,12,FALSE)),\"\",VLOOKUP(I77,'Dermal data'!A$3:L$25,12,FALSE))","v":""},null,100,100,""]
[null,null,"Industrial",null,null,null,null,"Liquid, vapour pressure 0.5 - 10 kPa at STP [OC4]. ",null,null,null,"",null,{"$f":"IF(AND(OR(I78=A$124,I78=A$133),E$8<0.01,J78=\"Yes\"),IF(B$8=\"YES\",MIN(0.1*E$10/24,BB$10),0.1*E$10/24),IF(I78=\"\",\"\",IF(B78=\"Vapour exposure\",IF(C78=\"Industrial\",VLOOKUP(I78,'Inhalation data'!A$3:I$24,IF(H78=WPG!F$339,2,IF(H78=WPG!F$338,3,5)),FALSE),VLOOKUP(I78,'Inhalation data'!A$3:I$24,IF(H78=WPG!F$339,6,IF(H78=WPG!F$338,7,9)),FALSE))*E$10/24,IF(C78=\"Industrial\",VLOOKUP(I78,'Inhalation data'!A$3:X$24,23,FALSE),VLOOKUP(I78,'Inhalation data'!A$3:X$24,24,FALSE)))))","v":""},{"$f":"IF(OR(I78=\"\",J78=\"No\",J78=\"\"),\"\",VLOOKUP(I78,'Inhalation data'!A$3:O$24,IF(C78=\"Industrial\",14,15),FALSE))","v":""},null,null,null,null,"",{"$f":"IF(I78=\"\",\"\",VLOOKUP(I78,'Inhalation data'!A$3:AS$24,45,FALSE))","v":""},0,"",null,null,null,{"$f":"IF(I78=\"\",\"\",VLOOKUP(I78,'Dermal data'!A$4:F$25,6,FALSE))","v":""},{"$f":"IF(I78=\"\",\"\",VLOOKUP(I78,'Dermal data'!A$4:F$25,5,FALSE)/1000)","v":""},{"$f":"IF(AND(J78=\"Yes\",B$9=\"YES\"),IF(C78=\"Industrial - SU3\",VLOOKUP(I78,'Dermal data'!A$4:G$25,7,),VLOOKUP(I78,'Dermal data'!A$4:H$25,8,)),\"\")","v":""},null,null,null,"",0,null,null,0,0,0,0,"","YES",{"$f":"IF(AND(AQ$42=\"NO\",AP78=\"NO\"),\"\",IF(OR(J78=\"No\",J78=\"\"),\"\",VLOOKUP(I78,'Inhalation data'!A$3:S$24,IF(C78=\"Industrial\",16,17),FALSE))&IF(P78=\"\",\"\",IF(P78=\"70 (ventilation)\",WPG!F$383,IF(P78=\"30 (ventilation)\",Findandtranslate_WPG(P$40),IF(OR(D78=WPG!F$228,E78=WPG!F$228,F78=WPG!F$228),WPG!F$367,WPG!F$412)))))","v":""},{"$f":"IF(AND(AR$42=\"NO\",AP78=\"NO\"),\"\",IF(Q78=\"half mask\",WPG!F$465,IF(Q78=\"full face\",WPG!F$467&WPG!F$468,\"\"))&IF(AD78=\"gloves\",WPG!F$458,IF(AD78=\"gloves-basic training\",WPG!F$459,IF(AD78=\"gloves-specific training\",WPG!F$460,IF(AD78=\"gloves-intensive controls\",WPG!F$461,\"\"))))&IF(AD78=\"\",\"\",VLOOKUP(I78,'Inhalation data'!A$3:V$24,22,FALSE)))","v":""},{"$f":"IF(AND(AS$42=\"NO\",AP78=\"NO\"),\"\",IF(M78=\"<15 min\",WPG!F$360,IF(M78=\"1-4 hours\",WPG!F$362,IF(M78=\"15 min-1 hour\",WPG!F$361,\"\"))))","v":""},{"$f":"IF(OR(AND(AT$42=\"NO\",AP78=\"NO\"),BQ78>BP78),\"\",IF(L78=\"5-25%\",WPG!F$352,IF(L78=\"1-5%\",WPG!F$351,IF(L78=\"<1%\",WPG!F$350,\"\"))))","v":""},null,null,null,null,null,null,null,null,null,null,null,null,null,null,null,null,null,{"$f":"IF(ISERROR(VLOOKUP(I78,'Dermal data'!A$3:K$25,1,FALSE)),\"\",LEFT(VLOOKUP(I78,'Dermal data'!A$3:K$25,1,FALSE),2))","v":""},{"$f":"IF(ISERROR(VLOOKUP(I78,'Dermal data'!A$3:K$25,11,FALSE)),\"\",VLOOKUP(I78,'Dermal data'!A$3:K$25,11,FALSE))","v":""},{"$f":"IF(ISERROR(VLOOKUP(I78,'Dermal data'!A$3:L$25,12,FALSE)),\"\",VLOOKUP(I78,'Dermal data'!A$3:L$25,12,FALSE))","v":""},null,100,100,""]
[null,null,"Industrial",null,null,null,null,"Liquid, vapour pressure 0.5 - 10 kPa at STP [OC4]. ",null,null,null,"",null,{"$f":"IF(AND(OR(I79=A$124,I79=A$133),E$8<0.01,J79=\"Yes\"),IF(B$8=\"YES\",MIN(0.1*E$10/24,BB$10),0.1*E$10/24),IF(I79=\"\",\"\",IF(B79=\"Vapour exposure\",IF(C79=\"Industrial\",VLOOKUP(I79,'Inhalation data'!A$3:I$24,IF(H79=WPG!F$339,2,IF(H79=WPG!F$338,3,5)),FALSE),VLOOKUP(I79,'Inhalation data'!A$3:I$24,IF(H79=WPG!F$339,6,IF(H79=WPG!F$338,7,9)),FALSE))*E$10/24,IF(C79=\"Industrial\",VLOOKUP(I79,'Inhalation data'!A$3:X$24,23,FALSE),VLOOKUP(I79,'Inhalation data'!A$3:X$24,24,FALSE)))))","v":""},{"$f":"IF(OR(I79=\"\",J79=\"No\",J79=\"\"),\"\",VLOOKUP(I79,'Inhalation data'!A$3:O$24,IF(C79=\"Industrial\",14,15),FALSE))","v":""},null,null,null,null,"",{"$f":"IF(I79=\"\",\"\",VLOOKUP(I79,'Inhalation data'!A$3:AS$24,45,FALSE))","v":""},0,"",null,null,null,{"$f":"IF(I79=\"\",\"\",VLOOKUP(I79,'Dermal data'!A$4:F$25,6,FALSE))","v":""},{"$f":"IF(I79=\"\",\"\",VLOOKUP(I79,'Dermal data'!A$4:F$25,5,FALSE)/1000)","v":""},{"$f":"IF(AND(J79=\"Yes\",B$9=\"YES\"),IF(C79=\"Industrial - SU3\",VLOOKUP(I79,'Dermal data'!A$4:G$25,7,),VLOOKUP(I79,'Dermal data'!A$4:H$25,8,)),\"\")","v":""},null,null,null,"",0,null,null,0,0,0,0,"","YES",{"$f":"IF(AND(AQ$42=\"NO\",AP79=\"NO\"),\"\",IF(OR(J79=\"No\",J79=\"\"),\"\",VLOOKUP(I79,'Inhalation data'!A$3:S$24,IF(C79=\"Industrial\",16,17),FALSE))&IF(P79=\"\",\"\",IF(P79=\"70 (ventilation)\",WPG!F$383,IF(P79=\"30 (ventilation)\",Findandtranslate_WPG(P$40),IF(OR(D79=WPG!F$228,E79=WPG!F$228,F79=WPG!F$228),WPG!F$367,WPG!F$412)))))","v":""},{"$f":"IF(AND(AR$42=\"NO\",AP79=\"NO\"),\"\",IF(Q79=\"half mask\",WPG!F$465,IF(Q79=\"full face\",WPG!F$467&WPG!F$468,\"\"))&IF(AD79=\"gloves\",WPG!F$458,IF(AD79=\"gloves-basic training\",WPG!F$459,IF(AD79=\"gloves-specific training\",WPG!F$460,IF(AD79=\"gloves-intensive controls\",WPG!F$461,\"\"))))&IF(AD79=\"\",\"\",VLOOKUP(I79,'Inhalation data'!A$3:V$24,22,FALSE)))","v":""},{"$f":"IF(AND(AS$42=\"NO\",AP79=\"NO\"),\"\",IF(M79=\"<15 min\",WPG!F$360,IF(M79=\"1-4 hours\",WPG!F$362,IF(M79=\"15 min-1 hour\",WPG!F$361,\"\"))))","v":""},{"$f":"IF(OR(AND(AT$42=\"NO\",AP79=\"NO\"),BQ79>BP79),\"\",IF(L79=\"5-25%\",WPG!F$352,IF(L79=\"1-5%\",WPG!F$351,IF(L79=\"<1%\",WPG!F$350,\"\"))))","v":""},null,null,null,null,null,null,null,null,null,null,null,null,null,null,null,null,null,{"$f":"IF(ISERROR(VLOOKUP(I79,'Dermal data'!A$3:K$25,1,FALSE)),\"\",LEFT(VLOOKUP(I79,'Dermal data'!A$3:K$25,1,FALSE),2))","v":""},{"$f":"IF(ISERROR(VLOOKUP(I79,'Dermal data'!A$3:K$25,11,FALSE)),\"\",VLOOKUP(I79,'Dermal data'!A$3:K$25,11,FALSE))","v":""},{"$f":"IF(ISERROR(VLOOKUP(I79,'Dermal data'!A$3:L$25,12,FALSE)),\"\",VLOOKUP(I79,'Dermal data'!A$3:L$25,12,FALSE))","v":""},null,100,100,""]
[null,null,"Industrial",null,null,null,null,"Liquid, vapour pressure 0.5 - 10 kPa at STP [OC4]. ",null,null,null,"",null,{"$f":"IF(AND(OR(I80=A$124,I80=A$133),E$8<0.01,J80=\"Yes\"),IF(B$8=\"YES\",MIN(0.1*E$10/24,BB$10),0.1*E$10/24),IF(I80=\"\",\"\",IF(B80=\"Vapour exposure\",IF(C80=\"Industrial\",VLOOKUP(I80,'Inhalation data'!A$3:I$24,IF(H80=WPG!F$339,2,IF(H80=WPG!F$338,3,5)),FALSE),VLOOKUP(I80,'Inhalation data'!A$3:I$24,IF(H80=WPG!F$339,6,IF(H80=WPG!F$338,7,9)),FALSE))*E$10/24,IF(C80=\"Industrial\",VLOOKUP(I80,'Inhalation data'!A$3:X$24,23,FALSE),VLOOKUP(I80,'Inhalation data'!A$3:X$24,24,FALSE)))))","v":""},{"$f":"IF(OR(I80=\"\",J80=\"No\",J80=\"\"),\"\",VLOOKUP(I80,'Inhalation data'!A$3:O$24,IF(C80=\"Industrial\",14,15),FALSE))","v":""},null,null,null,null,"",{"$f":"IF(I80=\"\",\"\",VLOOKUP(I80,'Inhalation data'!A$3:AS$24,45,FALSE))","v":""},0,"",null,null,null,{"$f":"IF(I80=\"\",\"\",VLOOKUP(I80,'Dermal data'!A$4:F$25,6,FALSE))","v":""},{"$f":"IF(I80=\"\",\"\",VLOOKUP(I80,'Dermal data'!A$4:F$25,5,FALSE)/1000)","v":""},{"$f":"IF(AND(J80=\"Yes\",B$9=\"YES\"),IF(C80=\"Industrial - SU3\",VLOOKUP(I80,'Dermal data'!A$4:G$25,7,),VLOOKUP(I80,'Dermal data'!A$4:H$25,8,)),\"\")","v":""},null,null,null,"",0,null,null,0,0,0,0,"","YES",{"$f":"IF(AND(AQ$42=\"NO\",AP80=\"NO\"),\"\",IF(OR(J80=\"No\",J80=\"\"),\"\",VLOOKUP(I80,'Inhalation data'!A$3:S$24,IF(C80=\"Industrial\",16,17),FALSE))&IF(P80=\"\",\"\",IF(P80=\"70 (ventilation)\",WPG!F$383,IF(P80=\"30 (ventilation)\",Findandtranslate_WPG(P$40),IF(OR(D80=WPG!F$228,E80=WPG!F$228,F80=WPG!F$228),WPG!F$367,WPG!F$412)))))","v":""},{"$f":"IF(AND(AR$42=\"NO\",AP80=\"NO\"),\"\",IF(Q80=\"half mask\",WPG!F$465,IF(Q80=\"full face\",WPG!F$467&WPG!F$468,\"\"))&IF(AD80=\"gloves\",WPG!F$458,IF(AD80=\"gloves-basic training\",WPG!F$459,IF(AD80=\"gloves-specific training\",WPG!F$460,IF(AD80=\"gloves-intensive controls\",WPG!F$461,\"\"))))&IF(AD80=\"\",\"\",VLOOKUP(I80,'Inhalation data'!A$3:V$24,22,FALSE)))","v":""},{"$f":"IF(AND(AS$42=\"NO\",AP80=\"NO\"),\"\",IF(M80=\"<15 min\",WPG!F$360,IF(M80=\"1-4 hours\",WPG!F$362,IF(M80=\"15 min-1 hour\",WPG!F$361,\"\"))))","v":""},{"$f":"IF(OR(AND(AT$42=\"NO\",AP80=\"NO\"),BQ80>BP80),\"\",IF(L80=\"5-25%\",WPG!F$352,IF(L80=\"1-5%\",WPG!F$351,IF(L80=\"<1%\",WPG!F$350,\"\"))))","v":""},null,null,null,null,null,null,null,null,null,null,null,null,null,null,null,null,null,{"$f":"IF(ISERROR(VLOOKUP(I80,'Dermal data'!A$3:K$25,1,FALSE)),\"\",LEFT(VLOOKUP(I80,'Dermal data'!A$3:K$25,1,FALSE),2))","v":""},{"$f":"IF(ISERROR(VLOOKUP(I80,'Dermal data'!A$3:K$25,11,FALSE)),\"\",VLOOKUP(I80,'Dermal data'!A$3:K$25,11,FALSE))","v":""},{"$f":"IF(ISERROR(VLOOKUP(I80,'Dermal data'!A$3:L$25,12,FALSE)),\"\",VLOOKUP(I80,'Dermal data'!A$3:L$25,12,FALSE))","v":""},null,100,100,""]
[null,null,"Industrial",null,null,null,null,"Liquid, vapour pressure 0.5 - 10 kPa at STP [OC4]. ",null,null,null,"",null,{"$f":"IF(AND(OR(I81=A$124,I81=A$133),E$8<0.01,J81=\"Yes\"),IF(B$8=\"YES\",MIN(0.1*E$10/24,BB$10),0.1*E$10/24),IF(I81=\"\",\"\",IF(B81=\"Vapour exposure\",IF(C81=\"Industrial\",VLOOKUP(I81,'Inhalation data'!A$3:I$24,IF(H81=WPG!F$339,2,IF(H81=WPG!F$338,3,5)),FALSE),VLOOKUP(I81,'Inhalation data'!A$3:I$24,IF(H81=WPG!F$339,6,IF(H81=WPG!F$338,7,9)),FALSE))*E$10/24,IF(C81=\"Industrial\",VLOOKUP(I81,'Inhalation data'!A$3:X$24,23,FALSE),VLOOKUP(I81,'Inhalation data'!A$3:X$24,24,FALSE)))))","v":""},{"$f":"IF(OR(I81=\"\",J81=\"No\",J81=\"\"),\"\",VLOOKUP(I81,'Inhalation data'!A$3:O$24,IF(C81=\"Industrial\",14,15),FALSE))","v":""},null,null,null,null,"",{"$f":"IF(I81=\"\",\"\",VLOOKUP(I81,'Inhalation data'!A$3:AS$24,45,FALSE))","v":""},0,"",null,null,null,{"$f":"IF(I81=\"\",\"\",VLOOKUP(I81,'Dermal data'!A$4:F$25,6,FALSE))","v":""},{"$f":"IF(I81=\"\",\"\",VLOOKUP(I81,'Dermal data'!A$4:F$25,5,FALSE)/1000)","v":""},{"$f":"IF(AND(J81=\"Yes\",B$9=\"YES\"),IF(C81=\"Industrial - SU3\",VLOOKUP(I81,'Dermal data'!A$4:G$25,7,),VLOOKUP(I81,'Dermal data'!A$4:H$25,8,)),\"\")","v":""},null,null,null,"",0,null,null,0,0,0,0,"","YES",{"$f":"IF(AND(AQ$42=\"NO\",AP81=\"NO\"),\"\",IF(OR(J81=\"No\",J81=\"\"),\"\",VLOOKUP(I81,'Inhalation data'!A$3:S$24,IF(C81=\"Industrial\",16,17),FALSE))&IF(P81=\"\",\"\",IF(P81=\"70 (ventilation)\",WPG!F$383,IF(P81=\"30 (ventilation)\",Findandtranslate_WPG(P$40),IF(OR(D81=WPG!F$228,E81=WPG!F$228,F81=WPG!F$228),WPG!F$367,WPG!F$412)))))","v":""},{"$f":"IF(AND(AR$42=\"NO\",AP81=\"NO\"),\"\",IF(Q81=\"half mask\",WPG!F$465,IF(Q81=\"full face\",WPG!F$467&WPG!F$468,\"\"))&IF(AD81=\"gloves\",WPG!F$458,IF(AD81=\"gloves-basic training\",WPG!F$459,IF(AD81=\"gloves-specific training\",WPG!F$460,IF(AD81=\"gloves-intensive controls\",WPG!F$461,\"\"))))&IF(AD81=\"\",\"\",VLOOKUP(I81,'Inhalation data'!A$3:V$24,22,FALSE)))","v":""},{"$f":"IF(AND(AS$42=\"NO\",AP81=\"NO\"),\"\",IF(M81=\"<15 min\",WPG!F$360,IF(M81=\"1-4 hours\",WPG!F$362,IF(M81=\"15 min-1 hour\",WPG!F$361,\"\"))))","v":""},{"$f":"IF(OR(AND(AT$42=\"NO\",AP81=\"NO\"),BQ81>BP81),\"\",IF(L81=\"5-25%\",WPG!F$352,IF(L81=\"1-5%\",WPG!F$351,IF(L81=\"<1%\",WPG!F$350,\"\"))))","v":""},null,null,null,null,null,null,null,null,null,null,null,null,null,null,null,null,null,{"$f":"IF(ISERROR(VLOOKUP(I81,'Dermal data'!A$3:K$25,1,FALSE)),\"\",LEFT(VLOOKUP(I81,'Dermal data'!A$3:K$25,1,FALSE),2))","v":""},{"$f":"IF(ISERROR(VLOOKUP(I81,'Dermal data'!A$3:K$25,11,FALSE)),\"\",VLOOKUP(I81,'Dermal data'!A$3:K$25,11,FALSE))","v":""},{"$f":"IF(ISERROR(VLOOKUP(I81,'Dermal data'!A$3:L$25,12,FALSE)),\"\",VLOOKUP(I81,'Dermal data'!A$3:L$25,12,FALSE))","v":""},null,100,100,""]
[null,null,"Industrial",null,null,null,null,"Liquid, vapour pressure 0.5 - 10 kPa at STP [OC4]. ",null,null,null,"",null,{"$f":"IF(AND(OR(I82=A$124,I82=A$133),E$8<0.01,J82=\"Yes\"),IF(B$8=\"YES\",MIN(0.1*E$10/24,BB$10),0.1*E$10/24),IF(I82=\"\",\"\",IF(B82=\"Vapour exposure\",IF(C82=\"Industrial\",VLOOKUP(I82,'Inhalation data'!A$3:I$24,IF(H82=WPG!F$339,2,IF(H82=WPG!F$338,3,5)),FALSE),VLOOKUP(I82,'Inhalation data'!A$3:I$24,IF(H82=WPG!F$339,6,IF(H82=WPG!F$338,7,9)),FALSE))*E$10/24,IF(C82=\"Industrial\",VLOOKUP(I82,'Inhalation data'!A$3:X$24,23,FALSE),VLOOKUP(I82,'Inhalation data'!A$3:X$24,24,FALSE)))))","v":""},{"$f":"IF(OR(I82=\"\",J82=\"No\",J82=\"\"),\"\",VLOOKUP(I82,'Inhalation data'!A$3:O$24,IF(C82=\"Industrial\",14,15),FALSE))","v":""},null,null,null,null,"",{"$f":"IF(I82=\"\",\"\",VLOOKUP(I82,'Inhalation data'!A$3:AS$24,45,FALSE))","v":""},0,"",null,null,null,{"$f":"IF(I82=\"\",\"\",VLOOKUP(I82,'Dermal data'!A$4:F$25,6,FALSE))","v":""},{"$f":"IF(I82=\"\",\"\",VLOOKUP(I82,'Dermal data'!A$4:F$25,5,FALSE)/1000)","v":""},{"$f":"IF(AND(J82=\"Yes\",B$9=\"YES\"),IF(C82=\"Industrial - SU3\",VLOOKUP(I82,'Dermal data'!A$4:G$25,7,),VLOOKUP(I82,'Dermal data'!A$4:H$25,8,)),\"\")","v":""},null,null,null,"",0,null,null,0,0,0,0,"","YES",{"$f":"IF(AND(AQ$42=\"NO\",AP82=\"NO\"),\"\",IF(OR(J82=\"No\",J82=\"\"),\"\",VLOOKUP(I82,'Inhalation data'!A$3:S$24,IF(C82=\"Industrial\",16,17),FALSE))&IF(P82=\"\",\"\",IF(P82=\"70 (ventilation)\",WPG!F$383,IF(P82=\"30 (ventilation)\",Findandtranslate_WPG(P$40),IF(OR(D82=WPG!F$228,E82=WPG!F$228,F82=WPG!F$228),WPG!F$367,WPG!F$412)))))","v":""},{"$f":"IF(AND(AR$42=\"NO\",AP82=\"NO\"),\"\",IF(Q82=\"half mask\",WPG!F$465,IF(Q82=\"full face\",WPG!F$467&WPG!F$468,\"\"))&IF(AD82=\"gloves\",WPG!F$458,IF(AD82=\"gloves-basic training\",WPG!F$459,IF(AD82=\"gloves-specific training\",WPG!F$460,IF(AD82=\"gloves-intensive controls\",WPG!F$461,\"\"))))&IF(AD82=\"\",\"\",VLOOKUP(I82,'Inhalation data'!A$3:V$24,22,FALSE)))","v":""},{"$f":"IF(AND(AS$42=\"NO\",AP82=\"NO\"),\"\",IF(M82=\"<15 min\",WPG!F$360,IF(M82=\"1-4 hours\",WPG!F$362,IF(M82=\"15 min-1 hour\",WPG!F$361,\"\"))))","v":""},{"$f":"IF(OR(AND(AT$42=\"NO\",AP82=\"NO\"),BQ82>BP82),\"\",IF(L82=\"5-25%\",WPG!F$352,IF(L82=\"1-5%\",WPG!F$351,IF(L82=\"<1%\",WPG!F$350,\"\"))))","v":""},null,null,null,null,null,null,null,null,null,null,null,null,null,null,null,null,null,{"$f":"IF(ISERROR(VLOOKUP(I82,'Dermal data'!A$3:K$25,1,FALSE)),\"\",LEFT(VLOOKUP(I82,'Dermal data'!A$3:K$25,1,FALSE),2))","v":""},{"$f":"IF(ISERROR(VLOOKUP(I82,'Dermal data'!A$3:K$25,11,FALSE)),\"\",VLOOKUP(I82,'Dermal data'!A$3:K$25,11,FALSE))","v":""},{"$f":"IF(ISERROR(VLOOKUP(I82,'Dermal data'!A$3:L$25,12,FALSE)),\"\",VLOOKUP(I82,'Dermal data'!A$3:L$25,12,FALSE))","v":""},null,100,100,""]
[null,null,"Industrial",null,null,null,null,"Liquid, vapour pressure 0.5 - 10 kPa at STP [OC4]. ",null,null,null,"",null,{"$f":"IF(AND(OR(I83=A$124,I83=A$133),E$8<0.01,J83=\"Yes\"),IF(B$8=\"YES\",MIN(0.1*E$10/24,BB$10),0.1*E$10/24),IF(I83=\"\",\"\",IF(B83=\"Vapour exposure\",IF(C83=\"Industrial\",VLOOKUP(I83,'Inhalation data'!A$3:I$24,IF(H83=WPG!F$339,2,IF(H83=WPG!F$338,3,5)),FALSE),VLOOKUP(I83,'Inhalation data'!A$3:I$24,IF(H83=WPG!F$339,6,IF(H83=WPG!F$338,7,9)),FALSE))*E$10/24,IF(C83=\"Industrial\",VLOOKUP(I83,'Inhalation data'!A$3:X$24,23,FALSE),VLOOKUP(I83,'Inhalation data'!A$3:X$24,24,FALSE)))))","v":""},{"$f":"IF(OR(I83=\"\",J83=\"No\",J83=\"\"),\"\",VLOOKUP(I83,'Inhalation data'!A$3:O$24,IF(C83=\"Industrial\",14,15),FALSE))","v":""},null,null,null,null,"",{"$f":"IF(I83=\"\",\"\",VLOOKUP(I83,'Inhalation data'!A$3:AS$24,45,FALSE))","v":""},0,"",null,null,null,{"$f":"IF(I83=\"\",\"\",VLOOKUP(I83,'Dermal data'!A$4:F$25,6,FALSE))","v":""},{"$f":"IF(I83=\"\",\"\",VLOOKUP(I83,'Dermal data'!A$4:F$25,5,FALSE)/1000)","v":""},{"$f":"IF(AND(J83=\"Yes\",B$9=\"YES\"),IF(C83=\"Industrial - SU3\",VLOOKUP(I83,'Dermal data'!A$4:G$25,7,),VLOOKUP(I83,'Dermal data'!A$4:H$25,8,)),\"\")","v":""},null,null,null,"",0,null,null,0,0,0,0,"","YES",{"$f":"IF(AND(AQ$42=\"NO\",AP83=\"NO\"),\"\",IF(OR(J83=\"No\",J83=\"\"),\"\",VLOOKUP(I83,'Inhalation data'!A$3:S$24,IF(C83=\"Industrial\",16,17),FALSE))&IF(P83=\"\",\"\",IF(P83=\"70 (ventilation)\",WPG!F$383,IF(P83=\"30 (ventilation)\",Findandtranslate_WPG(P$40),IF(OR(D83=WPG!F$228,E83=WPG!F$228,F83=WPG!F$228),WPG!F$367,WPG!F$412)))))","v":""},{"$f":"IF(AND(AR$42=\"NO\",AP83=\"NO\"),\"\",IF(Q83=\"half mask\",WPG!F$465,IF(Q83=\"full face\",WPG!F$467&WPG!F$468,\"\"))&IF(AD83=\"gloves\",WPG!F$458,IF(AD83=\"gloves-basic training\",WPG!F$459,IF(AD83=\"gloves-specific training\",WPG!F$460,IF(AD83=\"gloves-intensive controls\",WPG!F$461,\"\"))))&IF(AD83=\"\",\"\",VLOOKUP(I83,'Inhalation data'!A$3:V$24,22,FALSE)))","v":""},{"$f":"IF(AND(AS$42=\"NO\",AP83=\"NO\"),\"\",IF(M83=\"<15 min\",WPG!F$360,IF(M83=\"1-4 hours\",WPG!F$362,IF(M83=\"15 min-1 hour\",WPG!F$361,\"\"))))","v":""},{"$f":"IF(OR(AND(AT$42=\"NO\",AP83=\"NO\"),BQ83>BP83),\"\",IF(L83=\"5-25%\",WPG!F$352,IF(L83=\"1-5%\",WPG!F$351,IF(L83=\"<1%\",WPG!F$350,\"\"))))","v":""},null,null,null,null,null,null,null,null,null,null,null,null,null,null,null,null,null,{"$f":"IF(ISERROR(VLOOKUP(I83,'Dermal data'!A$3:K$25,1,FALSE)),\"\",LEFT(VLOOKUP(I83,'Dermal data'!A$3:K$25,1,FALSE),2))","v":""},{"$f":"IF(ISERROR(VLOOKUP(I83,'Dermal data'!A$3:K$25,11,FALSE)),\"\",VLOOKUP(I83,'Dermal data'!A$3:K$25,11,FALSE))","v":""},{"$f":"IF(ISERROR(VLOOKUP(I83,'Dermal data'!A$3:L$25,12,FALSE)),\"\",VLOOKUP(I83,'Dermal data'!A$3:L$25,12,FALSE))","v":""},null,100,100,""]
[null,null,"Industrial",null,null,null,null,"Liquid, vapour pressure 0.5 - 10 kPa at STP [OC4]. ",null,null,null,"",null,{"$f":"IF(AND(OR(I84=A$124,I84=A$133),E$8<0.01,J84=\"Yes\"),IF(B$8=\"YES\",MIN(0.1*E$10/24,BB$10),0.1*E$10/24),IF(I84=\"\",\"\",IF(B84=\"Vapour exposure\",IF(C84=\"Industrial\",VLOOKUP(I84,'Inhalation data'!A$3:I$24,IF(H84=WPG!F$339,2,IF(H84=WPG!F$338,3,5)),FALSE),VLOOKUP(I84,'Inhalation data'!A$3:I$24,IF(H84=WPG!F$339,6,IF(H84=WPG!F$338,7,9)),FALSE))*E$10/24,IF(C84=\"Industrial\",VLOOKUP(I84,'Inhalation data'!A$3:X$24,23,FALSE),VLOOKUP(I84,'Inhalation data'!A$3:X$24,24,FALSE)))))","v":""},{"$f":"IF(OR(I84=\"\",J84=\"No\",J84=\"\"),\"\",VLOOKUP(I84,'Inhalation data'!A$3:O$24,IF(C84=\"Industrial\",14,15),FALSE))","v":""},null,null,null,null,"",{"$f":"IF(I84=\"\",\"\",VLOOKUP(I84,'Inhalation data'!A$3:AS$24,45,FALSE))","v":""},0,"",null,null,null,{"$f":"IF(I84=\"\",\"\",VLOOKUP(I84,'Dermal data'!A$4:F$25,6,FALSE))","v":""},{"$f":"IF(I84=\"\",\"\",VLOOKUP(I84,'Dermal data'!A$4:F$25,5,FALSE)/1000)","v":""},{"$f":"IF(AND(J84=\"Yes\",B$9=\"YES\"),IF(C84=\"Industrial - SU3\",VLOOKUP(I84,'Dermal data'!A$4:G$25,7,),VLOOKUP(I84,'Dermal data'!A$4:H$25,8,)),\"\")","v":""},null,null,null,"",0,null,null,0,0,0,0,"","YES",{"$f":"IF(AND(AQ$42=\"NO\",AP84=\"NO\"),\"\",IF(OR(J84=\"No\",J84=\"\"),\"\",VLOOKUP(I84,'Inhalation data'!A$3:S$24,IF(C84=\"Industrial\",16,17),FALSE))&IF(P84=\"\",\"\",IF(P84=\"70 (ventilation)\",WPG!F$383,IF(P84=\"30 (ventilation)\",Findandtranslate_WPG(P$40),IF(OR(D84=WPG!F$228,E84=WPG!F$228,F84=WPG!F$228),WPG!F$367,WPG!F$412)))))","v":""},{"$f":"IF(AND(AR$42=\"NO\",AP84=\"NO\"),\"\",IF(Q84=\"half mask\",WPG!F$465,IF(Q84=\"full face\",WPG!F$467&WPG!F$468,\"\"))&IF(AD84=\"gloves\",WPG!F$458,IF(AD84=\"gloves-basic training\",WPG!F$459,IF(AD84=\"gloves-specific training\",WPG!F$460,IF(AD84=\"gloves-intensive controls\",WPG!F$461,\"\"))))&IF(AD84=\"\",\"\",VLOOKUP(I84,'Inhalation data'!A$3:V$24,22,FALSE)))","v":""},{"$f":"IF(AND(AS$42=\"NO\",AP84=\"NO\"),\"\",IF(M84=\"<15 min\",WPG!F$360,IF(M84=\"1-4 hours\",WPG!F$362,IF(M84=\"15 min-1 hour\",WPG!F$361,\"\"))))","v":""},{"$f":"IF(OR(AND(AT$42=\"NO\",AP84=\"NO\"),BQ84>BP84),\"\",IF(L84=\"5-25%\",WPG!F$352,IF(L84=\"1-5%\",WPG!F$351,IF(L84=\"<1%\",WPG!F$350,\"\"))))","v":""},null,null,null,null,null,null,null,null,null,null,null,null,null,null,null,null,null,{"$f":"IF(ISERROR(VLOOKUP(I84,'Dermal data'!A$3:K$25,1,FALSE)),\"\",LEFT(VLOOKUP(I84,'Dermal data'!A$3:K$25,1,FALSE),2))","v":""},{"$f":"IF(ISERROR(VLOOKUP(I84,'Dermal data'!A$3:K$25,11,FALSE)),\"\",VLOOKUP(I84,'Dermal data'!A$3:K$25,11,FALSE))","v":""},{"$f":"IF(ISERROR(VLOOKUP(I84,'Dermal data'!A$3:L$25,12,FALSE)),\"\",VLOOKUP(I84,'Dermal data'!A$3:L$25,12,FALSE))","v":""},null,100,100,""]
[null,null,"Industrial",null,null,null,null,"Liquid, vapour pressure 0.5 - 10 kPa at STP [OC4]. ",null,null,null,"",null,{"$f":"IF(AND(OR(I85=A$124,I85=A$133),E$8<0.01,J85=\"Yes\"),IF(B$8=\"YES\",MIN(0.1*E$10/24,BB$10),0.1*E$10/24),IF(I85=\"\",\"\",IF(B85=\"Vapour exposure\",IF(C85=\"Industrial\",VLOOKUP(I85,'Inhalation data'!A$3:I$24,IF(H85=WPG!F$339,2,IF(H85=WPG!F$338,3,5)),FALSE),VLOOKUP(I85,'Inhalation data'!A$3:I$24,IF(H85=WPG!F$339,6,IF(H85=WPG!F$338,7,9)),FALSE))*E$10/24,IF(C85=\"Industrial\",VLOOKUP(I85,'Inhalation data'!A$3:X$24,23,FALSE),VLOOKUP(I85,'Inhalation data'!A$3:X$24,24,FALSE)))))","v":""},{"$f":"IF(OR(I85=\"\",J85=\"No\",J85=\"\"),\"\",VLOOKUP(I85,'Inhalation data'!A$3:O$24,IF(C85=\"Industrial\",14,15),FALSE))","v":""},null,null,null,null,"",{"$f":"IF(I85=\"\",\"\",VLOOKUP(I85,'Inhalation data'!A$3:AS$24,45,FALSE))","v":""},0,"",null,null,null,{"$f":"IF(I85=\"\",\"\",VLOOKUP(I85,'Dermal data'!A$4:F$25,6,FALSE))","v":""},{"$f":"IF(I85=\"\",\"\",VLOOKUP(I85,'Dermal data'!A$4:F$25,5,FALSE)/1000)","v":""},{"$f":"IF(AND(J85=\"Yes\",B$9=\"YES\"),IF(C85=\"Industrial - SU3\",VLOOKUP(I85,'Dermal data'!A$4:G$25,7,),VLOOKUP(I85,'Dermal data'!A$4:H$25,8,)),\"\")","v":""},null,null,null,"",0,null,null,0,0,0,0,"","YES",{"$f":"IF(AND(AQ$42=\"NO\",AP85=\"NO\"),\"\",IF(OR(J85=\"No\",J85=\"\"),\"\",VLOOKUP(I85,'Inhalation data'!A$3:S$24,IF(C85=\"Industrial\",16,17),FALSE))&IF(P85=\"\",\"\",IF(P85=\"70 (ventilation)\",WPG!F$383,IF(P85=\"30 (ventilation)\",Findandtranslate_WPG(P$40),IF(OR(D85=WPG!F$228,E85=WPG!F$228,F85=WPG!F$228),WPG!F$367,WPG!F$412)))))","v":""},{"$f":"IF(AND(AR$42=\"NO\",AP85=\"NO\"),\"\",IF(Q85=\"half mask\",WPG!F$465,IF(Q85=\"full face\",WPG!F$467&WPG!F$468,\"\"))&IF(AD85=\"gloves\",WPG!F$458,IF(AD85=\"gloves-basic training\",WPG!F$459,IF(AD85=\"gloves-specific training\",WPG!F$460,IF(AD85=\"gloves-intensive controls\",WPG!F$461,\"\"))))&IF(AD85=\"\",\"\",VLOOKUP(I85,'Inhalation data'!A$3:V$24,22,FALSE)))","v":""},{"$f":"IF(AND(AS$42=\"NO\",AP85=\"NO\"),\"\",IF(M85=\"<15 min\",WPG!F$360,IF(M85=\"1-4 hours\",WPG!F$362,IF(M85=\"15 min-1 hour\",WPG!F$361,\"\"))))","v":""},{"$f":"IF(OR(AND(AT$42=\"NO\",AP85=\"NO\"),BQ85>BP85),\"\",IF(L85=\"5-25%\",WPG!F$352,IF(L85=\"1-5%\",WPG!F$351,IF(L85=\"<1%\",WPG!F$350,\"\"))))","v":""},null,null,null,null,null,null,null,null,null,null,null,null,null,null,null,null,null,{"$f":"IF(ISERROR(VLOOKUP(I85,'Dermal data'!A$3:K$25,1,FALSE)),\"\",LEFT(VLOOKUP(I85,'Dermal data'!A$3:K$25,1,FALSE),2))","v":""},{"$f":"IF(ISERROR(VLOOKUP(I85,'Dermal data'!A$3:K$25,11,FALSE)),\"\",VLOOKUP(I85,'Dermal data'!A$3:K$25,11,FALSE))","v":""},{"$f":"IF(ISERROR(VLOOKUP(I85,'Dermal data'!A$3:L$25,12,FALSE)),\"\",VLOOKUP(I85,'Dermal data'!A$3:L$25,12,FALSE))","v":""},null,100,100,""]
[null,null,"Industrial",null,null,null,null,"Liquid, vapour pressure 0.5 - 10 kPa at STP [OC4]. ",null,null,null,"",null,{"$f":"IF(AND(OR(I86=A$124,I86=A$133),E$8<0.01,J86=\"Yes\"),IF(B$8=\"YES\",MIN(0.1*E$10/24,BB$10),0.1*E$10/24),IF(I86=\"\",\"\",IF(B86=\"Vapour exposure\",IF(C86=\"Industrial\",VLOOKUP(I86,'Inhalation data'!A$3:I$24,IF(H86=WPG!F$339,2,IF(H86=WPG!F$338,3,5)),FALSE),VLOOKUP(I86,'Inhalation data'!A$3:I$24,IF(H86=WPG!F$339,6,IF(H86=WPG!F$338,7,9)),FALSE))*E$10/24,IF(C86=\"Industrial\",VLOOKUP(I86,'Inhalation data'!A$3:X$24,23,FALSE),VLOOKUP(I86,'Inhalation data'!A$3:X$24,24,FALSE)))))","v":""},{"$f":"IF(OR(I86=\"\",J86=\"No\",J86=\"\"),\"\",VLOOKUP(I86,'Inhalation data'!A$3:O$24,IF(C86=\"Industrial\",14,15),FALSE))","v":""},null,null,null,null,"",{"$f":"IF(I86=\"\",\"\",VLOOKUP(I86,'Inhalation data'!A$3:AS$24,45,FALSE))","v":""},0,"",null,null,null,{"$f":"IF(I86=\"\",\"\",VLOOKUP(I86,'Dermal data'!A$4:F$25,6,FALSE))","v":""},{"$f":"IF(I86=\"\",\"\",VLOOKUP(I86,'Dermal data'!A$4:F$25,5,FALSE)/1000)","v":""},{"$f":"IF(AND(J86=\"Yes\",B$9=\"YES\"),IF(C86=\"Industrial - SU3\",VLOOKUP(I86,'Dermal data'!A$4:G$25,7,),VLOOKUP(I86,'Dermal data'!A$4:H$25,8,)),\"\")","v":""},null,null,null,"",0,null,null,0,0,0,0,"","YES",{"$f":"IF(AND(AQ$42=\"NO\",AP86=\"NO\"),\"\",IF(OR(J86=\"No\",J86=\"\"),\"\",VLOOKUP(I86,'Inhalation data'!A$3:S$24,IF(C86=\"Industrial\",16,17),FALSE))&IF(P86=\"\",\"\",IF(P86=\"70 (ventilation)\",WPG!F$383,IF(P86=\"30 (ventilation)\",Findandtranslate_WPG(P$40),IF(OR(D86=WPG!F$228,E86=WPG!F$228,F86=WPG!F$228),WPG!F$367,WPG!F$412)))))","v":""},{"$f":"IF(AND(AR$42=\"NO\",AP86=\"NO\"),\"\",IF(Q86=\"half mask\",WPG!F$465,IF(Q86=\"full face\",WPG!F$467&WPG!F$468,\"\"))&IF(AD86=\"gloves\",WPG!F$458,IF(AD86=\"gloves-basic training\",WPG!F$459,IF(AD86=\"gloves-specific training\",WPG!F$460,IF(AD86=\"gloves-intensive controls\",WPG!F$461,\"\"))))&IF(AD86=\"\",\"\",VLOOKUP(I86,'Inhalation data'!A$3:V$24,22,FALSE)))","v":""},{"$f":"IF(AND(AS$42=\"NO\",AP86=\"NO\"),\"\",IF(M86=\"<15 min\",WPG!F$360,IF(M86=\"1-4 hours\",WPG!F$362,IF(M86=\"15 min-1 hour\",WPG!F$361,\"\"))))","v":""},{"$f":"IF(OR(AND(AT$42=\"NO\",AP86=\"NO\"),BQ86>BP86),\"\",IF(L86=\"5-25%\",WPG!F$352,IF(L86=\"1-5%\",WPG!F$351,IF(L86=\"<1%\",WPG!F$350,\"\"))))","v":""},null,null,null,null,null,null,null,null,null,null,null,null,null,null,"",null,null,{"$f":"IF(ISERROR(VLOOKUP(I86,'Dermal data'!A$3:K$25,1,FALSE)),\"\",LEFT(VLOOKUP(I86,'Dermal data'!A$3:K$25,1,FALSE),2))","v":""},{"$f":"IF(ISERROR(VLOOKUP(I86,'Dermal data'!A$3:K$25,11,FALSE)),\"\",VLOOKUP(I86,'Dermal data'!A$3:K$25,11,FALSE))","v":""},{"$f":"IF(ISERROR(VLOOKUP(I86,'Dermal data'!A$3:L$25,12,FALSE)),\"\",VLOOKUP(I86,'Dermal data'!A$3:L$25,12,FALSE))","v":""},null,100,100,""]
[null,null,"Industrial",null,null,null,null,"Liquid, vapour pressure 0.5 - 10 kPa at STP [OC4]. ",null,null,null,"",null,{"$f":"IF(AND(OR(I87=A$124,I87=A$133),E$8<0.01,J87=\"Yes\"),IF(B$8=\"YES\",MIN(0.1*E$10/24,BB$10),0.1*E$10/24),IF(I87=\"\",\"\",IF(B87=\"Vapour exposure\",IF(C87=\"Industrial\",VLOOKUP(I87,'Inhalation data'!A$3:I$24,IF(H87=WPG!F$339,2,IF(H87=WPG!F$338,3,5)),FALSE),VLOOKUP(I87,'Inhalation data'!A$3:I$24,IF(H87=WPG!F$339,6,IF(H87=WPG!F$338,7,9)),FALSE))*E$10/24,IF(C87=\"Industrial\",VLOOKUP(I87,'Inhalation data'!A$3:X$24,23,FALSE),VLOOKUP(I87,'Inhalation data'!A$3:X$24,24,FALSE)))))","v":""},{"$f":"IF(OR(I87=\"\",J87=\"No\",J87=\"\"),\"\",VLOOKUP(I87,'Inhalation data'!A$3:O$24,IF(C87=\"Industrial\",14,15),FALSE))","v":""},null,null,null,null,"",{"$f":"IF(I87=\"\",\"\",VLOOKUP(I87,'Inhalation data'!A$3:AS$24,45,FALSE))","v":""},0,"",null,null,null,{"$f":"IF(I87=\"\",\"\",VLOOKUP(I87,'Dermal data'!A$4:F$25,6,FALSE))","v":""},{"$f":"IF(I87=\"\",\"\",VLOOKUP(I87,'Dermal data'!A$4:F$25,5,FALSE)/1000)","v":""},{"$f":"IF(AND(J87=\"Yes\",B$9=\"YES\"),IF(C87=\"Industrial - SU3\",VLOOKUP(I87,'Dermal data'!A$4:G$25,7,),VLOOKUP(I87,'Dermal data'!A$4:H$25,8,)),\"\")","v":""},null,null,null,"",0,null,null,0,0,0,0,"","YES",{"$f":"IF(AND(AQ$42=\"NO\",AP87=\"NO\"),\"\",IF(OR(J87=\"No\",J87=\"\"),\"\",VLOOKUP(I87,'Inhalation data'!A$3:S$24,IF(C87=\"Industrial\",16,17),FALSE))&IF(P87=\"\",\"\",IF(P87=\"70 (ventilation)\",WPG!F$383,IF(P87=\"30 (ventilation)\",Findandtranslate_WPG(P$40),IF(OR(D87=WPG!F$228,E87=WPG!F$228,F87=WPG!F$228),WPG!F$367,WPG!F$412)))))","v":""},{"$f":"IF(AND(AR$42=\"NO\",AP87=\"NO\"),\"\",IF(Q87=\"half mask\",WPG!F$465,IF(Q87=\"full face\",WPG!F$467&WPG!F$468,\"\"))&IF(AD87=\"gloves\",WPG!F$458,IF(AD87=\"gloves-basic training\",WPG!F$459,IF(AD87=\"gloves-specific training\",WPG!F$460,IF(AD87=\"gloves-intensive controls\",WPG!F$461,\"\"))))&IF(AD87=\"\",\"\",VLOOKUP(I87,'Inhalation data'!A$3:V$24,22,FALSE)))","v":""},{"$f":"IF(AND(AS$42=\"NO\",AP87=\"NO\"),\"\",IF(M87=\"<15 min\",WPG!F$360,IF(M87=\"1-4 hours\",WPG!F$362,IF(M87=\"15 min-1 hour\",WPG!F$361,\"\"))))","v":""},{"$f":"IF(OR(AND(AT$42=\"NO\",AP87=\"NO\"),BQ87>BP87),\"\",IF(L87=\"5-25%\",WPG!F$352,IF(L87=\"1-5%\",WPG!F$351,IF(L87=\"<1%\",WPG!F$350,\"\"))))","v":""},null,null,null,null,null,null,null,null,null,null,null,null,null,null,"",null,null,{"$f":"IF(ISERROR(VLOOKUP(I87,'Dermal data'!A$3:K$25,1,FALSE)),\"\",LEFT(VLOOKUP(I87,'Dermal data'!A$3:K$25,1,FALSE),2))","v":""},{"$f":"IF(ISERROR(VLOOKUP(I87,'Dermal data'!A$3:K$25,11,FALSE)),\"\",VLOOKUP(I87,'Dermal data'!A$3:K$25,11,FALSE))","v":""},{"$f":"IF(ISERROR(VLOOKUP(I87,'Dermal data'!A$3:L$25,12,FALSE)),\"\",VLOOKUP(I87,'Dermal data'!A$3:L$25,12,FALSE))","v":""},null,100,100,""]
[]
[null,null,null,null,null,null,null,null,null,null,null,null,null,null,null,null,null,"Data validation message",{"$f":"IF(AND(T47=\"\",T48=\"\",T49=\"\",T50=\"\",T51=\"\",T52=\"\",T53=\"\",T54=\"\",T55=\"\",T56=\"\",T57=\"\",T58=\"\",T59=\"\",T60=\"\",T61=\"\",T62=\"\",T63=\"\",T64=\"\",T65=\"\",T66=\"\",T67=\"\",T68=\"\",T71=\"\",T86=\"\",T87=\"\"),FALSE,TRUE)","v":false},null,null,null,null,null,null,null,null,null,null,null,"Data validation message",{"$f":"IF(AND(AG47=\"\",AG48=\"\",AG49=\"\",AG50=\"\",AG51=\"\",AG52=\"\",AG53=\"\",AG54=\"\",AG55=\"\",AG56=\"\",AG57=\"\",AG58=\"\",AG59=\"\",AG60=\"\",AG61=\"\",AG62=\"\",AG63=\"\",AG64=\"\",AG65=\"\",AG66=\"\",AG67=\"\",AG68=\"\",AG71=\"\",AG86=\"\",AG87=\"\"),FALSE,TRUE)","v":false},null,null,null,null,{"$f":"MAX(AK47:AN87)","v":0.7742},"Maximum RCR"]
[]
[null,null,null,"Autopopulate","Phrase 1 - automatically populated","Optional Phrase 2"]
[null,"Exposure assessment","Additional phrases at end of inhalation, section 3 Health","YES",{"$f":"IF(D92=\"YES\",IF(AND(E13=\"\",E14=\"\"),WPG!F681&WPG!F321&WPG!F322,\"\"),\"\")","v":""},"The ECETOC TRA v3 tool has been used to estimate workplace exposures unless otherwise indicated [G46]. "]
[null,"Exposure assessment","Additional phrases at end of dermal, section 3 Health","YES",{"$f":"IF(D93=\"YES\",IF(E16=\"\",WPG!F681,\"\")&IF(E18=\"Not classified\",\"\",CHAR(10)&WPG!F317&WPG!F322)&IF(E19=\"NO\",\"\",CHAR(10)&WPG!F330),\"\")","v":"\nAvailable hazard data do not enable the derivation of a DNEL for dermal irritant effects [G32]. Risk Management Measures are based on qualitative risk characterisation [G37]. \nAvailable hazard data do not enable the derivation of a DNEL for eye irritant effects [G45]. "},"The ECETOC TRA v3 tool has been used to estimate workplace exposures unless otherwise indicated [G46]. "]
[]
[]
[null,null,"Guidance to check compliance with exposure scenarios (section 4 Health).  Choose from free text or predefined phrases.   Note that free text will appear after any selected from the drop down box",null,";  Predicted exposures are not expected to exceed the DN(M)EL when the Risk Management Measures/Operational Conditions outlined in Section 2 are implemented [G22]. ;  Where other Risk Management Measures/Operational Conditions are adopted, then users should ensure that risks are managed to at least equivalent levels [G23]. "]
[]
[]
[]
[]
[]
[]
[]
[]
[]
[]
[]
[]
[]
[null,null,"Glossary pick lists"]
[]
["PROC codes","Common Measures","Biodegradation","Substance type","ERC codes","Title","Scope of use covered","Contributing scenario descriptors","Usage","Technical measures (prevention)","Technical measures (dispersion)","Organisational measures ","Personal protection","Environmental measures","Technical measures (prevention)",{"$f":"K112","v":"Technical measures (dispersion)"},"Organisational measures ","Personal protection","Environmental measures","Operational conditions","Addional phrases","Human factors not influenced by risk management","Technical conditions and measures at a process level to prevent release and technical conditions and measures to control dispersion from source towards workers (often related to classification)  ","Choice of ventilation for 30% efficiency","Choice of ventilation for 70% efficiency"]
[null,{"$f":"WPG!F309","v":"Control any potential exposure using measures such as contained or enclosed systems, properly designed and maintained facilities and a good standard of general ventilation. Drain down systems and transfer lines prior to breaking containment. Drain down and flush equipment where possible prior to maintenance.\nWhere there is potential for exposure: Ensure relevant staff are informed of the nature of exposure and aware of basic actions to minimise exposures; ensure suitable personal protective equipment is available; clear up spills and dispose of waste in accordance with regulatory requirements; monitor effectiveness of control measures;  consider the need for health surveillance; identify and implement corrective actions\n [G25]. "},null,null,"ERC1",{"$f":"WPG!F50","v":"Manufacture of substance [GEST1_I]. "},{"$f":"WPG!F97","v":"Manufacture of the substance. Includes recycling/ recovery, material transfers, storage, maintenance and loading (including marine vessel/barge, road/rail car and bulk container), sampling and associated laboratory activities [GES1_I]. "},{"$f":"WPG!F144","v":"General exposures  [CS1]. "},{"$f":"WPG!F286","v":"Covers daily exposures up to 8 hours (unless stated differently) [G2]. "},"Avoid carrying out activities for more than 15 minutes [OC10]","Provide a good standard of general ventilation. Natural ventilation is from windows and doors etc. Controlled ventilation means air is supplied or removed by a powered fan. [E1]. ","If technical measures not practical: [G16].",{"$f":"WPG!F457","v":"Use suitable eye protection and gloves [PPE14]. "},{"$f":"WPG!F479","v":"Retain drain downs in sealed storage pending disposal or for subsequent recycle [ENVT4]. "},"Avoid carrying out activities for more than 15 minutes [OC10]","Provide a good standard of general ventilation. Natural ventilation is from windows and doors etc. Controlled ventilation means air is supplied or removed by a powered fan. [E1]. ","If technical measures not practical: [G16].",{"$f":"M113","v":"Use suitable eye protection and gloves [PPE14]. "},"Retain drain downs in sealed storage pending disposal or for subsequent recycle [ENVT4]. ",{"$f":"WPG!F285","v":"Assumes a good basic standard of occupational hygiene is implemented  [G1]. "},{"$f":"WPG!F306","v":"Predicted exposures are not expected to exceed the DN(M)EL when the Risk Management Measures/Operational Conditions outlined in Section 2 are implemented [G22]. "},{"$f":"WPG!$F$551","v":"none. "},{"$f":"WPG!$F$551","v":"none. "},{"$f":"WPG!D366","v":"Provide a good standard of general ventilation. Natural ventilation is from doors, windows etc. Controlled ventilation means air is supplied or removed by a powered fan"},{"$f":"WPG!D383","v":"Provide a good standard of controlled ventilation (10 to 15 air changes per hour)"}]
["1 - Use in closed process, no likelihood of exposure",{"$f":"WPG!F310","v":"Other protection measures such as segregation of activity, minimisation of personnel, respiratory protection, impervious suits and face shields should also be considered for high dispersion activities which are likely to lead to substantial aerosol or vapour release, e.g. spraying [G25a]. "},"Readily biodegradable","Substance is a unique structure","ERC2",{"$f":"WPG!F51","v":"Distribution of substance [GEST1A_I]. "},{"$f":"WPG!F98","v":"Loading (including marine vessel/barge, rail/road car and IBC loading) and repacking (including drums and small packs) of substance, including its sampling, storage, unloading distribution and associated laboratory activities [GES1A_I]. "},{"$f":"WPG!F145","v":"Process sampling  [CS2]. "},{"$f":"WPG!F287","v":"Covers frequency up to: weekly use [G3]. "},"Avoid carrying out activities for more than 1 hour [OC11]","Locate bulk storage outdoors [E2]","Consider technical advances and process upgrades (including automation) for the elimination of releases. Minimise exposure using measures such as closed systems, dedicated facilities and suitable general/local exhaust ventilation. Drain down systems and clear transfer lines prior to breaking containment. Clean/flush equipment, where possible, prior to maintenance. Where there is potential for exposure: restrict access to authorised persons; provide specific activity training to operators to minimise exposures; wear suitable gloves and coveralls to prevent skin contamination; wear respiratory protection when its use is identified for certain contributing scenarios; clear up spills immediately and dispose of wastes safely. Ensure safe systems of work or equivalent arrangements are in place to manage risks. Regularly inspect, test and maintain all control measures. Consider the need for risk based health surveillance. [G20]",{"$f":"WPG!F458","v":"Wear suitable gloves tested to EN374 [PPE15]. "},"Return IBCs to supplier [ENVT6]. ","Avoid carrying out activities for more than 1 hour [OC11]","Locate bulk storage outdoors [E2]","Consider technical advances and process upgrades (including automation) for the elimination of releases. Minimise exposure using measures such as closed systems, dedicated facilities and suitable general/local exhaust ventilation. Drain down systems and clear transfer lines prior to breaking containment. Clean/flush equipment, where possible, prior to maintenance. Where there is potential for exposure: restrict access to authorised persons; provide specific activity training to operators to minimise exposures; wear suitable gloves and coveralls to prevent skin contamination; wear respiratory protection when its use is identified for certain contributing scenarios; clear up spills immediately and dispose of wastes safely. Ensure safe systems of work or equivalent arrangements are in place to manage risks. Regularly inspect, test and maintain all control measures. Consider the need for risk based health surveillance. [G20]",{"$f":"M114","v":"Wear suitable gloves tested to EN374 [PPE15]. "},"Return IBCs to supplier [ENVT6]. ",{"$f":"WPG!F299","v":"Assumes use at not more than 20°C above ambient temperature, unless stated differently [G15]. "},{"$f":"WPG!F307","v":"Where other Risk Management Measures/Operational Conditions are adopted, then users should ensure that risks are managed to at least equivalent levels [G23]. "},{"$f":"WPG!$F$553","v":"Not applicable. "},{"$f":"WPG!$F$553","v":"Not applicable. "},{"$f":"WPG!D376","v":"Provide a good standard of general ventilation (not less than 3 to 5 air changes per hour) "},{"$f":"WPG!D391","v":"Provide enhanced general ventilation by mechanical means"}]
["2 - Use in closed, continuous  process with occasional controlled exposure ",{"$f":"WPG!F463","v":"If repeated and/or prolonged skin exposure to the substance is likely, then wear suitable gloves tested to EN374 and provide employee skin care programmes [PPE20]. "},"Readily biodegradable in marine screening test","Substance is an isomeric mixture","ERC3",{"$f":"WPG!F52","v":"Use as an intermediate [GEST1B_I]. "},{"$f":"WPG!F99","v":"Use of substance as an intermediate (not related to Strictly Controlled Conditions). Includes recycling/ recovery, material transfers, storage,  sampling, associated laboratory activities, maintenance and loading (including marine vessel/barge, road/rail car and bulk container) [GES1B_I]. "},{"$f":"WPG!F146","v":"Material transfers  [CS3]. "},{"$f":"WPG!F288","v":"Covers frequency up to: monthly use [G4 ]. "},"Avoid carrying out activities for more than 4 hours [OC12]","Ensure that enough fresh air is supplied to dilute and remove dusts, fumes or vapours. Between 5 and 15 air changes per hour are recommended, with a through draught. [E5].","Control any potential exposure using measures such as contained or enclosed systems, properly designed and maintained facilities and a good standard of general ventilation. Drain down systems and transfer lines prior to breaking containment. Drain down and flush equipment where possible prior to maintenance. Where there is potential for exposure: Ensure relevant staff are informed of the nature of exposure and aware of basic actions to minimise exposures; ensure suitable personal protective equipment is available; clear up spills and dispose of waste in accordance with regulatory requirements; monitor effectiveness of control measures;  consider the need for health surveillance; identify and implement corrective actions. [G25]",{"$f":"WPG!F459","v":"Wear chemically resistant gloves (tested to EN374) in combination with ‘basic’ employee training [PPE16]. "},"Return IBCs or tanks to supplier for re-use [ENVT7]. ","Avoid carrying out activities for more than 4 hours [OC12]","Ensure that enough fresh air is supplied to dilute and remove dusts, fumes or vapours. Between 5 and 15 air changes per hour are recommended, with a through draught. [E5].","Control any potential exposure using measures such as contained or enclosed systems, properly designed and maintained facilities and a good standard of general ventilation. Drain down systems and transfer lines prior to breaking containment. Drain down and flush equipment where possible prior to maintenance. Where there is potential for exposure: Ensure relevant staff are informed of the nature of exposure and aware of basic actions to minimise exposures; ensure suitable personal protective equipment is available; clear up spills and dispose of waste in accordance with regulatory requirements; monitor effectiveness of control measures;  consider the need for health surveillance; identify and implement corrective actions. [G25]","Wear chemically resistant gloves (tested to EN374) in combination with ‘basic’ employee training [PPE16]. ","Return IBCs or tanks to supplier for re-use [ENVT7]. ",{"$f":"WPG!F301","v":"Assumes activities are at ambient temperature (unless stated differently) [G17]. "},{"$f":"WPG!F314","v":"Predicted exposures are not expected to exceed the applicable exposure limits (given in section 8 of the SDS) when the operational conditions/risk management measures given in section 2 are implemented [G29]. "}]
["3 - Use in closed batch process (synthesis or formulation)",null,"Readily biodegradable, failing 10 day window","Substance is a complex UVCB","ERC4",{"$f":"WPG!F53","v":"Formulation & (re)packing of substances and mixtures  [GEST2_I]. "},{"$f":"WPG!F100","v":"Formulation, packing and re-packing of the substance and its mixtures in batch or continuous operations, including storage, materials transfers, mixing, tabletting, compression, pelletisation, extrusion, large and small scale packing,  sampling, maintenance and associated laboratory activities [GES2_I]. "},{"$f":"WPG!F147","v":"Dipping, immersion and pouring [CS4]. "},{"$f":"WPG!F289","v":"Covers frequency up to: daily yearly use [G5 ]. "},"Limit the substance in product to 1% [OC16].","Ensure dedicated sample points are provided [E10]","Other protection measures such as segregation of activity, minimisation of personnel, respiratory protection, impervious suits and face shields should also be considered for high dispersion activities which are likely to lead to substantial aerosol or vapour release, e.g. spraying. [G25a]",{"$f":"WPG!F460","v":"Wear chemically resistant gloves (tested to EN374) in combination with specific activity training [PPE17]. "},"All waste product is assumed to be collected and returned for re-processing or use as a fuel [ENVT8]. ","Limit the substance in product to 1% [OC16].","Ensure dedicated sample points are provided [E10]","Other protection measures such as segregation of activity, minimisation of personnel, respiratory protection, impervious suits and face shields should also be considered for high dispersion activities which are likely to lead to substantial aerosol or vapour release, e.g. spraying. [G25a]","Wear chemically resistant gloves (tested to EN374) in combination with specific activity training [PPE17]. ","All waste product is assumed to be collected and returned for re-processing or use as a fuel [ENVT8]. ",{"$f":"WPG!F341","v":"Operation is carried out at elevated temperature (> 20°C above ambient temperature) [OC7 ]. "},{"$f":"WPG!F317","v":"Available hazard data do not enable the derivation of a DNEL for dermal irritant effects [G32]. "}]
["4 - Use in batch and other process (synthesis) where opportunity for exposure arises ",null,"Inherently biodegradable, fulfilling criteria","Predominantly hydrophobic","ERC5",{"$f":"WPG!F54","v":"Uses in Coatings [GEST3_I]. "},{"$f":"WPG!F101","v":"Covers the use in coatings (paints, inks, adhesives, etc) including  exposures during use (including materials receipt, storage, preparation and transfer from bulk and semi-bulk, application by spray, roller, spreader, dip, flow, fluidised bed on production lines and film formation) and equipment cleaning, maintenance and associated laboratory activities [GES3_I]. "},{"$f":"WPG!F148","v":"Equipment maintenance   [CS5]. "},{"$f":"WPG!F290","v":"Covers frequency up to: daily use, weekly, monthly, yearly. [G6 ]. "},"Limit the substance in product to 5% [OC17].","Provide a good standard of general ventilation (not less than 3-5 air changes per hour) [E11]","Avoid direct skin contact with product. Identify potential areas for indirect skin contact.  Wear gloves (tested to EN374) if hand contact with substance likely. Clean up contamination/spills as soon as they occur. Wash off any skin contamination immediately. Provide basic employee training to prevent / minimise exposures and to report any skin problems that may develop. [E3]",{"$f":"WPG!F461","v":"Wear chemically resistant gloves (tested to EN374) in combination with intensive management supervision controls [PPE18]. "},"User sites are assumed to be provided with oil/water separators and for waste water to be discharged via public sewer system [ENVT9]. ","Limit the substance in product to 5% [OC17].","Provide a good standard of general ventilation (not less than 3-5 air changes per hour) [E11]","Avoid direct skin contact with product. Identify potential areas for indirect skin contact.  Wear gloves (tested to EN374) if hand contact with substance likely. Clean up contamination/spills as soon as they occur. Wash off any skin contamination immediately. Provide basic employee training to prevent / minimise exposures and to report any skin problems that may develop. [E3]","Wear chemically resistant gloves (tested to EN374) in combination with intensive management supervision controls [PPE18]. ","User sites are assumed to be provided with oil/water separators and for waste water to be discharged via public sewer system [ENVT9]. ",{"$f":"WPG!F342","v":"Indoor  [OC8]. "},{"$f":"WPG!F318","v":"Available hazard data do not enable the derivation of a DNEL for carcinogenic effects [G33]. "}]
["5 -Mixing or blending in batch processes (multistage and/or significant contact)",null,"Inherently biodegradable, not fulfilling criteria","Non-hydrophobic","ERC6a",{"$f":"WPG!F55","v":"Uses in Coatings [GEST3_P]. "},{"$f":"WPG!F102","v":"Covers the use in coatings (paints, inks, adhesives, etc) including  exposures during use (including materials receipt, storage, preparation and transfer from bulk and semi-bulk, application by spray, roller, brush, spreader by hand or similar methods, and film formation), and equipment cleaning, maintenance and associated laboratory activities [GES3_P]. "},{"$f":"WPG!F149","v":"Drum and small package filling [CS6]. "},null,"Limit the substance in product to 25% [OC18].","Provide a good standard of controlled ventilation (10 to 15 air changes per hour) [E40].","Other skin protection measures such as impervious suits and face shields will be required during high dispersion activities which are likely to lead to substantial aerosol release, e.g. spraying [E4]",{"$f":"WPG!F462","v":"Wear suitable gloves (tested to EN374) and eye protection [PPE19]. "},"Dispose of waste or used sacks/containers according to local regulations [ENVT10]. ","Limit the substance in product to 25% [OC18].","Provide a good standard of controlled ventilation (10 to 15 air changes per hour) [E40].","Other skin protection measures such as impervious suits and face shields will be required during high dispersion activities which are likely to lead to substantial aerosol release, e.g. spraying [E4]","Wear suitable gloves (tested to EN374) and eye protection [PPE19]. ","Dispose of waste or used sacks/containers according to local regulations [ENVT10]. ",{"$f":"WPG!F343","v":"Outdoor  [OC9]. "},{"$f":"WPG!F320","v":"Available hazard data enable the derivation of a DNEL for other health effects [G35]. "}]
["6 -Calendering operations",null,"Not biodegradable",null,"ERC6b",{"$f":"WPG!F56","v":"Uses in Coatings [GEST3_C]. "},{"$f":"WPG!F103","v":"Covers the use in coatings (paints, inks, adhesives, etc) including  exposures during use (including product transfer and preparation, application by brush, spray by hand or similar methods) and equipment cleaning [GES3_C]. "},{"$f":"WPG!F150","v":"Small package filling [CS7]. "},null,"Limit the substance in product to 10% [OC19].","Discharge sacks via suitable vented charge chute [E44].","Ensure control measures are regularly inspected and maintained [E6]",{"$f":"WPG!F464","v":"Wear suitable respiratory protection (conforming to EN140 with Type A filter or better) and gloves (type EN374) if regular skin contact likely [PPE21]. "},"Dispose of waste product or used containers according to local regulations [ENVT12]. ","Limit the substance in product to 10% [OC19].","Discharge sacks via suitable vented charge chute [E44].","Ensure control measures are regularly inspected and maintained [E6]","Wear suitable respiratory protection (conforming to EN140 with Type A filter or better) and gloves (type EN374) if regular skin contact likely [PPE21]. ","Dispose of waste product or used containers according to local regulations [ENVT12]. ",null,{"$f":"WPG!F321","v":"Available hazard data do not support the need for a DNEL to be established for other health effects [G36]. "}]
["7 -Industrial spraying",null,null,null,"ERC6c",{"$f":"WPG!F57","v":"Use in Cleaning Agents [GEST4_I]. "},{"$f":"WPG!F104","v":"Covers the use as a component of cleaning products including transfer from storage, pouring/unloading from drums or containers. Exposures during mixing/diluting in the preparatory phase and cleaning activities (including spraying, brushing, dipping, wiping, automated and by hand), related equipment cleaning and maintenance [GES4_I]. "},{"$f":"WPG!F151","v":"Drum/batch transfers  [CS8]. "},null,"Limit the substance in product to 15% [OC20].","Provide enhanced mechanical ventilation by mechanical means [E48].","Minimise the volume and frequency of sampling [E7]",{"$f":"WPG!F465","v":"Wear a respirator conforming to EN140 with Type A filter or better [PPE22]. "},"Clean IBCs or drums at approved facility [ENVT14]. ","Limit the substance in product to 15% [OC20].","Provide enhanced mechanical ventilation by mechanical means [E48].","Minimise the volume and frequency of sampling [E7]","Wear a respirator conforming to EN140 with Type A filter or better [PPE22]. ","Clean IBCs or drums at approved facility [ENVT14]. ",null,{"$f":"WPG!F331","v":"The ECETOC TRA v3 tool has been used to estimate workplace exposures unless otherwise indicated [G46]. "}]
["8a -Transfer of chemicals from/to vessels/ large containers at non dedicated facilities",null,null,null,"ERC6d",{"$f":"WPG!F58","v":"Use in Cleaning Agents [GEST4_P]. "},{"$f":"WPG!F105","v":"Covers the use as a component of cleaning products including pouring/unloading from drums or containers; and exposures during mixing/diluting in the preparatory phase and cleaning activities (including spraying, brushing, dipping, wiping automated and by hand) [GES4_P]. "},{"$f":"WPG!F152","v":"Pouring from small containers  [CS9]. "},null,"Limit the substance in product to 20% [OC21].","Use long handled tools where possible [E50].","Put lids on containers immediately after use [E9]. ",{"$f":"WPG!F466","v":"Wear suitable gloves (tested to EN374), coverall and eye protection [PPE23]. "},"User site assumed to be separate chemical and foul/rain water and be equipped with a WWTP [ENVT15]. ","Limit the substance in product to 20% [OC21].","Use long handled tools where possible [E50].","Put lids on containers immediately after use [E9]. ","Wear suitable gloves (tested to EN374), coverall and eye protection [PPE23]. ","User site assumed to be separate chemical and foul/rain water and be equipped with a WWTP [ENVT15]. ",null,{"$f":"WPG!F322","v":"Risk Management Measures are based on qualitative risk characterisation [G37]. "}]
["8b -Transfer of chemicals from/to vessels/ large containers at dedicated facilities",null,null,null,"ERC7",{"$f":"WPG!F59","v":"Use in Cleaning Agents [GEST4_C]. "},{"$f":"WPG!F106","v":"Covers general exposures to consumers arising from the use of household products sold as washing and cleaning products, aerosols, coatings, de-icers, lubricants and air care products [GES4_C]. "},{"$f":"WPG!F153","v":"Spraying [CS10]. "},null,"Limit the substance content in the mixture to 50% [OC22].","Fill containers/cans at dedicated fill points supplied with local extract ventilation [E51]","Decontaminate tools, equipment and personal protective equipment in a segregated area. [E13]",{"$f":"WPG!F467","v":"Wear a full face respirator conforming to EN140 with Type A filter or better [PPE24]. "},"Do not wash equipment or storage containers [ENVT16]. ","Limit the substance content in the mixture to 50% [OC22].","Fill containers/cans at dedicated fill points supplied with local extract ventilation [E51]","Decontaminate tools, equipment and personal protective equipment in a segregated area. [E13]","Wear a full face respirator conforming to EN140 with Type A filter or better [PPE24]. ","Do not wash equipment or storage containers [ENVT16]. ",null,{"$f":"WPG!F323","v":"Users are advised to consider national Occupational Exposure Limits or other equivalent values [G38]. "}]
["9 -Transfer of chemicals into small containers (dedicated filling line)",null,null,null,"ERC8a",{"$f":"WPG!F60","v":"Use in Oil and Gas field drilling and production operations  [GEST5_I]. "},{"$f":"WPG!F107","v":"Oil field well drilling and production operations (including drilling muds and well cleaning) including material transfers, on-site formulation, well head operations, shaker room activities and related maintenance [GES5_I]. "},{"$f":"WPG!F154","v":"Printing [CS11]. "},null,"Avoid carrying out activities for more than 0.5 hour [OC23]","Use drum pumps [E53].","Label feed lines E23].",{"$f":"WPG!F468","v":"Change filter cartridge on respirator daily [PPE25]. "},"Remotely vent displaced vapours [ENVT17]. ","Avoid carrying out activities for more than 0.5 hour [OC23]","Use drum pumps [E53].","Label feed lines E23].","Change filter cartridge on respirator daily [PPE25]. ","Remotely vent displaced vapours [ENVT17]. ",null,{"$f":"WPG!F324","v":"No exposure assessment presented for human health [G39]. "}]
["10 - Roller application or brushing ",null,null,null,"ERC8b",{"$f":"WPG!F61","v":"Use in Oil and Gas field drilling and production operations  [GEST5_P]. "},{"$f":"WPG!F108","v":"Oil field well drilling operations (including drilling muds and well cleaning) including material transfers, on-site formulation, well head operations, shaker room activities and related maintenance [GES5_P]. "},{"$f":"WPG!F155","v":"Drying and storage  [CS12]. "},null,"Avoid carrying out activities for more than 2 hours [OC24]","Provide extract ventilation to points where emissions occur [E54]. ","Avoid dip sampling. [E42].",{"$f":"WPG!F469","v":"Use suitable eye protection [PPE26]. "},"Additive package assumed to be blended direct to lubricant with no process steps [ENVT20]. ","Avoid carrying out activities for more than 2 hours [OC24]","Provide extract ventilation to points where emissions occur [E54]. ","Avoid dip sampling. [E42].","Use suitable eye protection [PPE26]. ","Additive package assumed to be blended direct to lubricant with no process steps [ENVT20]. "]
["11 - Non industrial spraying",null,null,null,"ERC8c",{"$f":"WPG!F62","v":"Lubricants [GEST6_I]. "},{"$f":"WPG!F109","v":"Covers the use of formulated lubricants in closed and open systems including transfer operations, operation of machinery/engines and similar articles, reworking on reject articles, equipment maintenance and disposal of wastes [GES6_I]. "},{"$f":"WPG!F157","v":"Bulk transfers [CS14]. "},null,"Avoid carrying out activities involving exposure for more than 15 minutes [OC26]","Use ventilation to extract vapours from freshly coated articles/objects [E56]. ","Use bulk or semi-bulk handling systems [E43].",{"$f":"WPG!F470","v":"Wear suitable coveralls to prevent exposure to the skin [PPE27]. "},"All contaminated waste water must be processed in an industrial or municipal wastewater treatment plant that incorporates both primary and secondary treatments [W1]. ","Avoid carrying out activities involving exposure for more than 15 minutes [OC26]","Use ventilation to extract vapours from freshly coated articles/objects [E56]. ","Use bulk or semi-bulk handling systems [E43].","Wear suitable coveralls to prevent exposure to the skin [PPE27]. ","All contaminated waste water must be processed in an industrial or municipal wastewater treatment plant that incorporates both primary and secondary treatments [W1]. "]
["12 - Use of blow agents for foam production",null,null,null,"ERC8d",{"$f":"WPG!F63","v":"Lubricants [GEST6_P]. "},{"$f":"WPG!F110","v":"Covers the use of formulated lubricants in closed and open systems including transfer operations, operation of engines and similar articles, reworking on reject articles, equipment maintenance and disposal of waste oil [GES6_P]. "},{"$f":"WPG!F158","v":"General exposures (closed systems)  [CS15]. "},null,"Avoid carrying out activities involving exposure for more than 1 hour [OC27]","Carry out in a vented booth or extracted enclosure [E57]. ","Carefully pour from containers [E62].",{"$f":"WPG!F471","v":"Wear rubber boots [PPE28]. "},"Site should have a spill plan to ensure that adequate safeguards are in place to minimize the impact of episodic releases [W2]. ","Avoid carrying out activities involving exposure for more than 1 hour [OC27]","Carry out in a vented booth or extracted enclosure [E57]. ","Carefully pour from containers [E62].","Wear rubber boots [PPE28]. ","Site should have a spill plan to ensure that adequate safeguards are in place to minimize the impact of episodic releases [W2]. "]
["13 -Treatment of articles by dipping and pouring ",null,null,null,"ERC8e",{"$f":"WPG!F64","v":"Lubricants [GEST6_C]. "},{"$f":"WPG!F111","v":"Covers the consumer use of formulated lubricants in closed and open systems including transfer operations, application, operation of engines and similar articles, equipment maintenance and disposal of waste oil [GES6_C]. "},{"$f":"WPG!F159","v":"General exposures (open systems)  [CS16]. "},null,"Avoid carrying out activities involving exposure for more than 4 hours [OC28]","Use long handled brushes and rollers where possible. [E58].","Segregate the activity away from other operations [E63].",{"$f":"WPG!F472","v":"Wear a respirator conforming to EN140 with Type A/P2  filter or better [PPE29]. "},"A leak prevention plan is needed to prevent low level continual releases [W3]. ","Avoid carrying out activities involving exposure for more than 4 hours [OC28]","Use long handled brushes and rollers where possible. [E58].","Segregate the activity away from other operations [E63].","Wear a respirator conforming to EN140 with Type A/P2  filter or better [PPE29]. ","A leak prevention plan is needed to prevent low level continual releases [W3]. "]
["14 - Production of preparations or articles by tabletting, compression, extrusion, pelletisation",null,null,null,"ERC8f",{"$f":"WPG!F65","v":"Metal working fluids / rolling oils  [GEST7_I]. "},{"$f":"WPG!F112","v":"Covers the use in formulated MWFs/rolling oils including transfer operations, rolling and annealing activities, cutting/machining activities, automated and manual application of corrosion protections (including brushing, dipping and spraying), equipment maintenance, draining and disposal of waste oils [GES7_I]. "},{"$f":"WPG!F160","v":"Operation and lubrication of high energy open equipment [CS17]. "},null,"Sample via a closed loop or other system to avoid exposure [E8].","Carry out in a vented booth provided with laminar airflow [E59]. ","Ensure doors and windows are opened [E72]. ",{"$f":"WPG!F473","v":"If above technical/organisational control measures are not feasible, then adopt following PPE [PPE30]. "},"A storm water management plan is needed to ensure that the wastewater treatment plant is not overloaded with uncontaminated water [W4]. ","Sample via a closed loop or other system to avoid exposure [E8].","Carry out in a vented booth provided with laminar airflow [E59]. ","Ensure doors and windows are opened [E72]. ","If above technical/organisational control measures are not feasible, then adopt following PPE [PPE30]. ",{"$f":"N128","v":"A storm water management plan is needed to ensure that the wastewater treatment plant is not overloaded with uncontaminated water [W4]. "}]
["15 - Use of laboratory reagents in small scale laboratories",null,null,null,"ERC9a",{"$f":"WPG!F66","v":"Metal working fluids / rolling oils  [GEST7_P]. "},{"$f":"WPG!F113","v":"Covers the use in formulated MWFs including transfer operations, open and contained cutting/machining activities, automated and manual application of corrosion protections, draining and working on contaminated/ reject articles, and disposal of waste oils [GES7_P]. "},{"$f":"WPG!F161","v":"Maintenance of small items  [CS18]. "},null,"Handle within a fume cupboard or implement suitable equivalent methods to minimize exposure [E12].","Minimise exposure by partial enclosure of the operation or equipment and provide extract ventilation at openings [E60]. ","Avoid direct eye contact with product, also via contamination on hands. [E73]",{"$f":"WPG!F474","v":"Wear positive pressure air supplied respirator if required by safe entry procedures [PPE31]. "},"Minimize water use and curtail all unnecessary waste water generation [W5]. ","Handle within a fume cupboard or implement suitable equivalent methods to minimize exposure [E12].","Minimise exposure by partial enclosure of the operation or equipment and provide extract ventilation at openings [E60]. ","Avoid direct eye contact with product, also via contamination on hands. [E73]","Wear positive pressure air supplied respirator if required by safe entry procedures [PPE31]. ","Minimize water use and curtail all unnecessary waste water generation [W5]. "]
["16 - Using material as fuel sources, limited exposure to unburned product to be expected",null,null,null,"ERC9b",{"$f":"WPG!F67","v":"Use as a propellant [GEST8_P]. "},{"$f":"WPG!F114","v":"Use as a propellant in professional aerosol products [GES8_P]. "},{"$f":"WPG!F162","v":"Remanufacture of reject articles [CS19]. "},null,"Clear transfer lines prior to de-coupling [E39].","Minimise exposure by extracted full enclosure for the operation or equipment [E61]. ","Ensure the ventilation system is regularly maintained and tested [E74]. ",{"$f":"WPG!F475","v":"Wear a full face respirator conforming to EN140 with Type A/P2  filter or better [PPE32]. "},"Ensure all waste water is collected and treated via a WWTP [W6]. ","Clear transfer lines prior to de-coupling [E39].","Minimise exposure by extracted full enclosure for the operation or equipment [E61]. ","Ensure the ventilation system is regularly maintained and tested [E74]. ","Wear a full face respirator conforming to EN140 with Type A/P2  filter or better [PPE32]. ","Ensure all waste water is collected and treated via a WWTP [W6]. "]
["17 - Lubrication at high energy conditions and in partly open process",null,null,null,"ERC10a",{"$f":"WPG!F68","v":"Use as a propellant [GEST8_C]. "},{"$f":"WPG!F115","v":"Use as a propellant in household consumer aerosol products [GES8_C]. "},{"$f":"WPG!F163","v":"Engine lubricant service  [CS20]. "},null,"Use in semi-automated and predominantly enclosed filling lines [E41].","Use drum pumps or carefully pour from container [E64].","Operate activity away from sources of substance emission or release [E77]",{"$f":"WPG!F476","v":"Wear a respirator providing a minimum efficiency of 90 % [PPE33]. "},"Contain and treat vapors from stripping operations [W7]. ","Use in semi-automated and predominantly enclosed filling lines [E41].","Use drum pumps or carefully pour from container [E64].","Operate activity away from sources of substance emission or release [E77]","Wear a respirator providing a minimum efficiency of 90 % [PPE33]. ","Contain and treat vapors from stripping operations [W7]. "]
["18 - Greasing at high energy conditions",null,null,null,"ERC10b",{"$f":"WPG!F69","v":"Blowing agents  [GEST9_I]. "},{"$f":"WPG!F116","v":"Use as a blowing agent for rigid and flexible foams, including material transfers, mixing and injection, curing, cutting, storage and packing [GES9_I]. "},{"$f":"WPG!F164","v":"Operation of total loss equipment and systems [CS21]. "},null,"Transfer materials directly to mixing vessels [E45].","Provide extract ventilation to emission points when contact with warm (>50 deg C) lubricant is likely [E67]. ","Use dedicated equipment [E85].",{"$f":"WPG!F477","v":"Wear a respirator providing a minimum efficiency of 95 % [PPE34]. "},"Do not wash equipment or storage containers [W8]. ","Transfer materials directly to mixing vessels [E45].","Provide extract ventilation to emission points when contact with warm (>50 deg C) lubricant is likely [E67]. ","Use dedicated equipment [E85].","Wear a respirator providing a minimum efficiency of 95 % [PPE34]. ","Do not wash equipment or storage containers [W8]. "]
["19 - Hand-mixing with intimate contact (only PPE available",null,null,null,"ERC11a",{"$f":"WPG!F70","v":"Use as binders and release agents [GEST10_I]. "},{"$f":"WPG!F117","v":"Covers the use as binders and release agents including material transfers, mixing, application (including spraying and brushing), mould forming and casting, and handling of waste [GES10_I]. "},{"$f":"WPG!F165","v":"Transfer from/pouring from containers  [CS22]. "},null,"Formulate in enclosed or ventilated mixing vessels [E46].","Restrict area of openings to equipment [E68].","Re-circulation of exhaust air is not recommended [E88].",null,"Maximize waste water reuse [W9]. ","Formulate in enclosed or ventilated mixing vessels [E46].","Restrict area of openings to equipment [E68].","Re-circulation of exhaust air is not recommended [E88].",null,"Maximize waste water reuse [W9]. "]
["20 - Heat and pressure transfer fluids (closed systems) in dispersive use ",null,null,null,"ERC11b",{"$f":"WPG!F71","v":"Use as binders and release agents [GEST10_P]. "},{"$f":"WPG!F118","v":"Covers the use as binders and release agents including material transfers, mixing, application by spraying, brushing, and handling of waste [GES10_P]. "},{"$f":"WPG!F167","v":"Spraying/fogging by manual application   [CS24]. "},null,"Handle substance within a closed system [E47].","Ensure operation is undertaken outdoors [E69]. ","Clean equipment and the work area every day [C&H3]. ",null,"Adequate closed storage facilities (e.g., bulk storage tanks, intermediate bulk containers, drums) for VOC-containing raw materials [A1]. ","Handle substance within a closed system [E47].","Ensure operation is undertaken outdoors [E69]. ","Clean equipment and the work area every day [C&H3]. ",null,"Adequate closed storage facilities (e.g., bulk storage tanks, intermediate bulk containers, drums) for VOC-containing raw materials [A1]. "]
["28 - Manual maintenance (cleaning and repair) of machinery ",null,null,null,"ERC12a",{"$f":"WPG!F72","v":"Use in Agrochemicals [GEST11_P]. "},{"$f":"WPG!F119","v":"Use as an agrochemical excipient for application by manual or machine spraying, smokes and fogging; including equipment clean-downs and disposal [GES11_P]. "},{"$f":"WPG!F168","v":"Spraying/fogging by machine application [CS25]. "},null,"Handle substance within a predominantly closed system provided with extract ventilation [E49].","Apply within a vented cab supplied with filtered air under positive pressure and with a protection factor of >20 [E70]. ","Dispose of empty containers and wastes safely [C&H8]. ",null,"Use of closed transfers of liquids from storage to production equipment (e.g. metered piped or pumped additions) [A2]. ","Handle substance within a predominantly closed system provided with extract ventilation [E49].","Apply within a vented cab supplied with filtered air under positive pressure and with a protection factor of >20 [E70]. ","Dispose of empty containers and wastes safely [C&H8]. ",null,"Use of closed transfers of liquids from storage to production equipment (e.g. metered piped or pumped additions) [A2]. "]
[null,null,null,null,"ERC12b",{"$f":"WPG!F73","v":"Use in Agrochemicals [GEST11-C]. "},{"$f":"WPG!F120","v":"Covers the consumer use in agrochemicals in liquid and solid forms [GES11-C]. "},{"$f":"WPG!F169","v":"Operation of equipment containing engine oils and similar [CS26]. "},null,"Transfer via enclosed lines [E52].","Provide the operation with a properly sited receiving hood [E71]. ","Dispose of waste in accordance with environmental legislation [C&H11]. ",null,"Use of closed production equipment, with no extraction, except when opening vessels for additions/sampling [A3]. ","Transfer via enclosed lines [E52].","Provide the operation with a properly sited receiving hood [E71]. ","Dispose of waste in accordance with environmental legislation [C&H11]. ",null,"Use of closed production equipment, with no extraction, except when opening vessels for additions/sampling [A3]. "]
[null,null,null,null,null,{"$f":"WPG!F74","v":"Use as a fuel  [GEST12_I]. "},{"$f":"WPG!F121","v":"Covers the use as a fuel (or fuel additive) and includes activities associated with its transfer, use, equipment maintenance and handling of waste [GES12_I]. "},{"$f":"WPG!F170","v":"Ad hoc manual application via trigger sprays, dipping, etc.  [CS27]. "},null,"Drain down and flush system prior to equipment break-in or maintenance [E55].","Provide extract ventilation to material transfer points and other openings [E82].","Clear spills immediately [C&H13]. ",null,"Use of closed filling equipment [A4]. ","Drain down and flush system prior to equipment break-in or maintenance [E55].","Provide extract ventilation to material transfer points and other openings [E82].","Clear spills immediately [C&H13]. ",null,"Use of closed filling equipment [A4]. "]
[null,null,null,null,null,{"$f":"WPG!F75","v":"Use as a fuel  [GEST12_P]. "},{"$f":"WPG!F122","v":"Covers the use as a fuel (or fuel additive) and includes activities associated with its transfer, use, equipment maintenance and handling of waste [GES12_P]. "},{"$f":"WPG!F171","v":"Disposal of wastes  [CS28]. "},null,"Drain down system prior to equipment break-in or maintenance [E65].","Use a receptor hood for fumes/vapours [E87].","Contain and dispose of waste according to local regulations [C&H14]. ",null,"Store finished products in closed containers (e.g., bulk tanks,, drums, cans) [A5]. ","Drain down system prior to equipment break-in or maintenance [E65].","Use a receptor hood for fumes/vapours [E87].","Contain and dispose of waste according to local regulations [C&H14]. ",null,"Store finished products in closed containers (e.g., bulk tanks,, drums, cans) [A5]. "]
[null,null,null,null,null,{"$f":"WPG!F76","v":"Use as a fuel  [GEST12_C]. "},{"$f":"WPG!F123","v":"Covers consumer uses in liquid fuels [GES12_C]. "},{"$f":"WPG!F172","v":"Mixing operations (closed systems) [CS29]. "},null,"Ensure material transfers are under containment or extract ventilation [E66]. ","Ensure material transfers are provided with suitable arrangements for vapour capture or venting [E90].","Avoid splashing [C&H15]. ",null,"Store all VOC-containing wastes in closed, secure containers (e.g., bulk tanks, intermediate bulk containers, drums) [A6]. ","Ensure material transfers are under containment or extract ventilation [E66]. ","Ensure material transfers are provided with suitable arrangements for vapour capture or venting [E90].","Avoid splashing [C&H15]. ",null,"Store all VOC-containing wastes in closed, secure containers (e.g., bulk tanks, intermediate bulk containers, drums) [A6]. "]
[null,null,null,null,null,{"$f":"WPG!F77","v":"Functional Fluids [GEST13_I]. "},{"$f":"WPG!F124","v":"Use as functional fluids e.g. cable oils, transfer oils, coolants, insulators, refrigerants, hydraulic fluids in industrial equipment including maintenance and related material transfers [GES13_I]. "},{"$f":"WPG!F173","v":"Mixing operations (open systems) [CS30]. "},null,"Use dry break couplings for material transfer [E75].","Handle with appropriate extract ventilation or equivalent methods to control exposure [E93].","Avoid spillage when withdrawing pump [C&H16]. ",null,"Use vapour recovery units when necessary [A7]. ","Use dry break couplings for material transfer [E75].","Handle with appropriate extract ventilation or equivalent methods to control exposure [E93].","Avoid spillage when withdrawing pump [C&H16]. ",null,{"$f":"N141","v":"Incinerate, absorb, or adsorb vapours stripped from solution whenever necessary [A8]. "}]
[null,null,null,null,null,{"$f":"WPG!F78","v":"Functional Fluids [GEST13_P]. "},{"$f":"WPG!F125","v":"Use as functional fluids e.g. cable oils, transfer oils, coolants, insulators, refrigerants, hydraulic fluids in professional equipment including maintenance and related material transfers [GES13_P]. "},{"$f":"WPG!F174","v":"Mold forming [CS31]. "},null,"Ensure samples are under containment or extract ventilation [E76]. ","Retain drain downs in sealed storage pending disposal or for subsequent recycle [ENVT4]","Handle all packages and containers carefully to minimise spills [EI1]. ",null,"Incinerate, absorb, or adsorb vapours stripped from solution whenever necessary [A8]. ","Ensure samples are under containment or extract ventilation [E76]. ","Retain drain downs in sealed storage pending disposal or for subsequent recycle [ENVT4]","Handle all packages and containers carefully to minimise spills [EI1]. ",null,"All waste product is assumed to be collected and returned for re-processing or use as a fuel [A9]. "]
[null,null,null,null,null,{"$f":"WPG!F79","v":"Functional Fluids [GEST13_C]. "},{"$f":"WPG!F126","v":"Use of sealed items containing functional fluids e.g. transfer oils, hydraulic fluids, refrigerants [GES13_C]. "},{"$f":"WPG!F175","v":"Casting operations [CS32]. "},null,"Drain or remove substance from equipment prior to break-in or maintenance [E81].","Remotely vent displaced vapours [ENVT17]","Clear up spills immediately and dispose of waste safely [EI9]. ",null,"All waste product is assumed to be collected and returned for re-processing or use as a fuel [A9]. ","Drain or remove substance from equipment prior to break-in or maintenance [E81].","Remotely vent displaced vapours [ENVT17]","Clear up spills immediately and dispose of waste safely [EI9]. ",null,"Formulation activity is assumed to be a predominantly enclosed process  [A10]. "]
[null,null,null,null,null,{"$f":"WPG!F80","v":"De-icing and anti-icing applications [GEST14_P]. "},{"$f":"WPG!F127","v":"Ice prevention and de-icing of vehicles, aircraft and other equipment by spraying [GES14_P]. "},{"$f":"WPG!F176","v":"Machine [CS33]. "},null,"Handle in a fume cupboard or under extract ventilation [E83].",null,"Avoid manual contact with wet work pieces [EI17]. ",null,"Formulation activity is assumed to be a predominantly enclosed process  [A10]. ","Handle in a fume cupboard or under extract ventilation [E83].",null,"Avoid manual contact with wet work pieces [EI17]. ",null,"Dispose of waste or used sacks/containers according to local regulations [S2]. "]
[null,null,null,null,null,{"$f":"WPG!F81","v":"De-icing and anti-icing applications [GEST14_C]. "},{"$f":"WPG!F128","v":"De-icing of vehicles and similar equipment by spraying [GES14_C]. "},{"$f":"WPG!F177","v":"Manual [CS34]. "},null,"Store substance within a closed system [E84].",null,"No specific measures identified [EI18]. ",null,"Dispose of waste or used sacks/containers according to local regulations [S2]. ","Store substance within a closed system [E84].",null,"No specific measures identified [EI18]. ",null,"Good housekeeping- e.g. inspection procedures will ensure that there are no leaks to soil [S3]. "]
[null,null,null,null,null,{"$f":"WPG!F82","v":"Road and construction applications [GEST15-P]. "},{"$f":"WPG!F129","v":"Application of surface coatings and binders in road and construction activities, including paving uses, manual mastic and in the application of roofing and water-proofing membranes [GES15-P]. "},{"$f":"WPG!F178","v":"Treatment by dipping and pouring [CS35]. "},null,"Use high-performance fume cupboard [E86].",null,"Ensure operatives are trained to minimise exposures [EI119]. ",null,"Good housekeeping- e.g. inspection procedures will ensure that there are no leaks to soil [S3]. ","Use high-performance fume cupboard [E86].",null,"Ensure operatives are trained to minimise exposures [EI119]. ",null,"Prevent leaks and prevent soil / water pollution caused by leaks [S4]. "]
[null,null,null,null,null,{"$f":"WPG!F83","v":"Other Consumer Uses [GEST16_C]. "},{"$f":"WPG!F130","v":"Consumer uses e.g. as a carrier in cosmetics/personal care products, perfumes and fragrances. Note: For cosmetic and personal care products, risk assessment only required for the environment under REACH as human health is covered by alternative legislation [GES16_C]. "},{"$f":"WPG!F179","v":"Laboratory activities  [CS36]. "},null,"Use a sampling system designed to control exposure [E89].",null,"No other specific measures identified [EI20]. ",null,"Prevent leaks and prevent soil / water pollution caused by leaks [S4]. ","Use a sampling system designed to control exposure [E89].",null,"No other specific measures identified [EI20]. ",null,"Bund storage facilities to prevent soil and water pollution in the event of spillage [S5]. "]
[null,null,null,null,null,{"$f":"WPG!F84","v":"Use in laboratories [GEST17_I]. "},{"$f":"WPG!F131","v":"Use of the substance within laboratory settings, including material transfers and equipment cleaning [GES17_I]. "},{"$f":"WPG!F180","v":"Use in contained batch processes  [CS37]. "},null,"Handle within contained systems with minimum manual intervention [E92].",null,"Allow time for product to drain from workpiece [EI21].",null,"Bund storage facilities to prevent soil and water pollution in the event of spillage [S5]. ","Handle within contained systems with minimum manual intervention [E92].",null,"Allow time for product to drain from workpiece [EI21]."]
[null,null,null,null,null,{"$f":"WPG!F85","v":"Use in laboratories [GEST17-P]. "},{"$f":"WPG!F132","v":"Use of small quantities within laboratory settings, including material transfers and equipment cleaning [GES17-P]. "},{"$f":"WPG!F181","v":"Use in contained systems [CS38]. "},null,"Store substance within properly designed and maintained facilities [E94]",null,"Stay upwind/keep distance from source [EI22].",null,null,"Store substance within properly designed and maintained facilities [E94]",null,"Stay upwind/keep distance from source [EI22]."]
[null,null,null,null,null,{"$f":"WPG!F86","v":"Explosives manufacture & use [GEST18_P]. "},{"$f":"WPG!F133","v":"Covers exposures arising from the manufacture and use of slurry explosives (including  materials transfer, mixing and charging) and equipment cleaning [GES18_P]. "},{"$f":"WPG!F182","v":"Equipment cleaning and maintenance [CS39]. "},null,null,null,"Only allow access to authorized persons [AP1].",null,null,null,null,"Only allow access to authorized persons [AP1]."]
[null,null,null,null,null,{"$f":"WPG!F87","v":"Rubber production and processing [GEST19_I]. "},{"$f":"WPG!F134","v":"Manufacture of tyres and general rubber articles, including processing of raw (uncured) rubber, handling and mixing of rubber additives, vulcanising, cooling and finishing [GES19_I]. "},{"$f":"WPG!F183","v":"Vapour degreasing bath [CS40]. "},null,null,null,"Apply vessel entry procedures including use of forced supplied air [AP15]. ",null,null,null,null,"Apply vessel entry procedures including use of forced supplied air [AP15]. "]
[null,null,null,null,null,{"$f":"WPG!F88","v":"Polymer production [GEST20_I]. "},{"$f":"WPG!F135","v":"Manufacture of polymers from monomers in continuous and batch processes. Including production, re-cycling and recovery, degassing, discharging, reactor maintenance and immediate polymer product formation (i.e. compounding, pelletisation, product off-gassing) [GES20_I]. "},{"$f":"WPG!F184","v":"Degreasing small objects in cleaning station [CS41]. "},null,null,null,"Automate activity where possible [AP16]. ",null,null,null,null,"Automate activity where possible [AP16]. "]
[null,null,null,null,null,{"$f":"WPG!F89","v":"Water treatment chemicals [GEST21_I]. "},{"$f":"WPG!F136","v":"Covers the use of the substance for the treatment of water at industrial facilities in open and closed systems [GES21_I]. "},{"$f":"WPG!F185","v":"Cleaning with low-pressure washers [CS42]. "}]
[null,null,null,null,null,{"$f":"WPG!F90","v":"Water treatment chemicals [GEST21_P]. "},{"$f":"WPG!F137","v":"Covers the use of the substance for the treatment of water in open and closed systems [GES21_P]. "},{"$f":"WPG!F186","v":"On site [CS43]. "}]
[null,null,null,null,null,{"$f":"WPG!F91","v":"Water treatment chemicals [GEST21_C]. "},{"$f":"WPG!F138","v":"Covers the use of the substance for the treatment of water in open and closed systems [GES21_C]. "},{"$f":"WPG!F187","v":"Cleaning with high pressure washers  [CS44]. "}]
[null,null,null,null,null,{"$f":"WPG!F92","v":"Mining chemicals [GEST22_I]. "},{"$f":"WPG!F139","v":"Covers the use of the substance in extraction processes at mining operations, including material transfers, winning and separation activities, and substance recovery and disposal [GES22_I]. "},{"$f":"WPG!F188","v":"Filling / preparation of equipment from drums or containers. [CS45]. "}]
[null,null,null,null,null,{"$f":"WPG!F93","v":"Polymer processing [GEST23_I]. "},{"$f":"WPG!F140","v":"Processing of formulated polymers including material transfers, additives handling (e.g. pigments, stabilisers, fillers, plasticisers, etc.), moulding, curing and forming activities, material re-works, storage and associated maintenance [GES23_I]. "},{"$f":"WPG!F189","v":"Large surfaces [CS46]. "}]
[null,null,null,null,null,{"$f":"WPG!F94","v":"Polymer processing [GEST23_P]. "},{"$f":"WPG!F141","v":"Processing of formulated polymers including material transfers, moulding and forming activities, material re-works and associated maintenance [GES23_P]. "},{"$f":"WPG!F190","v":"Cleaning [CS47]. "}]
[null,null,null,null,null,{"$f":"WPG!F95","v":"Use in process chemicals"},{"$f":"WPG!F142","v":"Covers the use in process chemicals or extraction agents. Includes recycling/ recovery, material transfers, storage, maintenance, sampling and associated laboratory activities. "},{"$f":"WPG!F191","v":"Surfaces [CS48]. "}]
[null,null,null,null,null,null,null,{"$f":"WPG!F192","v":"Spray Bottle [CS49]. "}]
[null,null,null,null,null,null,null,{"$f":"WPG!F193","v":"Wiping [CS50]. "}]
[null,null,null,null,null,null,null,{"$f":"WPG!F194","v":"Rolling, Brushing [CS51]. "}]
[null,null,null,null,null,null,null,{"$f":"WPG!F195","v":"Manual spot cleaning (e.g. textiles etc) [CS52]. "}]
[null,null,null,null,null,null,null,{"$f":"WPG!F196","v":"Pelletizing [CS53]. "}]
[null,null,null,null,null,null,null,{"$f":"WPG!F197","v":"Continuous process [CS54]. "}]
[null,null,null,null,null,null,null,{"$f":"WPG!F198","v":"Batch process [CS55]. "}]
[null,null,null,null,null,null,null,{"$f":"WPG!F199","v":"with sample collection [CS56]. "}]
[null,null,null,null,null,null,null,{"$f":"WPG!F200","v":"no sampling [CS57]. "}]
[null,null,null,null,null,null,null,{"$f":"WPG!F201","v":"transport [CS58]. "}]
[null,null,null,null,null,null,null,{"$f":"WPG!F202","v":"internal [CS59]. "}]
[null,null,null,null,null,null,null,{"$f":"WPG!F203","v":"no spraying [CS60]. "}]
[null,null,null,null,null,null,null,{"$f":"WPG!F204","v":"small scale  [CS61]. "}]
[null,null,null,null,null,null,null,{"$f":"WPG!F205","v":"heating oil and diesel deliveries  [CS62]. "}]
[null,null,null,null,null,null,null,{"$f":"WPG!F206","v":"vessel / container [CS63]. "}]
[null,null,null,null,null,null,null,{"$f":"WPG!F207","v":"Calendering (including Banburys) [CS64]. "}]
[null,null,null,null,null,null,null,{"$f":"WPG!F208","v":"Polymerisation (bulk and batch)  [CS65]. "}]
[null,null,null,null,null,null,null,{"$f":"WPG!F209","v":"Intermediate polymer storage  [CS66]. "}]
[null,null,null,null,null,null,null,{"$f":"WPG!F210","v":"Storage [CS67]. "}]
[null,null,null,null,null,null,null,{"$f":"WPG!F211","v":"Pelletisation and pellet screening [CS68]. "}]
[null,null,null,null,null,null,null,{"$f":"WPG!F212","v":"Additivation and stabilisation [CS69]. "}]
[null,null,null,null,null,null,null,{"$f":"WPG!F213","v":"Vulcanisation  [CS70]. "}]
[null,null,null,null,null,null,null,{"$f":"WPG!F214","v":"Cooling cured articles [CS71]. "}]
[null,null,null,null,null,null,null,{"$f":"WPG!F215","v":"Hand application - fingerpaints, pastels, adhesives [CS72]. "}]
[null,null,null,null,null,null,null,{"$f":"WPG!F216","v":"Pressing uncured rubber blanks [CS73]. "}]
[null,null,null,null,null,null,null,{"$f":"WPG!F217","v":"Cleaning of medical devices [CS74]. "}]
[null,null,null,null,null,null,null,{"$f":"WPG!F218","v":"Initial factory fill of equipment [CS75]. "}]
[null,null,null,null,null,null,null,{"$f":"WPG!F219","v":"Semi Automated process. (e.g.: Semi automatic application of floor care and maintenance products)  [CS76]. "}]
[null,null,null,null,null,null,null,{"$f":"WPG!F220","v":"Maintenance (of larger plant items)  and machine set up  [CS77]. "}]
[null,null,null,null,null,null,null,{"$f":"WPG!F221","v":"Engine lubricant service [CS78]. "}]
[null,null,null,null,null,null,null,{"$f":"WPG!F222","v":"Metal machining operations [CS79]. "}]
[null,null,null,null,null,null,null,{"$f":"WPG!F223","v":"Automated metal rolling/forming [CS80]. "}]
[null,null,null,null,null,null,null,{"$f":"WPG!F224","v":"Dedicated facility [CS81]. "}]
[null,null,null,null,null,null,null,{"$f":"WPG!F225","v":"Non-dedicated facility [CS82]. "}]
[null,null,null,null,null,null,null,{"$f":"WPG!F226","v":"Semi-automated metal rolling/forming [CS83]. "}]
[null,null,null,null,null,null,null,{"$f":"WPG!F227","v":"Filling of articles/equipment [CS84]. "}]
[null,null,null,null,null,null,null,{"$f":"WPG!F228","v":"Bulk product storage [CS85]. "}]
[null,null,null,null,null,null,null,{"$f":"WPG!F229","v":"Rework of articles [CS86]. "}]
[null,null,null,null,null,null,null,{"$f":"WPG!F230","v":"Polyol processes [CS87]. "}]
[null,null,null,null,null,null,null,{"$f":"WPG!F231","v":"Extrusion and masterbatching [CS88]. "}]
[null,null,null,null,null,null,null,{"$f":"WPG!F232","v":"Injection moulding of articles [CS89]. "}]
[null,null,null,null,null,null,null,{"$f":"WPG!F233","v":"Small scale weighing [CS90]. "}]
[null,null,null,null,null,null,null,{"$f":"WPG!F234","v":"Bulk weighing [CS91]. "}]
[null,null,null,null,null,null,null,{"$f":"WPG!F235","v":"Additive premixing [CS92]. "}]
[null,null,null,null,null,null,null,{"$f":"WPG!F236","v":"Automated process with (semi) closed systems. [CS93]. "}]
[null,null,null,null,null,null,null,{"$f":"WPG!F237","v":"Film formation - force drying (50 - 100°C). Stoving (>100°C). UV/EB radiation curing [CS94]. "}]
[null,null,null,null,null,null,null,{"$f":"WPG!F238","v":"Film formation - air drying [CS95]. "}]
[null,null,null,null,null,null,null,{"$f":"WPG!F239","v":"Preparation of material for application [CS96]. "}]
[null,null,null,null,null,null,null,{"$f":"WPG!F240","v":"Spraying (automatic/robotic) [CS97]. "}]
[null,null,null,null,null,null,null,{"$f":"WPG!F241","v":"Roller, spreader, flow application [CS98]. "}]
[null,null,null,null,null,null,null,{"$f":"WPG!F242","v":"Film formation - force drying, stoving and other technologies [CS99]. "}]
[null,null,null,null,null,null,null,{"$f":"WPG!F243","v":"Production or preparation of articles by tabletting, compression, extrusion or pelletisation [CS100]. "}]
[null,null,null,null,null,null,null,{"$f":"WPG!F244","v":"Application of cleaning products in closed systems  [CS101]. "}]
[null,null,null,null,null,null,null,{"$f":"WPG!F245","v":"Finishing operations [CS102]. "}]
[null,null,null,null,null,null,null,{"$f":"WPG!F246","v":"Vessel and container cleaning [CS103]. "}]
[null,null,null,null,null,null,null,{"$f":"WPG!F247","v":"Maintenance and machine set up [CS104]. "}]
[null,null,null,null,null,null,null,{"$f":"WPG!F248","v":"ion exchange processes [CS105]. "}]
[null,null,null,null,null,null,null,{"$f":"WPG!F249","v":"phase separation [CS106]. "}]
[null,null,null,null,null,null,null,{"$f":"WPG!F250","v":"(closed systems) [CS107]. "}]
[null,null,null,null,null,null,null,{"$f":"WPG!F251","v":"(open systems) [CS108]. "}]
[null,null,null,null,null,null,null,{"$f":"WPG!F252","v":"with local exhaust ventilation [CS109]. "}]
[null,null,null,null,null,null,null,{"$f":"WPG!F253","v":"without local exhaust ventilation [CS110]. "}]
[null,null,null,null,null,null,null,{"$f":"WPG!F254","v":"elevated temperature [CS111]. "}]
[null,null,null,null,null,null,null,{"$f":"WPG!F255","v":"Tyre build up [CS112]. "}]
[null,null,null,null,null,null,null,{"$f":"WPG!F256","v":"Production of articles by dipping and pouring [CS113]. "}]
[null,null,null,null,null,null,null,{"$f":"WPG!F257","v":"Bulk transfers from tote tanks and supply vessels [CS114]. "}]
[null,null,null,null,null,null,null,{"$f":"WPG!F258","v":"Drilling mud (re-)formulation [CS115]. "}]
[null,null,null,null,null,null,null,{"$f":"WPG!F259","v":"Drill floor operations [CS116]. "}]
[null,null,null,null,null,null,null,{"$f":"WPG!F260","v":"Operation of solids filtering equipment [CS117]. "}]
[null,null,null,null,null,null,null,{"$f":"WPG!F261","v":"Operation of solids filtering equipment - vapour exposures [CS118]. "}]
[null,null,null,null,null,null,null,{"$f":"WPG!F262","v":"Operation of solids filtering equipment - aerosol exposures [CS119]. "}]
[null,null,null,null,null,null,null,{"$f":"WPG!F263","v":"Cleaning of solids filtering equipment [CS120]. "}]
[null,null,null,null,null,null,null,{"$f":"WPG!F264","v":"Treatment and disposal of filtered solids [CS121]. "}]
[null,null,null,null,null,null,null,{"$f":"WPG!F265","v":"Extrusion and expansion of polymer mass [CS122]. "}]
[null,null,null,null,null,null,null,{"$f":"WPG!F266","v":"Collection and re-processing of shavings, cuttings, etc [CS123]. "}]
[null,null,null,null,null,null,null,{"$f":"WPG!F267","v":"Product packaging [CS124]. "}]
[null,null,null,null,null,null,null,{"$f":"WPG!F268","v":"Production of foam-based objects [CS125]. "}]
[null,null,null,null,null,null,null,{"$f":"WPG!F269","v":"Installation of insulation panels [CS126]. "}]
[null,null,null,null,null,null,null,{"$f":"WPG!F270","v":"Centrifuging including discharging [CS127]. "}]
[null,null,null,null,null,null,null,{"$f":"WPG!F271","v":"Semi-bulk packaging [CS128]. "}]
[null,null,null,null,null,null,null,{"$f":"WPG!F272","v":"Treatment by heating [CS129]. "}]
[null,null,null,null,null,null,null,{"$f":"WPG!F273","v":"Article formation in mould  [CS130]. "}]
[null,null,null,null,null,null,null,{"$f":"WPG!F274","v":"Cutting by heated wire [CS131]. "}]
[null,null,null,null,null,null,null,{"$f":"WPG!F275","v":"Foaming [CS132]. "}]
[null,null,null,null,null,null,null,{"$f":"WPG!F276","v":"Compression [CS133]. "}]
[null,null,null,null,null,null,null,{"$f":"WPG!F277","v":"Cutting and shaving [CS134]. "}]
[null,null,null,null,null,null,null,{"$f":"WPG!F278","v":"General measures applicable to all activities [CS135]. "}]
[null,null,null,null,null,null,null,{"$f":"WPG!F279","v":"Batch processes at elevated temperatures [CS136]. "}]
[null,null,null,null,null,null,null,{"$f":"WPG!F280","v":"Product sampling [CS137]. "}]
[null,null,null,null,null,null,null,{"$f":"WPG!F281","v":"With potential for aerosol generation [CS138]. "}]
[null,null,null,null,null,null,null,{"$f":"WPG!F282","v":"With occasional controlled exposure. [CS140]. "}]
[null,null,null,null,null,null,null,{"$f":"WPG!F341","v":"Operation is carried out at elevated temperature (> 20°C above ambient temperature) [OC7 ]. "}]
[null,null,null,null,null,null,null,{"$f":"WPG!F342","v":"Indoor  [OC8]. "}]
[null,null,null,null,null,null,null,{"$f":"WPG!F343","v":"Outdoor  [OC9]. "}]
[null,null,null,null,null,null,null,{"$f":"UMC!F22","v":"Hand-mixing with intimate contact and only PPE available [PROC 19]. "}]
[null,null,null,null,null,null,null,"Use as a fuel [GEST12]."]
[null,null,null,null,null,null,null,{"$f":"WPG!F293","v":", or "}]
[null,null,null,null,null,null,null,{"$f":"WPG!F294","v":", alternatively "}]
[null,null,null,null,null,null,null,"Automated task "]
[null,null,null,null,null,null,null,"Semi-closed system"]
[null,null,null,null,null,null,null,"Manual activities involving hand contact"]

{"sheet":"ES Annex","index":3,"n_rows":168,"n_cols":4,"rows_kept":168,"cut":false,"hidden":false,"merged":[[79,0,79,1],[0,0,0,1],[2,0,2,1],[12,0,12,1]]}
[{"$f":"WPG!F554&CSA!E20&\".  \"&CSA!E3&\" - \"&CSA!E4","v":"Exposure scenario 11.  Functional Fluids [GEST13_I].  - Use at industrial sites"}]
[null,null,null,"Password to unprotect: 'CGESt2012'"]
[{"$f":"WPG!F524","v":"Based on ECHA Template CSA&IR Part D June 08 combined with the GES Narrative Format. "}]
[null,{"$f":"IF(AND(CSA!AF89=FALSE,CSA!S89=FALSE),\"\",\"WARNING!  Some of the parameters in your contributing scenarios are incompatible.  Please check CSA sheet entries and data validation warning messages\")","v":""}]
[{"$f":"WPG!F3","v":"Section 1 "},{"$f":"WPG!F4","v":"Title. "}]
[{"$f":"WPG!F4","v":"Title. "},{"$f":"CSA!E3&\" \"&IF(CSA!F3=\"\",\"\",CSA!F3&\". \")&IF(CSA!D6=\"\",\"\",CSA!D6&\". \")&CHAR(10)&CSA!E6&\". \"&IF(CSA!E7=\"\",\"\",CSA!D7&CSA!E7&\".\")","v":"Functional Fluids [GEST13_I].  \nmedium volatility substance. "}]
["Life cycle stage",{"$f":"CSA!E4","v":"Use at industrial sites"}]
[{"$f":"WPG!F8","v":"Process Category(ies): "},{"$f":"CSA!E23","v":"PROC1, PROC2, PROC3, PROC4, PROC8a, PROC8b, PROC9."}]
[{"$f":"WPG!F10","v":"Environmental Release Category(ies): "},{"$f":"CSA!E24","v":"ERC7."}]
[{"$f":"WPG!F6","v":"Processes, tasks, activities covered: "},{"$f":"CSA!E21&\" \"&CSA!F21","v":"Use as functional fluids e.g. cable oils, transfer oils, coolants, insulators, refrigerants, hydraulic fluids in industrial equipment including maintenance and related material transfers [GES13_I].  "}]
[{"$f":"WPG!F594","v":"Assessment method: "},{"$f":"WPG!F41&CSA!E28","v":"Health: The ECETOC TRA v3 tool has been used to estimate workplace exposures unless otherwise indicated [G46]. "}]
[{"$f":"WPG!F11","v":"Section 2: "},{"$f":"WPG!F12","v":"Operational conditions and risk management measures. "}]
[]
[{"$f":"WPG!F13","v":"Section 2.1 "},{"$f":"WPG!F14","v":"Control of worker exposure. "}]
[{"$f":"WPG!F16","v":"Product Characteristics: "}]
[{"$f":"WPG!F17","v":"Physical form of product: "},{"$f":"IF(CSA!E32=\"\",\"\",CSA!E32)","v":"Liquid, vapour pressure 0.5 - 10 kPa at STP [OC4]. "}]
[{"$f":"WPG!F19","v":"Concentration of substance in product: "},{"$f":"IF(CSA!G31=\"\",\"\",CSA!G31)","v":"Covers percentage substance in the product up to 100 % (unless stated differently) [G13 ]. "}]
[{"$f":"WPG!F20","v":"Amounts used: "},{"$f":"WPG!F553","v":"Not applicable. "}]
[{"$f":"WPG!F21","v":"Frequency and duration of use: "},{"$f":"IF(CSA!E33=\"\",\"\",CSA!E33)","v":"Covers daily exposures up to 8 hours (unless stated differently) [G2] "}]
[{"$f":"WPG!F22","v":"Human factors not influenced by risk management: "},{"$f":"IF(CSA!E36=\"\",\"\",CSA!E36)","v":"Not applicable. "}]
[{"$f":"WPG!F23","v":"Other operational conditions affecting worker exposure: "},{"$f":"IF(CSA!E35=\"\",\"\",CSA!E35)","v":"Assumes use at not more than 20°C above ambient temperature, unless stated differently [G15]. ;  Assumes a good basic standard of occupational hygiene is implemented  [G1]. "}]
[{"$f":"WPG!F25","v":"Contributing Scenarios: "},{"$f":"WPG!F24&\" \"&WPG!F529","v":"Risk Management Measures:  Note: list RMM standard phrases according to the control hierarchy indicated in the ECHA template: 1. Technical measures to prevent release, 2. Technical measures to prevent dispersion, 3. Organisational measures , 4. Personal protection. "}]
[{"$f":"IF(B23=\"\",\"\",WPG!F278)","v":""},{"$f":"CSA!E38&CSA!F38&CSA!H38&CSA!I38&CSA!J38","v":""}]
[{"$f":"IF(B24=\"\",\"\",WPG!F302)","v":""},{"$f":"IF(CSA!E17=\"NO\",\"\",WPG!F304)","v":""}]
[{"$f":"IF(B25=\"\",\"\",WPG!F303)","v":"General measures (skin irritants) [G19]: "},{"$f":"IF(CSA!E18=\"Any of: H310-H311-H312-H314-H315-H317\",WPG!F368&IF(CSA!BB24,WPG!F369,\"\"),\"\")","v":"Avoid direct skin contact with product. Identify potential areas for indirect skin contact.  Wear gloves (tested to EN374) if hand contact with substance likely. Clean up contamination/spills as soon as they occur. Wash off any skin contamination immediately. Provide basic employee training to prevent / minimise exposures and to report any skin problems that may develop [E3]. "}]
[{"$f":"IF(B26=\"\",\"\",WPG!F329)","v":"General measures (eye irritants) [G44]. "},{"$f":"IF(CSA!E19=\"YES\",WPG!F469&WPG!F416,\"\")","v":"Use suitable eye protection [PPE26]. Avoid direct eye contact with product, also via contamination on hands [E73]. "}]
[{"$f":"IF(CSA!A47=\"\",\"\",\"ES\"&CSA!E$20&\"-\"&CSA!A47&\": \"&IF(CSA!B$21=\"YES\",CSA!D47&IF(CSA!B47=\"Aerosol exposure\",WPG!F$281,\"\"),\"\")&IF(CSA!B$23=\"YES\",CSA!BM47,IF(CSA!B$22=\"YES\",\" PROC\"&CSA!BL47&\".\",\"\")))","v":"ES11-1-1: Bulk transfers [CS14].;  (closed systems) [CS107].  PROC1 ."},{"$f":"IF(A27=\"\",\"\",IF(CSA!AO47=\"\",WPG!F$453,CSA!AO47))","v":"No other specific measures identified [EI20]. "}]
[{"$f":"IF(CSA!A48=\"\",\"\",\"ES\"&CSA!E$20&\"-\"&CSA!A48&\": \"&IF(CSA!B$21=\"YES\",CSA!D48&IF(CSA!B48=\"Aerosol exposure\",WPG!F$281,\"\"),\"\")&IF(CSA!B$23=\"YES\",CSA!BM48,IF(CSA!B$22=\"YES\",\" PROC\"&CSA!BL48&\".\",\"\")))","v":"ES11-1-2: Bulk transfers [CS14].;  (closed systems) [CS107].  PROC2 ."},{"$f":"IF(A28=\"\",\"\",IF(CSA!AO48=\"\",WPG!F$453,CSA!AO48))","v":"No other specific measures identified [EI20]. "}]
[{"$f":"IF(CSA!A49=\"\",\"\",\"ES\"&CSA!E$20&\"-\"&CSA!A49&\": \"&IF(CSA!B$21=\"YES\",CSA!D49&IF(CSA!B49=\"Aerosol exposure\",WPG!F$281,\"\"),\"\")&IF(CSA!B$23=\"YES\",CSA!BM49,IF(CSA!B$22=\"YES\",\" PROC\"&CSA!BL49&\".\",\"\")))","v":"ES11-2: Drum/batch transfers  [CS8]. ;  Dedicated facility [CS81].  PROC8b."},{"$f":"IF(A29=\"\",\"\",IF(CSA!AO49=\"\",WPG!F$453,CSA!AO49))","v":"Ensure material transfers are under containment or extract ventilation [E66]. Wear suitable gloves tested to EN374 [PPE15]. "}]
[{"$f":"IF(CSA!A50=\"\",\"\",\"ES\"&CSA!E$20&\"-\"&CSA!A50&\": \"&IF(CSA!B$21=\"YES\",CSA!D50&IF(CSA!B50=\"Aerosol exposure\",WPG!F$281,\"\"),\"\")&IF(CSA!B$23=\"YES\",CSA!BM50,IF(CSA!B$22=\"YES\",\" PROC\"&CSA!BL50&\".\",\"\")))","v":"ES11-3: Filling of articles/equipment [CS84]. ;  (closed systems) [CS107].  PROC9 ."},{"$f":"IF(A30=\"\",\"\",IF(CSA!AO50=\"\",WPG!F$453,CSA!AO50))","v":"Fill containers/cans at dedicated fill points supplied with local extract ventilation [E51]. Wear suitable gloves tested to EN374 [PPE15]. "}]
[{"$f":"IF(CSA!A51=\"\",\"\",\"ES\"&CSA!E$20&\"-\"&CSA!A51&\": \"&IF(CSA!B$21=\"YES\",CSA!D51&IF(CSA!B51=\"Aerosol exposure\",WPG!F$281,\"\"),\"\")&IF(CSA!B$23=\"YES\",CSA!BM51,IF(CSA!B$22=\"YES\",\" PROC\"&CSA!BL51&\".\",\"\")))","v":"ES11-4: Filling / preparation of equipment from drums or containers. [CS45]. ;  Non-dedicated facility [CS82].  PROC8a."},{"$f":"IF(A31=\"\",\"\",IF(CSA!AO51=\"\",WPG!F$453,CSA!AO51))","v":"Ensure material transfers are under containment or extract ventilation [E66]. Wear chemically resistant gloves (tested to EN374) in combination with ‘basic’ employee training [PPE16]. "}]
[{"$f":"IF(CSA!A52=\"\",\"\",\"ES\"&CSA!E$20&\"-\"&CSA!A52&\": \"&IF(CSA!B$21=\"YES\",CSA!D52&IF(CSA!B52=\"Aerosol exposure\",WPG!F$281,\"\"),\"\")&IF(CSA!B$23=\"YES\",CSA!BM52,IF(CSA!B$22=\"YES\",\" PROC\"&CSA!BL52&\".\",\"\")))","v":"ES11-5: General exposures (closed systems)  [CS15].  PROC2 ."},{"$f":"IF(A32=\"\",\"\",IF(CSA!AO52=\"\",WPG!F$453,CSA!AO52))","v":"Handle substance within a predominantly closed system provided with extract ventilation [E49]. "}]
[{"$f":"IF(CSA!A53=\"\",\"\",\"ES\"&CSA!E$20&\"-\"&CSA!A53&\": \"&IF(CSA!B$21=\"YES\",CSA!D53&IF(CSA!B53=\"Aerosol exposure\",WPG!F$281,\"\"),\"\")&IF(CSA!B$23=\"YES\",CSA!BM53,IF(CSA!B$22=\"YES\",\" PROC\"&CSA!BL53&\".\",\"\")))","v":"ES11-6: General exposures (open systems)  [CS16].  PROC4 ."},{"$f":"IF(A33=\"\",\"\",IF(CSA!AO53=\"\",WPG!F$453,CSA!AO53))","v":"Provide extract ventilation to points where emissions occur [E54]. Wear suitable gloves tested to EN374 [PPE15]. "}]
[{"$f":"IF(CSA!A54=\"\",\"\",\"ES\"&CSA!E$20&\"-\"&CSA!A54&\": \"&IF(CSA!B$21=\"YES\",CSA!D54&IF(CSA!B54=\"Aerosol exposure\",WPG!F$281,\"\"),\"\")&IF(CSA!B$23=\"YES\",CSA!BM54,IF(CSA!B$22=\"YES\",\" PROC\"&CSA!BL54&\".\",\"\")))","v":"ES11-7a: General exposures (open systems)  [CS16]. ;  elevated temperature [CS111].  PROC4 ."},{"$f":"IF(A34=\"\",\"\",IF(CSA!AO54=\"\",WPG!F$453,CSA!AO54))","v":"Minimise exposure by partial enclosure of the operation or equipment and provide extract ventilation at openings [E60]. ;  Provide a good standard of general ventilation (not less than 3-5 air changes per hour) [E11]Wear chemically resistant gloves (tested to EN374) in combination with ‘basic’ employee training [PPE16]. "}]
[{"$f":"IF(CSA!A55=\"\",\"\",\"ES\"&CSA!E$20&\"-\"&CSA!A55&\": \"&IF(CSA!B$21=\"YES\",CSA!D55&IF(CSA!B55=\"Aerosol exposure\",WPG!F$281,\"\"),\"\")&IF(CSA!B$23=\"YES\",CSA!BM55,IF(CSA!B$22=\"YES\",\" PROC\"&CSA!BL55&\".\",\"\")))","v":"ES11-7b: General exposures (open systems)  [CS16]. ;  elevated temperature [CS111]. With potential for aerosol generation [CS138].  PROC4 ."},{"$f":"IF(A35=\"\",\"\",IF(CSA!AO55=\"\",WPG!F$453,CSA!AO55))","v":"Minimise exposure by partial enclosure of the operation or equipment and provide extract ventilation at openings [E60]. ;  Provide a good standard of general ventilation (not less than 3-5 air changes per hour) [E11]Wear chemically resistant gloves (tested to EN374) in combination with ‘basic’ employee training [PPE16]. "}]
[{"$f":"IF(CSA!A56=\"\",\"\",\"ES\"&CSA!E$20&\"-\"&CSA!A56&\": \"&IF(CSA!B$21=\"YES\",CSA!D56&IF(CSA!B56=\"Aerosol exposure\",WPG!F$281,\"\"),\"\")&IF(CSA!B$23=\"YES\",CSA!BM56,IF(CSA!B$22=\"YES\",\" PROC\"&CSA!BL56&\".\",\"\")))","v":"ES11-8: Remanufacture of reject articles [CS19].  PROC9 ."},{"$f":"IF(A36=\"\",\"\",IF(CSA!AO56=\"\",WPG!F$453,CSA!AO56))","v":"Provide extract ventilation to points where emissions occur [E54]. Wear suitable gloves tested to EN374 [PPE15]. "}]
[{"$f":"IF(CSA!A57=\"\",\"\",\"ES\"&CSA!E$20&\"-\"&CSA!A57&\": \"&IF(CSA!B$21=\"YES\",CSA!D57&IF(CSA!B57=\"Aerosol exposure\",WPG!F$281,\"\"),\"\")&IF(CSA!B$23=\"YES\",CSA!BM57,IF(CSA!B$22=\"YES\",\" PROC\"&CSA!BL57&\".\",\"\")))","v":"ES11-9-1: Equipment maintenance   [CS5].  PROC8a."},{"$f":"IF(A37=\"\",\"\",IF(CSA!AO57=\"\",WPG!F$453,CSA!AO57))","v":"Drain down system prior to equipment break-in or maintenance [E65].Wear chemically resistant gloves (tested to EN374) in combination with ‘basic’ employee training [PPE16]. "}]
[{"$f":"IF(CSA!A58=\"\",\"\",\"ES\"&CSA!E$20&\"-\"&CSA!A58&\": \"&IF(CSA!B$21=\"YES\",CSA!D58&IF(CSA!B58=\"Aerosol exposure\",WPG!F$281,\"\"),\"\")&IF(CSA!B$23=\"YES\",CSA!BM58,IF(CSA!B$22=\"YES\",\" PROC\"&CSA!BL58&\".\",\"\")))","v":"ES11-9-2: Equipment maintenance   [CS5].  PROC28."},{"$f":"IF(A38=\"\",\"\",IF(CSA!AO58=\"\",WPG!F$453,CSA!AO58))","v":"Drain down system prior to equipment break-in or maintenance [E65].Wear chemically resistant gloves (tested to EN374) in combination with ‘basic’ employee training [PPE16]. "}]
[{"$f":"IF(CSA!A59=\"\",\"\",\"ES\"&CSA!E$20&\"-\"&CSA!A59&\": \"&IF(CSA!B$21=\"YES\",CSA!D59&IF(CSA!B59=\"Aerosol exposure\",WPG!F$281,\"\"),\"\")&IF(CSA!B$23=\"YES\",CSA!BM59,IF(CSA!B$22=\"YES\",\" PROC\"&CSA!BL59&\".\",\"\")))","v":"ES11-10-1: Storage [CS67].  PROC1 ."},{"$f":"IF(A39=\"\",\"\",IF(CSA!AO59=\"\",WPG!F$453,CSA!AO59))","v":"Store substance within a closed system [E84]."}]
[{"$f":"IF(CSA!A60=\"\",\"\",\"ES\"&CSA!E$20&\"-\"&CSA!A60&\": \"&IF(CSA!B$21=\"YES\",CSA!D60&IF(CSA!B60=\"Aerosol exposure\",WPG!F$281,\"\"),\"\")&IF(CSA!B$23=\"YES\",CSA!BM60,IF(CSA!B$22=\"YES\",\" PROC\"&CSA!BL60&\".\",\"\")))","v":"ES11-10-2: Storage [CS67].  PROC2 ."},{"$f":"IF(A40=\"\",\"\",IF(CSA!AO60=\"\",WPG!F$453,CSA!AO60))","v":"Store substance within a closed system [E84]."}]
[{"$f":"IF(CSA!A61=\"\",\"\",\"ES\"&CSA!E$20&\"-\"&CSA!A61&\": \"&IF(CSA!B$21=\"YES\",CSA!D61&IF(CSA!B61=\"Aerosol exposure\",WPG!F$281,\"\"),\"\")&IF(CSA!B$23=\"YES\",CSA!BM61,IF(CSA!B$22=\"YES\",\" PROC\"&CSA!BL61&\".\",\"\")))","v":"ES11-11: General exposures (closed systems)  [CS15].  PROC3 ."},{"$f":"IF(A41=\"\",\"\",IF(CSA!AO61=\"\",WPG!F$453,CSA!AO61))","v":"Handle substance within a predominantly closed system provided with extract ventilation [E49]. "}]
[{"$f":"IF(CSA!A62=\"\",\"\",\"ES\"&CSA!E$20&\"-\"&CSA!A62&\": \"&IF(CSA!B$21=\"YES\",CSA!D62&IF(CSA!B62=\"Aerosol exposure\",WPG!F$281,\"\"),\"\")&IF(CSA!B$23=\"YES\",CSA!BM62,IF(CSA!B$22=\"YES\",\" PROC\"&CSA!BL62&\".\",\"\")))","v":""},{"$f":"IF(A42=\"\",\"\",IF(CSA!AO62=\"\",WPG!F$453,CSA!AO62))","v":""}]
[{"$f":"IF(CSA!A63=\"\",\"\",\"ES\"&CSA!E$20&\"-\"&CSA!A63&\": \"&IF(CSA!B$21=\"YES\",CSA!D63&IF(CSA!B63=\"Aerosol exposure\",WPG!F$281,\"\"),\"\")&IF(CSA!B$23=\"YES\",CSA!BM63,IF(CSA!B$22=\"YES\",\" PROC\"&CSA!BL63&\".\",\"\")))","v":""},{"$f":"IF(A43=\"\",\"\",IF(CSA!AO63=\"\",WPG!F$453,CSA!AO63))","v":""}]
[{"$f":"IF(CSA!A64=\"\",\"\",\"ES\"&CSA!E$20&\"-\"&CSA!A64&\": \"&IF(CSA!B$21=\"YES\",CSA!D64&IF(CSA!B64=\"Aerosol exposure\",WPG!F$281,\"\"),\"\")&IF(CSA!B$23=\"YES\",CSA!BM64,IF(CSA!B$22=\"YES\",\" PROC\"&CSA!BL64&\".\",\"\")))","v":""},{"$f":"IF(A44=\"\",\"\",IF(CSA!AO64=\"\",WPG!F$453,CSA!AO64))","v":""}]
[{"$f":"IF(CSA!A65=\"\",\"\",\"ES\"&CSA!E$20&\"-\"&CSA!A65&\": \"&IF(CSA!B$21=\"YES\",CSA!D65&IF(CSA!B65=\"Aerosol exposure\",WPG!F$281,\"\"),\"\")&IF(CSA!B$23=\"YES\",CSA!BM65,IF(CSA!B$22=\"YES\",\" PROC\"&CSA!BL65&\".\",\"\")))","v":""},{"$f":"IF(A45=\"\",\"\",IF(CSA!AO65=\"\",WPG!F$453,CSA!AO65))","v":""}]
[{"$f":"IF(CSA!A66=\"\",\"\",\"ES\"&CSA!E$20&\"-\"&CSA!A66&\": \"&IF(CSA!B$21=\"YES\",CSA!D66&IF(CSA!B66=\"Aerosol exposure\",WPG!F$281,\"\"),\"\")&IF(CSA!B$23=\"YES\",CSA!BM66,IF(CSA!B$22=\"YES\",\" PROC\"&CSA!BL66&\".\",\"\")))","v":""},{"$f":"IF(A46=\"\",\"\",IF(CSA!AO66=\"\",WPG!F$453,CSA!AO66))","v":""}]
[{"$f":"IF(CSA!A67=\"\",\"\",\"ES\"&CSA!E$20&\"-\"&CSA!A67&\": \"&IF(CSA!B$21=\"YES\",CSA!D67&IF(CSA!B67=\"Aerosol exposure\",WPG!F$281,\"\"),\"\")&IF(CSA!B$23=\"YES\",CSA!BM67,IF(CSA!B$22=\"YES\",\" PROC\"&CSA!BL67&\".\",\"\")))","v":""},{"$f":"IF(A47=\"\",\"\",IF(CSA!AO67=\"\",WPG!F$453,CSA!AO67))","v":""}]
[{"$f":"IF(CSA!A68=\"\",\"\",\"ES\"&CSA!E$20&\"-\"&CSA!A68&\": \"&IF(CSA!B$21=\"YES\",CSA!D68&IF(CSA!B68=\"Aerosol exposure\",WPG!F$281,\"\"),\"\")&IF(CSA!B$23=\"YES\",CSA!BM68,IF(CSA!B$22=\"YES\",\" PROC\"&CSA!BL68&\".\",\"\")))","v":""},{"$f":"IF(A48=\"\",\"\",IF(CSA!AO68=\"\",WPG!F$453,CSA!AO68))","v":""}]
[{"$f":"IF(CSA!A69=\"\",\"\",\"ES\"&CSA!E$20&\"-\"&CSA!A69&\": \"&IF(CSA!B$21=\"YES\",CSA!D69&IF(CSA!B69=\"Aerosol exposure\",WPG!F$281,\"\"),\"\")&IF(CSA!B$23=\"YES\",CSA!BM69,IF(CSA!B$22=\"YES\",\" PROC\"&CSA!BL69&\".\",\"\")))","v":""},{"$f":"IF(A49=\"\",\"\",IF(CSA!AO69=\"\",WPG!F$453,CSA!AO69))","v":""}]
[{"$f":"IF(CSA!A70=\"\",\"\",\"ES\"&CSA!E$20&\"-\"&CSA!A70&\": \"&IF(CSA!B$21=\"YES\",CSA!D70&IF(CSA!B70=\"Aerosol exposure\",WPG!F$281,\"\"),\"\")&IF(CSA!B$23=\"YES\",CSA!BM70,IF(CSA!B$22=\"YES\",\" PROC\"&CSA!BL70&\".\",\"\")))","v":""},{"$f":"IF(A50=\"\",\"\",IF(CSA!AO70=\"\",WPG!F$453,CSA!AO70))","v":""}]
[{"$f":"IF(CSA!A71=\"\",\"\",\"ES\"&CSA!E$20&\"-\"&CSA!A71&\": \"&IF(CSA!B$21=\"YES\",CSA!D71&IF(CSA!B71=\"Aerosol exposure\",WPG!F$281,\"\"),\"\")&IF(CSA!B$23=\"YES\",CSA!BM71,IF(CSA!B$22=\"YES\",\" PROC\"&CSA!BL71&\".\",\"\")))","v":""},{"$f":"IF(A51=\"\",\"\",IF(CSA!AO71=\"\",WPG!F$453,CSA!AO71))","v":""}]
[{"$f":"IF(CSA!A72=\"\",\"\",\"ES\"&CSA!E$20&\"-\"&CSA!A72&\": \"&IF(CSA!B$21=\"YES\",CSA!D72&IF(CSA!B72=\"Aerosol exposure\",WPG!F$281,\"\"),\"\")&IF(CSA!B$23=\"YES\",CSA!BM72,IF(CSA!B$22=\"YES\",\" PROC\"&CSA!BL72&\".\",\"\")))","v":""},{"$f":"IF(A52=\"\",\"\",IF(CSA!AO72=\"\",WPG!F$453,CSA!AO72))","v":""}]
[{"$f":"IF(CSA!A74=\"\",\"\",\"ES\"&CSA!E$20&\"-\"&CSA!A74&\": \"&IF(CSA!B$21=\"YES\",CSA!D74&IF(CSA!B74=\"Aerosol exposure\",WPG!F$281,\"\"),\"\")&IF(CSA!B$23=\"YES\",CSA!BM74,IF(CSA!B$22=\"YES\",\" PROC\"&CSA!BL74&\".\",\"\")))","v":""},{"$f":"IF(A53=\"\",\"\",IF(CSA!AO74=\"\",WPG!F$453,CSA!AO74))","v":""}]
[{"$f":"IF(CSA!A75=\"\",\"\",\"ES\"&CSA!E$20&\"-\"&CSA!A75&\": \"&IF(CSA!B$21=\"YES\",CSA!D75&IF(CSA!B75=\"Aerosol exposure\",WPG!F$281,\"\"),\"\")&IF(CSA!B$23=\"YES\",CSA!BM75,IF(CSA!B$22=\"YES\",\" PROC\"&CSA!BL75&\".\",\"\")))","v":""},{"$f":"IF(A54=\"\",\"\",IF(CSA!AO75=\"\",WPG!F$453,CSA!AO75))","v":""}]
[{"$f":"IF(CSA!A76=\"\",\"\",\"ES\"&CSA!E$20&\"-\"&CSA!A76&\": \"&IF(CSA!B$21=\"YES\",CSA!D76&IF(CSA!B76=\"Aerosol exposure\",WPG!F$281,\"\"),\"\")&IF(CSA!B$23=\"YES\",CSA!BM76,IF(CSA!B$22=\"YES\",\" PROC\"&CSA!BL76&\".\",\"\")))","v":""},{"$f":"IF(A55=\"\",\"\",IF(CSA!AO76=\"\",WPG!F$453,CSA!AO76))","v":""}]
[{"$f":"IF(CSA!A77=\"\",\"\",\"ES\"&CSA!E$20&\"-\"&CSA!A77&\": \"&IF(CSA!B$21=\"YES\",CSA!D77&IF(CSA!B77=\"Aerosol exposure\",WPG!F$281,\"\"),\"\")&IF(CSA!B$23=\"YES\",CSA!BM77,IF(CSA!B$22=\"YES\",\" PROC\"&CSA!BL77&\".\",\"\")))","v":""},{"$f":"IF(A56=\"\",\"\",IF(CSA!AO77=\"\",WPG!F$453,CSA!AO77))","v":""}]
[{"$f":"IF(CSA!A78=\"\",\"\",\"ES\"&CSA!E$20&\"-\"&CSA!A78&\": \"&IF(CSA!B$21=\"YES\",CSA!D78&IF(CSA!B78=\"Aerosol exposure\",WPG!F$281,\"\"),\"\")&IF(CSA!B$23=\"YES\",CSA!BM78,IF(CSA!B$22=\"YES\",\" PROC\"&CSA!BL78&\".\",\"\")))","v":""},{"$f":"IF(A57=\"\",\"\",IF(CSA!AO78=\"\",WPG!F$453,CSA!AO78))","v":""}]
[{"$f":"IF(CSA!A79=\"\",\"\",\"ES\"&CSA!E$20&\"-\"&CSA!A79&\": \"&IF(CSA!B$21=\"YES\",CSA!D79&IF(CSA!B79=\"Aerosol exposure\",WPG!F$281,\"\"),\"\")&IF(CSA!B$23=\"YES\",CSA!BM79,IF(CSA!B$22=\"YES\",\" PROC\"&CSA!BL79&\".\",\"\")))","v":""},{"$f":"IF(A58=\"\",\"\",IF(CSA!AO79=\"\",WPG!F$453,CSA!AO79))","v":""}]
[{"$f":"IF(CSA!A80=\"\",\"\",\"ES\"&CSA!E$20&\"-\"&CSA!A80&\": \"&IF(CSA!B$21=\"YES\",CSA!D80&IF(CSA!B80=\"Aerosol exposure\",WPG!F$281,\"\"),\"\")&IF(CSA!B$23=\"YES\",CSA!BM80,IF(CSA!B$22=\"YES\",\" PROC\"&CSA!BL80&\".\",\"\")))","v":""},{"$f":"IF(A59=\"\",\"\",IF(CSA!AO80=\"\",WPG!F$453,CSA!AO80))","v":""}]
[{"$f":"IF(CSA!A81=\"\",\"\",\"ES\"&CSA!E$20&\"-\"&CSA!A81&\": \"&IF(CSA!B$21=\"YES\",CSA!D81&IF(CSA!B81=\"Aerosol exposure\",WPG!F$281,\"\"),\"\")&IF(CSA!B$23=\"YES\",CSA!BM81,IF(CSA!B$22=\"YES\",\" PROC\"&CSA!BL81&\".\",\"\")))","v":""},{"$f":"IF(A60=\"\",\"\",IF(CSA!AO81=\"\",WPG!F$453,CSA!AO81))","v":""}]
[{"$f":"IF(CSA!A82=\"\",\"\",\"ES\"&CSA!E$20&\"-\"&CSA!A82&\": \"&IF(CSA!B$21=\"YES\",CSA!D82&IF(CSA!B82=\"Aerosol exposure\",WPG!F$281,\"\"),\"\")&IF(CSA!B$23=\"YES\",CSA!BM82,IF(CSA!B$22=\"YES\",\" PROC\"&CSA!BL82&\".\",\"\")))","v":""},{"$f":"IF(A61=\"\",\"\",IF(CSA!AO82=\"\",WPG!F$453,CSA!AO82))","v":""}]
[{"$f":"IF(CSA!A83=\"\",\"\",\"ES\"&CSA!E$20&\"-\"&CSA!A83&\": \"&IF(CSA!B$21=\"YES\",CSA!D83&IF(CSA!B83=\"Aerosol exposure\",WPG!F$281,\"\"),\"\")&IF(CSA!B$23=\"YES\",CSA!BM83,IF(CSA!B$22=\"YES\",\" PROC\"&CSA!BL83&\".\",\"\")))","v":""},{"$f":"IF(A62=\"\",\"\",IF(CSA!AO83=\"\",WPG!F$453,CSA!AO83))","v":""}]
[{"$f":"IF(CSA!A84=\"\",\"\",\"ES\"&CSA!E$20&\"-\"&CSA!A84&\": \"&IF(CSA!B$21=\"YES\",CSA!D84&IF(CSA!B84=\"Aerosol exposure\",WPG!F$281,\"\"),\"\")&IF(CSA!B$23=\"YES\",CSA!BM84,IF(CSA!B$22=\"YES\",\" PROC\"&CSA!BL84&\".\",\"\")))","v":""},{"$f":"IF(A63=\"\",\"\",IF(CSA!AO84=\"\",WPG!F$453,CSA!AO84))","v":""}]
[{"$f":"IF(CSA!A85=\"\",\"\",\"ES\"&CSA!E$20&\"-\"&CSA!A85&\": \"&IF(CSA!B$21=\"YES\",CSA!D85&IF(CSA!B85=\"Aerosol exposure\",WPG!F$281,\"\"),\"\")&IF(CSA!B$23=\"YES\",CSA!BM85,IF(CSA!B$22=\"YES\",\" PROC\"&CSA!BL85&\".\",\"\")))","v":""},{"$f":"IF(A64=\"\",\"\",IF(CSA!AO85=\"\",WPG!F$453,CSA!AO85))","v":""}]
[{"$f":"IF(CSA!A86=\"\",\"\",\"ES\"&CSA!E$20&\"-\"&CSA!A86&\": \"&IF(CSA!B$21=\"YES\",CSA!D86&IF(CSA!B86=\"Aerosol exposure\",WPG!F$281,\"\"),\"\")&IF(CSA!B$23=\"YES\",CSA!BM86,IF(CSA!B$22=\"YES\",\" PROC\"&CSA!BL86&\".\",\"\")))","v":""},{"$f":"IF(A65=\"\",\"\",IF(CSA!AO86=\"\",WPG!F$453,CSA!AO86))","v":""}]
[{"$f":"IF(CSA!A87=\"\",\"\",\"ES\"&CSA!E$20&\"-\"&CSA!A87&\": \"&IF(CSA!B$21=\"YES\",CSA!D87&IF(CSA!B87=\"Aerosol exposure\",WPG!F$281,\"\"),\"\")&IF(CSA!B$23=\"YES\",CSA!BM87,IF(CSA!B$22=\"YES\",\" PROC\"&CSA!BL87&\".\",\"\")))","v":""},{"$f":"IF(A66=\"\",\"\",IF(CSA!AO87=\"\",WPG!F$453,CSA!AO87))","v":""}]
[{"$f":"WPG!F$28","v":"Section 2.2: "},{"$f":"WPG!F$29","v":"Control of environmental exposure: "}]
[{"$f":"WPG!F$16","v":"Product Characteristics: "},{"$f":"CSA!F$9","v":"Liquid, vapour pressure 0.5 - 10 kPa at STP [OC4]. "}]
[{"$f":"WPG!F$542","v":"Amounts used per site (tonne per year). "},"standard phrases"]
[{"$f":"WPG!F$21","v":"Frequency and duration of use: "},"standard phrases"]
[{"$f":"WPG!F$596","v":"Environmental factors not influenced by risk management: "},"standard phrases"]
[{"$f":"WPG!F$32","v":"Other operational conditions of use affecting environmental exposure. "},"standard phrases"]
[{"$f":"WPG!F$33","v":"Technical onsite conditions and measures to reduce or limit discharges, air emissions. "},"standard phrases"]
[{"$f":"WPG!F$34","v":"Organisation measures to prevent/limit release from site. "},"standard phrases"]
[{"$f":"WPG!F$35","v":"Conditions and measures related to municipal sewage treatment plant. "},"standard phrases"]
[{"$f":"WPG!F$36","v":"Conditions and measures related to external treatment of waste for disposal. "},"standard phrases"]
[{"$f":"WPG!F$37","v":"Conditions and measures related to external recovery of waste. "},"standard phrases"]
[{"$f":"WPG!F$38","v":"Other environmental control measures additional to above: "},"standard phrases"]
[{"$f":"WPG!F39","v":"Section 3: "},{"$f":"WPG!F40","v":"Exposure estimation: "}]
[]
[{"$f":"WPG!F$41&WPG!F$561","v":"Health: Inhalation (vapour): "},{"$f":"IF(OR(CSA!A47=\"\",CSA!B$13=\"YES\"),\"\",WPG!F$668&\"ES\"&CSA!E$20&\"-\"&CSA!A47&\": \"&ROUND(IF(CSA!X47=\"\",CSA!V47,CSA!X47),2)&\"mg/m3. \"&IF(OR(CSA!AL47=0,OR(AND(CSA!B47=\"Aerosol Exposure\",CSA!F$15=\"YES\"),AND(CSA!B47=\"Vapour Exposure\",CSA!F$13=\"YES\"))),\"\",WPG!F$564&IF(CSA!AL47<0.001,\"<0.001\",ROUND(CSA!AL47,3))&\".  \"))","v":""}]
[null,{"$f":"IF(OR(CSA!A48=\"\",CSA!B$13=\"YES\"),\"\",WPG!F$668&\"ES\"&CSA!E$20&\"-\"&CSA!A48&\": \"&ROUND(IF(CSA!X48=\"\",CSA!V48,CSA!X48),2)&\"mg/m3. \"&IF(OR(CSA!AL48=0,OR(AND(CSA!B48=\"Aerosol Exposure\",CSA!F$15=\"YES\"),AND(CSA!B48=\"Vapour Exposure\",CSA!F$13=\"YES\"))),\"\",WPG!F$564&IF(CSA!AL48<0.001,\"<0.001\",ROUND(CSA!AL48,3))&\".  \"))","v":""}]
[null,{"$f":"IF(OR(CSA!A49=\"\",CSA!B$13=\"YES\"),\"\",WPG!F$668&\"ES\"&CSA!E$20&\"-\"&CSA!A49&\": \"&ROUND(IF(CSA!X49=\"\",CSA!V49,CSA!X49),2)&\"mg/m3. \"&IF(OR(CSA!AL49=0,OR(AND(CSA!B49=\"Aerosol Exposure\",CSA!F$15=\"YES\"),AND(CSA!B49=\"Vapour Exposure\",CSA!F$13=\"YES\"))),\"\",WPG!F$564&IF(CSA!AL49<0.001,\"<0.001\",ROUND(CSA!AL49,3))&\".  \"))","v":""}]
[null,{"$f":"IF(OR(CSA!A50=\"\",CSA!B$13=\"YES\"),\"\",WPG!F$668&\"ES\"&CSA!E$20&\"-\"&CSA!A50&\": \"&ROUND(IF(CSA!X50=\"\",CSA!V50,CSA!X50),2)&\"mg/m3. \"&IF(OR(CSA!AL50=0,OR(AND(CSA!B50=\"Aerosol Exposure\",CSA!F$15=\"YES\"),AND(CSA!B50=\"Vapour Exposure\",CSA!F$13=\"YES\"))),\"\",WPG!F$564&IF(CSA!AL50<0.001,\"<0.001\",ROUND(CSA!AL50,3))&\".  \"))","v":""}]
[null,{"$f":"IF(OR(CSA!A51=\"\",CSA!B$13=\"YES\"),\"\",WPG!F$668&\"ES\"&CSA!E$20&\"-\"&CSA!A51&\": \"&ROUND(IF(CSA!X51=\"\",CSA!V51,CSA!X51),2)&\"mg/m3. \"&IF(OR(CSA!AL51=0,OR(AND(CSA!B51=\"Aerosol Exposure\",CSA!F$15=\"YES\"),AND(CSA!B51=\"Vapour Exposure\",CSA!F$13=\"YES\"))),\"\",WPG!F$564&IF(CSA!AL51<0.001,\"<0.001\",ROUND(CSA!AL51,3))&\".  \"))","v":""}]
[null,{"$f":"IF(OR(CSA!A52=\"\",CSA!B$13=\"YES\"),\"\",WPG!F$668&\"ES\"&CSA!E$20&\"-\"&CSA!A52&\": \"&ROUND(IF(CSA!X52=\"\",CSA!V52,CSA!X52),2)&\"mg/m3. \"&IF(OR(CSA!AL52=0,OR(AND(CSA!B52=\"Aerosol Exposure\",CSA!F$15=\"YES\"),AND(CSA!B52=\"Vapour Exposure\",CSA!F$13=\"YES\"))),\"\",WPG!F$564&IF(CSA!AL52<0.001,\"<0.001\",ROUND(CSA!AL52,3))&\".  \"))","v":""}]
[null,{"$f":"IF(OR(CSA!A53=\"\",CSA!B$13=\"YES\"),\"\",WPG!F$668&\"ES\"&CSA!E$20&\"-\"&CSA!A53&\": \"&ROUND(IF(CSA!X53=\"\",CSA!V53,CSA!X53),2)&\"mg/m3. \"&IF(OR(CSA!AL53=0,OR(AND(CSA!B53=\"Aerosol Exposure\",CSA!F$15=\"YES\"),AND(CSA!B53=\"Vapour Exposure\",CSA!F$13=\"YES\"))),\"\",WPG!F$564&IF(CSA!AL53<0.001,\"<0.001\",ROUND(CSA!AL53,3))&\".  \"))","v":""}]
[null,{"$f":"IF(OR(CSA!A54=\"\",CSA!B$13=\"YES\"),\"\",WPG!F$668&\"ES\"&CSA!E$20&\"-\"&CSA!A54&\": \"&ROUND(IF(CSA!X54=\"\",CSA!V54,CSA!X54),2)&\"mg/m3. \"&IF(OR(CSA!AL54=0,OR(AND(CSA!B54=\"Aerosol Exposure\",CSA!F$15=\"YES\"),AND(CSA!B54=\"Vapour Exposure\",CSA!F$13=\"YES\"))),\"\",WPG!F$564&IF(CSA!AL54<0.001,\"<0.001\",ROUND(CSA!AL54,3))&\".  \"))","v":""}]
[null,{"$f":"IF(OR(CSA!A55=\"\",CSA!B$13=\"YES\"),\"\",WPG!F$668&\"ES\"&CSA!E$20&\"-\"&CSA!A55&\": \"&ROUND(IF(CSA!X55=\"\",CSA!V55,CSA!X55),2)&\"mg/m3. \"&IF(OR(CSA!AL55=0,OR(AND(CSA!B55=\"Aerosol Exposure\",CSA!F$15=\"YES\"),AND(CSA!B55=\"Vapour Exposure\",CSA!F$13=\"YES\"))),\"\",WPG!F$564&IF(CSA!AL55<0.001,\"<0.001\",ROUND(CSA!AL55,3))&\".  \"))","v":""}]
[null,{"$f":"IF(OR(CSA!A56=\"\",CSA!B$13=\"YES\"),\"\",WPG!F$668&\"ES\"&CSA!E$20&\"-\"&CSA!A56&\": \"&ROUND(IF(CSA!X56=\"\",CSA!V56,CSA!X56),2)&\"mg/m3. \"&IF(OR(CSA!AL56=0,OR(AND(CSA!B56=\"Aerosol Exposure\",CSA!F$15=\"YES\"),AND(CSA!B56=\"Vapour Exposure\",CSA!F$13=\"YES\"))),\"\",WPG!F$564&IF(CSA!AL56<0.001,\"<0.001\",ROUND(CSA!AL56,3))&\".  \"))","v":""}]
[null,{"$f":"IF(OR(CSA!A57=\"\",CSA!B$13=\"YES\"),\"\",WPG!F$668&\"ES\"&CSA!E$20&\"-\"&CSA!A57&\": \"&ROUND(IF(CSA!X57=\"\",CSA!V57,CSA!X57),2)&\"mg/m3. \"&IF(OR(CSA!AL57=0,OR(AND(CSA!B57=\"Aerosol Exposure\",CSA!F$15=\"YES\"),AND(CSA!B57=\"Vapour Exposure\",CSA!F$13=\"YES\"))),\"\",WPG!F$564&IF(CSA!AL57<0.001,\"<0.001\",ROUND(CSA!AL57,3))&\".  \"))","v":""}]
[null,{"$f":"IF(OR(CSA!A58=\"\",CSA!B$13=\"YES\"),\"\",WPG!F$668&\"ES\"&CSA!E$20&\"-\"&CSA!A58&\": \"&ROUND(IF(CSA!X58=\"\",CSA!V58,CSA!X58),2)&\"mg/m3. \"&IF(OR(CSA!AL58=0,OR(AND(CSA!B58=\"Aerosol Exposure\",CSA!F$15=\"YES\"),AND(CSA!B58=\"Vapour Exposure\",CSA!F$13=\"YES\"))),\"\",WPG!F$564&IF(CSA!AL58<0.001,\"<0.001\",ROUND(CSA!AL58,3))&\".  \"))","v":""}]
[null,{"$f":"IF(OR(CSA!A59=\"\",CSA!B$13=\"YES\"),\"\",WPG!F$668&\"ES\"&CSA!E$20&\"-\"&CSA!A59&\": \"&ROUND(IF(CSA!X59=\"\",CSA!V59,CSA!X59),2)&\"mg/m3. \"&IF(OR(CSA!AL59=0,OR(AND(CSA!B59=\"Aerosol Exposure\",CSA!F$15=\"YES\"),AND(CSA!B59=\"Vapour Exposure\",CSA!F$13=\"YES\"))),\"\",WPG!F$564&IF(CSA!AL59<0.001,\"<0.001\",ROUND(CSA!AL59,3))&\".  \"))","v":""}]
[null,{"$f":"IF(OR(CSA!A60=\"\",CSA!B$13=\"YES\"),\"\",WPG!F$668&\"ES\"&CSA!E$20&\"-\"&CSA!A60&\": \"&ROUND(IF(CSA!X60=\"\",CSA!V60,CSA!X60),2)&\"mg/m3. \"&IF(OR(CSA!AL60=0,OR(AND(CSA!B60=\"Aerosol Exposure\",CSA!F$15=\"YES\"),AND(CSA!B60=\"Vapour Exposure\",CSA!F$13=\"YES\"))),\"\",WPG!F$564&IF(CSA!AL60<0.001,\"<0.001\",ROUND(CSA!AL60,3))&\".  \"))","v":""}]
[null,{"$f":"IF(OR(CSA!A61=\"\",CSA!B$13=\"YES\"),\"\",WPG!F$668&\"ES\"&CSA!E$20&\"-\"&CSA!A61&\": \"&ROUND(IF(CSA!X61=\"\",CSA!V61,CSA!X61),2)&\"mg/m3. \"&IF(OR(CSA!AL61=0,OR(AND(CSA!B61=\"Aerosol Exposure\",CSA!F$15=\"YES\"),AND(CSA!B61=\"Vapour Exposure\",CSA!F$13=\"YES\"))),\"\",WPG!F$564&IF(CSA!AL61<0.001,\"<0.001\",ROUND(CSA!AL61,3))&\".  \"))","v":""}]
[null,{"$f":"IF(OR(CSA!A62=\"\",CSA!B$13=\"YES\"),\"\",WPG!F$668&\"ES\"&CSA!E$20&\"-\"&CSA!A62&\": \"&ROUND(IF(CSA!X62=\"\",CSA!V62,CSA!X62),2)&\"mg/m3. \"&IF(OR(CSA!AL62=0,OR(AND(CSA!B62=\"Aerosol Exposure\",CSA!F$15=\"YES\"),AND(CSA!B62=\"Vapour Exposure\",CSA!F$13=\"YES\"))),\"\",WPG!F$564&IF(CSA!AL62<0.001,\"<0.001\",ROUND(CSA!AL62,3))&\".  \"))","v":""}]
[null,{"$f":"IF(OR(CSA!A63=\"\",CSA!B$13=\"YES\"),\"\",WPG!F$668&\"ES\"&CSA!E$20&\"-\"&CSA!A63&\": \"&ROUND(IF(CSA!X63=\"\",CSA!V63,CSA!X63),2)&\"mg/m3. \"&IF(OR(CSA!AL63=0,OR(AND(CSA!B63=\"Aerosol Exposure\",CSA!F$15=\"YES\"),AND(CSA!B63=\"Vapour Exposure\",CSA!F$13=\"YES\"))),\"\",WPG!F$564&IF(CSA!AL63<0.001,\"<0.001\",ROUND(CSA!AL63,3))&\".  \"))","v":""}]
[null,{"$f":"IF(OR(CSA!A64=\"\",CSA!B$13=\"YES\"),\"\",WPG!F$668&\"ES\"&CSA!E$20&\"-\"&CSA!A64&\": \"&ROUND(IF(CSA!X64=\"\",CSA!V64,CSA!X64),2)&\"mg/m3. \"&IF(OR(CSA!AL64=0,OR(AND(CSA!B64=\"Aerosol Exposure\",CSA!F$15=\"YES\"),AND(CSA!B64=\"Vapour Exposure\",CSA!F$13=\"YES\"))),\"\",WPG!F$564&IF(CSA!AL64<0.001,\"<0.001\",ROUND(CSA!AL64,3))&\".  \"))","v":""}]
[null,{"$f":"IF(OR(CSA!A65=\"\",CSA!B$13=\"YES\"),\"\",WPG!F$668&\"ES\"&CSA!E$20&\"-\"&CSA!A65&\": \"&ROUND(IF(CSA!X65=\"\",CSA!V65,CSA!X65),2)&\"mg/m3. \"&IF(OR(CSA!AL65=0,OR(AND(CSA!B65=\"Aerosol Exposure\",CSA!F$15=\"YES\"),AND(CSA!B65=\"Vapour Exposure\",CSA!F$13=\"YES\"))),\"\",WPG!F$564&IF(CSA!AL65<0.001,\"<0.001\",ROUND(CSA!AL65,3))&\".  \"))","v":""}]
[null,{"$f":"IF(OR(CSA!A66=\"\",CSA!B$13=\"YES\"),\"\",WPG!F$668&\"ES\"&CSA!E$20&\"-\"&CSA!A66&\": \"&ROUND(IF(CSA!X66=\"\",CSA!V66,CSA!X66),2)&\"mg/m3. \"&IF(OR(CSA!AL66=0,OR(AND(CSA!B66=\"Aerosol Exposure\",CSA!F$15=\"YES\"),AND(CSA!B66=\"Vapour Exposure\",CSA!F$13=\"YES\"))),\"\",WPG!F$564&IF(CSA!AL66<0.001,\"<0.001\",ROUND(CSA!AL66,3))&\".  \"))","v":""}]
[null,{"$f":"IF(OR(CSA!A67=\"\",CSA!B$13=\"YES\"),\"\",WPG!F$668&\"ES\"&CSA!E$20&\"-\"&CSA!A67&\": \"&ROUND(IF(CSA!X67=\"\",CSA!V67,CSA!X67),2)&\"mg/m3. \"&IF(OR(CSA!AL67=0,OR(AND(CSA!B67=\"Aerosol Exposure\",CSA!F$15=\"YES\"),AND(CSA!B67=\"Vapour Exposure\",CSA!F$13=\"YES\"))),\"\",WPG!F$564&IF(CSA!AL67<0.001,\"<0.001\",ROUND(CSA!AL67,3))&\".  \"))","v":""}]
[null,{"$f":"IF(OR(CSA!A68=\"\",CSA!B$13=\"YES\"),\"\",WPG!F$668&\"ES\"&CSA!E$20&\"-\"&CSA!A68&\": \"&ROUND(IF(CSA!X68=\"\",CSA!V68,CSA!X68),2)&\"mg/m3. \"&IF(OR(CSA!AL68=0,OR(AND(CSA!B68=\"Aerosol Exposure\",CSA!F$15=\"YES\"),AND(CSA!B68=\"Vapour Exposure\",CSA!F$13=\"YES\"))),\"\",WPG!F$564&IF(CSA!AL68<0.001,\"<0.001\",ROUND(CSA!AL68,3))&\".  \"))","v":""}]
[null,{"$f":"IF(OR(CSA!A71=\"\",CSA!B$13=\"YES\"),\"\",WPG!F$668&\"ES\"&CSA!E$20&\"-\"&CSA!A71&\": \"&ROUND(IF(CSA!X71=\"\",CSA!V71,CSA!X71),2)&\"mg/m3. \"&IF(OR(CSA!AL71=0,OR(AND(CSA!B71=\"Aerosol Exposure\",CSA!F$15=\"YES\"),AND(CSA!B71=\"Vapour Exposure\",CSA!F$13=\"YES\"))),\"\",WPG!F$564&IF(CSA!AL71<0.001,\"<0.001\",ROUND(CSA!AL71,3))&\".  \"))","v":""}]
[null,{"$f":"IF(OR(CSA!A72=\"\",CSA!B$13=\"YES\"),\"\",WPG!F$668&\"ES\"&CSA!E$20&\"-\"&CSA!A72&\": \"&ROUND(IF(CSA!X72=\"\",CSA!V72,CSA!X72),2)&\"mg/m3. \"&IF(OR(CSA!AL72=0,OR(AND(CSA!B72=\"Aerosol Exposure\",CSA!F$15=\"YES\"),AND(CSA!B72=\"Vapour Exposure\",CSA!F$13=\"YES\"))),\"\",WPG!F$564&IF(CSA!AL72<0.001,\"<0.001\",ROUND(CSA!AL72,3))&\".  \"))","v":""}]
[null,{"$f":"IF(OR(CSA!#REF!=\"\",CSA!B$13=\"YES\"),\"\",WPG!F$668&\"ES\"&CSA!E$20&\"-\"&CSA!#REF!&\": \"&ROUND(IF(CSA!#REF!=\"\",CSA!#REF!,CSA!#REF!),2)&\"mg/m3. \"&IF(OR(CSA!#REF!=0,OR(AND(CSA!#REF!=\"Aerosol Exposure\",CSA!F$15=\"YES\"),AND(CSA!#REF!=\"Vapour Exposure\",CSA!F$13=\"YES\"))),\"\",WPG!F$564&IF(CSA!#REF!<0.001,\"<0.001\",ROUND(CSA!#REF!,3))&\".  \"))","v":{"$error":"#REF!"}}]
[null,{"$f":"IF(OR(CSA!A73=\"\",CSA!B$13=\"YES\"),\"\",WPG!F$668&\"ES\"&CSA!E$20&\"-\"&CSA!A73&\": \"&ROUND(IF(CSA!X73=\"\",CSA!V73,CSA!X73),2)&\"mg/m3. \"&IF(OR(CSA!AL73=0,OR(AND(CSA!B73=\"Aerosol Exposure\",CSA!F$15=\"YES\"),AND(CSA!B73=\"Vapour Exposure\",CSA!F$13=\"YES\"))),\"\",WPG!F$564&IF(CSA!AL73<0.001,\"<0.001\",ROUND(CSA!AL73,3))&\".  \"))","v":""}]
[null,{"$f":"IF(OR(CSA!A74=\"\",CSA!B$13=\"YES\"),\"\",WPG!F$668&\"ES\"&CSA!E$20&\"-\"&CSA!A74&\": \"&ROUND(IF(CSA!X74=\"\",CSA!V74,CSA!X74),2)&\"mg/m3. \"&IF(OR(CSA!AL74=0,OR(AND(CSA!B74=\"Aerosol Exposure\",CSA!F$15=\"YES\"),AND(CSA!B74=\"Vapour Exposure\",CSA!F$13=\"YES\"))),\"\",WPG!F$564&IF(CSA!AL74<0.001,\"<0.001\",ROUND(CSA!AL74,3))&\".  \"))","v":""}]
[null,{"$f":"IF(OR(CSA!A75=\"\",CSA!B$13=\"YES\"),\"\",WPG!F$668&\"ES\"&CSA!E$20&\"-\"&CSA!A75&\": \"&ROUND(IF(CSA!X75=\"\",CSA!V75,CSA!X75),2)&\"mg/m3. \"&IF(OR(CSA!AL75=0,OR(AND(CSA!B75=\"Aerosol Exposure\",CSA!F$15=\"YES\"),AND(CSA!B75=\"Vapour Exposure\",CSA!F$13=\"YES\"))),\"\",WPG!F$564&IF(CSA!AL75<0.001,\"<0.001\",ROUND(CSA!AL75,3))&\".  \"))","v":""}]
[null,{"$f":"IF(OR(CSA!A76=\"\",CSA!B$13=\"YES\"),\"\",WPG!F$668&\"ES\"&CSA!E$20&\"-\"&CSA!A76&\": \"&ROUND(IF(CSA!X76=\"\",CSA!V76,CSA!X76),2)&\"mg/m3. \"&IF(OR(CSA!AL76=0,OR(AND(CSA!B76=\"Aerosol Exposure\",CSA!F$15=\"YES\"),AND(CSA!B76=\"Vapour Exposure\",CSA!F$13=\"YES\"))),\"\",WPG!F$564&IF(CSA!AL76<0.001,\"<0.001\",ROUND(CSA!AL76,3))&\".  \"))","v":""}]
[null,{"$f":"IF(OR(CSA!A77=\"\",CSA!B$13=\"YES\"),\"\",WPG!F$668&\"ES\"&CSA!E$20&\"-\"&CSA!A77&\": \"&ROUND(IF(CSA!X77=\"\",CSA!V77,CSA!X77),2)&\"mg/m3. \"&IF(OR(CSA!AL77=0,OR(AND(CSA!B77=\"Aerosol Exposure\",CSA!F$15=\"YES\"),AND(CSA!B77=\"Vapour Exposure\",CSA!F$13=\"YES\"))),\"\",WPG!F$564&IF(CSA!AL77<0.001,\"<0.001\",ROUND(CSA!AL77,3))&\".  \"))","v":""}]
[null,{"$f":"IF(OR(CSA!A78=\"\",CSA!B$13=\"YES\"),\"\",WPG!F$668&\"ES\"&CSA!E$20&\"-\"&CSA!A78&\": \"&ROUND(IF(CSA!X78=\"\",CSA!V78,CSA!X78),2)&\"mg/m3. \"&IF(OR(CSA!AL78=0,OR(AND(CSA!B78=\"Aerosol Exposure\",CSA!F$15=\"YES\"),AND(CSA!B78=\"Vapour Exposure\",CSA!F$13=\"YES\"))),\"\",WPG!F$564&IF(CSA!AL78<0.001,\"<0.001\",ROUND(CSA!AL78,3))&\".  \"))","v":""}]
[null,{"$f":"IF(OR(CSA!A79=\"\",CSA!B$13=\"YES\"),\"\",WPG!F$668&\"ES\"&CSA!E$20&\"-\"&CSA!A79&\": \"&ROUND(IF(CSA!X79=\"\",CSA!V79,CSA!X79),2)&\"mg/m3. \"&IF(OR(CSA!AL79=0,OR(AND(CSA!B79=\"Aerosol Exposure\",CSA!F$15=\"YES\"),AND(CSA!B79=\"Vapour Exposure\",CSA!F$13=\"YES\"))),\"\",WPG!F$564&IF(CSA!AL79<0.001,\"<0.001\",ROUND(CSA!AL79,3))&\".  \"))","v":""}]
[null,{"$f":"IF(OR(CSA!A80=\"\",CSA!B$13=\"YES\"),\"\",WPG!F$668&\"ES\"&CSA!E$20&\"-\"&CSA!A80&\": \"&ROUND(IF(CSA!X80=\"\",CSA!V80,CSA!X80),2)&\"mg/m3. \"&IF(OR(CSA!AL80=0,OR(AND(CSA!B80=\"Aerosol Exposure\",CSA!F$15=\"YES\"),AND(CSA!B80=\"Vapour Exposure\",CSA!F$13=\"YES\"))),\"\",WPG!F$564&IF(CSA!AL80<0.001,\"<0.001\",ROUND(CSA!AL80,3))&\".  \"))","v":""}]
[null,{"$f":"IF(OR(CSA!A81=\"\",CSA!B$13=\"YES\"),\"\",WPG!F$668&\"ES\"&CSA!E$20&\"-\"&CSA!A81&\": \"&ROUND(IF(CSA!X81=\"\",CSA!V81,CSA!X81),2)&\"mg/m3. \"&IF(OR(CSA!AL81=0,OR(AND(CSA!B81=\"Aerosol Exposure\",CSA!F$15=\"YES\"),AND(CSA!B81=\"Vapour Exposure\",CSA!F$13=\"YES\"))),\"\",WPG!F$564&IF(CSA!AL81<0.001,\"<0.001\",ROUND(CSA!AL81,3))&\".  \"))","v":""}]
[null,{"$f":"IF(OR(CSA!A82=\"\",CSA!B$13=\"YES\"),\"\",WPG!F$668&\"ES\"&CSA!E$20&\"-\"&CSA!A82&\": \"&ROUND(IF(CSA!X82=\"\",CSA!V82,CSA!X82),2)&\"mg/m3. \"&IF(OR(CSA!AL82=0,OR(AND(CSA!B82=\"Aerosol Exposure\",CSA!F$15=\"YES\"),AND(CSA!B82=\"Vapour Exposure\",CSA!F$13=\"YES\"))),\"\",WPG!F$564&IF(CSA!AL82<0.001,\"<0.001\",ROUND(CSA!AL82,3))&\".  \"))","v":""}]
[null,{"$f":"IF(OR(CSA!A83=\"\",CSA!B$13=\"YES\"),\"\",WPG!F$668&\"ES\"&CSA!E$20&\"-\"&CSA!A83&\": \"&ROUND(IF(CSA!X83=\"\",CSA!V83,CSA!X83),2)&\"mg/m3. \"&IF(OR(CSA!AL83=0,OR(AND(CSA!B83=\"Aerosol Exposure\",CSA!F$15=\"YES\"),AND(CSA!B83=\"Vapour Exposure\",CSA!F$13=\"YES\"))),\"\",WPG!F$564&IF(CSA!AL83<0.001,\"<0.001\",ROUND(CSA!AL83,3))&\".  \"))","v":""}]
[null,{"$f":"IF(OR(CSA!A84=\"\",CSA!B$13=\"YES\"),\"\",WPG!F$668&\"ES\"&CSA!E$20&\"-\"&CSA!A84&\": \"&ROUND(IF(CSA!X84=\"\",CSA!V84,CSA!X84),2)&\"mg/m3. \"&IF(OR(CSA!AL84=0,OR(AND(CSA!B84=\"Aerosol Exposure\",CSA!F$15=\"YES\"),AND(CSA!B84=\"Vapour Exposure\",CSA!F$13=\"YES\"))),\"\",WPG!F$564&IF(CSA!AL84<0.001,\"<0.001\",ROUND(CSA!AL84,3))&\".  \"))","v":""}]
[null,{"$f":"IF(OR(CSA!A85=\"\",CSA!B$13=\"YES\"),\"\",WPG!F$668&\"ES\"&CSA!E$20&\"-\"&CSA!A85&\": \"&ROUND(IF(CSA!X85=\"\",CSA!V85,CSA!X85),2)&\"mg/m3. \"&IF(OR(CSA!AL85=0,OR(AND(CSA!B85=\"Aerosol Exposure\",CSA!F$15=\"YES\"),AND(CSA!B85=\"Vapour Exposure\",CSA!F$13=\"YES\"))),\"\",WPG!F$564&IF(CSA!AL85<0.001,\"<0.001\",ROUND(CSA!AL85,3))&\".  \"))","v":""}]
[null,{"$f":"IF(OR(CSA!A86=\"\",CSA!B$13=\"YES\"),\"\",WPG!F$668&\"ES\"&CSA!E$20&\"-\"&CSA!A86&\": \"&ROUND(IF(CSA!X86=\"\",CSA!V86,CSA!X86),2)&\"mg/m3. \"&IF(OR(CSA!AL86=0,OR(AND(CSA!B86=\"Aerosol Exposure\",CSA!F$15=\"YES\"),AND(CSA!B86=\"Vapour Exposure\",CSA!F$13=\"YES\"))),\"\",WPG!F$564&IF(CSA!AL86<0.001,\"<0.001\",ROUND(CSA!AL86,3))&\".  \"))","v":""}]
[null,{"$f":"IF(OR(CSA!A87=\"\",CSA!B$13=\"YES\"),\"\",WPG!F$668&\"ES\"&CSA!E$20&\"-\"&CSA!A87&\": \"&ROUND(IF(CSA!X87=\"\",CSA!V87,CSA!X87),2)&\"mg/m3. \"&IF(OR(CSA!AL87=0,OR(AND(CSA!B87=\"Aerosol Exposure\",CSA!F$15=\"YES\"),AND(CSA!B87=\"Vapour Exposure\",CSA!F$13=\"YES\"))),\"\",WPG!F$564&IF(CSA!AL87<0.001,\"<0.001\",ROUND(CSA!AL87,3))&\".  \"))","v":""}]
[null,{"$f":"IF(AND(CSA!E92=\"\",CSA!F92=\"\",CSA!B13=\"YES\",CSA!AK89<1),WPG!F292,CSA!E92&CSA!F92)","v":"The ECETOC TRA v3 tool has been used to estimate workplace exposures unless otherwise indicated [G46]. "}]
[{"$f":"WPG!F$41&WPG!F$562","v":"Health: Dermal: "},{"$f":"IF(OR(CSA!A47=\"\",CSA!B$14=\"YES\"),\"\",WPG!F$668&\"ES\"&CSA!E$20&\"-\"&CSA!A47&\": \"&ROUND(CSA!AH47,3)&WPG!F$535&IF(OR(CSA!E$16=\"\",CSA!F$16=\"YES\"),\"\",WPG!F$564&IF(CSA!AM47<0.001,\"<0.001\",ROUND(CSA!AM47,3))&\".  \"))","v":""}]
[null,{"$f":"IF(OR(CSA!A48=\"\",CSA!B$14=\"YES\"),\"\",WPG!F$668&\"ES\"&CSA!E$20&\"-\"&CSA!A48&\": \"&ROUND(CSA!AH48,3)&WPG!F$535&IF(OR(CSA!E$16=\"\",CSA!F$16=\"YES\"),\"\",WPG!F$564&IF(CSA!AM48<0.001,\"<0.001\",ROUND(CSA!AM48,3))&\".  \"))","v":""}]
[null,{"$f":"IF(OR(CSA!A49=\"\",CSA!B$14=\"YES\"),\"\",WPG!F$668&\"ES\"&CSA!E$20&\"-\"&CSA!A49&\": \"&ROUND(CSA!AH49,3)&WPG!F$535&IF(OR(CSA!E$16=\"\",CSA!F$16=\"YES\"),\"\",WPG!F$564&IF(CSA!AM49<0.001,\"<0.001\",ROUND(CSA!AM49,3))&\".  \"))","v":""}]
[null,{"$f":"IF(OR(CSA!A50=\"\",CSA!B$14=\"YES\"),\"\",WPG!F$668&\"ES\"&CSA!E$20&\"-\"&CSA!A50&\": \"&ROUND(CSA!AH50,3)&WPG!F$535&IF(OR(CSA!E$16=\"\",CSA!F$16=\"YES\"),\"\",WPG!F$564&IF(CSA!AM50<0.001,\"<0.001\",ROUND(CSA!AM50,3))&\".  \"))","v":""}]
[null,{"$f":"IF(OR(CSA!A51=\"\",CSA!B$14=\"YES\"),\"\",WPG!F$668&\"ES\"&CSA!E$20&\"-\"&CSA!A51&\": \"&ROUND(CSA!AH51,3)&WPG!F$535&IF(OR(CSA!E$16=\"\",CSA!F$16=\"YES\"),\"\",WPG!F$564&IF(CSA!AM51<0.001,\"<0.001\",ROUND(CSA!AM51,3))&\".  \"))","v":""}]
[null,{"$f":"IF(OR(CSA!A52=\"\",CSA!B$14=\"YES\"),\"\",WPG!F$668&\"ES\"&CSA!E$20&\"-\"&CSA!A52&\": \"&ROUND(CSA!AH52,3)&WPG!F$535&IF(OR(CSA!E$16=\"\",CSA!F$16=\"YES\"),\"\",WPG!F$564&IF(CSA!AM52<0.001,\"<0.001\",ROUND(CSA!AM52,3))&\".  \"))","v":""}]
[null,{"$f":"IF(OR(CSA!A53=\"\",CSA!B$14=\"YES\"),\"\",WPG!F$668&\"ES\"&CSA!E$20&\"-\"&CSA!A53&\": \"&ROUND(CSA!AH53,3)&WPG!F$535&IF(OR(CSA!E$16=\"\",CSA!F$16=\"YES\"),\"\",WPG!F$564&IF(CSA!AM53<0.001,\"<0.001\",ROUND(CSA!AM53,3))&\".  \"))","v":""}]
[null,{"$f":"IF(OR(CSA!A54=\"\",CSA!B$14=\"YES\"),\"\",WPG!F$668&\"ES\"&CSA!E$20&\"-\"&CSA!A54&\": \"&ROUND(CSA!AH54,3)&WPG!F$535&IF(OR(CSA!E$16=\"\",CSA!F$16=\"YES\"),\"\",WPG!F$564&IF(CSA!AM54<0.001,\"<0.001\",ROUND(CSA!AM54,3))&\".  \"))","v":""}]
[null,{"$f":"IF(OR(CSA!A55=\"\",CSA!B$14=\"YES\"),\"\",WPG!F$668&\"ES\"&CSA!E$20&\"-\"&CSA!A55&\": \"&ROUND(CSA!AH55,3)&WPG!F$535&IF(OR(CSA!E$16=\"\",CSA!F$16=\"YES\"),\"\",WPG!F$564&IF(CSA!AM55<0.001,\"<0.001\",ROUND(CSA!AM55,3))&\".  \"))","v":""}]
[null,{"$f":"IF(OR(CSA!A56=\"\",CSA!B$14=\"YES\"),\"\",WPG!F$668&\"ES\"&CSA!E$20&\"-\"&CSA!A56&\": \"&ROUND(CSA!AH56,3)&WPG!F$535&IF(OR(CSA!E$16=\"\",CSA!F$16=\"YES\"),\"\",WPG!F$564&IF(CSA!AM56<0.001,\"<0.001\",ROUND(CSA!AM56,3))&\".  \"))","v":""}]
[null,{"$f":"IF(OR(CSA!A57=\"\",CSA!B$14=\"YES\"),\"\",WPG!F$668&\"ES\"&CSA!E$20&\"-\"&CSA!A57&\": \"&ROUND(CSA!AH57,3)&WPG!F$535&IF(OR(CSA!E$16=\"\",CSA!F$16=\"YES\"),\"\",WPG!F$564&IF(CSA!AM57<0.001,\"<0.001\",ROUND(CSA!AM57,3))&\".  \"))","v":""}]
[null,{"$f":"IF(OR(CSA!A58=\"\",CSA!B$14=\"YES\"),\"\",WPG!F$668&\"ES\"&CSA!E$20&\"-\"&CSA!A58&\": \"&ROUND(CSA!AH58,3)&WPG!F$535&IF(OR(CSA!E$16=\"\",CSA!F$16=\"YES\"),\"\",WPG!F$564&IF(CSA!AM58<0.001,\"<0.001\",ROUND(CSA!AM58,3))&\".  \"))","v":""}]
[null,{"$f":"IF(OR(CSA!A59=\"\",CSA!B$14=\"YES\"),\"\",WPG!F$668&\"ES\"&CSA!E$20&\"-\"&CSA!A59&\": \"&ROUND(CSA!AH59,3)&WPG!F$535&IF(OR(CSA!E$16=\"\",CSA!F$16=\"YES\"),\"\",WPG!F$564&IF(CSA!AM59<0.001,\"<0.001\",ROUND(CSA!AM59,3))&\".  \"))","v":""}]
[null,{"$f":"IF(OR(CSA!A60=\"\",CSA!B$14=\"YES\"),\"\",WPG!F$668&\"ES\"&CSA!E$20&\"-\"&CSA!A60&\": \"&ROUND(CSA!AH60,3)&WPG!F$535&IF(OR(CSA!E$16=\"\",CSA!F$16=\"YES\"),\"\",WPG!F$564&IF(CSA!AM60<0.001,\"<0.001\",ROUND(CSA!AM60,3))&\".  \"))","v":""}]
[null,{"$f":"IF(OR(CSA!A61=\"\",CSA!B$14=\"YES\"),\"\",WPG!F$668&\"ES\"&CSA!E$20&\"-\"&CSA!A61&\": \"&ROUND(CSA!AH61,3)&WPG!F$535&IF(OR(CSA!E$16=\"\",CSA!F$16=\"YES\"),\"\",WPG!F$564&IF(CSA!AM61<0.001,\"<0.001\",ROUND(CSA!AM61,3))&\".  \"))","v":""}]
[null,{"$f":"IF(OR(CSA!A62=\"\",CSA!B$14=\"YES\"),\"\",WPG!F$668&\"ES\"&CSA!E$20&\"-\"&CSA!A62&\": \"&ROUND(CSA!AH62,3)&WPG!F$535&IF(OR(CSA!E$16=\"\",CSA!F$16=\"YES\"),\"\",WPG!F$564&IF(CSA!AM62<0.001,\"<0.001\",ROUND(CSA!AM62,3))&\".  \"))","v":""}]
[null,{"$f":"IF(OR(CSA!A63=\"\",CSA!B$14=\"YES\"),\"\",WPG!F$668&\"ES\"&CSA!E$20&\"-\"&CSA!A63&\": \"&ROUND(CSA!AH63,3)&WPG!F$535&IF(OR(CSA!E$16=\"\",CSA!F$16=\"YES\"),\"\",WPG!F$564&IF(CSA!AM63<0.001,\"<0.001\",ROUND(CSA!AM63,3))&\".  \"))","v":""}]
[null,{"$f":"IF(OR(CSA!A64=\"\",CSA!B$14=\"YES\"),\"\",WPG!F$668&\"ES\"&CSA!E$20&\"-\"&CSA!A64&\": \"&ROUND(CSA!AH64,3)&WPG!F$535&IF(OR(CSA!E$16=\"\",CSA!F$16=\"YES\"),\"\",WPG!F$564&IF(CSA!AM64<0.001,\"<0.001\",ROUND(CSA!AM64,3))&\".  \"))","v":""}]
[null,{"$f":"IF(OR(CSA!A65=\"\",CSA!B$14=\"YES\"),\"\",WPG!F$668&\"ES\"&CSA!E$20&\"-\"&CSA!A65&\": \"&ROUND(CSA!AH65,3)&WPG!F$535&IF(OR(CSA!E$16=\"\",CSA!F$16=\"YES\"),\"\",WPG!F$564&IF(CSA!AM65<0.001,\"<0.001\",ROUND(CSA!AM65,3))&\".  \"))","v":""}]
[null,{"$f":"IF(OR(CSA!A66=\"\",CSA!B$14=\"YES\"),\"\",WPG!F$668&\"ES\"&CSA!E$20&\"-\"&CSA!A66&\": \"&ROUND(CSA!AH66,3)&WPG!F$535&IF(OR(CSA!E$16=\"\",CSA!F$16=\"YES\"),\"\",WPG!F$564&IF(CSA!AM66<0.001,\"<0.001\",ROUND(CSA!AM66,3))&\".  \"))","v":""}]
[null,{"$f":"IF(OR(CSA!A67=\"\",CSA!B$14=\"YES\"),\"\",WPG!F$668&\"ES\"&CSA!E$20&\"-\"&CSA!A67&\": \"&ROUND(CSA!AH67,3)&WPG!F$535&IF(OR(CSA!E$16=\"\",CSA!F$16=\"YES\"),\"\",WPG!F$564&IF(CSA!AM67<0.001,\"<0.001\",ROUND(CSA!AM67,3))&\".  \"))","v":""}]
[null,{"$f":"IF(OR(CSA!A68=\"\",CSA!B$14=\"YES\"),\"\",WPG!F$668&\"ES\"&CSA!E$20&\"-\"&CSA!A68&\": \"&ROUND(CSA!AH68,3)&WPG!F$535&IF(OR(CSA!E$16=\"\",CSA!F$16=\"YES\"),\"\",WPG!F$564&IF(CSA!AM68<0.001,\"<0.001\",ROUND(CSA!AM68,3))&\".  \"))","v":""}]
[null,{"$f":"IF(OR(CSA!A71=\"\",CSA!B$14=\"YES\"),\"\",WPG!F$668&\"ES\"&CSA!E$20&\"-\"&CSA!A71&\": \"&ROUND(CSA!AH71,3)&WPG!F$535&IF(OR(CSA!E$16=\"\",CSA!F$16=\"YES\"),\"\",WPG!F$564&IF(CSA!AM71<0.001,\"<0.001\",ROUND(CSA!AM71,3))&\".  \"))","v":""}]
[null,{"$f":"IF(OR(CSA!A72=\"\",CSA!B$14=\"YES\"),\"\",WPG!F$668&\"ES\"&CSA!E$20&\"-\"&CSA!A72&\": \"&ROUND(CSA!AH72,3)&WPG!F$535&IF(OR(CSA!E$16=\"\",CSA!F$16=\"YES\"),\"\",WPG!F$564&IF(CSA!AM72<0.001,\"<0.001\",ROUND(CSA!AM72,3))&\".  \"))","v":""}]
[null,{"$f":"IF(OR(CSA!#REF!=\"\",CSA!B$14=\"YES\"),\"\",WPG!F$668&\"ES\"&CSA!E$20&\"-\"&CSA!#REF!&\": \"&ROUND(CSA!#REF!,3)&WPG!F$535&IF(OR(CSA!E$16=\"\",CSA!F$16=\"YES\"),\"\",WPG!F$564&IF(CSA!#REF!<0.001,\"<0.001\",ROUND(CSA!#REF!,3))&\".  \"))","v":{"$error":"#REF!"}}]
[null,{"$f":"IF(OR(CSA!A73=\"\",CSA!B$14=\"YES\"),\"\",WPG!F$668&\"ES\"&CSA!E$20&\"-\"&CSA!A73&\": \"&ROUND(CSA!AH73,3)&WPG!F$535&IF(OR(CSA!E$16=\"\",CSA!F$16=\"YES\"),\"\",WPG!F$564&IF(CSA!AM73<0.001,\"<0.001\",ROUND(CSA!AM73,3))&\".  \"))","v":""}]
[null,{"$f":"IF(OR(CSA!A74=\"\",CSA!B$14=\"YES\"),\"\",WPG!F$668&\"ES\"&CSA!E$20&\"-\"&CSA!A74&\": \"&ROUND(CSA!AH74,3)&WPG!F$535&IF(OR(CSA!E$16=\"\",CSA!F$16=\"YES\"),\"\",WPG!F$564&IF(CSA!AM74<0.001,\"<0.001\",ROUND(CSA!AM74,3))&\".  \"))","v":""}]
[null,{"$f":"IF(OR(CSA!A75=\"\",CSA!B$14=\"YES\"),\"\",WPG!F$668&\"ES\"&CSA!E$20&\"-\"&CSA!A75&\": \"&ROUND(CSA!AH75,3)&WPG!F$535&IF(OR(CSA!E$16=\"\",CSA!F$16=\"YES\"),\"\",WPG!F$564&IF(CSA!AM75<0.001,\"<0.001\",ROUND(CSA!AM75,3))&\".  \"))","v":""}]
[null,{"$f":"IF(OR(CSA!A76=\"\",CSA!B$14=\"YES\"),\"\",WPG!F$668&\"ES\"&CSA!E$20&\"-\"&CSA!A76&\": \"&ROUND(CSA!AH76,3)&WPG!F$535&IF(OR(CSA!E$16=\"\",CSA!F$16=\"YES\"),\"\",WPG!F$564&IF(CSA!AM76<0.001,\"<0.001\",ROUND(CSA!AM76,3))&\".  \"))","v":""}]
[null,{"$f":"IF(OR(CSA!A77=\"\",CSA!B$14=\"YES\"),\"\",WPG!F$668&\"ES\"&CSA!E$20&\"-\"&CSA!A77&\": \"&ROUND(CSA!AH77,3)&WPG!F$535&IF(OR(CSA!E$16=\"\",CSA!F$16=\"YES\"),\"\",WPG!F$564&IF(CSA!AM77<0.001,\"<0.001\",ROUND(CSA!AM77,3))&\".  \"))","v":""}]
[null,{"$f":"IF(OR(CSA!A78=\"\",CSA!B$14=\"YES\"),\"\",WPG!F$668&\"ES\"&CSA!E$20&\"-\"&CSA!A78&\": \"&ROUND(CSA!AH78,3)&WPG!F$535&IF(OR(CSA!E$16=\"\",CSA!F$16=\"YES\"),\"\",WPG!F$564&IF(CSA!AM78<0.001,\"<0.001\",ROUND(CSA!AM78,3))&\".  \"))","v":""}]
[null,{"$f":"IF(OR(CSA!A79=\"\",CSA!B$14=\"YES\"),\"\",WPG!F$668&\"ES\"&CSA!E$20&\"-\"&CSA!A79&\": \"&ROUND(CSA!AH79,3)&WPG!F$535&IF(OR(CSA!E$16=\"\",CSA!F$16=\"YES\"),\"\",WPG!F$564&IF(CSA!AM79<0.001,\"<0.001\",ROUND(CSA!AM79,3))&\".  \"))","v":""}]
[null,{"$f":"IF(OR(CSA!A80=\"\",CSA!B$14=\"YES\"),\"\",WPG!F$668&\"ES\"&CSA!E$20&\"-\"&CSA!A80&\": \"&ROUND(CSA!AH80,3)&WPG!F$535&IF(OR(CSA!E$16=\"\",CSA!F$16=\"YES\"),\"\",WPG!F$564&IF(CSA!AM80<0.001,\"<0.001\",ROUND(CSA!AM80,3))&\".  \"))","v":""}]
[null,{"$f":"IF(OR(CSA!A81=\"\",CSA!B$14=\"YES\"),\"\",WPG!F$668&\"ES\"&CSA!E$20&\"-\"&CSA!A81&\": \"&ROUND(CSA!AH81,3)&WPG!F$535&IF(OR(CSA!E$16=\"\",CSA!F$16=\"YES\"),\"\",WPG!F$564&IF(CSA!AM81<0.001,\"<0.001\",ROUND(CSA!AM81,3))&\".  \"))","v":""}]
[null,{"$f":"IF(OR(CSA!A82=\"\",CSA!B$14=\"YES\"),\"\",WPG!F$668&\"ES\"&CSA!E$20&\"-\"&CSA!A82&\": \"&ROUND(CSA!AH82,3)&WPG!F$535&IF(OR(CSA!E$16=\"\",CSA!F$16=\"YES\"),\"\",WPG!F$564&IF(CSA!AM82<0.001,\"<0.001\",ROUND(CSA!AM82,3))&\".  \"))","v":""}]
[null,{"$f":"IF(OR(CSA!A83=\"\",CSA!B$14=\"YES\"),\"\",WPG!F$668&\"ES\"&CSA!E$20&\"-\"&CSA!A83&\": \"&ROUND(CSA!AH83,3)&WPG!F$535&IF(OR(CSA!E$16=\"\",CSA!F$16=\"YES\"),\"\",WPG!F$564&IF(CSA!AM83<0.001,\"<0.001\",ROUND(CSA!AM83,3))&\".  \"))","v":""}]
[null,{"$f":"IF(OR(CSA!A84=\"\",CSA!B$14=\"YES\"),\"\",WPG!F$668&\"ES\"&CSA!E$20&\"-\"&CSA!A84&\": \"&ROUND(CSA!AH84,3)&WPG!F$535&IF(OR(CSA!E$16=\"\",CSA!F$16=\"YES\"),\"\",WPG!F$564&IF(CSA!AM84<0.001,\"<0.001\",ROUND(CSA!AM84,3))&\".  \"))","v":""}]
[null,{"$f":"IF(OR(CSA!A85=\"\",CSA!B$14=\"YES\"),\"\",WPG!F$668&\"ES\"&CSA!E$20&\"-\"&CSA!A85&\": \"&ROUND(CSA!AH85,3)&WPG!F$535&IF(OR(CSA!E$16=\"\",CSA!F$16=\"YES\"),\"\",WPG!F$564&IF(CSA!AM85<0.001,\"<0.001\",ROUND(CSA!AM85,3))&\".  \"))","v":""}]
[null,{"$f":"IF(OR(CSA!A86=\"\",CSA!B$14=\"YES\"),\"\",WPG!F$668&\"ES\"&CSA!E$20&\"-\"&CSA!A86&\": \"&ROUND(CSA!AH86,3)&WPG!F$535&IF(OR(CSA!E$16=\"\",CSA!F$16=\"YES\"),\"\",WPG!F$564&IF(CSA!AM86<0.001,\"<0.001\",ROUND(CSA!AM86,3))&\".  \"))","v":""}]
[null,{"$f":"IF(OR(CSA!A87=\"\",CSA!B$14=\"YES\"),\"\",WPG!F$668&\"ES\"&CSA!E$20&\"-\"&CSA!A87&\": \"&ROUND(CSA!AH87,3)&WPG!F$535&IF(OR(CSA!E$16=\"\",CSA!F$16=\"YES\"),\"\",WPG!F$564&IF(CSA!AM87<0.001,\"<0.001\",ROUND(CSA!AM87,3))&\".  \"))","v":""}]
[null,{"$f":"IF(AND(CSA!E93=\"\",CSA!F93=\"\",CSA!B14=\"YES\",CSA!AK89<1),WPG!F292,CSA!E93&CSA!F93)","v":"\nAvailable hazard data do not enable the derivation of a DNEL for dermal irritant effects [G32]. Risk Management Measures are based on qualitative risk characterisation [G37]. \nAvailable hazard data do not enable the derivation of a DNEL for eye irritant effects [G45]. The ECETOC TRA v3 tool has been used to estimate workplace exposures unless otherwise indicated [G46]. "}]
[{"$f":"WPG!F$42","v":"Environment: "}]
[null,"standard phrases"]
[{"$f":"WPG!F43","v":"Section 4: "},{"$f":"WPG!F44","v":"Guidance to check compliance with the exposure scenario: "}]
[{"$f":"WPG!F41","v":"Health: "},{"$f":"CSA!E96&\" \"&CSA!D96","v":";  Predicted exposures are not expected to exceed the DN(M)EL when the Risk Management Measures/Operational Conditions outlined in Section 2 are implemented [G22]. ;  Where other Risk Management Measures/Operational Conditions are adopted, then users should ensure that risks are managed to at least equivalent levels [G23].  "}]
[]
[{"$f":"WPG!F42","v":"Environment: "},"standard phrases"]

{"sheet":"Justifications","index":4,"n_rows":47,"n_cols":3,"rows_kept":47,"cut":false,"hidden":false,"merged":[]}
[null,null,{"$f":"\"Justification for modifications made to Worker CSA Template GES to make it appropriate for \"&CSA!E6","v":"Justification for modifications made to Worker CSA Template GES to make it appropriate for medium volatility substance"}]
[]
["Source documents",null,"List source documents here."]
[]
["Overall comments",null,"Annotate as appropriate"]
["ES title",null,{"$f":"CSA!E3&\" \"&CSA!F3","v":"Functional Fluids [GEST13_I].  "}]
["CS title","PROC"]
[{"$f":"IF(B8=\"\",\"\",CSA!A47&\": \"&CSA!D47&\" \"&CSA!E47&CSA!F47&\". \"&CSA!B47&\". \"&CSA!C47&\".\")","v":"1-1: Bulk transfers [CS14].;  (closed systems) [CS107].  Daily; 15 min - 1 hour; ambient tempEnclosed transfers; clear lines prior to decoupling. Vapour exposure. Industrial."},{"$f":"IF(CSA!I47=\"\",\"\",CSA!I47)","v":"1 - Use in closed process, no likelihood of exposure"},"annotate as appropriate"]
[{"$f":"IF(B9=\"\",\"\",CSA!A48&\": \"&CSA!D48&\" \"&CSA!E48&CSA!F48&\". \"&CSA!B48&\". \"&CSA!C48&\".\")","v":"1-2: Bulk transfers [CS14].;  (closed systems) [CS107].  Daily; 15 min - 1 hour; ambient tempEnclosed transfers; clear lines prior to decoupling. Vapour exposure. Industrial."},{"$f":"IF(CSA!I48=\"\",\"\",CSA!I48)","v":"2 - Use in closed, continuous  process with occasional controlled exposure "},"Annotate as appropriate"]
[{"$f":"IF(B10=\"\",\"\",CSA!A49&\": \"&CSA!D49&\" \"&CSA!E49&CSA!F49&\". \"&CSA!B49&\". \"&CSA!C49&\".\")","v":"2: Drum/batch transfers  [CS8]. ;  Dedicated facility [CS81].  Daily; 15 min - 1 hour; ambient tempPumped transfer from drum to holding tanks. . Vapour exposure. Industrial."},{"$f":"IF(CSA!I49=\"\",\"\",CSA!I49)","v":"8b -Transfer of chemicals from/to vessels/ large containers at dedicated facilities"},"Annotate as appropriate"]
[{"$f":"IF(B11=\"\",\"\",CSA!A50&\": \"&CSA!D50&\" \"&CSA!E50&CSA!F50&\". \"&CSA!B50&\". \"&CSA!C50&\".\")","v":"3: Filling of articles/equipment [CS84]. ;  (closed systems) [CS107].  Daily; >4 hours, ambientEnclosed operations, size of openings minimised. Vapour exposure. Industrial."},{"$f":"IF(CSA!I50=\"\",\"\",CSA!I50)","v":"9 -Transfer of chemicals into small containers (dedicated filling line)"},"Annotate as appropriate"]
[{"$f":"IF(B12=\"\",\"\",CSA!A51&\": \"&CSA!D51&\" \"&CSA!E51&CSA!F51&\". \"&CSA!B51&\". \"&CSA!C51&\".\")","v":"4: Filling / preparation of equipment from drums or containers. [CS45]. ;  Non-dedicated facility [CS82].  Daily; 1-4 hours, ambientCareful pouring, worker instructions. Vapour exposure. Industrial."},{"$f":"IF(CSA!I51=\"\",\"\",CSA!I51)","v":"8a -Transfer of chemicals from/to vessels/ large containers at non dedicated facilities"},"Annotate as appropriate"]
[{"$f":"IF(B13=\"\",\"\",CSA!A52&\": \"&CSA!D52&\" \"&CSA!E52&CSA!F52&\". \"&CSA!B52&\". \"&CSA!C52&\".\")","v":"5: General exposures (closed systems)  [CS15].  Daily; >4 hours, ambientClosed system. Vapour exposure. Industrial."},{"$f":"IF(CSA!I52=\"\",\"\",CSA!I52)","v":"2 - Use in closed, continuous  process with occasional controlled exposure "},"Annotate as appropriate"]
[{"$f":"IF(B14=\"\",\"\",CSA!A53&\": \"&CSA!D53&\" \"&CSA!E53&CSA!F53&\". \"&CSA!B53&\". \"&CSA!C53&\".\")","v":"6: General exposures (open systems)  [CS16].  Daily; >4 hours, ambientWell ventilated area (Enhanced GV).. Vapour exposure. Industrial."},{"$f":"IF(CSA!I53=\"\",\"\",CSA!I53)","v":"4 - Use in batch and other process (synthesis) where opportunity for exposure arises "},"Annotate as appropriate"]
[{"$f":"IF(B15=\"\",\"\",CSA!A54&\": \"&CSA!D54&\" \"&CSA!E54&CSA!F54&\". \"&CSA!B54&\". \"&CSA!C54&\".\")","v":"7a: General exposures (open systems)  [CS16]. ;  elevated temperature [CS111].  Daily; >4 hours, ambient (product at 80oC)Well ventilated area (Enhanced GV).. Vapour exposure. Industrial."},{"$f":"IF(CSA!I54=\"\",\"\",CSA!I54)","v":"4 - Use in batch and other process (synthesis) where opportunity for exposure arises "},"Annotate as appropriate"]
[{"$f":"IF(B16=\"\",\"\",CSA!A55&\": \"&CSA!D55&\" \"&CSA!E55&CSA!F55&\". \"&CSA!B55&\". \"&CSA!C55&\".\")","v":"7b: General exposures (open systems)  [CS16]. ;  elevated temperature [CS111].  Daily; >4 hours, ambient (product at 80oC)Well ventilated area (Enhanced GV).. Aerosol exposure. Industrial."},{"$f":"IF(CSA!I55=\"\",\"\",CSA!I55)","v":"4 - Use in batch and other process (synthesis) where opportunity for exposure arises "},"Annotate as appropriate"]
[{"$f":"IF(B17=\"\",\"\",CSA!A56&\": \"&CSA!D56&\" \"&CSA!E56&CSA!F56&\". \"&CSA!B56&\". \"&CSA!C56&\".\")","v":"8: Remanufacture of reject articles [CS19].  Daily; >4 hours, ambientwork methods, drain prior to work, retain spills. Vapour exposure. Industrial."},{"$f":"IF(CSA!I56=\"\",\"\",CSA!I56)","v":"9 -Transfer of chemicals into small containers (dedicated filling line)"},"Annotate as appropriate"]
[{"$f":"IF(B18=\"\",\"\",CSA!A57&\": \"&CSA!D57&\" \"&CSA!E57&CSA!F57&\". \"&CSA!B57&\". \"&CSA!C57&\".\")","v":"9-1: Equipment maintenance   [CS5].  Daily; 1-4 hours, ambientwork methods, drain prior to work, retain spills, gloves. Vapour exposure. Industrial."},{"$f":"IF(CSA!I57=\"\",\"\",CSA!I57)","v":"8a -Transfer of chemicals from/to vessels/ large containers at non dedicated facilities"},"Annotate as appropriate"]
[{"$f":"IF(B19=\"\",\"\",CSA!A58&\": \"&CSA!D58&\" \"&CSA!E58&CSA!F58&\". \"&CSA!B58&\". \"&CSA!C58&\".\")","v":"9-2: Equipment maintenance   [CS5].  Daily; 1-4 hours, ambientwork methods, drain prior to work, retain spills, gloves. Vapour exposure. Industrial."},{"$f":"IF(CSA!I58=\"\",\"\",CSA!I58)","v":"28 - Manual maintenance (cleaning and repair) of machinery "},"Annotate as appropriate"]
[{"$f":"IF(B20=\"\",\"\",CSA!A59&\": \"&CSA!D59&\" \"&CSA!E59&CSA!F59&\". \"&CSA!B59&\". \"&CSA!C59&\".\")","v":"10-1: Storage [CS67].  Daily; exposure < 1hour; ambient temp; samples collected at dedicated sample point. Vapour exposure. Industrial."},{"$f":"IF(CSA!I59=\"\",\"\",CSA!I59)","v":"1 - Use in closed process, no likelihood of exposure"},"Annotate as appropriate"]
[{"$f":"IF(B21=\"\",\"\",CSA!A60&\": \"&CSA!D60&\" \"&CSA!E60&CSA!F60&\". \"&CSA!B60&\". \"&CSA!C60&\".\")","v":"10-2: Storage [CS67].  Daily; exposure <1hour; ambient temp; samples collected at dedicated sample point. Vapour exposure. Industrial."},{"$f":"IF(CSA!I60=\"\",\"\",CSA!I60)","v":"2 - Use in closed, continuous  process with occasional controlled exposure "},"Annotate as appropriate"]
[{"$f":"IF(B22=\"\",\"\",CSA!A61&\": \"&CSA!D61&\" \"&CSA!E61&CSA!F61&\". \"&CSA!B61&\". \"&CSA!C61&\".\")","v":"11: General exposures (closed systems)  [CS15].  Daily; >4 hours, ambientClosed systems. Vapour exposure. Industrial."},{"$f":"IF(CSA!I61=\"\",\"\",CSA!I61)","v":"3 - Use in closed batch process (synthesis or formulation)"},"Annotate as appropriate"]
[{"$f":"IF(B23=\"\",\"\",CSA!A62&\": \"&CSA!D62&\" \"&CSA!E62&CSA!F62&\". \"&CSA!B62&\". \"&CSA!C62&\".\")","v":""},{"$f":"IF(CSA!I62=\"\",\"\",CSA!I62)","v":""},"Annotate as appropriate"]
[{"$f":"IF(B24=\"\",\"\",CSA!A63&\": \"&CSA!D63&\" \"&CSA!E63&CSA!F63&\". \"&CSA!B63&\". \"&CSA!C63&\".\")","v":""},{"$f":"IF(CSA!I63=\"\",\"\",CSA!I63)","v":""},"Annotate as appropriate"]
[{"$f":"IF(B25=\"\",\"\",CSA!A64&\": \"&CSA!D64&\" \"&CSA!E64&CSA!F64&\". \"&CSA!B64&\". \"&CSA!C64&\".\")","v":""},{"$f":"IF(CSA!I64=\"\",\"\",CSA!I64)","v":""},"Annotate as appropriate"]
[{"$f":"IF(B26=\"\",\"\",CSA!A65&\": \"&CSA!D65&\" \"&CSA!E65&CSA!F65&\". \"&CSA!B65&\". \"&CSA!C65&\".\")","v":""},{"$f":"IF(CSA!I65=\"\",\"\",CSA!I65)","v":""},"Annotate as appropriate"]
[{"$f":"IF(B27=\"\",\"\",CSA!A66&\": \"&CSA!D66&\" \"&CSA!E66&CSA!F66&\". \"&CSA!B66&\". \"&CSA!C66&\".\")","v":""},{"$f":"IF(CSA!I66=\"\",\"\",CSA!I66)","v":""},"Annotate as appropriate"]
[{"$f":"IF(B28=\"\",\"\",CSA!A67&\": \"&CSA!D67&\" \"&CSA!E67&CSA!F67&\". \"&CSA!B67&\". \"&CSA!C67&\".\")","v":""},{"$f":"IF(CSA!I67=\"\",\"\",CSA!I67)","v":""},"Annotate as appropriate"]
[{"$f":"IF(B29=\"\",\"\",CSA!A68&\": \"&CSA!D68&\" \"&CSA!E68&CSA!F68&\". \"&CSA!B68&\". \"&CSA!C68&\".\")","v":""},{"$f":"IF(CSA!I68=\"\",\"\",CSA!I68)","v":""},"Annotate as appropriate"]
[{"$f":"IF(B30=\"\",\"\",CSA!A71&\": \"&CSA!D71&\" \"&CSA!E71&CSA!F71&\". \"&CSA!B71&\". \"&CSA!C71&\".\")","v":""},{"$f":"IF(CSA!I71=\"\",\"\",CSA!I71)","v":""},"Annotate as appropriate"]
[{"$f":"IF(B31=\"\",\"\",CSA!A72&\": \"&CSA!D72&\" \"&CSA!E72&CSA!F72&\". \"&CSA!B72&\". \"&CSA!C72&\".\")","v":""},{"$f":"IF(CSA!I72=\"\",\"\",CSA!I72)","v":""},"Annotate as appropriate"]
[{"$f":"IF(B32=\"\",\"\",CSA!#REF!&\": \"&CSA!#REF!&\" \"&CSA!#REF!&CSA!#REF!&\". \"&CSA!#REF!&\". \"&CSA!#REF!&\".\")","v":{"$error":"#REF!"}},{"$f":"IF(CSA!#REF!=\"\",\"\",CSA!#REF!)","v":{"$error":"#REF!"}},"Annotate as appropriate"]
[{"$f":"IF(B33=\"\",\"\",CSA!A73&\": \"&CSA!D73&\" \"&CSA!E73&CSA!F73&\". \"&CSA!B73&\". \"&CSA!C73&\".\")","v":""},{"$f":"IF(CSA!I73=\"\",\"\",CSA!I73)","v":""},"Annotate as appropriate"]
[{"$f":"IF(B34=\"\",\"\",CSA!A74&\": \"&CSA!D74&\" \"&CSA!E74&CSA!F74&\". \"&CSA!B74&\". \"&CSA!C74&\".\")","v":""},{"$f":"IF(CSA!I74=\"\",\"\",CSA!I74)","v":""},"Annotate as appropriate"]
[{"$f":"IF(B35=\"\",\"\",CSA!A75&\": \"&CSA!D75&\" \"&CSA!E75&CSA!F75&\". \"&CSA!B75&\". \"&CSA!C75&\".\")","v":""},{"$f":"IF(CSA!I75=\"\",\"\",CSA!I75)","v":""},"Annotate as appropriate"]
[{"$f":"IF(B36=\"\",\"\",CSA!A76&\": \"&CSA!D76&\" \"&CSA!E76&CSA!F76&\". \"&CSA!B76&\". \"&CSA!C76&\".\")","v":""},{"$f":"IF(CSA!I76=\"\",\"\",CSA!I76)","v":""},"Annotate as appropriate"]
[{"$f":"IF(B37=\"\",\"\",CSA!A77&\": \"&CSA!D77&\" \"&CSA!E77&CSA!F77&\". \"&CSA!B77&\". \"&CSA!C77&\".\")","v":""},{"$f":"IF(CSA!I77=\"\",\"\",CSA!I77)","v":""},"Annotate as appropriate"]
[{"$f":"IF(B38=\"\",\"\",CSA!A78&\": \"&CSA!D78&\" \"&CSA!E78&CSA!F78&\". \"&CSA!B78&\". \"&CSA!C78&\".\")","v":""},{"$f":"IF(CSA!I78=\"\",\"\",CSA!I78)","v":""},"Annotate as appropriate"]
[{"$f":"IF(B39=\"\",\"\",CSA!A79&\": \"&CSA!D79&\" \"&CSA!E79&CSA!F79&\". \"&CSA!B79&\". \"&CSA!C79&\".\")","v":""},{"$f":"IF(CSA!I79=\"\",\"\",CSA!I79)","v":""},"Annotate as appropriate"]
[{"$f":"IF(B40=\"\",\"\",CSA!A80&\": \"&CSA!D80&\" \"&CSA!E80&CSA!F80&\". \"&CSA!B80&\". \"&CSA!C80&\".\")","v":""},{"$f":"IF(CSA!I80=\"\",\"\",CSA!I80)","v":""},"Annotate as appropriate"]
[{"$f":"IF(B41=\"\",\"\",CSA!A81&\": \"&CSA!D81&\" \"&CSA!E81&CSA!F81&\". \"&CSA!B81&\". \"&CSA!C81&\".\")","v":""},{"$f":"IF(CSA!I81=\"\",\"\",CSA!I81)","v":""},"Annotate as appropriate"]
[{"$f":"IF(B42=\"\",\"\",CSA!A82&\": \"&CSA!D82&\" \"&CSA!E82&CSA!F82&\". \"&CSA!B82&\". \"&CSA!C82&\".\")","v":""},{"$f":"IF(CSA!I82=\"\",\"\",CSA!I82)","v":""},"Annotate as appropriate"]
[{"$f":"IF(B43=\"\",\"\",CSA!A83&\": \"&CSA!D83&\" \"&CSA!E83&CSA!F83&\". \"&CSA!B83&\". \"&CSA!C83&\".\")","v":""},{"$f":"IF(CSA!I83=\"\",\"\",CSA!I83)","v":""},"Annotate as appropriate"]
[{"$f":"IF(B44=\"\",\"\",CSA!A84&\": \"&CSA!D84&\" \"&CSA!E84&CSA!F84&\". \"&CSA!B84&\". \"&CSA!C84&\".\")","v":""},{"$f":"IF(CSA!I84=\"\",\"\",CSA!I84)","v":""},"Annotate as appropriate"]
[{"$f":"IF(B45=\"\",\"\",CSA!A85&\": \"&CSA!D85&\" \"&CSA!E85&CSA!F85&\". \"&CSA!B85&\". \"&CSA!C85&\".\")","v":""},{"$f":"IF(CSA!I85=\"\",\"\",CSA!I85)","v":""},"Annotate as appropriate"]
[{"$f":"IF(B46=\"\",\"\",CSA!A86&\": \"&CSA!D86&\" \"&CSA!E86&CSA!F86&\". \"&CSA!B86&\". \"&CSA!C86&\".\")","v":""},{"$f":"IF(CSA!I86=\"\",\"\",CSA!I86)","v":""},"Annotate as appropriate"]
[{"$f":"IF(B47=\"\",\"\",CSA!A87&\": \"&CSA!D87&\" \"&CSA!E87&CSA!F87&\". \"&CSA!B87&\". \"&CSA!C87&\".\")","v":""},{"$f":"IF(CSA!I87=\"\",\"\",CSA!I87)","v":""},"Annotate as appropriate"]

{"sheet":"WPG","index":5,"n_rows":806,"n_cols":14,"rows_kept":806,"cut":false,"hidden":false,"merged":[]}
["BDI code","ESIG_ESVOC Code","TYPE","English original phrase","Translated phrase (ENGLISH)","Composite phrase to be used in ES Annex - USE THIS COLUMN","Punctuation","Use code in phrase?","Efficiency Inhalation (%)",null,null,"Efficiency Dermal (%)","Remarks / Source","Justification"]
["GES template element"]
[null,null,null,"Section 1","Section 1",{"$f":"IF(AND(H3=\"Y\",CSA!B$15=\"YES\"),IF(E3=\"\",\"***TRANSLATED TEXT MISSING***\",E3&IF(B3=\"\",G3&\" \",IF(OR(LEFT(B3,3)<>\"CSL\", AND(LEFT(B3,3)=\"CSL\",H$522=\"NO\")),\" [\"&B3&\"]\"&G3&\" \",G3&\" \"))),IF(E3=\"\",\"***TRANSLATED TEXT MISSING***\",E3&G3&\" \"))","v":"Section 1 "},null,"N"]
[null,null,null,"Title","Title",{"$f":"IF(AND(H4=\"Y\",CSA!B$15=\"YES\"),IF(E4=\"\",\"***TRANSLATED TEXT MISSING***\",E4&IF(B4=\"\",G4&\" \",IF(OR(LEFT(B4,3)<>\"CSL\", AND(LEFT(B4,3)=\"CSL\",H$522=\"NO\")),\" [\"&B4&\"]\"&G4&\" \",G4&\" \"))),IF(E4=\"\",\"***TRANSLATED TEXT MISSING***\",E4&G4&\" \"))","v":"Title. "},".","N"]
[null,null,null,"Use Descriptor","Use Descriptor",{"$f":"IF(AND(H5=\"Y\",CSA!B$15=\"YES\"),IF(E5=\"\",\"***TRANSLATED TEXT MISSING***\",E5&IF(B5=\"\",G5&\" \",IF(OR(LEFT(B5,3)<>\"CSL\", AND(LEFT(B5,3)=\"CSL\",H$522=\"NO\")),\" [\"&B5&\"]\"&G5&\" \",G5&\" \"))),IF(E5=\"\",\"***TRANSLATED TEXT MISSING***\",E5&G5&\" \"))","v":"Use Descriptor. "},".","N"]
[null,null,null,"Processes, tasks, activities covered","Processes, tasks, activities covered",{"$f":"IF(AND(H6=\"Y\",CSA!B$15=\"YES\"),IF(E6=\"\",\"***TRANSLATED TEXT MISSING***\",E6&IF(B6=\"\",G6&\" \",IF(OR(LEFT(B6,3)<>\"CSL\", AND(LEFT(B6,3)=\"CSL\",H$522=\"NO\")),\" [\"&B6&\"]\"&G6&\" \",G6&\" \"))),IF(E6=\"\",\"***TRANSLATED TEXT MISSING***\",E6&G6&\" \"))","v":"Processes, tasks, activities covered: "},":","N"]
[null,null,null,"Sector(s) of Use","Sector(s) of Use",{"$f":"IF(AND(H7=\"Y\",CSA!B$15=\"YES\"),IF(E7=\"\",\"***TRANSLATED TEXT MISSING***\",E7&IF(B7=\"\",G7&\" \",IF(OR(LEFT(B7,3)<>\"CSL\", AND(LEFT(B7,3)=\"CSL\",H$522=\"NO\")),\" [\"&B7&\"]\"&G7&\" \",G7&\" \"))),IF(E7=\"\",\"***TRANSLATED TEXT MISSING***\",E7&G7&\" \"))","v":"Sector(s) of Use: "},":","N"]
[null,null,null,"Process Category(ies)","Process Category(ies)",{"$f":"IF(AND(H8=\"Y\",CSA!B$15=\"YES\"),IF(E8=\"\",\"***TRANSLATED TEXT MISSING***\",E8&IF(B8=\"\",G8&\" \",IF(OR(LEFT(B8,3)<>\"CSL\", AND(LEFT(B8,3)=\"CSL\",H$522=\"NO\")),\" [\"&B8&\"]\"&G8&\" \",G8&\" \"))),IF(E8=\"\",\"***TRANSLATED TEXT MISSING***\",E8&G8&\" \"))","v":"Process Category(ies): "},":","N"]
[null,null,null,"Product Category(ies)","Product Category(ies)",{"$f":"IF(AND(H9=\"Y\",CSA!B$15=\"YES\"),IF(E9=\"\",\"***TRANSLATED TEXT MISSING***\",E9&IF(B9=\"\",G9&\" \",IF(OR(LEFT(B9,3)<>\"CSL\", AND(LEFT(B9,3)=\"CSL\",H$522=\"NO\")),\" [\"&B9&\"]\"&G9&\" \",G9&\" \"))),IF(E9=\"\",\"***TRANSLATED TEXT MISSING***\",E9&G9&\" \"))","v":"Product Category(ies): "},":","N"]
[null,null,null,"Environmental Release Category(ies)","Environmental Release Category(ies)",{"$f":"IF(AND(H10=\"Y\",CSA!B$15=\"YES\"),IF(E10=\"\",\"***TRANSLATED TEXT MISSING***\",E10&IF(B10=\"\",G10&\" \",IF(OR(LEFT(B10,3)<>\"CSL\", AND(LEFT(B10,3)=\"CSL\",H$522=\"NO\")),\" [\"&B10&\"]\"&G10&\" \",G10&\" \"))),IF(E10=\"\",\"***TRANSLATED TEXT MISSING***\",E10&G10&\" \"))","v":"Environmental Release Category(ies): "},":","N"]
[null,null,null,"Section 2","Section 2",{"$f":"IF(AND(H11=\"Y\",CSA!B$15=\"YES\"),IF(E11=\"\",\"***TRANSLATED TEXT MISSING***\",E11&IF(B11=\"\",G11&\" \",IF(OR(LEFT(B11,3)<>\"CSL\", AND(LEFT(B11,3)=\"CSL\",H$522=\"NO\")),\" [\"&B11&\"]\"&G11&\" \",G11&\" \"))),IF(E11=\"\",\"***TRANSLATED TEXT MISSING***\",E11&G11&\" \"))","v":"Section 2: "},":","N"]
[null,null,null,"Operational conditions and risk management measures","Operational conditions and risk management measures",{"$f":"IF(AND(H12=\"Y\",CSA!B$15=\"YES\"),IF(E12=\"\",\"***TRANSLATED TEXT MISSING***\",E12&IF(B12=\"\",G12&\" \",IF(OR(LEFT(B12,3)<>\"CSL\", AND(LEFT(B12,3)=\"CSL\",H$522=\"NO\")),\" [\"&B12&\"]\"&G12&\" \",G12&\" \"))),IF(E12=\"\",\"***TRANSLATED TEXT MISSING***\",E12&G12&\" \"))","v":"Operational conditions and risk management measures. "},".","N"]
[null,null,null,"Section 2.1:","Section 2.1",{"$f":"IF(AND(H13=\"Y\",CSA!B$15=\"YES\"),IF(E13=\"\",\"***TRANSLATED TEXT MISSING***\",E13&IF(B13=\"\",G13&\" \",IF(OR(LEFT(B13,3)<>\"CSL\", AND(LEFT(B13,3)=\"CSL\",H$522=\"NO\")),\" [\"&B13&\"]\"&G13&\" \",G13&\" \"))),IF(E13=\"\",\"***TRANSLATED TEXT MISSING***\",E13&G13&\" \"))","v":"Section 2.1 "},null,"N"]
[null,null,null,"Control of worker exposure","Control of worker exposure",{"$f":"IF(AND(H14=\"Y\",CSA!B$15=\"YES\"),IF(E14=\"\",\"***TRANSLATED TEXT MISSING***\",E14&IF(B14=\"\",G14&\" \",IF(OR(LEFT(B14,3)<>\"CSL\", AND(LEFT(B14,3)=\"CSL\",H$522=\"NO\")),\" [\"&B14&\"]\"&G14&\" \",G14&\" \"))),IF(E14=\"\",\"***TRANSLATED TEXT MISSING***\",E14&G14&\" \"))","v":"Control of worker exposure. "},".","N"]
[null,null,null,"Control of consumer exposure","Control of consumer exposure",{"$f":"IF(AND(H15=\"Y\",CSA!B$15=\"YES\"),IF(E15=\"\",\"***TRANSLATED TEXT MISSING***\",E15&IF(B15=\"\",G15&\" \",IF(OR(LEFT(B15,3)<>\"CSL\", AND(LEFT(B15,3)=\"CSL\",H$522=\"NO\")),\" [\"&B15&\"]\"&G15&\" \",G15&\" \"))),IF(E15=\"\",\"***TRANSLATED TEXT MISSING***\",E15&G15&\" \"))","v":"Control of consumer exposure. "},".","N"]
[null,null,null,"Product Characteristics","Product Characteristics",{"$f":"IF(AND(H16=\"Y\",CSA!B$15=\"YES\"),IF(E16=\"\",\"***TRANSLATED TEXT MISSING***\",E16&IF(B16=\"\",G16&\" \",IF(OR(LEFT(B16,3)<>\"CSL\", AND(LEFT(B16,3)=\"CSL\",H$522=\"NO\")),\" [\"&B16&\"]\"&G16&\" \",G16&\" \"))),IF(E16=\"\",\"***TRANSLATED TEXT MISSING***\",E16&G16&\" \"))","v":"Product Characteristics: "},":","N"]
[null,null,null,"Physical form of product","Physical form of product",{"$f":"IF(AND(H17=\"Y\",CSA!B$15=\"YES\"),IF(E17=\"\",\"***TRANSLATED TEXT MISSING***\",E17&IF(B17=\"\",G17&\" \",IF(OR(LEFT(B17,3)<>\"CSL\", AND(LEFT(B17,3)=\"CSL\",H$522=\"NO\")),\" [\"&B17&\"]\"&G17&\" \",G17&\" \"))),IF(E17=\"\",\"***TRANSLATED TEXT MISSING***\",E17&G17&\" \"))","v":"Physical form of product: "},":","N"]
[null,null,null,"Vapour pressure","Vapour pressure",{"$f":"IF(AND(H18=\"Y\",CSA!B$15=\"YES\"),IF(E18=\"\",\"***TRANSLATED TEXT MISSING***\",E18&IF(B18=\"\",G18&\" \",IF(OR(LEFT(B18,3)<>\"CSL\", AND(LEFT(B18,3)=\"CSL\",H$522=\"NO\")),\" [\"&B18&\"]\"&G18&\" \",G18&\" \"))),IF(E18=\"\",\"***TRANSLATED TEXT MISSING***\",E18&G18&\" \"))","v":"Vapour pressure: "},":","N"]
[null,null,null,"Concentration of substance in product","Concentration of substance in product",{"$f":"IF(AND(H19=\"Y\",CSA!B$15=\"YES\"),IF(E19=\"\",\"***TRANSLATED TEXT MISSING***\",E19&IF(B19=\"\",G19&\" \",IF(OR(LEFT(B19,3)<>\"CSL\", AND(LEFT(B19,3)=\"CSL\",H$522=\"NO\")),\" [\"&B19&\"]\"&G19&\" \",G19&\" \"))),IF(E19=\"\",\"***TRANSLATED TEXT MISSING***\",E19&G19&\" \"))","v":"Concentration of substance in product: "},":","N"]
[null,null,null,"Amounts used","Amounts used",{"$f":"IF(AND(H20=\"Y\",CSA!B$15=\"YES\"),IF(E20=\"\",\"***TRANSLATED TEXT MISSING***\",E20&IF(B20=\"\",G20&\" \",IF(OR(LEFT(B20,3)<>\"CSL\", AND(LEFT(B20,3)=\"CSL\",H$522=\"NO\")),\" [\"&B20&\"]\"&G20&\" \",G20&\" \"))),IF(E20=\"\",\"***TRANSLATED TEXT MISSING***\",E20&G20&\" \"))","v":"Amounts used: "},":","N"]
[null,null,null,"Frequency and duration of use","Frequency and duration of use",{"$f":"IF(AND(H21=\"Y\",CSA!B$15=\"YES\"),IF(E21=\"\",\"***TRANSLATED TEXT MISSING***\",E21&IF(B21=\"\",G21&\" \",IF(OR(LEFT(B21,3)<>\"CSL\", AND(LEFT(B21,3)=\"CSL\",H$522=\"NO\")),\" [\"&B21&\"]\"&G21&\" \",G21&\" \"))),IF(E21=\"\",\"***TRANSLATED TEXT MISSING***\",E21&G21&\" \"))","v":"Frequency and duration of use: "},":","N"]
[null,null,null,"Human factors not influenced by risk management","Human factors not influenced by risk management",{"$f":"IF(AND(H22=\"Y\",CSA!B$15=\"YES\"),IF(E22=\"\",\"***TRANSLATED TEXT MISSING***\",E22&IF(B22=\"\",G22&\" \",IF(OR(LEFT(B22,3)<>\"CSL\", AND(LEFT(B22,3)=\"CSL\",H$522=\"NO\")),\" [\"&B22&\"]\"&G22&\" \",G22&\" \"))),IF(E22=\"\",\"***TRANSLATED TEXT MISSING***\",E22&G22&\" \"))","v":"Human factors not influenced by risk management: "},":","N"]
[null,null,null,"Other operational conditions affecting worker exposure","Other operational conditions affecting worker exposure",{"$f":"IF(AND(H23=\"Y\",CSA!B$15=\"YES\"),IF(E23=\"\",\"***TRANSLATED TEXT MISSING***\",E23&IF(B23=\"\",G23&\" \",IF(OR(LEFT(B23,3)<>\"CSL\", AND(LEFT(B23,3)=\"CSL\",H$522=\"NO\")),\" [\"&B23&\"]\"&G23&\" \",G23&\" \"))),IF(E23=\"\",\"***TRANSLATED TEXT MISSING***\",E23&G23&\" \"))","v":"Other operational conditions affecting worker exposure: "},":","N"]
[null,null,null,"Risk Management Measures","Risk Management Measures",{"$f":"IF(AND(H24=\"Y\",CSA!B$15=\"YES\"),IF(E24=\"\",\"***TRANSLATED TEXT MISSING***\",E24&IF(B24=\"\",G24&\" \",IF(OR(LEFT(B24,3)<>\"CSL\", AND(LEFT(B24,3)=\"CSL\",H$522=\"NO\")),\" [\"&B24&\"]\"&G24&\" \",G24&\" \"))),IF(E24=\"\",\"***TRANSLATED TEXT MISSING***\",E24&G24&\" \"))","v":"Risk Management Measures: "},":","N"]
[null,null,null,"Contributing Scenarios","Contributing Scenarios",{"$f":"IF(AND(H25=\"Y\",CSA!B$15=\"YES\"),IF(E25=\"\",\"***TRANSLATED TEXT MISSING***\",E25&IF(B25=\"\",G25&\" \",IF(OR(LEFT(B25,3)<>\"CSL\", AND(LEFT(B25,3)=\"CSL\",H$522=\"NO\")),\" [\"&B25&\"]\"&G25&\" \",G25&\" \"))),IF(E25=\"\",\"***TRANSLATED TEXT MISSING***\",E25&G25&\" \"))","v":"Contributing Scenarios: "},":","N"]
[null,null,null,"Product (sub) Category(ies)","Product (sub) Category(ies)",{"$f":"IF(AND(H26=\"Y\",CSA!B$15=\"YES\"),IF(E26=\"\",\"***TRANSLATED TEXT MISSING***\",E26&IF(B26=\"\",G26&\" \",IF(OR(LEFT(B26,3)<>\"CSL\", AND(LEFT(B26,3)=\"CSL\",H$522=\"NO\")),\" [\"&B26&\"]\"&G26&\" \",G26&\" \"))),IF(E26=\"\",\"***TRANSLATED TEXT MISSING***\",E26&G26&\" \"))","v":"Product (sub) Category(ies): "},":","N"]
[null,null,null,"Article (sub) Category(ies)","Article (sub) Category(ies)",{"$f":"IF(AND(H27=\"Y\",CSA!B$15=\"YES\"),IF(E27=\"\",\"***TRANSLATED TEXT MISSING***\",E27&IF(B27=\"\",G27&\" \",IF(OR(LEFT(B27,3)<>\"CSL\", AND(LEFT(B27,3)=\"CSL\",H$522=\"NO\")),\" [\"&B27&\"]\"&G27&\" \",G27&\" \"))),IF(E27=\"\",\"***TRANSLATED TEXT MISSING***\",E27&G27&\" \"))","v":"Article (sub) Category(ies): "},":","N"]
[null,null,null,"Section 2.2","Section 2.2",{"$f":"IF(AND(H28=\"Y\",CSA!B$15=\"YES\"),IF(E28=\"\",\"***TRANSLATED TEXT MISSING***\",E28&IF(B28=\"\",G28&\" \",IF(OR(LEFT(B28,3)<>\"CSL\", AND(LEFT(B28,3)=\"CSL\",H$522=\"NO\")),\" [\"&B28&\"]\"&G28&\" \",G28&\" \"))),IF(E28=\"\",\"***TRANSLATED TEXT MISSING***\",E28&G28&\" \"))","v":"Section 2.2: "},":","N"]
[null,null,null,"Control of environmental exposure","Control of environmental exposure",{"$f":"IF(AND(H29=\"Y\",CSA!B$15=\"YES\"),IF(E29=\"\",\"***TRANSLATED TEXT MISSING***\",E29&IF(B29=\"\",G29&\" \",IF(OR(LEFT(B29,3)<>\"CSL\", AND(LEFT(B29,3)=\"CSL\",H$522=\"NO\")),\" [\"&B29&\"]\"&G29&\" \",G29&\" \"))),IF(E29=\"\",\"***TRANSLATED TEXT MISSING***\",E29&G29&\" \"))","v":"Control of environmental exposure: "},":","N"]
[null,null,null,"Amounts used","Amounts used",{"$f":"IF(AND(H30=\"Y\",CSA!B$15=\"YES\"),IF(E30=\"\",\"***TRANSLATED TEXT MISSING***\",E30&IF(B30=\"\",G30&\" \",IF(OR(LEFT(B30,3)<>\"CSL\", AND(LEFT(B30,3)=\"CSL\",H$522=\"NO\")),\" [\"&B30&\"]\"&G30&\" \",G30&\" \"))),IF(E30=\"\",\"***TRANSLATED TEXT MISSING***\",E30&G30&\" \"))","v":"Amounts used: "},":","N"]
[null,null,null,"Frequency and duration of use","Frequency and duration of use",{"$f":"IF(AND(H31=\"Y\",CSA!B$15=\"YES\"),IF(E31=\"\",\"***TRANSLATED TEXT MISSING***\",E31&IF(B31=\"\",G31&\" \",IF(OR(LEFT(B31,3)<>\"CSL\", AND(LEFT(B31,3)=\"CSL\",H$522=\"NO\")),\" [\"&B31&\"]\"&G31&\" \",G31&\" \"))),IF(E31=\"\",\"***TRANSLATED TEXT MISSING***\",E31&G31&\" \"))","v":"Frequency and duration of use: "},":","N"]
[null,null,null,"Other operational conditions of use affecting environmental exposure","Other operational conditions of use affecting environmental exposure",{"$f":"IF(AND(H32=\"Y\",CSA!B$15=\"YES\"),IF(E32=\"\",\"***TRANSLATED TEXT MISSING***\",E32&IF(B32=\"\",G32&\" \",IF(OR(LEFT(B32,3)<>\"CSL\", AND(LEFT(B32,3)=\"CSL\",H$522=\"NO\")),\" [\"&B32&\"]\"&G32&\" \",G32&\" \"))),IF(E32=\"\",\"***TRANSLATED TEXT MISSING***\",E32&G32&\" \"))","v":"Other operational conditions of use affecting environmental exposure. "},".","N"]
[null,null,null,"Technical onsite conditions and measures to reduce or limit discharges, air emissions","Technical onsite conditions and measures to reduce or limit discharges, air emissions",{"$f":"IF(AND(H33=\"Y\",CSA!B$15=\"YES\"),IF(E33=\"\",\"***TRANSLATED TEXT MISSING***\",E33&IF(B33=\"\",G33&\" \",IF(OR(LEFT(B33,3)<>\"CSL\", AND(LEFT(B33,3)=\"CSL\",H$522=\"NO\")),\" [\"&B33&\"]\"&G33&\" \",G33&\" \"))),IF(E33=\"\",\"***TRANSLATED TEXT MISSING***\",E33&G33&\" \"))","v":"Technical onsite conditions and measures to reduce or limit discharges, air emissions. "},".","N"]
[null,null,null,"Organisation measures to prevent/limit release from site","Organisation measures to prevent/limit release from site",{"$f":"IF(AND(H34=\"Y\",CSA!B$15=\"YES\"),IF(E34=\"\",\"***TRANSLATED TEXT MISSING***\",E34&IF(B34=\"\",G34&\" \",IF(OR(LEFT(B34,3)<>\"CSL\", AND(LEFT(B34,3)=\"CSL\",H$522=\"NO\")),\" [\"&B34&\"]\"&G34&\" \",G34&\" \"))),IF(E34=\"\",\"***TRANSLATED TEXT MISSING***\",E34&G34&\" \"))","v":"Organisation measures to prevent/limit release from site. "},".","N"]
[null,null,null,"Conditions and measures related to municipal sewage treatment plant","Conditions and measures related to municipal sewage treatment plant",{"$f":"IF(AND(H35=\"Y\",CSA!B$15=\"YES\"),IF(E35=\"\",\"***TRANSLATED TEXT MISSING***\",E35&IF(B35=\"\",G35&\" \",IF(OR(LEFT(B35,3)<>\"CSL\", AND(LEFT(B35,3)=\"CSL\",H$522=\"NO\")),\" [\"&B35&\"]\"&G35&\" \",G35&\" \"))),IF(E35=\"\",\"***TRANSLATED TEXT MISSING***\",E35&G35&\" \"))","v":"Conditions and measures related to municipal sewage treatment plant. "},".","N"]
[null,null,null,"Conditions and measures related to external treatment of waste for disposal","Conditions and measures related to external treatment of waste for disposal",{"$f":"IF(AND(H36=\"Y\",CSA!B$15=\"YES\"),IF(E36=\"\",\"***TRANSLATED TEXT MISSING***\",E36&IF(B36=\"\",G36&\" \",IF(OR(LEFT(B36,3)<>\"CSL\", AND(LEFT(B36,3)=\"CSL\",H$522=\"NO\")),\" [\"&B36&\"]\"&G36&\" \",G36&\" \"))),IF(E36=\"\",\"***TRANSLATED TEXT MISSING***\",E36&G36&\" \"))","v":"Conditions and measures related to external treatment of waste for disposal. "},".","N"]
[null,null,null,"Conditions and measures related to external recovery of waste","Conditions and measures related to external recovery of waste",{"$f":"IF(AND(H37=\"Y\",CSA!B$15=\"YES\"),IF(E37=\"\",\"***TRANSLATED TEXT MISSING***\",E37&IF(B37=\"\",G37&\" \",IF(OR(LEFT(B37,3)<>\"CSL\", AND(LEFT(B37,3)=\"CSL\",H$522=\"NO\")),\" [\"&B37&\"]\"&G37&\" \",G37&\" \"))),IF(E37=\"\",\"***TRANSLATED TEXT MISSING***\",E37&G37&\" \"))","v":"Conditions and measures related to external recovery of waste. "},".","N"]
[null,null,null,"Other environmental control measures additional to above","Other environmental control measures additional to above",{"$f":"IF(AND(H38=\"Y\",CSA!B$15=\"YES\"),IF(E38=\"\",\"***TRANSLATED TEXT MISSING***\",E38&IF(B38=\"\",G38&\" \",IF(OR(LEFT(B38,3)<>\"CSL\", AND(LEFT(B38,3)=\"CSL\",H$522=\"NO\")),\" [\"&B38&\"]\"&G38&\" \",G38&\" \"))),IF(E38=\"\",\"***TRANSLATED TEXT MISSING***\",E38&G38&\" \"))","v":"Other environmental control measures additional to above: "},":","N"]
[null,null,null,"Section 3","Section 3",{"$f":"IF(AND(H39=\"Y\",CSA!B$15=\"YES\"),IF(E39=\"\",\"***TRANSLATED TEXT MISSING***\",E39&IF(B39=\"\",G39&\" \",IF(OR(LEFT(B39,3)<>\"CSL\", AND(LEFT(B39,3)=\"CSL\",H$522=\"NO\")),\" [\"&B39&\"]\"&G39&\" \",G39&\" \"))),IF(E39=\"\",\"***TRANSLATED TEXT MISSING***\",E39&G39&\" \"))","v":"Section 3: "},":","N"]
[null,null,null,"Exposure estimation","Exposure estimation",{"$f":"IF(AND(H40=\"Y\",CSA!B$15=\"YES\"),IF(E40=\"\",\"***TRANSLATED TEXT MISSING***\",E40&IF(B40=\"\",G40&\" \",IF(OR(LEFT(B40,3)<>\"CSL\", AND(LEFT(B40,3)=\"CSL\",H$522=\"NO\")),\" [\"&B40&\"]\"&G40&\" \",G40&\" \"))),IF(E40=\"\",\"***TRANSLATED TEXT MISSING***\",E40&G40&\" \"))","v":"Exposure estimation: "},":","N"]
[null,null,null,"Health","Health",{"$f":"IF(AND(H41=\"Y\",CSA!B$15=\"YES\"),IF(E41=\"\",\"***TRANSLATED TEXT MISSING***\",E41&IF(B41=\"\",G41&\" \",IF(OR(LEFT(B41,3)<>\"CSL\", AND(LEFT(B41,3)=\"CSL\",H$522=\"NO\")),\" [\"&B41&\"]\"&G41&\" \",G41&\" \"))),IF(E41=\"\",\"***TRANSLATED TEXT MISSING***\",E41&G41&\" \"))","v":"Health: "},":","N"]
[null,null,null,"Environment","Environment",{"$f":"IF(AND(H42=\"Y\",CSA!B$15=\"YES\"),IF(E42=\"\",\"***TRANSLATED TEXT MISSING***\",E42&IF(B42=\"\",G42&\" \",IF(OR(LEFT(B42,3)<>\"CSL\", AND(LEFT(B42,3)=\"CSL\",H$522=\"NO\")),\" [\"&B42&\"]\"&G42&\" \",G42&\" \"))),IF(E42=\"\",\"***TRANSLATED TEXT MISSING***\",E42&G42&\" \"))","v":"Environment: "},":","N"]
[null,null,null,"Section 4","Section 4",{"$f":"IF(AND(H43=\"Y\",CSA!B$15=\"YES\"),IF(E43=\"\",\"***TRANSLATED TEXT MISSING***\",E43&IF(B43=\"\",G43&\" \",IF(OR(LEFT(B43,3)<>\"CSL\", AND(LEFT(B43,3)=\"CSL\",H$522=\"NO\")),\" [\"&B43&\"]\"&G43&\" \",G43&\" \"))),IF(E43=\"\",\"***TRANSLATED TEXT MISSING***\",E43&G43&\" \"))","v":"Section 4: "},":","N"]
[null,null,null,"Guidance to check compliance with the exposure scenario","Guidance to check compliance with the exposure scenario",{"$f":"IF(AND(H44=\"Y\",CSA!B$15=\"YES\"),IF(E44=\"\",\"***TRANSLATED TEXT MISSING***\",E44&IF(B44=\"\",G44&\" \",IF(OR(LEFT(B44,3)<>\"CSL\", AND(LEFT(B44,3)=\"CSL\",H$522=\"NO\")),\" [\"&B44&\"]\"&G44&\" \",G44&\" \"))),IF(E44=\"\",\"***TRANSLATED TEXT MISSING***\",E44&G44&\" \"))","v":"Guidance to check compliance with the exposure scenario: "},":","N"]
[null,null,null,"Health","Health",{"$f":"IF(AND(H45=\"Y\",CSA!B$15=\"YES\"),IF(E45=\"\",\"***TRANSLATED TEXT MISSING***\",E45&IF(B45=\"\",G45&\" \",IF(OR(LEFT(B45,3)<>\"CSL\", AND(LEFT(B45,3)=\"CSL\",H$522=\"NO\")),\" [\"&B45&\"]\"&G45&\" \",G45&\" \"))),IF(E45=\"\",\"***TRANSLATED TEXT MISSING***\",E45&G45&\" \"))","v":"Health "},null,"N"]
[null,null,null,"Environment","Environment",{"$f":"IF(AND(H46=\"Y\",CSA!B$15=\"YES\"),IF(E46=\"\",\"***TRANSLATED TEXT MISSING***\",E46&IF(B46=\"\",G46&\" \",IF(OR(LEFT(B46,3)<>\"CSL\", AND(LEFT(B46,3)=\"CSL\",H$522=\"NO\")),\" [\"&B46&\"]\"&G46&\" \",G46&\" \"))),IF(E46=\"\",\"***TRANSLATED TEXT MISSING***\",E46&G46&\" \"))","v":"Environment "},null,"N"]
[null,null,null,null,null,{"$f":"IF(AND(H47=\"Y\",CSA!B$15=\"YES\"),IF(E47=\"\",\"***TRANSLATED TEXT MISSING***\",E47&IF(B47=\"\",G47&\" \",IF(OR(LEFT(B47,3)<>\"CSL\", AND(LEFT(B47,3)=\"CSL\",H$522=\"NO\")),\" [\"&B47&\"]\"&G47&\" \",G47&\" \"))),IF(E47=\"\",\"***TRANSLATED TEXT MISSING***\",E47&G47&\" \"))","v":"***TRANSLATED TEXT MISSING***"}]
[null,null,null,null,null,{"$f":"IF(AND(H48=\"Y\",CSA!B$15=\"YES\"),IF(E48=\"\",\"***TRANSLATED TEXT MISSING***\",E48&IF(B48=\"\",G48&\" \",IF(OR(LEFT(B48,3)<>\"CSL\", AND(LEFT(B48,3)=\"CSL\",H$522=\"NO\")),\" [\"&B48&\"]\"&G48&\" \",G48&\" \"))),IF(E48=\"\",\"***TRANSLATED TEXT MISSING***\",E48&G48&\" \"))","v":"***TRANSLATED TEXT MISSING***"}]
["GES title",null,null,null,null,{"$f":"IF(AND(H49=\"Y\",CSA!B$15=\"YES\"),IF(E49=\"\",\"***TRANSLATED TEXT MISSING***\",E49&IF(B49=\"\",G49&\" \",IF(OR(LEFT(B49,3)<>\"CSL\", AND(LEFT(B49,3)=\"CSL\",H$522=\"NO\")),\" [\"&B49&\"]\"&G49&\" \",G49&\" \"))),IF(E49=\"\",\"***TRANSLATED TEXT MISSING***\",E49&G49&\" \"))","v":"***TRANSLATED TEXT MISSING***"}]
[null,"GEST1_I",null,"Manufacture of substance","Manufacture of substance",{"$f":"IF(AND(H50=\"Y\",CSA!B$15=\"YES\"),IF(E50=\"\",\"***TRANSLATED TEXT MISSING***\",E50&IF(B50=\"\",G50&\" \",IF(OR(LEFT(B50,3)<>\"CSL\", AND(LEFT(B50,3)=\"CSL\",H$522=\"NO\")),\" [\"&B50&\"]\"&G50&\" \",G50&\" \"))),IF(E50=\"\",\"***TRANSLATED TEXT MISSING***\",E50&G50&\" \"))","v":"Manufacture of substance [GEST1_I]. "},".","Y"]
[null,"GEST1A_I",null,"Distribution of substance","Distribution of substance",{"$f":"IF(AND(H51=\"Y\",CSA!B$15=\"YES\"),IF(E51=\"\",\"***TRANSLATED TEXT MISSING***\",E51&IF(B51=\"\",G51&\" \",IF(OR(LEFT(B51,3)<>\"CSL\", AND(LEFT(B51,3)=\"CSL\",H$522=\"NO\")),\" [\"&B51&\"]\"&G51&\" \",G51&\" \"))),IF(E51=\"\",\"***TRANSLATED TEXT MISSING***\",E51&G51&\" \"))","v":"Distribution of substance [GEST1A_I]. "},".","Y"]
[null,"GEST1B_I",null,"Use as an intermediate","Use as an intermediate",{"$f":"IF(AND(H52=\"Y\",CSA!B$15=\"YES\"),IF(E52=\"\",\"***TRANSLATED TEXT MISSING***\",E52&IF(B52=\"\",G52&\" \",IF(OR(LEFT(B52,3)<>\"CSL\", AND(LEFT(B52,3)=\"CSL\",H$522=\"NO\")),\" [\"&B52&\"]\"&G52&\" \",G52&\" \"))),IF(E52=\"\",\"***TRANSLATED TEXT MISSING***\",E52&G52&\" \"))","v":"Use as an intermediate [GEST1B_I]. "},".","Y"]
[null,"GEST2_I",null,"Formulation & (re)packing of substances and mixtures ","Formulation & (re)packing of substances and mixtures ",{"$f":"IF(AND(H53=\"Y\",CSA!B$15=\"YES\"),IF(E53=\"\",\"***TRANSLATED TEXT MISSING***\",E53&IF(B53=\"\",G53&\" \",IF(OR(LEFT(B53,3)<>\"CSL\", AND(LEFT(B53,3)=\"CSL\",H$522=\"NO\")),\" [\"&B53&\"]\"&G53&\" \",G53&\" \"))),IF(E53=\"\",\"***TRANSLATED TEXT MISSING***\",E53&G53&\" \"))","v":"Formulation & (re)packing of substances and mixtures  [GEST2_I]. "},".","Y"]
[null,"GEST3_I",null,"Uses in Coatings \n\n\n\n\n","Uses in Coatings",{"$f":"IF(AND(H54=\"Y\",CSA!B$15=\"YES\"),IF(E54=\"\",\"***TRANSLATED TEXT MISSING***\",E54&IF(B54=\"\",G54&\" \",IF(OR(LEFT(B54,3)<>\"CSL\", AND(LEFT(B54,3)=\"CSL\",H$522=\"NO\")),\" [\"&B54&\"]\"&G54&\" \",G54&\" \"))),IF(E54=\"\",\"***TRANSLATED TEXT MISSING***\",E54&G54&\" \"))","v":"Uses in Coatings [GEST3_I]. "},".","Y"]
[null,"GEST3_P",null,"Uses in Coatings \n\n\n\n\n","Uses in Coatings",{"$f":"IF(AND(H55=\"Y\",CSA!B$15=\"YES\"),IF(E55=\"\",\"***TRANSLATED TEXT MISSING***\",E55&IF(B55=\"\",G55&\" \",IF(OR(LEFT(B55,3)<>\"CSL\", AND(LEFT(B55,3)=\"CSL\",H$522=\"NO\")),\" [\"&B55&\"]\"&G55&\" \",G55&\" \"))),IF(E55=\"\",\"***TRANSLATED TEXT MISSING***\",E55&G55&\" \"))","v":"Uses in Coatings [GEST3_P]. "},".","Y"]
[null,"GEST3_C",null,"Uses in Coatings \n\n\n\n\n","Uses in Coatings",{"$f":"IF(AND(H56=\"Y\",CSA!B$15=\"YES\"),IF(E56=\"\",\"***TRANSLATED TEXT MISSING***\",E56&IF(B56=\"\",G56&\" \",IF(OR(LEFT(B56,3)<>\"CSL\", AND(LEFT(B56,3)=\"CSL\",H$522=\"NO\")),\" [\"&B56&\"]\"&G56&\" \",G56&\" \"))),IF(E56=\"\",\"***TRANSLATED TEXT MISSING***\",E56&G56&\" \"))","v":"Uses in Coatings [GEST3_C]. "},".","Y"]
[null,"GEST4_I",null,"Use in Cleaning Agents \n","Use in Cleaning Agents",{"$f":"IF(AND(H57=\"Y\",CSA!B$15=\"YES\"),IF(E57=\"\",\"***TRANSLATED TEXT MISSING***\",E57&IF(B57=\"\",G57&\" \",IF(OR(LEFT(B57,3)<>\"CSL\", AND(LEFT(B57,3)=\"CSL\",H$522=\"NO\")),\" [\"&B57&\"]\"&G57&\" \",G57&\" \"))),IF(E57=\"\",\"***TRANSLATED TEXT MISSING***\",E57&G57&\" \"))","v":"Use in Cleaning Agents [GEST4_I]. "},".","Y"]
[null,"GEST4_P",null,"Use in Cleaning Agents \n","Use in Cleaning Agents",{"$f":"IF(AND(H58=\"Y\",CSA!B$15=\"YES\"),IF(E58=\"\",\"***TRANSLATED TEXT MISSING***\",E58&IF(B58=\"\",G58&\" \",IF(OR(LEFT(B58,3)<>\"CSL\", AND(LEFT(B58,3)=\"CSL\",H$522=\"NO\")),\" [\"&B58&\"]\"&G58&\" \",G58&\" \"))),IF(E58=\"\",\"***TRANSLATED TEXT MISSING***\",E58&G58&\" \"))","v":"Use in Cleaning Agents [GEST4_P]. "},".","Y"]
[null,"GEST4_C",null,"Use in Cleaning Agents \n","Use in Cleaning Agents",{"$f":"IF(AND(H59=\"Y\",CSA!B$15=\"YES\"),IF(E59=\"\",\"***TRANSLATED TEXT MISSING***\",E59&IF(B59=\"\",G59&\" \",IF(OR(LEFT(B59,3)<>\"CSL\", AND(LEFT(B59,3)=\"CSL\",H$522=\"NO\")),\" [\"&B59&\"]\"&G59&\" \",G59&\" \"))),IF(E59=\"\",\"***TRANSLATED TEXT MISSING***\",E59&G59&\" \"))","v":"Use in Cleaning Agents [GEST4_C]. "},".","Y"]
[null,"GEST5_I",null,"Use in Oil and Gas field drilling and production operations ","Use in Oil and Gas field drilling and production operations ",{"$f":"IF(AND(H60=\"Y\",CSA!B$15=\"YES\"),IF(E60=\"\",\"***TRANSLATED TEXT MISSING***\",E60&IF(B60=\"\",G60&\" \",IF(OR(LEFT(B60,3)<>\"CSL\", AND(LEFT(B60,3)=\"CSL\",H$522=\"NO\")),\" [\"&B60&\"]\"&G60&\" \",G60&\" \"))),IF(E60=\"\",\"***TRANSLATED TEXT MISSING***\",E60&G60&\" \"))","v":"Use in Oil and Gas field drilling and production operations  [GEST5_I]. "},".","Y"]
[null,"GEST5_P",null,"Use in Oil and Gas field drilling and production operations ","Use in Oil and Gas field drilling and production operations ",{"$f":"IF(AND(H61=\"Y\",CSA!B$15=\"YES\"),IF(E61=\"\",\"***TRANSLATED TEXT MISSING***\",E61&IF(B61=\"\",G61&\" \",IF(OR(LEFT(B61,3)<>\"CSL\", AND(LEFT(B61,3)=\"CSL\",H$522=\"NO\")),\" [\"&B61&\"]\"&G61&\" \",G61&\" \"))),IF(E61=\"\",\"***TRANSLATED TEXT MISSING***\",E61&G61&\" \"))","v":"Use in Oil and Gas field drilling and production operations  [GEST5_P]. "},".","Y"]
[null,"GEST6_I",null,"Lubricants","Lubricants",{"$f":"IF(AND(H62=\"Y\",CSA!B$15=\"YES\"),IF(E62=\"\",\"***TRANSLATED TEXT MISSING***\",E62&IF(B62=\"\",G62&\" \",IF(OR(LEFT(B62,3)<>\"CSL\", AND(LEFT(B62,3)=\"CSL\",H$522=\"NO\")),\" [\"&B62&\"]\"&G62&\" \",G62&\" \"))),IF(E62=\"\",\"***TRANSLATED TEXT MISSING***\",E62&G62&\" \"))","v":"Lubricants [GEST6_I]. "},".","Y"]
[null,"GEST6_P",null,"Lubricants","Lubricants",{"$f":"IF(AND(H63=\"Y\",CSA!B$15=\"YES\"),IF(E63=\"\",\"***TRANSLATED TEXT MISSING***\",E63&IF(B63=\"\",G63&\" \",IF(OR(LEFT(B63,3)<>\"CSL\", AND(LEFT(B63,3)=\"CSL\",H$522=\"NO\")),\" [\"&B63&\"]\"&G63&\" \",G63&\" \"))),IF(E63=\"\",\"***TRANSLATED TEXT MISSING***\",E63&G63&\" \"))","v":"Lubricants [GEST6_P]. "},".","Y"]
[null,"GEST6_C",null,"Lubricants","Lubricants",{"$f":"IF(AND(H64=\"Y\",CSA!B$15=\"YES\"),IF(E64=\"\",\"***TRANSLATED TEXT MISSING***\",E64&IF(B64=\"\",G64&\" \",IF(OR(LEFT(B64,3)<>\"CSL\", AND(LEFT(B64,3)=\"CSL\",H$522=\"NO\")),\" [\"&B64&\"]\"&G64&\" \",G64&\" \"))),IF(E64=\"\",\"***TRANSLATED TEXT MISSING***\",E64&G64&\" \"))","v":"Lubricants [GEST6_C]. "},".","Y"]
[null,"GEST7_I",null,"Metal working fluids / rolling oils ","Metal working fluids / rolling oils ",{"$f":"IF(AND(H65=\"Y\",CSA!B$15=\"YES\"),IF(E65=\"\",\"***TRANSLATED TEXT MISSING***\",E65&IF(B65=\"\",G65&\" \",IF(OR(LEFT(B65,3)<>\"CSL\", AND(LEFT(B65,3)=\"CSL\",H$522=\"NO\")),\" [\"&B65&\"]\"&G65&\" \",G65&\" \"))),IF(E65=\"\",\"***TRANSLATED TEXT MISSING***\",E65&G65&\" \"))","v":"Metal working fluids / rolling oils  [GEST7_I]. "},".","Y"]
[null,"GEST7_P",null,"Metal working fluids / rolling oils ","Metal working fluids / rolling oils ",{"$f":"IF(AND(H66=\"Y\",CSA!B$15=\"YES\"),IF(E66=\"\",\"***TRANSLATED TEXT MISSING***\",E66&IF(B66=\"\",G66&\" \",IF(OR(LEFT(B66,3)<>\"CSL\", AND(LEFT(B66,3)=\"CSL\",H$522=\"NO\")),\" [\"&B66&\"]\"&G66&\" \",G66&\" \"))),IF(E66=\"\",\"***TRANSLATED TEXT MISSING***\",E66&G66&\" \"))","v":"Metal working fluids / rolling oils  [GEST7_P]. "},".","Y"]
[null,"GEST8_P",null,"Use as a propellant","Use as a propellant",{"$f":"IF(AND(H67=\"Y\",CSA!B$15=\"YES\"),IF(E67=\"\",\"***TRANSLATED TEXT MISSING***\",E67&IF(B67=\"\",G67&\" \",IF(OR(LEFT(B67,3)<>\"CSL\", AND(LEFT(B67,3)=\"CSL\",H$522=\"NO\")),\" [\"&B67&\"]\"&G67&\" \",G67&\" \"))),IF(E67=\"\",\"***TRANSLATED TEXT MISSING***\",E67&G67&\" \"))","v":"Use as a propellant [GEST8_P]. "},".","Y"]
[null,"GEST8_C",null,"Use as a propellant","Use as a propellant",{"$f":"IF(AND(H68=\"Y\",CSA!B$15=\"YES\"),IF(E68=\"\",\"***TRANSLATED TEXT MISSING***\",E68&IF(B68=\"\",G68&\" \",IF(OR(LEFT(B68,3)<>\"CSL\", AND(LEFT(B68,3)=\"CSL\",H$522=\"NO\")),\" [\"&B68&\"]\"&G68&\" \",G68&\" \"))),IF(E68=\"\",\"***TRANSLATED TEXT MISSING***\",E68&G68&\" \"))","v":"Use as a propellant [GEST8_C]. "},".","Y"]
[null,"GEST9_I",null,"Blowing agents  \n","Blowing agents ",{"$f":"IF(AND(H69=\"Y\",CSA!B$15=\"YES\"),IF(E69=\"\",\"***TRANSLATED TEXT MISSING***\",E69&IF(B69=\"\",G69&\" \",IF(OR(LEFT(B69,3)<>\"CSL\", AND(LEFT(B69,3)=\"CSL\",H$522=\"NO\")),\" [\"&B69&\"]\"&G69&\" \",G69&\" \"))),IF(E69=\"\",\"***TRANSLATED TEXT MISSING***\",E69&G69&\" \"))","v":"Blowing agents  [GEST9_I]. "},".","Y"]
[null,"GEST10_I",null,"Use as binders and release agents","Use as binders and release agents",{"$f":"IF(AND(H70=\"Y\",CSA!B$15=\"YES\"),IF(E70=\"\",\"***TRANSLATED TEXT MISSING***\",E70&IF(B70=\"\",G70&\" \",IF(OR(LEFT(B70,3)<>\"CSL\", AND(LEFT(B70,3)=\"CSL\",H$522=\"NO\")),\" [\"&B70&\"]\"&G70&\" \",G70&\" \"))),IF(E70=\"\",\"***TRANSLATED TEXT MISSING***\",E70&G70&\" \"))","v":"Use as binders and release agents [GEST10_I]. "},".","Y"]
[null,"GEST10_P",null,"Use as binders and release agents","Use as binders and release agents",{"$f":"IF(AND(H71=\"Y\",CSA!B$15=\"YES\"),IF(E71=\"\",\"***TRANSLATED TEXT MISSING***\",E71&IF(B71=\"\",G71&\" \",IF(OR(LEFT(B71,3)<>\"CSL\", AND(LEFT(B71,3)=\"CSL\",H$522=\"NO\")),\" [\"&B71&\"]\"&G71&\" \",G71&\" \"))),IF(E71=\"\",\"***TRANSLATED TEXT MISSING***\",E71&G71&\" \"))","v":"Use as binders and release agents [GEST10_P]. "},".","Y"]
[null,"GEST11_P",null,"Use in Agrochemicals","Use in Agrochemicals",{"$f":"IF(AND(H72=\"Y\",CSA!B$15=\"YES\"),IF(E72=\"\",\"***TRANSLATED TEXT MISSING***\",E72&IF(B72=\"\",G72&\" \",IF(OR(LEFT(B72,3)<>\"CSL\", AND(LEFT(B72,3)=\"CSL\",H$522=\"NO\")),\" [\"&B72&\"]\"&G72&\" \",G72&\" \"))),IF(E72=\"\",\"***TRANSLATED TEXT MISSING***\",E72&G72&\" \"))","v":"Use in Agrochemicals [GEST11_P]. "},".","Y"]
[null,"GEST11-C",null,"Use in Agrochemicals","Use in Agrochemicals",{"$f":"IF(AND(H73=\"Y\",CSA!B$15=\"YES\"),IF(E73=\"\",\"***TRANSLATED TEXT MISSING***\",E73&IF(B73=\"\",G73&\" \",IF(OR(LEFT(B73,3)<>\"CSL\", AND(LEFT(B73,3)=\"CSL\",H$522=\"NO\")),\" [\"&B73&\"]\"&G73&\" \",G73&\" \"))),IF(E73=\"\",\"***TRANSLATED TEXT MISSING***\",E73&G73&\" \"))","v":"Use in Agrochemicals [GEST11-C]. "},".","Y"]
[null,"GEST12_I",null,"Use as a fuel ","Use as a fuel ",{"$f":"IF(AND(H74=\"Y\",CSA!B$15=\"YES\"),IF(E74=\"\",\"***TRANSLATED TEXT MISSING***\",E74&IF(B74=\"\",G74&\" \",IF(OR(LEFT(B74,3)<>\"CSL\", AND(LEFT(B74,3)=\"CSL\",H$522=\"NO\")),\" [\"&B74&\"]\"&G74&\" \",G74&\" \"))),IF(E74=\"\",\"***TRANSLATED TEXT MISSING***\",E74&G74&\" \"))","v":"Use as a fuel  [GEST12_I]. "},".","Y"]
[null,"GEST12_P",null,"Use as a fuel ","Use as a fuel ",{"$f":"IF(AND(H75=\"Y\",CSA!B$15=\"YES\"),IF(E75=\"\",\"***TRANSLATED TEXT MISSING***\",E75&IF(B75=\"\",G75&\" \",IF(OR(LEFT(B75,3)<>\"CSL\", AND(LEFT(B75,3)=\"CSL\",H$522=\"NO\")),\" [\"&B75&\"]\"&G75&\" \",G75&\" \"))),IF(E75=\"\",\"***TRANSLATED TEXT MISSING***\",E75&G75&\" \"))","v":"Use as a fuel  [GEST12_P]. "},".","Y"]
[null,"GEST12_C",null,"Use as a fuel ","Use as a fuel ",{"$f":"IF(AND(H76=\"Y\",CSA!B$15=\"YES\"),IF(E76=\"\",\"***TRANSLATED TEXT MISSING***\",E76&IF(B76=\"\",G76&\" \",IF(OR(LEFT(B76,3)<>\"CSL\", AND(LEFT(B76,3)=\"CSL\",H$522=\"NO\")),\" [\"&B76&\"]\"&G76&\" \",G76&\" \"))),IF(E76=\"\",\"***TRANSLATED TEXT MISSING***\",E76&G76&\" \"))","v":"Use as a fuel  [GEST12_C]. "},".","Y"]
[null,"GEST13_I",null,"Functional Fluids","Functional Fluids",{"$f":"IF(AND(H77=\"Y\",CSA!B$15=\"YES\"),IF(E77=\"\",\"***TRANSLATED TEXT MISSING***\",E77&IF(B77=\"\",G77&\" \",IF(OR(LEFT(B77,3)<>\"CSL\", AND(LEFT(B77,3)=\"CSL\",H$522=\"NO\")),\" [\"&B77&\"]\"&G77&\" \",G77&\" \"))),IF(E77=\"\",\"***TRANSLATED TEXT MISSING***\",E77&G77&\" \"))","v":"Functional Fluids [GEST13_I]. "},".","Y"]
[null,"GEST13_P",null,"Functional Fluids","Functional Fluids",{"$f":"IF(AND(H78=\"Y\",CSA!B$15=\"YES\"),IF(E78=\"\",\"***TRANSLATED TEXT MISSING***\",E78&IF(B78=\"\",G78&\" \",IF(OR(LEFT(B78,3)<>\"CSL\", AND(LEFT(B78,3)=\"CSL\",H$522=\"NO\")),\" [\"&B78&\"]\"&G78&\" \",G78&\" \"))),IF(E78=\"\",\"***TRANSLATED TEXT MISSING***\",E78&G78&\" \"))","v":"Functional Fluids [GEST13_P]. "},".","Y"]
[null,"GEST13_C",null,"Functional Fluids","Functional Fluids",{"$f":"IF(AND(H79=\"Y\",CSA!B$15=\"YES\"),IF(E79=\"\",\"***TRANSLATED TEXT MISSING***\",E79&IF(B79=\"\",G79&\" \",IF(OR(LEFT(B79,3)<>\"CSL\", AND(LEFT(B79,3)=\"CSL\",H$522=\"NO\")),\" [\"&B79&\"]\"&G79&\" \",G79&\" \"))),IF(E79=\"\",\"***TRANSLATED TEXT MISSING***\",E79&G79&\" \"))","v":"Functional Fluids [GEST13_C]. "},".","Y"]
[null,"GEST14_P",null,"De-icing and anti-icing applications","De-icing and anti-icing applications",{"$f":"IF(AND(H80=\"Y\",CSA!B$15=\"YES\"),IF(E80=\"\",\"***TRANSLATED TEXT MISSING***\",E80&IF(B80=\"\",G80&\" \",IF(OR(LEFT(B80,3)<>\"CSL\", AND(LEFT(B80,3)=\"CSL\",H$522=\"NO\")),\" [\"&B80&\"]\"&G80&\" \",G80&\" \"))),IF(E80=\"\",\"***TRANSLATED TEXT MISSING***\",E80&G80&\" \"))","v":"De-icing and anti-icing applications [GEST14_P]. "},".","Y"]
[null,"GEST14_C",null,"De-icing and anti-icing applications","De-icing and anti-icing applications",{"$f":"IF(AND(H81=\"Y\",CSA!B$15=\"YES\"),IF(E81=\"\",\"***TRANSLATED TEXT MISSING***\",E81&IF(B81=\"\",G81&\" \",IF(OR(LEFT(B81,3)<>\"CSL\", AND(LEFT(B81,3)=\"CSL\",H$522=\"NO\")),\" [\"&B81&\"]\"&G81&\" \",G81&\" \"))),IF(E81=\"\",\"***TRANSLATED TEXT MISSING***\",E81&G81&\" \"))","v":"De-icing and anti-icing applications [GEST14_C]. "},".","Y"]
[null,"GEST15-P",null,"Road and construction applications","Road and construction applications",{"$f":"IF(AND(H82=\"Y\",CSA!B$15=\"YES\"),IF(E82=\"\",\"***TRANSLATED TEXT MISSING***\",E82&IF(B82=\"\",G82&\" \",IF(OR(LEFT(B82,3)<>\"CSL\", AND(LEFT(B82,3)=\"CSL\",H$522=\"NO\")),\" [\"&B82&\"]\"&G82&\" \",G82&\" \"))),IF(E82=\"\",\"***TRANSLATED TEXT MISSING***\",E82&G82&\" \"))","v":"Road and construction applications [GEST15-P]. "},".","Y"]
[null,"GEST16_C",null,"Other Consumer Uses\n","Other Consumer Uses",{"$f":"IF(AND(H83=\"Y\",CSA!B$15=\"YES\"),IF(E83=\"\",\"***TRANSLATED TEXT MISSING***\",E83&IF(B83=\"\",G83&\" \",IF(OR(LEFT(B83,3)<>\"CSL\", AND(LEFT(B83,3)=\"CSL\",H$522=\"NO\")),\" [\"&B83&\"]\"&G83&\" \",G83&\" \"))),IF(E83=\"\",\"***TRANSLATED TEXT MISSING***\",E83&G83&\" \"))","v":"Other Consumer Uses [GEST16_C]. "},".","Y"]
[null,"GEST17_I",null,"Use in laboratories\n","Use in laboratories",{"$f":"IF(AND(H84=\"Y\",CSA!B$15=\"YES\"),IF(E84=\"\",\"***TRANSLATED TEXT MISSING***\",E84&IF(B84=\"\",G84&\" \",IF(OR(LEFT(B84,3)<>\"CSL\", AND(LEFT(B84,3)=\"CSL\",H$522=\"NO\")),\" [\"&B84&\"]\"&G84&\" \",G84&\" \"))),IF(E84=\"\",\"***TRANSLATED TEXT MISSING***\",E84&G84&\" \"))","v":"Use in laboratories [GEST17_I]. "},".","Y"]
[null,"GEST17-P",null,"Use in laboratories\n","Use in laboratories",{"$f":"IF(AND(H85=\"Y\",CSA!B$15=\"YES\"),IF(E85=\"\",\"***TRANSLATED TEXT MISSING***\",E85&IF(B85=\"\",G85&\" \",IF(OR(LEFT(B85,3)<>\"CSL\", AND(LEFT(B85,3)=\"CSL\",H$522=\"NO\")),\" [\"&B85&\"]\"&G85&\" \",G85&\" \"))),IF(E85=\"\",\"***TRANSLATED TEXT MISSING***\",E85&G85&\" \"))","v":"Use in laboratories [GEST17-P]. "},".","Y"]
[null,"GEST18_P",null,"Explosives manufacture & use","Explosives manufacture & use",{"$f":"IF(AND(H86=\"Y\",CSA!B$15=\"YES\"),IF(E86=\"\",\"***TRANSLATED TEXT MISSING***\",E86&IF(B86=\"\",G86&\" \",IF(OR(LEFT(B86,3)<>\"CSL\", AND(LEFT(B86,3)=\"CSL\",H$522=\"NO\")),\" [\"&B86&\"]\"&G86&\" \",G86&\" \"))),IF(E86=\"\",\"***TRANSLATED TEXT MISSING***\",E86&G86&\" \"))","v":"Explosives manufacture & use [GEST18_P]. "},".","Y"]
[null,"GEST19_I",null,"Rubber production and processing","Rubber production and processing",{"$f":"IF(AND(H87=\"Y\",CSA!B$15=\"YES\"),IF(E87=\"\",\"***TRANSLATED TEXT MISSING***\",E87&IF(B87=\"\",G87&\" \",IF(OR(LEFT(B87,3)<>\"CSL\", AND(LEFT(B87,3)=\"CSL\",H$522=\"NO\")),\" [\"&B87&\"]\"&G87&\" \",G87&\" \"))),IF(E87=\"\",\"***TRANSLATED TEXT MISSING***\",E87&G87&\" \"))","v":"Rubber production and processing [GEST19_I]. "},".","Y"]
[null,"GEST20_I",null,"Polymer production","Polymer production",{"$f":"IF(AND(H88=\"Y\",CSA!B$15=\"YES\"),IF(E88=\"\",\"***TRANSLATED TEXT MISSING***\",E88&IF(B88=\"\",G88&\" \",IF(OR(LEFT(B88,3)<>\"CSL\", AND(LEFT(B88,3)=\"CSL\",H$522=\"NO\")),\" [\"&B88&\"]\"&G88&\" \",G88&\" \"))),IF(E88=\"\",\"***TRANSLATED TEXT MISSING***\",E88&G88&\" \"))","v":"Polymer production [GEST20_I]. "},".","Y"]
[null,"GEST21_I",null,"Water treatment chemicals","Water treatment chemicals",{"$f":"IF(AND(H89=\"Y\",CSA!B$15=\"YES\"),IF(E89=\"\",\"***TRANSLATED TEXT MISSING***\",E89&IF(B89=\"\",G89&\" \",IF(OR(LEFT(B89,3)<>\"CSL\", AND(LEFT(B89,3)=\"CSL\",H$522=\"NO\")),\" [\"&B89&\"]\"&G89&\" \",G89&\" \"))),IF(E89=\"\",\"***TRANSLATED TEXT MISSING***\",E89&G89&\" \"))","v":"Water treatment chemicals [GEST21_I]. "},".","Y"]
[null,"GEST21_P",null,"Water treatment chemicals","Water treatment chemicals",{"$f":"IF(AND(H90=\"Y\",CSA!B$15=\"YES\"),IF(E90=\"\",\"***TRANSLATED TEXT MISSING***\",E90&IF(B90=\"\",G90&\" \",IF(OR(LEFT(B90,3)<>\"CSL\", AND(LEFT(B90,3)=\"CSL\",H$522=\"NO\")),\" [\"&B90&\"]\"&G90&\" \",G90&\" \"))),IF(E90=\"\",\"***TRANSLATED TEXT MISSING***\",E90&G90&\" \"))","v":"Water treatment chemicals [GEST21_P]. "},".","Y"]
[null,"GEST21_C",null,"Water treatment chemicals","Water treatment chemicals",{"$f":"IF(AND(H91=\"Y\",CSA!B$15=\"YES\"),IF(E91=\"\",\"***TRANSLATED TEXT MISSING***\",E91&IF(B91=\"\",G91&\" \",IF(OR(LEFT(B91,3)<>\"CSL\", AND(LEFT(B91,3)=\"CSL\",H$522=\"NO\")),\" [\"&B91&\"]\"&G91&\" \",G91&\" \"))),IF(E91=\"\",\"***TRANSLATED TEXT MISSING***\",E91&G91&\" \"))","v":"Water treatment chemicals [GEST21_C]. "},".","Y"]
[null,"GEST22_I",null,"Mining chemicals","Mining chemicals",{"$f":"IF(AND(H92=\"Y\",CSA!B$15=\"YES\"),IF(E92=\"\",\"***TRANSLATED TEXT MISSING***\",E92&IF(B92=\"\",G92&\" \",IF(OR(LEFT(B92,3)<>\"CSL\", AND(LEFT(B92,3)=\"CSL\",H$522=\"NO\")),\" [\"&B92&\"]\"&G92&\" \",G92&\" \"))),IF(E92=\"\",\"***TRANSLATED TEXT MISSING***\",E92&G92&\" \"))","v":"Mining chemicals [GEST22_I]. "},".","Y"]
[null,"GEST23_I",null,"Polymer processing\n\n\n","Polymer processing",{"$f":"IF(AND(H93=\"Y\",CSA!B$15=\"YES\"),IF(E93=\"\",\"***TRANSLATED TEXT MISSING***\",E93&IF(B93=\"\",G93&\" \",IF(OR(LEFT(B93,3)<>\"CSL\", AND(LEFT(B93,3)=\"CSL\",H$522=\"NO\")),\" [\"&B93&\"]\"&G93&\" \",G93&\" \"))),IF(E93=\"\",\"***TRANSLATED TEXT MISSING***\",E93&G93&\" \"))","v":"Polymer processing [GEST23_I]. "},".","Y"]
[null,"GEST23_P",null,"Polymer processing\n\n\n","Polymer processing",{"$f":"IF(AND(H94=\"Y\",CSA!B$15=\"YES\"),IF(E94=\"\",\"***TRANSLATED TEXT MISSING***\",E94&IF(B94=\"\",G94&\" \",IF(OR(LEFT(B94,3)<>\"CSL\", AND(LEFT(B94,3)=\"CSL\",H$522=\"NO\")),\" [\"&B94&\"]\"&G94&\" \",G94&\" \"))),IF(E94=\"\",\"***TRANSLATED TEXT MISSING***\",E94&G94&\" \"))","v":"Polymer processing [GEST23_P]. "},".","Y"]
[null,null,null,"Use in process chemicals","Use in Process Chemicals","Use in process chemicals"]
["GES scope",null,null,null,null,{"$f":"IF(AND(H96=\"Y\",CSA!B$15=\"YES\"),IF(E96=\"\",\"***TRANSLATED TEXT MISSING***\",E96&IF(B96=\"\",G96&\" \",IF(OR(LEFT(B96,3)<>\"CSL\", AND(LEFT(B96,3)=\"CSL\",H$522=\"NO\")),\" [\"&B96&\"]\"&G96&\" \",G96&\" \"))),IF(E96=\"\",\"***TRANSLATED TEXT MISSING***\",E96&G96&\" \"))","v":"***TRANSLATED TEXT MISSING***"}]
[null,"GES1_I",null,"Manufacture of the substance or use as a process chemical or extraction agent. Includes recycling/ recovery, material transfers, storage, maintenance and loading (including marine vessel/barge, road/rail car and bulk container), sampling and associated laboratory activities","Manufacture of the substance. Includes recycling/ recovery, material transfers, storage, maintenance and loading (including marine vessel/barge, road/rail car and bulk container), sampling and associated laboratory activities",{"$f":"IF(AND(H97=\"Y\",CSA!B$15=\"YES\"),IF(E97=\"\",\"***TRANSLATED TEXT MISSING***\",E97&IF(B97=\"\",G97&\" \",IF(OR(LEFT(B97,3)<>\"CSL\", AND(LEFT(B97,3)=\"CSL\",H$522=\"NO\")),\" [\"&B97&\"]\"&G97&\" \",G97&\" \"))),IF(E97=\"\",\"***TRANSLATED TEXT MISSING***\",E97&G97&\" \"))","v":"Manufacture of the substance. Includes recycling/ recovery, material transfers, storage, maintenance and loading (including marine vessel/barge, road/rail car and bulk container), sampling and associated laboratory activities [GES1_I]. "},".","Y",null,null,null,null,"Reference to Intermediate deleted from scope statement. Intermediate is covered under separate title GES1B_I. "]
[null,"GES1A_I",null,"Loading (including marine vessel/barge, rail/road car and IBC loading) and repacking (including drums and small packs) of substance, including its sampling, storage, unloading distribution and associated laboratory activities","Loading (including marine vessel/barge, rail/road car and IBC loading) and repacking (including drums and small packs) of substance, including its sampling, storage, unloading distribution and associated laboratory activities",{"$f":"IF(AND(H98=\"Y\",CSA!B$15=\"YES\"),IF(E98=\"\",\"***TRANSLATED TEXT MISSING***\",E98&IF(B98=\"\",G98&\" \",IF(OR(LEFT(B98,3)<>\"CSL\", AND(LEFT(B98,3)=\"CSL\",H$522=\"NO\")),\" [\"&B98&\"]\"&G98&\" \",G98&\" \"))),IF(E98=\"\",\"***TRANSLATED TEXT MISSING***\",E98&G98&\" \"))","v":"Loading (including marine vessel/barge, rail/road car and IBC loading) and repacking (including drums and small packs) of substance, including its sampling, storage, unloading distribution and associated laboratory activities [GES1A_I]. "},".","Y"]
[null,"GES1B_I",null,"Use of substance as an intermediate (not related to Strictly Controlled Conditions). Includes recycling/ recovery, material transfers, storage,  sampling, associated laboratory activities, maintenance and loading (including marine vessel/barge, road/rail car and bulk container)","Use of substance as an intermediate (not related to Strictly Controlled Conditions). Includes recycling/ recovery, material transfers, storage,  sampling, associated laboratory activities, maintenance and loading (including marine vessel/barge, road/rail car and bulk container)",{"$f":"IF(AND(H99=\"Y\",CSA!B$15=\"YES\"),IF(E99=\"\",\"***TRANSLATED TEXT MISSING***\",E99&IF(B99=\"\",G99&\" \",IF(OR(LEFT(B99,3)<>\"CSL\", AND(LEFT(B99,3)=\"CSL\",H$522=\"NO\")),\" [\"&B99&\"]\"&G99&\" \",G99&\" \"))),IF(E99=\"\",\"***TRANSLATED TEXT MISSING***\",E99&G99&\" \"))","v":"Use of substance as an intermediate (not related to Strictly Controlled Conditions). Includes recycling/ recovery, material transfers, storage,  sampling, associated laboratory activities, maintenance and loading (including marine vessel/barge, road/rail car and bulk container) [GES1B_I]. "},".","Y"]
[null,"GES2_I",null,"Formulation, packing and re-packing of the substance and its mixtures in batch or continuous operations, including storage, materials transfers, mixing, tabletting, compression, pelletisation, extrusion, large and small scale packing,  sampling, maintenance and associated laboratory activities","Formulation, packing and re-packing of the substance and its mixtures in batch or continuous operations, including storage, materials transfers, mixing, tabletting, compression, pelletisation, extrusion, large and small scale packing,  sampling, maintenance and associated laboratory activities",{"$f":"IF(AND(H100=\"Y\",CSA!B$15=\"YES\"),IF(E100=\"\",\"***TRANSLATED TEXT MISSING***\",E100&IF(B100=\"\",G100&\" \",IF(OR(LEFT(B100,3)<>\"CSL\", AND(LEFT(B100,3)=\"CSL\",H$522=\"NO\")),\" [\"&B100&\"]\"&G100&\" \",G100&\" \"))),IF(E100=\"\",\"***TRANSLATED TEXT MISSING***\",E100&G100&\" \"))","v":"Formulation, packing and re-packing of the substance and its mixtures in batch or continuous operations, including storage, materials transfers, mixing, tabletting, compression, pelletisation, extrusion, large and small scale packing,  sampling, maintenance and associated laboratory activities [GES2_I]. "},".","Y"]
[null,"GES3_I",null,"Covers the use in coatings (paints, inks, adhesives, etc) including  exposures during use (including materials receipt, storage, preparation and transfer from bulk and semi-bulk, application by spray, roller, spreader, dip, flow, fluidised bed on production lines and film formation) and equipment cleaning, maintenance and associated laboratory activities","Covers the use in coatings (paints, inks, adhesives, etc) including  exposures during use (including materials receipt, storage, preparation and transfer from bulk and semi-bulk, application by spray, roller, spreader, dip, flow, fluidised bed on production lines and film formation) and equipment cleaning, maintenance and associated laboratory activities",{"$f":"IF(AND(H101=\"Y\",CSA!B$15=\"YES\"),IF(E101=\"\",\"***TRANSLATED TEXT MISSING***\",E101&IF(B101=\"\",G101&\" \",IF(OR(LEFT(B101,3)<>\"CSL\", AND(LEFT(B101,3)=\"CSL\",H$522=\"NO\")),\" [\"&B101&\"]\"&G101&\" \",G101&\" \"))),IF(E101=\"\",\"***TRANSLATED TEXT MISSING***\",E101&G101&\" \"))","v":"Covers the use in coatings (paints, inks, adhesives, etc) including  exposures during use (including materials receipt, storage, preparation and transfer from bulk and semi-bulk, application by spray, roller, spreader, dip, flow, fluidised bed on production lines and film formation) and equipment cleaning, maintenance and associated laboratory activities [GES3_I]. "},".","Y"]
[null,"GES3_P",null,"Covers the use in coatings (paints, inks, adhesives, etc) including  exposures during use (including materials receipt, storage, preparation and transfer from bulk and semi-bulk, application by spray, roller, brush, spreader by hand or similar methods, and film formation), and equipment cleaning, maintenance and associated laboratory activities","Covers the use in coatings (paints, inks, adhesives, etc) including  exposures during use (including materials receipt, storage, preparation and transfer from bulk and semi-bulk, application by spray, roller, brush, spreader by hand or similar methods, and film formation), and equipment cleaning, maintenance and associated laboratory activities",{"$f":"IF(AND(H102=\"Y\",CSA!B$15=\"YES\"),IF(E102=\"\",\"***TRANSLATED TEXT MISSING***\",E102&IF(B102=\"\",G102&\" \",IF(OR(LEFT(B102,3)<>\"CSL\", AND(LEFT(B102,3)=\"CSL\",H$522=\"NO\")),\" [\"&B102&\"]\"&G102&\" \",G102&\" \"))),IF(E102=\"\",\"***TRANSLATED TEXT MISSING***\",E102&G102&\" \"))","v":"Covers the use in coatings (paints, inks, adhesives, etc) including  exposures during use (including materials receipt, storage, preparation and transfer from bulk and semi-bulk, application by spray, roller, brush, spreader by hand or similar methods, and film formation), and equipment cleaning, maintenance and associated laboratory activities [GES3_P]. "},".","Y"]
[null,"GES3_C",null,"Covers the use in coatings (paints, inks, adhesives, etc) including  exposures during use (including product transfer and preparation, application by brush, spray by hand or similar methods) and equipment cleaning","Covers the use in coatings (paints, inks, adhesives, etc) including  exposures during use (including product transfer and preparation, application by brush, spray by hand or similar methods) and equipment cleaning",{"$f":"IF(AND(H103=\"Y\",CSA!B$15=\"YES\"),IF(E103=\"\",\"***TRANSLATED TEXT MISSING***\",E103&IF(B103=\"\",G103&\" \",IF(OR(LEFT(B103,3)<>\"CSL\", AND(LEFT(B103,3)=\"CSL\",H$522=\"NO\")),\" [\"&B103&\"]\"&G103&\" \",G103&\" \"))),IF(E103=\"\",\"***TRANSLATED TEXT MISSING***\",E103&G103&\" \"))","v":"Covers the use in coatings (paints, inks, adhesives, etc) including  exposures during use (including product transfer and preparation, application by brush, spray by hand or similar methods) and equipment cleaning [GES3_C]. "},".","Y"]
[null,"GES4_I",null,"Covers the use as a component of cleaning products including transfer from storage, pouring/unloading from drums or containers. Exposures during mixing/diluting in the preparatory phase and clEaning activities (including spraying, brushing, dipping, wiping, automated and by hand), related equipment cleaning and maintenance","Covers the use as a component of cleaning products including transfer from storage, pouring/unloading from drums or containers. Exposures during mixing/diluting in the preparatory phase and cleaning activities (including spraying, brushing, dipping, wiping, automated and by hand), related equipment cleaning and maintenance",{"$f":"IF(AND(H104=\"Y\",CSA!B$15=\"YES\"),IF(E104=\"\",\"***TRANSLATED TEXT MISSING***\",E104&IF(B104=\"\",G104&\" \",IF(OR(LEFT(B104,3)<>\"CSL\", AND(LEFT(B104,3)=\"CSL\",H$522=\"NO\")),\" [\"&B104&\"]\"&G104&\" \",G104&\" \"))),IF(E104=\"\",\"***TRANSLATED TEXT MISSING***\",E104&G104&\" \"))","v":"Covers the use as a component of cleaning products including transfer from storage, pouring/unloading from drums or containers. Exposures during mixing/diluting in the preparatory phase and cleaning activities (including spraying, brushing, dipping, wiping, automated and by hand), related equipment cleaning and maintenance [GES4_I]. "},".","Y"]
[null,"GES4_P",null,"Covers the use as a component of cleaning products including pouring/unloading from drums or containers; and exposures during mixing/diluting in the preparatory phase and cleaning activities (including spraying, brushing, dipping, wiping automated and by hand)","Covers the use as a component of cleaning products including pouring/unloading from drums or containers; and exposures during mixing/diluting in the preparatory phase and cleaning activities (including spraying, brushing, dipping, wiping automated and by hand)",{"$f":"IF(AND(H105=\"Y\",CSA!B$15=\"YES\"),IF(E105=\"\",\"***TRANSLATED TEXT MISSING***\",E105&IF(B105=\"\",G105&\" \",IF(OR(LEFT(B105,3)<>\"CSL\", AND(LEFT(B105,3)=\"CSL\",H$522=\"NO\")),\" [\"&B105&\"]\"&G105&\" \",G105&\" \"))),IF(E105=\"\",\"***TRANSLATED TEXT MISSING***\",E105&G105&\" \"))","v":"Covers the use as a component of cleaning products including pouring/unloading from drums or containers; and exposures during mixing/diluting in the preparatory phase and cleaning activities (including spraying, brushing, dipping, wiping automated and by hand) [GES4_P]. "},".","Y"]
[null,"GES4_C",null,"Covers general exposures to consumers arising from the use of household products sold as washing and cleaning products, aerosols, coatings, de-icers, lubricants and air care products","Covers general exposures to consumers arising from the use of household products sold as washing and cleaning products, aerosols, coatings, de-icers, lubricants and air care products",{"$f":"IF(AND(H106=\"Y\",CSA!B$15=\"YES\"),IF(E106=\"\",\"***TRANSLATED TEXT MISSING***\",E106&IF(B106=\"\",G106&\" \",IF(OR(LEFT(B106,3)<>\"CSL\", AND(LEFT(B106,3)=\"CSL\",H$522=\"NO\")),\" [\"&B106&\"]\"&G106&\" \",G106&\" \"))),IF(E106=\"\",\"***TRANSLATED TEXT MISSING***\",E106&G106&\" \"))","v":"Covers general exposures to consumers arising from the use of household products sold as washing and cleaning products, aerosols, coatings, de-icers, lubricants and air care products [GES4_C]. "},".","Y"]
[null,"GES5_I",null,"Oil field well drilling and production operations (including drilling muds and well cleaning) including material transfers, on-site formulation, well head operations, shaker room activities and related maintenance","Oil field well drilling and production operations (including drilling muds and well cleaning) including material transfers, on-site formulation, well head operations, shaker room activities and related maintenance",{"$f":"IF(AND(H107=\"Y\",CSA!B$15=\"YES\"),IF(E107=\"\",\"***TRANSLATED TEXT MISSING***\",E107&IF(B107=\"\",G107&\" \",IF(OR(LEFT(B107,3)<>\"CSL\", AND(LEFT(B107,3)=\"CSL\",H$522=\"NO\")),\" [\"&B107&\"]\"&G107&\" \",G107&\" \"))),IF(E107=\"\",\"***TRANSLATED TEXT MISSING***\",E107&G107&\" \"))","v":"Oil field well drilling and production operations (including drilling muds and well cleaning) including material transfers, on-site formulation, well head operations, shaker room activities and related maintenance [GES5_I]. "},".","Y"]
[null,"GES5_P",null,"Oil field well drilling operations (including drilling muds and well cleaning) including material transfers, on-site formulation, well head operations, shaker room activities and related maintenance.","Oil field well drilling operations (including drilling muds and well cleaning) including material transfers, on-site formulation, well head operations, shaker room activities and related maintenance",{"$f":"IF(AND(H108=\"Y\",CSA!B$15=\"YES\"),IF(E108=\"\",\"***TRANSLATED TEXT MISSING***\",E108&IF(B108=\"\",G108&\" \",IF(OR(LEFT(B108,3)<>\"CSL\", AND(LEFT(B108,3)=\"CSL\",H$522=\"NO\")),\" [\"&B108&\"]\"&G108&\" \",G108&\" \"))),IF(E108=\"\",\"***TRANSLATED TEXT MISSING***\",E108&G108&\" \"))","v":"Oil field well drilling operations (including drilling muds and well cleaning) including material transfers, on-site formulation, well head operations, shaker room activities and related maintenance [GES5_P]. "},".","Y"]
[null,"GES6_I",null,"Covers the use of formulated lubricants in closed and open systems including transfer operations, operation of machinery/engines and similar articles, reworking on reject articles, equipment maintenance and disposal of wastes","Covers the use of formulated lubricants in closed and open systems including transfer operations, operation of machinery/engines and similar articles, reworking on reject articles, equipment maintenance and disposal of wastes",{"$f":"IF(AND(H109=\"Y\",CSA!B$15=\"YES\"),IF(E109=\"\",\"***TRANSLATED TEXT MISSING***\",E109&IF(B109=\"\",G109&\" \",IF(OR(LEFT(B109,3)<>\"CSL\", AND(LEFT(B109,3)=\"CSL\",H$522=\"NO\")),\" [\"&B109&\"]\"&G109&\" \",G109&\" \"))),IF(E109=\"\",\"***TRANSLATED TEXT MISSING***\",E109&G109&\" \"))","v":"Covers the use of formulated lubricants in closed and open systems including transfer operations, operation of machinery/engines and similar articles, reworking on reject articles, equipment maintenance and disposal of wastes [GES6_I]. "},".","Y"]
[null,"GES6_P",null,"Covers the use of formulated lubricants in closed and open systems including transfer operations, operation of engines and similar articles, reworking on reject articles, equipment maintenance and disposal of waste oil","Covers the use of formulated lubricants in closed and open systems including transfer operations, operation of engines and similar articles, reworking on reject articles, equipment maintenance and disposal of waste oil",{"$f":"IF(AND(H110=\"Y\",CSA!B$15=\"YES\"),IF(E110=\"\",\"***TRANSLATED TEXT MISSING***\",E110&IF(B110=\"\",G110&\" \",IF(OR(LEFT(B110,3)<>\"CSL\", AND(LEFT(B110,3)=\"CSL\",H$522=\"NO\")),\" [\"&B110&\"]\"&G110&\" \",G110&\" \"))),IF(E110=\"\",\"***TRANSLATED TEXT MISSING***\",E110&G110&\" \"))","v":"Covers the use of formulated lubricants in closed and open systems including transfer operations, operation of engines and similar articles, reworking on reject articles, equipment maintenance and disposal of waste oil [GES6_P]. "},".","Y"]
[null,"GES6_C",null,"Covers the consumer use of formulated lubricants in closed and open systems including transfer operations, application, operation of engines and similar articles, equipment maintenance and disposal of waste oil","Covers the consumer use of formulated lubricants in closed and open systems including transfer operations, application, operation of engines and similar articles, equipment maintenance and disposal of waste oil",{"$f":"IF(AND(H111=\"Y\",CSA!B$15=\"YES\"),IF(E111=\"\",\"***TRANSLATED TEXT MISSING***\",E111&IF(B111=\"\",G111&\" \",IF(OR(LEFT(B111,3)<>\"CSL\", AND(LEFT(B111,3)=\"CSL\",H$522=\"NO\")),\" [\"&B111&\"]\"&G111&\" \",G111&\" \"))),IF(E111=\"\",\"***TRANSLATED TEXT MISSING***\",E111&G111&\" \"))","v":"Covers the consumer use of formulated lubricants in closed and open systems including transfer operations, application, operation of engines and similar articles, equipment maintenance and disposal of waste oil [GES6_C]. "},".","Y"]
[null,"GES7_I",null,"Covers the use in formulated MWFs/rolling oils including transfer operations, rolling and annealing activities, cutting/machining activities, automated and manual application of corrosion protections (including brushing, dipping and spraying), equipment maintenance, draining and disposal of waste oils","Covers the use in formulated MWFs/rolling oils including transfer operations, rolling and annealing activities, cutting/machining activities, automated and manual application of corrosion protections (including brushing, dipping and spraying), equipment maintenance, draining and disposal of waste oils",{"$f":"IF(AND(H112=\"Y\",CSA!B$15=\"YES\"),IF(E112=\"\",\"***TRANSLATED TEXT MISSING***\",E112&IF(B112=\"\",G112&\" \",IF(OR(LEFT(B112,3)<>\"CSL\", AND(LEFT(B112,3)=\"CSL\",H$522=\"NO\")),\" [\"&B112&\"]\"&G112&\" \",G112&\" \"))),IF(E112=\"\",\"***TRANSLATED TEXT MISSING***\",E112&G112&\" \"))","v":"Covers the use in formulated MWFs/rolling oils including transfer operations, rolling and annealing activities, cutting/machining activities, automated and manual application of corrosion protections (including brushing, dipping and spraying), equipment maintenance, draining and disposal of waste oils [GES7_I]. "},".","Y"]
[null,"GES7_P",null,"Covers the use in formulated MWFs including transfer operations, open and contained cutting/machining activities, automated and manual application of corrosion protections, draining and working on contaminated/ reject articles, and disposal of waste oils","Covers the use in formulated MWFs including transfer operations, open and contained cutting/machining activities, automated and manual application of corrosion protections, draining and working on contaminated/ reject articles, and disposal of waste oils",{"$f":"IF(AND(H113=\"Y\",CSA!B$15=\"YES\"),IF(E113=\"\",\"***TRANSLATED TEXT MISSING***\",E113&IF(B113=\"\",G113&\" \",IF(OR(LEFT(B113,3)<>\"CSL\", AND(LEFT(B113,3)=\"CSL\",H$522=\"NO\")),\" [\"&B113&\"]\"&G113&\" \",G113&\" \"))),IF(E113=\"\",\"***TRANSLATED TEXT MISSING***\",E113&G113&\" \"))","v":"Covers the use in formulated MWFs including transfer operations, open and contained cutting/machining activities, automated and manual application of corrosion protections, draining and working on contaminated/ reject articles, and disposal of waste oils [GES7_P]. "},".","Y"]
[null,"GES8_P",null,"Use as a propellant in professional aerosol products.","Use as a propellant in professional aerosol products",{"$f":"IF(AND(H114=\"Y\",CSA!B$15=\"YES\"),IF(E114=\"\",\"***TRANSLATED TEXT MISSING***\",E114&IF(B114=\"\",G114&\" \",IF(OR(LEFT(B114,3)<>\"CSL\", AND(LEFT(B114,3)=\"CSL\",H$522=\"NO\")),\" [\"&B114&\"]\"&G114&\" \",G114&\" \"))),IF(E114=\"\",\"***TRANSLATED TEXT MISSING***\",E114&G114&\" \"))","v":"Use as a propellant in professional aerosol products [GES8_P]. "},".","Y"]
[null,"GES8_C",null,"Use as a propellant in household consumer aerosol products","Use as a propellant in household consumer aerosol products",{"$f":"IF(AND(H115=\"Y\",CSA!B$15=\"YES\"),IF(E115=\"\",\"***TRANSLATED TEXT MISSING***\",E115&IF(B115=\"\",G115&\" \",IF(OR(LEFT(B115,3)<>\"CSL\", AND(LEFT(B115,3)=\"CSL\",H$522=\"NO\")),\" [\"&B115&\"]\"&G115&\" \",G115&\" \"))),IF(E115=\"\",\"***TRANSLATED TEXT MISSING***\",E115&G115&\" \"))","v":"Use as a propellant in household consumer aerosol products [GES8_C]. "},".","Y"]
[null,"GES9_I",null,"Use as a blowing agent for rigid and flexible foams, including material transfers, mixing and injection, curing, cutting, storage and packing","Use as a blowing agent for rigid and flexible foams, including material transfers, mixing and injection, curing, cutting, storage and packing",{"$f":"IF(AND(H116=\"Y\",CSA!B$15=\"YES\"),IF(E116=\"\",\"***TRANSLATED TEXT MISSING***\",E116&IF(B116=\"\",G116&\" \",IF(OR(LEFT(B116,3)<>\"CSL\", AND(LEFT(B116,3)=\"CSL\",H$522=\"NO\")),\" [\"&B116&\"]\"&G116&\" \",G116&\" \"))),IF(E116=\"\",\"***TRANSLATED TEXT MISSING***\",E116&G116&\" \"))","v":"Use as a blowing agent for rigid and flexible foams, including material transfers, mixing and injection, curing, cutting, storage and packing [GES9_I]. "},".","Y"]
[null,"GES10_I",null,"Covers the use as binders and release agents including material transfers, mixing, application (including spraying and brushing), mould forming and casting, and handling of waste","Covers the use as binders and release agents including material transfers, mixing, application (including spraying and brushing), mould forming and casting, and handling of waste",{"$f":"IF(AND(H117=\"Y\",CSA!B$15=\"YES\"),IF(E117=\"\",\"***TRANSLATED TEXT MISSING***\",E117&IF(B117=\"\",G117&\" \",IF(OR(LEFT(B117,3)<>\"CSL\", AND(LEFT(B117,3)=\"CSL\",H$522=\"NO\")),\" [\"&B117&\"]\"&G117&\" \",G117&\" \"))),IF(E117=\"\",\"***TRANSLATED TEXT MISSING***\",E117&G117&\" \"))","v":"Covers the use as binders and release agents including material transfers, mixing, application (including spraying and brushing), mould forming and casting, and handling of waste [GES10_I]. "},".","Y"]
[null,"GES10_P",null,"Covers the use as binders and release agents including material transfers, mixing, application by spraying, brushing, and handling of waste.","Covers the use as binders and release agents including material transfers, mixing, application by spraying, brushing, and handling of waste",{"$f":"IF(AND(H118=\"Y\",CSA!B$15=\"YES\"),IF(E118=\"\",\"***TRANSLATED TEXT MISSING***\",E118&IF(B118=\"\",G118&\" \",IF(OR(LEFT(B118,3)<>\"CSL\", AND(LEFT(B118,3)=\"CSL\",H$522=\"NO\")),\" [\"&B118&\"]\"&G118&\" \",G118&\" \"))),IF(E118=\"\",\"***TRANSLATED TEXT MISSING***\",E118&G118&\" \"))","v":"Covers the use as binders and release agents including material transfers, mixing, application by spraying, brushing, and handling of waste [GES10_P]. "},".","Y"]
[null,"GES11_P",null,"Use as an agrochemical excipient for application by manual or machine spraying, smokes and fogging; including equipment clean-downs and disposal","Use as an agrochemical excipient for application by manual or machine spraying, smokes and fogging; including equipment clean-downs and disposal",{"$f":"IF(AND(H119=\"Y\",CSA!B$15=\"YES\"),IF(E119=\"\",\"***TRANSLATED TEXT MISSING***\",E119&IF(B119=\"\",G119&\" \",IF(OR(LEFT(B119,3)<>\"CSL\", AND(LEFT(B119,3)=\"CSL\",H$522=\"NO\")),\" [\"&B119&\"]\"&G119&\" \",G119&\" \"))),IF(E119=\"\",\"***TRANSLATED TEXT MISSING***\",E119&G119&\" \"))","v":"Use as an agrochemical excipient for application by manual or machine spraying, smokes and fogging; including equipment clean-downs and disposal [GES11_P]. "},".","Y"]
[null,"GES11-C",null,"Covers the consumer use in agrochemicals in liquid and solid forms.","Covers the consumer use in agrochemicals in liquid and solid forms",{"$f":"IF(AND(H120=\"Y\",CSA!B$15=\"YES\"),IF(E120=\"\",\"***TRANSLATED TEXT MISSING***\",E120&IF(B120=\"\",G120&\" \",IF(OR(LEFT(B120,3)<>\"CSL\", AND(LEFT(B120,3)=\"CSL\",H$522=\"NO\")),\" [\"&B120&\"]\"&G120&\" \",G120&\" \"))),IF(E120=\"\",\"***TRANSLATED TEXT MISSING***\",E120&G120&\" \"))","v":"Covers the consumer use in agrochemicals in liquid and solid forms [GES11-C]. "},".","Y"]
[null,"GES12_I",null,"Covers the use as a fuel (or fuel additive) and includes activities associated with its transfer, use, equipment maintenance and handling of waste","Covers the use as a fuel (or fuel additive) and includes activities associated with its transfer, use, equipment maintenance and handling of waste",{"$f":"IF(AND(H121=\"Y\",CSA!B$15=\"YES\"),IF(E121=\"\",\"***TRANSLATED TEXT MISSING***\",E121&IF(B121=\"\",G121&\" \",IF(OR(LEFT(B121,3)<>\"CSL\", AND(LEFT(B121,3)=\"CSL\",H$522=\"NO\")),\" [\"&B121&\"]\"&G121&\" \",G121&\" \"))),IF(E121=\"\",\"***TRANSLATED TEXT MISSING***\",E121&G121&\" \"))","v":"Covers the use as a fuel (or fuel additive) and includes activities associated with its transfer, use, equipment maintenance and handling of waste [GES12_I]. "},".","Y"]
[null,"GES12_P",null,"Covers the use as a fuel (or fuel additive) and includes activities associated with its transfer, use, equipment maintenance and handling of waste.","Covers the use as a fuel (or fuel additive) and includes activities associated with its transfer, use, equipment maintenance and handling of waste",{"$f":"IF(AND(H122=\"Y\",CSA!B$15=\"YES\"),IF(E122=\"\",\"***TRANSLATED TEXT MISSING***\",E122&IF(B122=\"\",G122&\" \",IF(OR(LEFT(B122,3)<>\"CSL\", AND(LEFT(B122,3)=\"CSL\",H$522=\"NO\")),\" [\"&B122&\"]\"&G122&\" \",G122&\" \"))),IF(E122=\"\",\"***TRANSLATED TEXT MISSING***\",E122&G122&\" \"))","v":"Covers the use as a fuel (or fuel additive) and includes activities associated with its transfer, use, equipment maintenance and handling of waste [GES12_P]. "},".","Y"]
[null,"GES12_C",null,"Covers consumer uses in liquid fuels ","Covers consumer uses in liquid fuels",{"$f":"IF(AND(H123=\"Y\",CSA!B$15=\"YES\"),IF(E123=\"\",\"***TRANSLATED TEXT MISSING***\",E123&IF(B123=\"\",G123&\" \",IF(OR(LEFT(B123,3)<>\"CSL\", AND(LEFT(B123,3)=\"CSL\",H$522=\"NO\")),\" [\"&B123&\"]\"&G123&\" \",G123&\" \"))),IF(E123=\"\",\"***TRANSLATED TEXT MISSING***\",E123&G123&\" \"))","v":"Covers consumer uses in liquid fuels [GES12_C]. "},".","Y"]
[null,"GES13_I",null,"Use as functional fluids e.g. cable oils, transfer oils, coolants, insulators, refrigerants, hydraulic fluids in industrial equipment including maintenance and related material transfers","Use as functional fluids e.g. cable oils, transfer oils, coolants, insulators, refrigerants, hydraulic fluids in industrial equipment including maintenance and related material transfers",{"$f":"IF(AND(H124=\"Y\",CSA!B$15=\"YES\"),IF(E124=\"\",\"***TRANSLATED TEXT MISSING***\",E124&IF(B124=\"\",G124&\" \",IF(OR(LEFT(B124,3)<>\"CSL\", AND(LEFT(B124,3)=\"CSL\",H$522=\"NO\")),\" [\"&B124&\"]\"&G124&\" \",G124&\" \"))),IF(E124=\"\",\"***TRANSLATED TEXT MISSING***\",E124&G124&\" \"))","v":"Use as functional fluids e.g. cable oils, transfer oils, coolants, insulators, refrigerants, hydraulic fluids in industrial equipment including maintenance and related material transfers [GES13_I]. "},".","Y"]
[null,"GES13_P",null,"Use as functional fluids e.g. cable oils, transfer oils, coolants, insulators, refrigerants, hydraulic fluids in professional equipment including maintenance and related material transfers","Use as functional fluids e.g. cable oils, transfer oils, coolants, insulators, refrigerants, hydraulic fluids in professional equipment including maintenance and related material transfers",{"$f":"IF(AND(H125=\"Y\",CSA!B$15=\"YES\"),IF(E125=\"\",\"***TRANSLATED TEXT MISSING***\",E125&IF(B125=\"\",G125&\" \",IF(OR(LEFT(B125,3)<>\"CSL\", AND(LEFT(B125,3)=\"CSL\",H$522=\"NO\")),\" [\"&B125&\"]\"&G125&\" \",G125&\" \"))),IF(E125=\"\",\"***TRANSLATED TEXT MISSING***\",E125&G125&\" \"))","v":"Use as functional fluids e.g. cable oils, transfer oils, coolants, insulators, refrigerants, hydraulic fluids in professional equipment including maintenance and related material transfers [GES13_P]. "},".","Y"]
[null,"GES13_C",null,"Use of sealed items containing functional fluids e.g. transfer oils, hydraulic fluids, refrigerants","Use of sealed items containing functional fluids e.g. transfer oils, hydraulic fluids, refrigerants",{"$f":"IF(AND(H126=\"Y\",CSA!B$15=\"YES\"),IF(E126=\"\",\"***TRANSLATED TEXT MISSING***\",E126&IF(B126=\"\",G126&\" \",IF(OR(LEFT(B126,3)<>\"CSL\", AND(LEFT(B126,3)=\"CSL\",H$522=\"NO\")),\" [\"&B126&\"]\"&G126&\" \",G126&\" \"))),IF(E126=\"\",\"***TRANSLATED TEXT MISSING***\",E126&G126&\" \"))","v":"Use of sealed items containing functional fluids e.g. transfer oils, hydraulic fluids, refrigerants [GES13_C]. "},".","Y"]
[null,"GES14_P",null,"Ice prevention and de-icing of vehicles, aircraft and other equipment by spraying","Ice prevention and de-icing of vehicles, aircraft and other equipment by spraying",{"$f":"IF(AND(H127=\"Y\",CSA!B$15=\"YES\"),IF(E127=\"\",\"***TRANSLATED TEXT MISSING***\",E127&IF(B127=\"\",G127&\" \",IF(OR(LEFT(B127,3)<>\"CSL\", AND(LEFT(B127,3)=\"CSL\",H$522=\"NO\")),\" [\"&B127&\"]\"&G127&\" \",G127&\" \"))),IF(E127=\"\",\"***TRANSLATED TEXT MISSING***\",E127&G127&\" \"))","v":"Ice prevention and de-icing of vehicles, aircraft and other equipment by spraying [GES14_P]. "},".","Y"]
[null,"GES14_C",null,"De-icing of vehicles and similar equipment by spraying","De-icing of vehicles and similar equipment by spraying",{"$f":"IF(AND(H128=\"Y\",CSA!B$15=\"YES\"),IF(E128=\"\",\"***TRANSLATED TEXT MISSING***\",E128&IF(B128=\"\",G128&\" \",IF(OR(LEFT(B128,3)<>\"CSL\", AND(LEFT(B128,3)=\"CSL\",H$522=\"NO\")),\" [\"&B128&\"]\"&G128&\" \",G128&\" \"))),IF(E128=\"\",\"***TRANSLATED TEXT MISSING***\",E128&G128&\" \"))","v":"De-icing of vehicles and similar equipment by spraying [GES14_C]. "},".","Y"]
[null,"GES15-P",null,"Application of surface coatings and binders in road and construction activities, including paving uses, manual mastic and in the application of roofing and water-proofing membranes","Application of surface coatings and binders in road and construction activities, including paving uses, manual mastic and in the application of roofing and water-proofing membranes",{"$f":"IF(AND(H129=\"Y\",CSA!B$15=\"YES\"),IF(E129=\"\",\"***TRANSLATED TEXT MISSING***\",E129&IF(B129=\"\",G129&\" \",IF(OR(LEFT(B129,3)<>\"CSL\", AND(LEFT(B129,3)=\"CSL\",H$522=\"NO\")),\" [\"&B129&\"]\"&G129&\" \",G129&\" \"))),IF(E129=\"\",\"***TRANSLATED TEXT MISSING***\",E129&G129&\" \"))","v":"Application of surface coatings and binders in road and construction activities, including paving uses, manual mastic and in the application of roofing and water-proofing membranes [GES15-P]. "},".","Y"]
[null,"GES16_C",null,"Consumer uses e.g. as a carrier in cosmetics/personal care products, perfumes and fragrances. Note: For cosmetic and personal care products, risk assessment only required for the environment under REACH as human health is covered by alternative legislation","Consumer uses e.g. as a carrier in cosmetics/personal care products, perfumes and fragrances. Note: For cosmetic and personal care products, risk assessment only required for the environment under REACH as human health is covered by alternative legislation",{"$f":"IF(AND(H130=\"Y\",CSA!B$15=\"YES\"),IF(E130=\"\",\"***TRANSLATED TEXT MISSING***\",E130&IF(B130=\"\",G130&\" \",IF(OR(LEFT(B130,3)<>\"CSL\", AND(LEFT(B130,3)=\"CSL\",H$522=\"NO\")),\" [\"&B130&\"]\"&G130&\" \",G130&\" \"))),IF(E130=\"\",\"***TRANSLATED TEXT MISSING***\",E130&G130&\" \"))","v":"Consumer uses e.g. as a carrier in cosmetics/personal care products, perfumes and fragrances. Note: For cosmetic and personal care products, risk assessment only required for the environment under REACH as human health is covered by alternative legislation [GES16_C]. "},".","Y"]
[null,"GES17_I",null,"Use of the substance within laboratory settings, including material transfers and equipment cleaning","Use of the substance within laboratory settings, including material transfers and equipment cleaning",{"$f":"IF(AND(H131=\"Y\",CSA!B$15=\"YES\"),IF(E131=\"\",\"***TRANSLATED TEXT MISSING***\",E131&IF(B131=\"\",G131&\" \",IF(OR(LEFT(B131,3)<>\"CSL\", AND(LEFT(B131,3)=\"CSL\",H$522=\"NO\")),\" [\"&B131&\"]\"&G131&\" \",G131&\" \"))),IF(E131=\"\",\"***TRANSLATED TEXT MISSING***\",E131&G131&\" \"))","v":"Use of the substance within laboratory settings, including material transfers and equipment cleaning [GES17_I]. "},".","Y"]
[null,"GES17-P",null,"Use of small quantities within laboratory settings, including material transfers and equipment cleaning","Use of small quantities within laboratory settings, including material transfers and equipment cleaning",{"$f":"IF(AND(H132=\"Y\",CSA!B$15=\"YES\"),IF(E132=\"\",\"***TRANSLATED TEXT MISSING***\",E132&IF(B132=\"\",G132&\" \",IF(OR(LEFT(B132,3)<>\"CSL\", AND(LEFT(B132,3)=\"CSL\",H$522=\"NO\")),\" [\"&B132&\"]\"&G132&\" \",G132&\" \"))),IF(E132=\"\",\"***TRANSLATED TEXT MISSING***\",E132&G132&\" \"))","v":"Use of small quantities within laboratory settings, including material transfers and equipment cleaning [GES17-P]. "},".","Y"]
[null,"GES18_P",null,"Covers exposures arising from the manufacture and use of slurry explosives (including  materials transfer, mixing and charging) and equipment cleaning","Covers exposures arising from the manufacture and use of slurry explosives (including  materials transfer, mixing and charging) and equipment cleaning",{"$f":"IF(AND(H133=\"Y\",CSA!B$15=\"YES\"),IF(E133=\"\",\"***TRANSLATED TEXT MISSING***\",E133&IF(B133=\"\",G133&\" \",IF(OR(LEFT(B133,3)<>\"CSL\", AND(LEFT(B133,3)=\"CSL\",H$522=\"NO\")),\" [\"&B133&\"]\"&G133&\" \",G133&\" \"))),IF(E133=\"\",\"***TRANSLATED TEXT MISSING***\",E133&G133&\" \"))","v":"Covers exposures arising from the manufacture and use of slurry explosives (including  materials transfer, mixing and charging) and equipment cleaning [GES18_P]. "},".","Y"]
[null,"GES19_I",null,"Manufacture of tyres and general rubber articles, including processing of raw (uncured) rubber, handling and mixing of rubber additives, vulcanising, cooling and finishing.","Manufacture of tyres and general rubber articles, including processing of raw (uncured) rubber, handling and mixing of rubber additives, vulcanising, cooling and finishing",{"$f":"IF(AND(H134=\"Y\",CSA!B$15=\"YES\"),IF(E134=\"\",\"***TRANSLATED TEXT MISSING***\",E134&IF(B134=\"\",G134&\" \",IF(OR(LEFT(B134,3)<>\"CSL\", AND(LEFT(B134,3)=\"CSL\",H$522=\"NO\")),\" [\"&B134&\"]\"&G134&\" \",G134&\" \"))),IF(E134=\"\",\"***TRANSLATED TEXT MISSING***\",E134&G134&\" \"))","v":"Manufacture of tyres and general rubber articles, including processing of raw (uncured) rubber, handling and mixing of rubber additives, vulcanising, cooling and finishing [GES19_I]. "},".","Y"]
[null,"GES20_I",null,"Manufacture of polymers from monomers in continuous and batch processes. Including production, re-cycling and recovery, degassing, discharging, reactor maintenance and immediate polymer product formation (i.e. compounding, pelletisation, product off-gassing). ","Manufacture of polymers from monomers in continuous and batch processes. Including production, re-cycling and recovery, degassing, discharging, reactor maintenance and immediate polymer product formation (i.e. compounding, pelletisation, product off-gassing)",{"$f":"IF(AND(H135=\"Y\",CSA!B$15=\"YES\"),IF(E135=\"\",\"***TRANSLATED TEXT MISSING***\",E135&IF(B135=\"\",G135&\" \",IF(OR(LEFT(B135,3)<>\"CSL\", AND(LEFT(B135,3)=\"CSL\",H$522=\"NO\")),\" [\"&B135&\"]\"&G135&\" \",G135&\" \"))),IF(E135=\"\",\"***TRANSLATED TEXT MISSING***\",E135&G135&\" \"))","v":"Manufacture of polymers from monomers in continuous and batch processes. Including production, re-cycling and recovery, degassing, discharging, reactor maintenance and immediate polymer product formation (i.e. compounding, pelletisation, product off-gassing) [GES20_I]. "},".","Y"]
[null,"GES21_I",null,"Covers the use of the substance for the treatment of water at industrial facilities in open and closed systems","Covers the use of the substance for the treatment of water at industrial facilities in open and closed systems",{"$f":"IF(AND(H136=\"Y\",CSA!B$15=\"YES\"),IF(E136=\"\",\"***TRANSLATED TEXT MISSING***\",E136&IF(B136=\"\",G136&\" \",IF(OR(LEFT(B136,3)<>\"CSL\", AND(LEFT(B136,3)=\"CSL\",H$522=\"NO\")),\" [\"&B136&\"]\"&G136&\" \",G136&\" \"))),IF(E136=\"\",\"***TRANSLATED TEXT MISSING***\",E136&G136&\" \"))","v":"Covers the use of the substance for the treatment of water at industrial facilities in open and closed systems [GES21_I]. "},".","Y"]
[null,"GES21_P",null,"Covers the use of the substance for the treatment of water in open and closed systems","Covers the use of the substance for the treatment of water in open and closed systems",{"$f":"IF(AND(H137=\"Y\",CSA!B$15=\"YES\"),IF(E137=\"\",\"***TRANSLATED TEXT MISSING***\",E137&IF(B137=\"\",G137&\" \",IF(OR(LEFT(B137,3)<>\"CSL\", AND(LEFT(B137,3)=\"CSL\",H$522=\"NO\")),\" [\"&B137&\"]\"&G137&\" \",G137&\" \"))),IF(E137=\"\",\"***TRANSLATED TEXT MISSING***\",E137&G137&\" \"))","v":"Covers the use of the substance for the treatment of water in open and closed systems [GES21_P]. "},".","Y"]
[null,"GES21_C",null,"Covers the use of the substance for the treatment of water in open and closed systems","Covers the use of the substance for the treatment of water in open and closed systems",{"$f":"IF(AND(H138=\"Y\",CSA!B$15=\"YES\"),IF(E138=\"\",\"***TRANSLATED TEXT MISSING***\",E138&IF(B138=\"\",G138&\" \",IF(OR(LEFT(B138,3)<>\"CSL\", AND(LEFT(B138,3)=\"CSL\",H$522=\"NO\")),\" [\"&B138&\"]\"&G138&\" \",G138&\" \"))),IF(E138=\"\",\"***TRANSLATED TEXT MISSING***\",E138&G138&\" \"))","v":"Covers the use of the substance for the treatment of water in open and closed systems [GES21_C]. "},".","Y"]
[null,"GES22_I",null,"Covers the use of the substance in extraction processes at mining operations, including material transfers, winning and separation activities, and substance recovery and disposal","Covers the use of the substance in extraction processes at mining operations, including material transfers, winning and separation activities, and substance recovery and disposal",{"$f":"IF(AND(H139=\"Y\",CSA!B$15=\"YES\"),IF(E139=\"\",\"***TRANSLATED TEXT MISSING***\",E139&IF(B139=\"\",G139&\" \",IF(OR(LEFT(B139,3)<>\"CSL\", AND(LEFT(B139,3)=\"CSL\",H$522=\"NO\")),\" [\"&B139&\"]\"&G139&\" \",G139&\" \"))),IF(E139=\"\",\"***TRANSLATED TEXT MISSING***\",E139&G139&\" \"))","v":"Covers the use of the substance in extraction processes at mining operations, including material transfers, winning and separation activities, and substance recovery and disposal [GES22_I]. "},".","Y"]
[null,"GES23_I",null,"Processing of formulated polymers including material transfers, additives handling (e.g. pigments, stabilisers, fillers, plasticisers, etc.), moulding, curing and forming activities, material re-works, storage and associated maintenance","Processing of formulated polymers including material transfers, additives handling (e.g. pigments, stabilisers, fillers, plasticisers, etc.), moulding, curing and forming activities, material re-works, storage and associated maintenance",{"$f":"IF(AND(H140=\"Y\",CSA!B$15=\"YES\"),IF(E140=\"\",\"***TRANSLATED TEXT MISSING***\",E140&IF(B140=\"\",G140&\" \",IF(OR(LEFT(B140,3)<>\"CSL\", AND(LEFT(B140,3)=\"CSL\",H$522=\"NO\")),\" [\"&B140&\"]\"&G140&\" \",G140&\" \"))),IF(E140=\"\",\"***TRANSLATED TEXT MISSING***\",E140&G140&\" \"))","v":"Processing of formulated polymers including material transfers, additives handling (e.g. pigments, stabilisers, fillers, plasticisers, etc.), moulding, curing and forming activities, material re-works, storage and associated maintenance [GES23_I]. "},".","Y"]
[null,"GES23_P",null,"Processing of formulated polymers including material transfers, moulding and forming activities, material re-works and associated maintenance ","Processing of formulated polymers including material transfers, moulding and forming activities, material re-works and associated maintenance",{"$f":"IF(AND(H141=\"Y\",CSA!B$15=\"YES\"),IF(E141=\"\",\"***TRANSLATED TEXT MISSING***\",E141&IF(B141=\"\",G141&\" \",IF(OR(LEFT(B141,3)<>\"CSL\", AND(LEFT(B141,3)=\"CSL\",H$522=\"NO\")),\" [\"&B141&\"]\"&G141&\" \",G141&\" \"))),IF(E141=\"\",\"***TRANSLATED TEXT MISSING***\",E141&G141&\" \"))","v":"Processing of formulated polymers including material transfers, moulding and forming activities, material re-works and associated maintenance [GES23_P]. "},".","Y"]
[null,null,null,"Covers the use in process chemicals or extraction agents. Includes recycling/ recovery, material transfers, storage, maintenance, sampling and associated laboratory activities.","Covers the use in process chemicals or extraction agents. Includes recycling/ recovery, material transfers, storage, maintenance, sampling and associated laboratory activities.",{"$f":"IF(AND(H142=\"Y\",[3]CSA!B$15=\"YES\"),IF(E142=\"\",\"***TRANSLATED TEXT MISSING***\",E142&IF(B142=\"\",G142&\" \",IF(OR(LEFT(B142,3)<>\"CSL\", AND(LEFT(B142,3)=\"CSL\",H$522=\"NO\")),\" [\"&B142&\"]\"&G142&\" \",G142&\" \"))),IF(E142=\"\",\"***TRANSLATED TEXT MISSING***\",E142&G142&\" \"))","v":"Covers the use in process chemicals or extraction agents. Includes recycling/ recovery, material transfers, storage, maintenance, sampling and associated laboratory activities. "}]
["Contributing scenarios",null,null,null,null,{"$f":"IF(AND(H143=\"Y\",CSA!B$15=\"YES\"),IF(E143=\"\",\"***TRANSLATED TEXT MISSING***\",E143&IF(B143=\"\",G143&\" \",IF(OR(LEFT(B143,3)<>\"CSL\", AND(LEFT(B143,3)=\"CSL\",H$522=\"NO\")),\" [\"&B143&\"]\"&G143&\" \",G143&\" \"))),IF(E143=\"\",\"***TRANSLATED TEXT MISSING***\",E143&G143&\" \"))","v":"***TRANSLATED TEXT MISSING***"}]
[null,"CS1",null,"General exposures ","General exposures ",{"$f":"IF(AND(H144=\"Y\",CSA!B$15=\"YES\"),IF(E144=\"\",\"***TRANSLATED TEXT MISSING***\",E144&IF(B144=\"\",G144&\" \",IF(OR(LEFT(B144,3)<>\"CSL\", AND(LEFT(B144,3)=\"CSL\",H$522=\"NO\")),\" [\"&B144&\"]\"&G144&\" \",G144&\" \"))),IF(E144=\"\",\"***TRANSLATED TEXT MISSING***\",E144&G144&\" \"))","v":"General exposures  [CS1]. "},".","Y"]
[null,"CS2",null,"Process sampling ","Process sampling ",{"$f":"IF(AND(H145=\"Y\",CSA!B$15=\"YES\"),IF(E145=\"\",\"***TRANSLATED TEXT MISSING***\",E145&IF(B145=\"\",G145&\" \",IF(OR(LEFT(B145,3)<>\"CSL\", AND(LEFT(B145,3)=\"CSL\",H$522=\"NO\")),\" [\"&B145&\"]\"&G145&\" \",G145&\" \"))),IF(E145=\"\",\"***TRANSLATED TEXT MISSING***\",E145&G145&\" \"))","v":"Process sampling  [CS2]. "},".","Y"]
[null,"CS3",null,"Material transfers ","Material transfers ",{"$f":"IF(AND(H146=\"Y\",CSA!B$15=\"YES\"),IF(E146=\"\",\"***TRANSLATED TEXT MISSING***\",E146&IF(B146=\"\",G146&\" \",IF(OR(LEFT(B146,3)<>\"CSL\", AND(LEFT(B146,3)=\"CSL\",H$522=\"NO\")),\" [\"&B146&\"]\"&G146&\" \",G146&\" \"))),IF(E146=\"\",\"***TRANSLATED TEXT MISSING***\",E146&G146&\" \"))","v":"Material transfers  [CS3]. "},".","Y"]
[null,"CS4",null,"Dipping, immersion and pouring","Dipping, immersion and pouring",{"$f":"IF(AND(H147=\"Y\",CSA!B$15=\"YES\"),IF(E147=\"\",\"***TRANSLATED TEXT MISSING***\",E147&IF(B147=\"\",G147&\" \",IF(OR(LEFT(B147,3)<>\"CSL\", AND(LEFT(B147,3)=\"CSL\",H$522=\"NO\")),\" [\"&B147&\"]\"&G147&\" \",G147&\" \"))),IF(E147=\"\",\"***TRANSLATED TEXT MISSING***\",E147&G147&\" \"))","v":"Dipping, immersion and pouring [CS4]. "},".","Y"]
[null,"CS5",null,"Equipment maintenance  ","Equipment maintenance  ",{"$f":"IF(AND(H148=\"Y\",CSA!B$15=\"YES\"),IF(E148=\"\",\"***TRANSLATED TEXT MISSING***\",E148&IF(B148=\"\",G148&\" \",IF(OR(LEFT(B148,3)<>\"CSL\", AND(LEFT(B148,3)=\"CSL\",H$522=\"NO\")),\" [\"&B148&\"]\"&G148&\" \",G148&\" \"))),IF(E148=\"\",\"***TRANSLATED TEXT MISSING***\",E148&G148&\" \"))","v":"Equipment maintenance   [CS5]. "},".","Y"]
[null,"CS6",null,"Drum and small package filling","Drum and small package filling",{"$f":"IF(AND(H149=\"Y\",CSA!B$15=\"YES\"),IF(E149=\"\",\"***TRANSLATED TEXT MISSING***\",E149&IF(B149=\"\",G149&\" \",IF(OR(LEFT(B149,3)<>\"CSL\", AND(LEFT(B149,3)=\"CSL\",H$522=\"NO\")),\" [\"&B149&\"]\"&G149&\" \",G149&\" \"))),IF(E149=\"\",\"***TRANSLATED TEXT MISSING***\",E149&G149&\" \"))","v":"Drum and small package filling [CS6]. "},".","Y"]
[null,"CS7",null,"Small package filling","Small package filling",{"$f":"IF(AND(H150=\"Y\",CSA!B$15=\"YES\"),IF(E150=\"\",\"***TRANSLATED TEXT MISSING***\",E150&IF(B150=\"\",G150&\" \",IF(OR(LEFT(B150,3)<>\"CSL\", AND(LEFT(B150,3)=\"CSL\",H$522=\"NO\")),\" [\"&B150&\"]\"&G150&\" \",G150&\" \"))),IF(E150=\"\",\"***TRANSLATED TEXT MISSING***\",E150&G150&\" \"))","v":"Small package filling [CS7]. "},".","Y"]
[null,"CS8",null,"Drum/batch transfers ","Drum/batch transfers ",{"$f":"IF(AND(H151=\"Y\",CSA!B$15=\"YES\"),IF(E151=\"\",\"***TRANSLATED TEXT MISSING***\",E151&IF(B151=\"\",G151&\" \",IF(OR(LEFT(B151,3)<>\"CSL\", AND(LEFT(B151,3)=\"CSL\",H$522=\"NO\")),\" [\"&B151&\"]\"&G151&\" \",G151&\" \"))),IF(E151=\"\",\"***TRANSLATED TEXT MISSING***\",E151&G151&\" \"))","v":"Drum/batch transfers  [CS8]. "},".","Y"]
[null,"CS9",null,"Pouring from small containers ","Pouring from small containers ",{"$f":"IF(AND(H152=\"Y\",CSA!B$15=\"YES\"),IF(E152=\"\",\"***TRANSLATED TEXT MISSING***\",E152&IF(B152=\"\",G152&\" \",IF(OR(LEFT(B152,3)<>\"CSL\", AND(LEFT(B152,3)=\"CSL\",H$522=\"NO\")),\" [\"&B152&\"]\"&G152&\" \",G152&\" \"))),IF(E152=\"\",\"***TRANSLATED TEXT MISSING***\",E152&G152&\" \"))","v":"Pouring from small containers  [CS9]. "},".","Y"]
[null,"CS10",null,"Spraying","Spraying",{"$f":"IF(AND(H153=\"Y\",CSA!B$15=\"YES\"),IF(E153=\"\",\"***TRANSLATED TEXT MISSING***\",E153&IF(B153=\"\",G153&\" \",IF(OR(LEFT(B153,3)<>\"CSL\", AND(LEFT(B153,3)=\"CSL\",H$522=\"NO\")),\" [\"&B153&\"]\"&G153&\" \",G153&\" \"))),IF(E153=\"\",\"***TRANSLATED TEXT MISSING***\",E153&G153&\" \"))","v":"Spraying [CS10]. "},".","Y"]
[null,"CS11",null,"Printing","Printing",{"$f":"IF(AND(H154=\"Y\",CSA!B$15=\"YES\"),IF(E154=\"\",\"***TRANSLATED TEXT MISSING***\",E154&IF(B154=\"\",G154&\" \",IF(OR(LEFT(B154,3)<>\"CSL\", AND(LEFT(B154,3)=\"CSL\",H$522=\"NO\")),\" [\"&B154&\"]\"&G154&\" \",G154&\" \"))),IF(E154=\"\",\"***TRANSLATED TEXT MISSING***\",E154&G154&\" \"))","v":"Printing [CS11]. "},".","Y"]
[null,"CS12",null,"Drying and storage ","Drying and storage ",{"$f":"IF(AND(H155=\"Y\",CSA!B$15=\"YES\"),IF(E155=\"\",\"***TRANSLATED TEXT MISSING***\",E155&IF(B155=\"\",G155&\" \",IF(OR(LEFT(B155,3)<>\"CSL\", AND(LEFT(B155,3)=\"CSL\",H$522=\"NO\")),\" [\"&B155&\"]\"&G155&\" \",G155&\" \"))),IF(E155=\"\",\"***TRANSLATED TEXT MISSING***\",E155&G155&\" \"))","v":"Drying and storage  [CS12]. "},".","Y"]
[null,"CS13",null,null,null,{"$f":"IF(AND(H156=\"Y\",CSA!B$15=\"YES\"),IF(E156=\"\",\"***TRANSLATED TEXT MISSING***\",E156&IF(B156=\"\",G156&\" \",IF(OR(LEFT(B156,3)<>\"CSL\", AND(LEFT(B156,3)=\"CSL\",H$522=\"NO\")),\" [\"&B156&\"]\"&G156&\" \",G156&\" \"))),IF(E156=\"\",\"***TRANSLATED TEXT MISSING***\",E156&G156&\" \"))","v":"***TRANSLATED TEXT MISSING***"},".","Y"]
[null,"CS14",null,"Bulk transfers","Bulk transfers",{"$f":"IF(AND(H157=\"Y\",CSA!B$15=\"YES\"),IF(E157=\"\",\"***TRANSLATED TEXT MISSING***\",E157&IF(B157=\"\",G157&\" \",IF(OR(LEFT(B157,3)<>\"CSL\", AND(LEFT(B157,3)=\"CSL\",H$522=\"NO\")),\" [\"&B157&\"]\"&G157&\" \",G157&\" \"))),IF(E157=\"\",\"***TRANSLATED TEXT MISSING***\",E157&G157&\" \"))","v":"Bulk transfers [CS14]. "},".","Y"]
[null,"CS15",null,"General exposures (closed systems) ","General exposures (closed systems) ",{"$f":"IF(AND(H158=\"Y\",CSA!B$15=\"YES\"),IF(E158=\"\",\"***TRANSLATED TEXT MISSING***\",E158&IF(B158=\"\",G158&\" \",IF(OR(LEFT(B158,3)<>\"CSL\", AND(LEFT(B158,3)=\"CSL\",H$522=\"NO\")),\" [\"&B158&\"]\"&G158&\" \",G158&\" \"))),IF(E158=\"\",\"***TRANSLATED TEXT MISSING***\",E158&G158&\" \"))","v":"General exposures (closed systems)  [CS15]. "},".","Y"]
[null,"CS16",null,"General exposures (open systems) ","General exposures (open systems) ",{"$f":"IF(AND(H159=\"Y\",CSA!B$15=\"YES\"),IF(E159=\"\",\"***TRANSLATED TEXT MISSING***\",E159&IF(B159=\"\",G159&\" \",IF(OR(LEFT(B159,3)<>\"CSL\", AND(LEFT(B159,3)=\"CSL\",H$522=\"NO\")),\" [\"&B159&\"]\"&G159&\" \",G159&\" \"))),IF(E159=\"\",\"***TRANSLATED TEXT MISSING***\",E159&G159&\" \"))","v":"General exposures (open systems)  [CS16]. "},".","Y"]
[null,"CS17",null,"Operation and lubrication of high energy open equipment","Operation and lubrication of high energy open equipment",{"$f":"IF(AND(H160=\"Y\",CSA!B$15=\"YES\"),IF(E160=\"\",\"***TRANSLATED TEXT MISSING***\",E160&IF(B160=\"\",G160&\" \",IF(OR(LEFT(B160,3)<>\"CSL\", AND(LEFT(B160,3)=\"CSL\",H$522=\"NO\")),\" [\"&B160&\"]\"&G160&\" \",G160&\" \"))),IF(E160=\"\",\"***TRANSLATED TEXT MISSING***\",E160&G160&\" \"))","v":"Operation and lubrication of high energy open equipment [CS17]. "},".","Y"]
[null,"CS18",null,"Maintenance of small items ","Maintenance of small items ",{"$f":"IF(AND(H161=\"Y\",CSA!B$15=\"YES\"),IF(E161=\"\",\"***TRANSLATED TEXT MISSING***\",E161&IF(B161=\"\",G161&\" \",IF(OR(LEFT(B161,3)<>\"CSL\", AND(LEFT(B161,3)=\"CSL\",H$522=\"NO\")),\" [\"&B161&\"]\"&G161&\" \",G161&\" \"))),IF(E161=\"\",\"***TRANSLATED TEXT MISSING***\",E161&G161&\" \"))","v":"Maintenance of small items  [CS18]. "},".","Y"]
[null,"CS19",null,"Remanufacture of reject articles","Remanufacture of reject articles",{"$f":"IF(AND(H162=\"Y\",CSA!B$15=\"YES\"),IF(E162=\"\",\"***TRANSLATED TEXT MISSING***\",E162&IF(B162=\"\",G162&\" \",IF(OR(LEFT(B162,3)<>\"CSL\", AND(LEFT(B162,3)=\"CSL\",H$522=\"NO\")),\" [\"&B162&\"]\"&G162&\" \",G162&\" \"))),IF(E162=\"\",\"***TRANSLATED TEXT MISSING***\",E162&G162&\" \"))","v":"Remanufacture of reject articles [CS19]. "},".","Y"]
[null,"CS20",null,"Engine lubricant service ","Engine lubricant service ",{"$f":"IF(AND(H163=\"Y\",CSA!B$15=\"YES\"),IF(E163=\"\",\"***TRANSLATED TEXT MISSING***\",E163&IF(B163=\"\",G163&\" \",IF(OR(LEFT(B163,3)<>\"CSL\", AND(LEFT(B163,3)=\"CSL\",H$522=\"NO\")),\" [\"&B163&\"]\"&G163&\" \",G163&\" \"))),IF(E163=\"\",\"***TRANSLATED TEXT MISSING***\",E163&G163&\" \"))","v":"Engine lubricant service  [CS20]. "},".","Y"]
[null,"CS21",null,"Operation of total loss equipment and systems","Operation of total loss equipment and systems",{"$f":"IF(AND(H164=\"Y\",CSA!B$15=\"YES\"),IF(E164=\"\",\"***TRANSLATED TEXT MISSING***\",E164&IF(B164=\"\",G164&\" \",IF(OR(LEFT(B164,3)<>\"CSL\", AND(LEFT(B164,3)=\"CSL\",H$522=\"NO\")),\" [\"&B164&\"]\"&G164&\" \",G164&\" \"))),IF(E164=\"\",\"***TRANSLATED TEXT MISSING***\",E164&G164&\" \"))","v":"Operation of total loss equipment and systems [CS21]. "},".","Y"]
[null,"CS22",null,"Transfer from/pouring from containers ","Transfer from/pouring from containers ",{"$f":"IF(AND(H165=\"Y\",CSA!B$15=\"YES\"),IF(E165=\"\",\"***TRANSLATED TEXT MISSING***\",E165&IF(B165=\"\",G165&\" \",IF(OR(LEFT(B165,3)<>\"CSL\", AND(LEFT(B165,3)=\"CSL\",H$522=\"NO\")),\" [\"&B165&\"]\"&G165&\" \",G165&\" \"))),IF(E165=\"\",\"***TRANSLATED TEXT MISSING***\",E165&G165&\" \"))","v":"Transfer from/pouring from containers  [CS22]. "},".","Y"]
[null,"CS23",null,null,null,{"$f":"IF(AND(H166=\"Y\",CSA!B$15=\"YES\"),IF(E166=\"\",\"***TRANSLATED TEXT MISSING***\",E166&IF(B166=\"\",G166&\" \",IF(OR(LEFT(B166,3)<>\"CSL\", AND(LEFT(B166,3)=\"CSL\",H$522=\"NO\")),\" [\"&B166&\"]\"&G166&\" \",G166&\" \"))),IF(E166=\"\",\"***TRANSLATED TEXT MISSING***\",E166&G166&\" \"))","v":"***TRANSLATED TEXT MISSING***"},".","Y"]
[null,"CS24",null,"Spraying/fogging by manual application  ","Spraying/fogging by manual application  ",{"$f":"IF(AND(H167=\"Y\",CSA!B$15=\"YES\"),IF(E167=\"\",\"***TRANSLATED TEXT MISSING***\",E167&IF(B167=\"\",G167&\" \",IF(OR(LEFT(B167,3)<>\"CSL\", AND(LEFT(B167,3)=\"CSL\",H$522=\"NO\")),\" [\"&B167&\"]\"&G167&\" \",G167&\" \"))),IF(E167=\"\",\"***TRANSLATED TEXT MISSING***\",E167&G167&\" \"))","v":"Spraying/fogging by manual application   [CS24]. "},".","Y"]
[null,"CS25",null,"Spraying/fogging by machine application","Spraying/fogging by machine application",{"$f":"IF(AND(H168=\"Y\",CSA!B$15=\"YES\"),IF(E168=\"\",\"***TRANSLATED TEXT MISSING***\",E168&IF(B168=\"\",G168&\" \",IF(OR(LEFT(B168,3)<>\"CSL\", AND(LEFT(B168,3)=\"CSL\",H$522=\"NO\")),\" [\"&B168&\"]\"&G168&\" \",G168&\" \"))),IF(E168=\"\",\"***TRANSLATED TEXT MISSING***\",E168&G168&\" \"))","v":"Spraying/fogging by machine application [CS25]. "},".","Y"]
[null,"CS26",null,"Operation of equipment containing engine oils and similar","Operation of equipment containing engine oils and similar",{"$f":"IF(AND(H169=\"Y\",CSA!B$15=\"YES\"),IF(E169=\"\",\"***TRANSLATED TEXT MISSING***\",E169&IF(B169=\"\",G169&\" \",IF(OR(LEFT(B169,3)<>\"CSL\", AND(LEFT(B169,3)=\"CSL\",H$522=\"NO\")),\" [\"&B169&\"]\"&G169&\" \",G169&\" \"))),IF(E169=\"\",\"***TRANSLATED TEXT MISSING***\",E169&G169&\" \"))","v":"Operation of equipment containing engine oils and similar [CS26]. "},".","Y"]
[null,"CS27",null,"Ad hoc manual application via trigger sprays, dipping, etc. ","Ad hoc manual application via trigger sprays, dipping, etc. ",{"$f":"IF(AND(H170=\"Y\",CSA!B$15=\"YES\"),IF(E170=\"\",\"***TRANSLATED TEXT MISSING***\",E170&IF(B170=\"\",G170&\" \",IF(OR(LEFT(B170,3)<>\"CSL\", AND(LEFT(B170,3)=\"CSL\",H$522=\"NO\")),\" [\"&B170&\"]\"&G170&\" \",G170&\" \"))),IF(E170=\"\",\"***TRANSLATED TEXT MISSING***\",E170&G170&\" \"))","v":"Ad hoc manual application via trigger sprays, dipping, etc.  [CS27]. "},".","Y"]
[null,"CS28",null,"Disposal of wastes ","Disposal of wastes ",{"$f":"IF(AND(H171=\"Y\",CSA!B$15=\"YES\"),IF(E171=\"\",\"***TRANSLATED TEXT MISSING***\",E171&IF(B171=\"\",G171&\" \",IF(OR(LEFT(B171,3)<>\"CSL\", AND(LEFT(B171,3)=\"CSL\",H$522=\"NO\")),\" [\"&B171&\"]\"&G171&\" \",G171&\" \"))),IF(E171=\"\",\"***TRANSLATED TEXT MISSING***\",E171&G171&\" \"))","v":"Disposal of wastes  [CS28]. "},".","Y"]
[null,"CS29",null,"Mixing operations (closed systems)","Mixing operations (closed systems)",{"$f":"IF(AND(H172=\"Y\",CSA!B$15=\"YES\"),IF(E172=\"\",\"***TRANSLATED TEXT MISSING***\",E172&IF(B172=\"\",G172&\" \",IF(OR(LEFT(B172,3)<>\"CSL\", AND(LEFT(B172,3)=\"CSL\",H$522=\"NO\")),\" [\"&B172&\"]\"&G172&\" \",G172&\" \"))),IF(E172=\"\",\"***TRANSLATED TEXT MISSING***\",E172&G172&\" \"))","v":"Mixing operations (closed systems) [CS29]. "},".","Y"]
[null,"CS30",null,"Mixing operations (open systems)","Mixing operations (open systems)",{"$f":"IF(AND(H173=\"Y\",CSA!B$15=\"YES\"),IF(E173=\"\",\"***TRANSLATED TEXT MISSING***\",E173&IF(B173=\"\",G173&\" \",IF(OR(LEFT(B173,3)<>\"CSL\", AND(LEFT(B173,3)=\"CSL\",H$522=\"NO\")),\" [\"&B173&\"]\"&G173&\" \",G173&\" \"))),IF(E173=\"\",\"***TRANSLATED TEXT MISSING***\",E173&G173&\" \"))","v":"Mixing operations (open systems) [CS30]. "},".","Y"]
[null,"CS31",null,"Mold forming","Mold forming",{"$f":"IF(AND(H174=\"Y\",CSA!B$15=\"YES\"),IF(E174=\"\",\"***TRANSLATED TEXT MISSING***\",E174&IF(B174=\"\",G174&\" \",IF(OR(LEFT(B174,3)<>\"CSL\", AND(LEFT(B174,3)=\"CSL\",H$522=\"NO\")),\" [\"&B174&\"]\"&G174&\" \",G174&\" \"))),IF(E174=\"\",\"***TRANSLATED TEXT MISSING***\",E174&G174&\" \"))","v":"Mold forming [CS31]. "},".","Y"]
[null,"CS32",null,"Casting operations","Casting operations",{"$f":"IF(AND(H175=\"Y\",CSA!B$15=\"YES\"),IF(E175=\"\",\"***TRANSLATED TEXT MISSING***\",E175&IF(B175=\"\",G175&\" \",IF(OR(LEFT(B175,3)<>\"CSL\", AND(LEFT(B175,3)=\"CSL\",H$522=\"NO\")),\" [\"&B175&\"]\"&G175&\" \",G175&\" \"))),IF(E175=\"\",\"***TRANSLATED TEXT MISSING***\",E175&G175&\" \"))","v":"Casting operations [CS32]. "},".","Y"]
[null,"CS33",null,"Machine","Machine",{"$f":"IF(AND(H176=\"Y\",CSA!B$15=\"YES\"),IF(E176=\"\",\"***TRANSLATED TEXT MISSING***\",E176&IF(B176=\"\",G176&\" \",IF(OR(LEFT(B176,3)<>\"CSL\", AND(LEFT(B176,3)=\"CSL\",H$522=\"NO\")),\" [\"&B176&\"]\"&G176&\" \",G176&\" \"))),IF(E176=\"\",\"***TRANSLATED TEXT MISSING***\",E176&G176&\" \"))","v":"Machine [CS33]. "},".","Y"]
[null,"CS34",null,"Manual","Manual",{"$f":"IF(AND(H177=\"Y\",CSA!B$15=\"YES\"),IF(E177=\"\",\"***TRANSLATED TEXT MISSING***\",E177&IF(B177=\"\",G177&\" \",IF(OR(LEFT(B177,3)<>\"CSL\", AND(LEFT(B177,3)=\"CSL\",H$522=\"NO\")),\" [\"&B177&\"]\"&G177&\" \",G177&\" \"))),IF(E177=\"\",\"***TRANSLATED TEXT MISSING***\",E177&G177&\" \"))","v":"Manual [CS34]. "},".","Y"]
[null,"CS35",null,"Treatment by dipping and pouring","Treatment by dipping and pouring",{"$f":"IF(AND(H178=\"Y\",CSA!B$15=\"YES\"),IF(E178=\"\",\"***TRANSLATED TEXT MISSING***\",E178&IF(B178=\"\",G178&\" \",IF(OR(LEFT(B178,3)<>\"CSL\", AND(LEFT(B178,3)=\"CSL\",H$522=\"NO\")),\" [\"&B178&\"]\"&G178&\" \",G178&\" \"))),IF(E178=\"\",\"***TRANSLATED TEXT MISSING***\",E178&G178&\" \"))","v":"Treatment by dipping and pouring [CS35]. "},".","Y"]
[null,"CS36",null,"Laboratory activities ","Laboratory activities ",{"$f":"IF(AND(H179=\"Y\",CSA!B$15=\"YES\"),IF(E179=\"\",\"***TRANSLATED TEXT MISSING***\",E179&IF(B179=\"\",G179&\" \",IF(OR(LEFT(B179,3)<>\"CSL\", AND(LEFT(B179,3)=\"CSL\",H$522=\"NO\")),\" [\"&B179&\"]\"&G179&\" \",G179&\" \"))),IF(E179=\"\",\"***TRANSLATED TEXT MISSING***\",E179&G179&\" \"))","v":"Laboratory activities  [CS36]. "},".","Y"]
[null,"CS37",null,"Use in contained batch processes ","Use in contained batch processes ",{"$f":"IF(AND(H180=\"Y\",CSA!B$15=\"YES\"),IF(E180=\"\",\"***TRANSLATED TEXT MISSING***\",E180&IF(B180=\"\",G180&\" \",IF(OR(LEFT(B180,3)<>\"CSL\", AND(LEFT(B180,3)=\"CSL\",H$522=\"NO\")),\" [\"&B180&\"]\"&G180&\" \",G180&\" \"))),IF(E180=\"\",\"***TRANSLATED TEXT MISSING***\",E180&G180&\" \"))","v":"Use in contained batch processes  [CS37]. "},".","Y"]
[null,"CS38",null,"Use in contained systems","Use in contained systems",{"$f":"IF(AND(H181=\"Y\",CSA!B$15=\"YES\"),IF(E181=\"\",\"***TRANSLATED TEXT MISSING***\",E181&IF(B181=\"\",G181&\" \",IF(OR(LEFT(B181,3)<>\"CSL\", AND(LEFT(B181,3)=\"CSL\",H$522=\"NO\")),\" [\"&B181&\"]\"&G181&\" \",G181&\" \"))),IF(E181=\"\",\"***TRANSLATED TEXT MISSING***\",E181&G181&\" \"))","v":"Use in contained systems [CS38]. "},".","Y"]
[null,"CS39",null,"Equipment cleaning and maintenance","Equipment cleaning and maintenance",{"$f":"IF(AND(H182=\"Y\",CSA!B$15=\"YES\"),IF(E182=\"\",\"***TRANSLATED TEXT MISSING***\",E182&IF(B182=\"\",G182&\" \",IF(OR(LEFT(B182,3)<>\"CSL\", AND(LEFT(B182,3)=\"CSL\",H$522=\"NO\")),\" [\"&B182&\"]\"&G182&\" \",G182&\" \"))),IF(E182=\"\",\"***TRANSLATED TEXT MISSING***\",E182&G182&\" \"))","v":"Equipment cleaning and maintenance [CS39]. "},".","Y"]
[null,"CS40",null,"Vapour degreasing bath","Vapour degreasing bath",{"$f":"IF(AND(H183=\"Y\",CSA!B$15=\"YES\"),IF(E183=\"\",\"***TRANSLATED TEXT MISSING***\",E183&IF(B183=\"\",G183&\" \",IF(OR(LEFT(B183,3)<>\"CSL\", AND(LEFT(B183,3)=\"CSL\",H$522=\"NO\")),\" [\"&B183&\"]\"&G183&\" \",G183&\" \"))),IF(E183=\"\",\"***TRANSLATED TEXT MISSING***\",E183&G183&\" \"))","v":"Vapour degreasing bath [CS40]. "},".","Y"]
[null,"CS41",null,"Degreasing small objects in cleaning station","Degreasing small objects in cleaning station",{"$f":"IF(AND(H184=\"Y\",CSA!B$15=\"YES\"),IF(E184=\"\",\"***TRANSLATED TEXT MISSING***\",E184&IF(B184=\"\",G184&\" \",IF(OR(LEFT(B184,3)<>\"CSL\", AND(LEFT(B184,3)=\"CSL\",H$522=\"NO\")),\" [\"&B184&\"]\"&G184&\" \",G184&\" \"))),IF(E184=\"\",\"***TRANSLATED TEXT MISSING***\",E184&G184&\" \"))","v":"Degreasing small objects in cleaning station [CS41]. "},".","Y"]
[null,"CS42",null,"Cleaning with low-pressure washers","Cleaning with low-pressure washers",{"$f":"IF(AND(H185=\"Y\",CSA!B$15=\"YES\"),IF(E185=\"\",\"***TRANSLATED TEXT MISSING***\",E185&IF(B185=\"\",G185&\" \",IF(OR(LEFT(B185,3)<>\"CSL\", AND(LEFT(B185,3)=\"CSL\",H$522=\"NO\")),\" [\"&B185&\"]\"&G185&\" \",G185&\" \"))),IF(E185=\"\",\"***TRANSLATED TEXT MISSING***\",E185&G185&\" \"))","v":"Cleaning with low-pressure washers [CS42]. "},".","Y"]
[null,"CS43",null,"On site","On site",{"$f":"IF(AND(H186=\"Y\",CSA!B$15=\"YES\"),IF(E186=\"\",\"***TRANSLATED TEXT MISSING***\",E186&IF(B186=\"\",G186&\" \",IF(OR(LEFT(B186,3)<>\"CSL\", AND(LEFT(B186,3)=\"CSL\",H$522=\"NO\")),\" [\"&B186&\"]\"&G186&\" \",G186&\" \"))),IF(E186=\"\",\"***TRANSLATED TEXT MISSING***\",E186&G186&\" \"))","v":"On site [CS43]. "},".","Y"]
[null,"CS44",null,"Cleaning with high pressure washers ","Cleaning with high pressure washers ",{"$f":"IF(AND(H187=\"Y\",CSA!B$15=\"YES\"),IF(E187=\"\",\"***TRANSLATED TEXT MISSING***\",E187&IF(B187=\"\",G187&\" \",IF(OR(LEFT(B187,3)<>\"CSL\", AND(LEFT(B187,3)=\"CSL\",H$522=\"NO\")),\" [\"&B187&\"]\"&G187&\" \",G187&\" \"))),IF(E187=\"\",\"***TRANSLATED TEXT MISSING***\",E187&G187&\" \"))","v":"Cleaning with high pressure washers  [CS44]. "},".","Y"]
[null,"CS45",null,"Filling / preparation of equipment from drums or containers.","Filling / preparation of equipment from drums or containers.",{"$f":"IF(AND(H188=\"Y\",CSA!B$15=\"YES\"),IF(E188=\"\",\"***TRANSLATED TEXT MISSING***\",E188&IF(B188=\"\",G188&\" \",IF(OR(LEFT(B188,3)<>\"CSL\", AND(LEFT(B188,3)=\"CSL\",H$522=\"NO\")),\" [\"&B188&\"]\"&G188&\" \",G188&\" \"))),IF(E188=\"\",\"***TRANSLATED TEXT MISSING***\",E188&G188&\" \"))","v":"Filling / preparation of equipment from drums or containers. [CS45]. "},".","Y"]
[null,"CS46",null,"Large surfaces","Large surfaces",{"$f":"IF(AND(H189=\"Y\",CSA!B$15=\"YES\"),IF(E189=\"\",\"***TRANSLATED TEXT MISSING***\",E189&IF(B189=\"\",G189&\" \",IF(OR(LEFT(B189,3)<>\"CSL\", AND(LEFT(B189,3)=\"CSL\",H$522=\"NO\")),\" [\"&B189&\"]\"&G189&\" \",G189&\" \"))),IF(E189=\"\",\"***TRANSLATED TEXT MISSING***\",E189&G189&\" \"))","v":"Large surfaces [CS46]. "},".","Y"]
[null,"CS47",null,"Cleaning","Cleaning",{"$f":"IF(AND(H190=\"Y\",CSA!B$15=\"YES\"),IF(E190=\"\",\"***TRANSLATED TEXT MISSING***\",E190&IF(B190=\"\",G190&\" \",IF(OR(LEFT(B190,3)<>\"CSL\", AND(LEFT(B190,3)=\"CSL\",H$522=\"NO\")),\" [\"&B190&\"]\"&G190&\" \",G190&\" \"))),IF(E190=\"\",\"***TRANSLATED TEXT MISSING***\",E190&G190&\" \"))","v":"Cleaning [CS47]. "},".","Y"]
[null,"CS48",null,"Surfaces","Surfaces",{"$f":"IF(AND(H191=\"Y\",CSA!B$15=\"YES\"),IF(E191=\"\",\"***TRANSLATED TEXT MISSING***\",E191&IF(B191=\"\",G191&\" \",IF(OR(LEFT(B191,3)<>\"CSL\", AND(LEFT(B191,3)=\"CSL\",H$522=\"NO\")),\" [\"&B191&\"]\"&G191&\" \",G191&\" \"))),IF(E191=\"\",\"***TRANSLATED TEXT MISSING***\",E191&G191&\" \"))","v":"Surfaces [CS48]. "},".","Y"]
[null,"CS49",null,"Spray Bottle","Spray Bottle",{"$f":"IF(AND(H192=\"Y\",CSA!B$15=\"YES\"),IF(E192=\"\",\"***TRANSLATED TEXT MISSING***\",E192&IF(B192=\"\",G192&\" \",IF(OR(LEFT(B192,3)<>\"CSL\", AND(LEFT(B192,3)=\"CSL\",H$522=\"NO\")),\" [\"&B192&\"]\"&G192&\" \",G192&\" \"))),IF(E192=\"\",\"***TRANSLATED TEXT MISSING***\",E192&G192&\" \"))","v":"Spray Bottle [CS49]. "},".","Y"]
[null,"CS50",null,"Wiping","Wiping",{"$f":"IF(AND(H193=\"Y\",CSA!B$15=\"YES\"),IF(E193=\"\",\"***TRANSLATED TEXT MISSING***\",E193&IF(B193=\"\",G193&\" \",IF(OR(LEFT(B193,3)<>\"CSL\", AND(LEFT(B193,3)=\"CSL\",H$522=\"NO\")),\" [\"&B193&\"]\"&G193&\" \",G193&\" \"))),IF(E193=\"\",\"***TRANSLATED TEXT MISSING***\",E193&G193&\" \"))","v":"Wiping [CS50]. "},".","Y"]
[null,"CS51",null,"Rolling, Brushing","Rolling, Brushing",{"$f":"IF(AND(H194=\"Y\",CSA!B$15=\"YES\"),IF(E194=\"\",\"***TRANSLATED TEXT MISSING***\",E194&IF(B194=\"\",G194&\" \",IF(OR(LEFT(B194,3)<>\"CSL\", AND(LEFT(B194,3)=\"CSL\",H$522=\"NO\")),\" [\"&B194&\"]\"&G194&\" \",G194&\" \"))),IF(E194=\"\",\"***TRANSLATED TEXT MISSING***\",E194&G194&\" \"))","v":"Rolling, Brushing [CS51]. "},".","Y"]
[null,"CS52",null,"Manual spot cleaning (e.g. textiles etc)","Manual spot cleaning (e.g. textiles etc)",{"$f":"IF(AND(H195=\"Y\",CSA!B$15=\"YES\"),IF(E195=\"\",\"***TRANSLATED TEXT MISSING***\",E195&IF(B195=\"\",G195&\" \",IF(OR(LEFT(B195,3)<>\"CSL\", AND(LEFT(B195,3)=\"CSL\",H$522=\"NO\")),\" [\"&B195&\"]\"&G195&\" \",G195&\" \"))),IF(E195=\"\",\"***TRANSLATED TEXT MISSING***\",E195&G195&\" \"))","v":"Manual spot cleaning (e.g. textiles etc) [CS52]. "},".","Y"]
[null,"CS53",null,"Pelletizing","Pelletizing",{"$f":"IF(AND(H196=\"Y\",CSA!B$15=\"YES\"),IF(E196=\"\",\"***TRANSLATED TEXT MISSING***\",E196&IF(B196=\"\",G196&\" \",IF(OR(LEFT(B196,3)<>\"CSL\", AND(LEFT(B196,3)=\"CSL\",H$522=\"NO\")),\" [\"&B196&\"]\"&G196&\" \",G196&\" \"))),IF(E196=\"\",\"***TRANSLATED TEXT MISSING***\",E196&G196&\" \"))","v":"Pelletizing [CS53]. "},".","Y"]
[null,"CS54",null,"Continuous process","Continuous process",{"$f":"IF(AND(H197=\"Y\",CSA!B$15=\"YES\"),IF(E197=\"\",\"***TRANSLATED TEXT MISSING***\",E197&IF(B197=\"\",G197&\" \",IF(OR(LEFT(B197,3)<>\"CSL\", AND(LEFT(B197,3)=\"CSL\",H$522=\"NO\")),\" [\"&B197&\"]\"&G197&\" \",G197&\" \"))),IF(E197=\"\",\"***TRANSLATED TEXT MISSING***\",E197&G197&\" \"))","v":"Continuous process [CS54]. "},".","Y"]
[null,"CS55",null,"Batch process","Batch process",{"$f":"IF(AND(H198=\"Y\",CSA!B$15=\"YES\"),IF(E198=\"\",\"***TRANSLATED TEXT MISSING***\",E198&IF(B198=\"\",G198&\" \",IF(OR(LEFT(B198,3)<>\"CSL\", AND(LEFT(B198,3)=\"CSL\",H$522=\"NO\")),\" [\"&B198&\"]\"&G198&\" \",G198&\" \"))),IF(E198=\"\",\"***TRANSLATED TEXT MISSING***\",E198&G198&\" \"))","v":"Batch process [CS55]. "},".","Y"]
[null,"CS56",null,"with sample collection","with sample collection",{"$f":"IF(AND(H199=\"Y\",CSA!B$15=\"YES\"),IF(E199=\"\",\"***TRANSLATED TEXT MISSING***\",E199&IF(B199=\"\",G199&\" \",IF(OR(LEFT(B199,3)<>\"CSL\", AND(LEFT(B199,3)=\"CSL\",H$522=\"NO\")),\" [\"&B199&\"]\"&G199&\" \",G199&\" \"))),IF(E199=\"\",\"***TRANSLATED TEXT MISSING***\",E199&G199&\" \"))","v":"with sample collection [CS56]. "},".","Y"]
[null,"CS57",null,"no sampling","no sampling",{"$f":"IF(AND(H200=\"Y\",CSA!B$15=\"YES\"),IF(E200=\"\",\"***TRANSLATED TEXT MISSING***\",E200&IF(B200=\"\",G200&\" \",IF(OR(LEFT(B200,3)<>\"CSL\", AND(LEFT(B200,3)=\"CSL\",H$522=\"NO\")),\" [\"&B200&\"]\"&G200&\" \",G200&\" \"))),IF(E200=\"\",\"***TRANSLATED TEXT MISSING***\",E200&G200&\" \"))","v":"no sampling [CS57]. "},".","Y"]
[null,"CS58",null,"transport","transport",{"$f":"IF(AND(H201=\"Y\",CSA!B$15=\"YES\"),IF(E201=\"\",\"***TRANSLATED TEXT MISSING***\",E201&IF(B201=\"\",G201&\" \",IF(OR(LEFT(B201,3)<>\"CSL\", AND(LEFT(B201,3)=\"CSL\",H$522=\"NO\")),\" [\"&B201&\"]\"&G201&\" \",G201&\" \"))),IF(E201=\"\",\"***TRANSLATED TEXT MISSING***\",E201&G201&\" \"))","v":"transport [CS58]. "},".","Y"]
[null,"CS59",null,"internal","internal",{"$f":"IF(AND(H202=\"Y\",CSA!B$15=\"YES\"),IF(E202=\"\",\"***TRANSLATED TEXT MISSING***\",E202&IF(B202=\"\",G202&\" \",IF(OR(LEFT(B202,3)<>\"CSL\", AND(LEFT(B202,3)=\"CSL\",H$522=\"NO\")),\" [\"&B202&\"]\"&G202&\" \",G202&\" \"))),IF(E202=\"\",\"***TRANSLATED TEXT MISSING***\",E202&G202&\" \"))","v":"internal [CS59]. "},".","Y"]
[null,"CS60",null,"no spraying","no spraying",{"$f":"IF(AND(H203=\"Y\",CSA!B$15=\"YES\"),IF(E203=\"\",\"***TRANSLATED TEXT MISSING***\",E203&IF(B203=\"\",G203&\" \",IF(OR(LEFT(B203,3)<>\"CSL\", AND(LEFT(B203,3)=\"CSL\",H$522=\"NO\")),\" [\"&B203&\"]\"&G203&\" \",G203&\" \"))),IF(E203=\"\",\"***TRANSLATED TEXT MISSING***\",E203&G203&\" \"))","v":"no spraying [CS60]. "},".","Y"]
[null,"CS61",null,"small scale ","small scale ",{"$f":"IF(AND(H204=\"Y\",CSA!B$15=\"YES\"),IF(E204=\"\",\"***TRANSLATED TEXT MISSING***\",E204&IF(B204=\"\",G204&\" \",IF(OR(LEFT(B204,3)<>\"CSL\", AND(LEFT(B204,3)=\"CSL\",H$522=\"NO\")),\" [\"&B204&\"]\"&G204&\" \",G204&\" \"))),IF(E204=\"\",\"***TRANSLATED TEXT MISSING***\",E204&G204&\" \"))","v":"small scale  [CS61]. "},".","Y"]
[null,"CS62",null,"heating oil and diesel deliveries ","heating oil and diesel deliveries ",{"$f":"IF(AND(H205=\"Y\",CSA!B$15=\"YES\"),IF(E205=\"\",\"***TRANSLATED TEXT MISSING***\",E205&IF(B205=\"\",G205&\" \",IF(OR(LEFT(B205,3)<>\"CSL\", AND(LEFT(B205,3)=\"CSL\",H$522=\"NO\")),\" [\"&B205&\"]\"&G205&\" \",G205&\" \"))),IF(E205=\"\",\"***TRANSLATED TEXT MISSING***\",E205&G205&\" \"))","v":"heating oil and diesel deliveries  [CS62]. "},".","Y"]
[null,"CS63",null,"vessel / container","vessel / container",{"$f":"IF(AND(H206=\"Y\",CSA!B$15=\"YES\"),IF(E206=\"\",\"***TRANSLATED TEXT MISSING***\",E206&IF(B206=\"\",G206&\" \",IF(OR(LEFT(B206,3)<>\"CSL\", AND(LEFT(B206,3)=\"CSL\",H$522=\"NO\")),\" [\"&B206&\"]\"&G206&\" \",G206&\" \"))),IF(E206=\"\",\"***TRANSLATED TEXT MISSING***\",E206&G206&\" \"))","v":"vessel / container [CS63]. "},".","Y"]
[null,"CS64",null,"Calendering (including Banburys)","Calendering (including Banburys)",{"$f":"IF(AND(H207=\"Y\",CSA!B$15=\"YES\"),IF(E207=\"\",\"***TRANSLATED TEXT MISSING***\",E207&IF(B207=\"\",G207&\" \",IF(OR(LEFT(B207,3)<>\"CSL\", AND(LEFT(B207,3)=\"CSL\",H$522=\"NO\")),\" [\"&B207&\"]\"&G207&\" \",G207&\" \"))),IF(E207=\"\",\"***TRANSLATED TEXT MISSING***\",E207&G207&\" \"))","v":"Calendering (including Banburys) [CS64]. "},".","Y"]
[null,"CS65",null,"Polymerisation (bulk and batch) ","Polymerisation (bulk and batch) ",{"$f":"IF(AND(H208=\"Y\",CSA!B$15=\"YES\"),IF(E208=\"\",\"***TRANSLATED TEXT MISSING***\",E208&IF(B208=\"\",G208&\" \",IF(OR(LEFT(B208,3)<>\"CSL\", AND(LEFT(B208,3)=\"CSL\",H$522=\"NO\")),\" [\"&B208&\"]\"&G208&\" \",G208&\" \"))),IF(E208=\"\",\"***TRANSLATED TEXT MISSING***\",E208&G208&\" \"))","v":"Polymerisation (bulk and batch)  [CS65]. "},".","Y"]
[null,"CS66",null,"Intermediate polymer storage ","Intermediate polymer storage ",{"$f":"IF(AND(H209=\"Y\",CSA!B$15=\"YES\"),IF(E209=\"\",\"***TRANSLATED TEXT MISSING***\",E209&IF(B209=\"\",G209&\" \",IF(OR(LEFT(B209,3)<>\"CSL\", AND(LEFT(B209,3)=\"CSL\",H$522=\"NO\")),\" [\"&B209&\"]\"&G209&\" \",G209&\" \"))),IF(E209=\"\",\"***TRANSLATED TEXT MISSING***\",E209&G209&\" \"))","v":"Intermediate polymer storage  [CS66]. "},".","Y"]
[null,"CS67",null,"Storage","Storage",{"$f":"IF(AND(H210=\"Y\",CSA!B$15=\"YES\"),IF(E210=\"\",\"***TRANSLATED TEXT MISSING***\",E210&IF(B210=\"\",G210&\" \",IF(OR(LEFT(B210,3)<>\"CSL\", AND(LEFT(B210,3)=\"CSL\",H$522=\"NO\")),\" [\"&B210&\"]\"&G210&\" \",G210&\" \"))),IF(E210=\"\",\"***TRANSLATED TEXT MISSING***\",E210&G210&\" \"))","v":"Storage [CS67]. "},".","Y"]
[null,"CS68",null,"Pelletisation and pellet screening","Pelletisation and pellet screening",{"$f":"IF(AND(H211=\"Y\",CSA!B$15=\"YES\"),IF(E211=\"\",\"***TRANSLATED TEXT MISSING***\",E211&IF(B211=\"\",G211&\" \",IF(OR(LEFT(B211,3)<>\"CSL\", AND(LEFT(B211,3)=\"CSL\",H$522=\"NO\")),\" [\"&B211&\"]\"&G211&\" \",G211&\" \"))),IF(E211=\"\",\"***TRANSLATED TEXT MISSING***\",E211&G211&\" \"))","v":"Pelletisation and pellet screening [CS68]. "},".","Y"]
[null,"CS69",null,"Additivation and stabilisation","Additivation and stabilisation",{"$f":"IF(AND(H212=\"Y\",CSA!B$15=\"YES\"),IF(E212=\"\",\"***TRANSLATED TEXT MISSING***\",E212&IF(B212=\"\",G212&\" \",IF(OR(LEFT(B212,3)<>\"CSL\", AND(LEFT(B212,3)=\"CSL\",H$522=\"NO\")),\" [\"&B212&\"]\"&G212&\" \",G212&\" \"))),IF(E212=\"\",\"***TRANSLATED TEXT MISSING***\",E212&G212&\" \"))","v":"Additivation and stabilisation [CS69]. "},".","Y"]
[null,"CS70",null,"Vulcanisation ","Vulcanisation ",{"$f":"IF(AND(H213=\"Y\",CSA!B$15=\"YES\"),IF(E213=\"\",\"***TRANSLATED TEXT MISSING***\",E213&IF(B213=\"\",G213&\" \",IF(OR(LEFT(B213,3)<>\"CSL\", AND(LEFT(B213,3)=\"CSL\",H$522=\"NO\")),\" [\"&B213&\"]\"&G213&\" \",G213&\" \"))),IF(E213=\"\",\"***TRANSLATED TEXT MISSING***\",E213&G213&\" \"))","v":"Vulcanisation  [CS70]. "},".","Y"]
[null,"CS71",null,"Cooling cured articles","Cooling cured articles",{"$f":"IF(AND(H214=\"Y\",CSA!B$15=\"YES\"),IF(E214=\"\",\"***TRANSLATED TEXT MISSING***\",E214&IF(B214=\"\",G214&\" \",IF(OR(LEFT(B214,3)<>\"CSL\", AND(LEFT(B214,3)=\"CSL\",H$522=\"NO\")),\" [\"&B214&\"]\"&G214&\" \",G214&\" \"))),IF(E214=\"\",\"***TRANSLATED TEXT MISSING***\",E214&G214&\" \"))","v":"Cooling cured articles [CS71]. "},".","Y"]
[null,"CS72",null,"Hand application - fingerpaints, pastels, adhesives","Hand application - fingerpaints, pastels, adhesives",{"$f":"IF(AND(H215=\"Y\",CSA!B$15=\"YES\"),IF(E215=\"\",\"***TRANSLATED TEXT MISSING***\",E215&IF(B215=\"\",G215&\" \",IF(OR(LEFT(B215,3)<>\"CSL\", AND(LEFT(B215,3)=\"CSL\",H$522=\"NO\")),\" [\"&B215&\"]\"&G215&\" \",G215&\" \"))),IF(E215=\"\",\"***TRANSLATED TEXT MISSING***\",E215&G215&\" \"))","v":"Hand application - fingerpaints, pastels, adhesives [CS72]. "},".","Y"]
[null,"CS73",null,"Pressing uncured rubber blanks","Pressing uncured rubber blanks",{"$f":"IF(AND(H216=\"Y\",CSA!B$15=\"YES\"),IF(E216=\"\",\"***TRANSLATED TEXT MISSING***\",E216&IF(B216=\"\",G216&\" \",IF(OR(LEFT(B216,3)<>\"CSL\", AND(LEFT(B216,3)=\"CSL\",H$522=\"NO\")),\" [\"&B216&\"]\"&G216&\" \",G216&\" \"))),IF(E216=\"\",\"***TRANSLATED TEXT MISSING***\",E216&G216&\" \"))","v":"Pressing uncured rubber blanks [CS73]. "},".","Y"]
[null,"CS74",null,"Cleaning of medical devices","Cleaning of medical devices",{"$f":"IF(AND(H217=\"Y\",CSA!B$15=\"YES\"),IF(E217=\"\",\"***TRANSLATED TEXT MISSING***\",E217&IF(B217=\"\",G217&\" \",IF(OR(LEFT(B217,3)<>\"CSL\", AND(LEFT(B217,3)=\"CSL\",H$522=\"NO\")),\" [\"&B217&\"]\"&G217&\" \",G217&\" \"))),IF(E217=\"\",\"***TRANSLATED TEXT MISSING***\",E217&G217&\" \"))","v":"Cleaning of medical devices [CS74]. "},".","Y"]
[null,"CS75",null,"Initial factory fill of equipment","Initial factory fill of equipment",{"$f":"IF(AND(H218=\"Y\",CSA!B$15=\"YES\"),IF(E218=\"\",\"***TRANSLATED TEXT MISSING***\",E218&IF(B218=\"\",G218&\" \",IF(OR(LEFT(B218,3)<>\"CSL\", AND(LEFT(B218,3)=\"CSL\",H$522=\"NO\")),\" [\"&B218&\"]\"&G218&\" \",G218&\" \"))),IF(E218=\"\",\"***TRANSLATED TEXT MISSING***\",E218&G218&\" \"))","v":"Initial factory fill of equipment [CS75]. "},".","Y"]
[null,"CS76",null,"Semi Automated process. (e.g.: Semi automatic application of floor care and maintenance products) ","Semi Automated process. (e.g.: Semi automatic application of floor care and maintenance products) ",{"$f":"IF(AND(H219=\"Y\",CSA!B$15=\"YES\"),IF(E219=\"\",\"***TRANSLATED TEXT MISSING***\",E219&IF(B219=\"\",G219&\" \",IF(OR(LEFT(B219,3)<>\"CSL\", AND(LEFT(B219,3)=\"CSL\",H$522=\"NO\")),\" [\"&B219&\"]\"&G219&\" \",G219&\" \"))),IF(E219=\"\",\"***TRANSLATED TEXT MISSING***\",E219&G219&\" \"))","v":"Semi Automated process. (e.g.: Semi automatic application of floor care and maintenance products)  [CS76]. "},".","Y"]
[null,"CS77",null,"Maintenance (of larger plant items)  and machine set up ","Maintenance (of larger plant items)  and machine set up ",{"$f":"IF(AND(H220=\"Y\",CSA!B$15=\"YES\"),IF(E220=\"\",\"***TRANSLATED TEXT MISSING***\",E220&IF(B220=\"\",G220&\" \",IF(OR(LEFT(B220,3)<>\"CSL\", AND(LEFT(B220,3)=\"CSL\",H$522=\"NO\")),\" [\"&B220&\"]\"&G220&\" \",G220&\" \"))),IF(E220=\"\",\"***TRANSLATED TEXT MISSING***\",E220&G220&\" \"))","v":"Maintenance (of larger plant items)  and machine set up  [CS77]. "},".","Y"]
[null,"CS78",null,"Engine lubricant service","Engine lubricant service",{"$f":"IF(AND(H221=\"Y\",CSA!B$15=\"YES\"),IF(E221=\"\",\"***TRANSLATED TEXT MISSING***\",E221&IF(B221=\"\",G221&\" \",IF(OR(LEFT(B221,3)<>\"CSL\", AND(LEFT(B221,3)=\"CSL\",H$522=\"NO\")),\" [\"&B221&\"]\"&G221&\" \",G221&\" \"))),IF(E221=\"\",\"***TRANSLATED TEXT MISSING***\",E221&G221&\" \"))","v":"Engine lubricant service [CS78]. "},".","Y"]
[null,"CS79",null,"Metal machining operations","Metal machining operations",{"$f":"IF(AND(H222=\"Y\",CSA!B$15=\"YES\"),IF(E222=\"\",\"***TRANSLATED TEXT MISSING***\",E222&IF(B222=\"\",G222&\" \",IF(OR(LEFT(B222,3)<>\"CSL\", AND(LEFT(B222,3)=\"CSL\",H$522=\"NO\")),\" [\"&B222&\"]\"&G222&\" \",G222&\" \"))),IF(E222=\"\",\"***TRANSLATED TEXT MISSING***\",E222&G222&\" \"))","v":"Metal machining operations [CS79]. "},".","Y"]
[null,"CS80",null,"Automated metal rolling/forming","Automated metal rolling/forming",{"$f":"IF(AND(H223=\"Y\",CSA!B$15=\"YES\"),IF(E223=\"\",\"***TRANSLATED TEXT MISSING***\",E223&IF(B223=\"\",G223&\" \",IF(OR(LEFT(B223,3)<>\"CSL\", AND(LEFT(B223,3)=\"CSL\",H$522=\"NO\")),\" [\"&B223&\"]\"&G223&\" \",G223&\" \"))),IF(E223=\"\",\"***TRANSLATED TEXT MISSING***\",E223&G223&\" \"))","v":"Automated metal rolling/forming [CS80]. "},".","Y"]
[null,"CS81",null,"Dedicated facility","Dedicated facility",{"$f":"IF(AND(H224=\"Y\",CSA!B$15=\"YES\"),IF(E224=\"\",\"***TRANSLATED TEXT MISSING***\",E224&IF(B224=\"\",G224&\" \",IF(OR(LEFT(B224,3)<>\"CSL\", AND(LEFT(B224,3)=\"CSL\",H$522=\"NO\")),\" [\"&B224&\"]\"&G224&\" \",G224&\" \"))),IF(E224=\"\",\"***TRANSLATED TEXT MISSING***\",E224&G224&\" \"))","v":"Dedicated facility [CS81]. "},".","Y"]
[null,"CS82",null,"Non-dedicated facility","Non-dedicated facility",{"$f":"IF(AND(H225=\"Y\",CSA!B$15=\"YES\"),IF(E225=\"\",\"***TRANSLATED TEXT MISSING***\",E225&IF(B225=\"\",G225&\" \",IF(OR(LEFT(B225,3)<>\"CSL\", AND(LEFT(B225,3)=\"CSL\",H$522=\"NO\")),\" [\"&B225&\"]\"&G225&\" \",G225&\" \"))),IF(E225=\"\",\"***TRANSLATED TEXT MISSING***\",E225&G225&\" \"))","v":"Non-dedicated facility [CS82]. "},".","Y"]
[null,"CS83",null,"Semi-automated metal rolling/forming","Semi-automated metal rolling/forming",{"$f":"IF(AND(H226=\"Y\",CSA!B$15=\"YES\"),IF(E226=\"\",\"***TRANSLATED TEXT MISSING***\",E226&IF(B226=\"\",G226&\" \",IF(OR(LEFT(B226,3)<>\"CSL\", AND(LEFT(B226,3)=\"CSL\",H$522=\"NO\")),\" [\"&B226&\"]\"&G226&\" \",G226&\" \"))),IF(E226=\"\",\"***TRANSLATED TEXT MISSING***\",E226&G226&\" \"))","v":"Semi-automated metal rolling/forming [CS83]. "},".","Y"]
[null,"CS84",null,"Filling of articles/equipment","Filling of articles/equipment",{"$f":"IF(AND(H227=\"Y\",CSA!B$15=\"YES\"),IF(E227=\"\",\"***TRANSLATED TEXT MISSING***\",E227&IF(B227=\"\",G227&\" \",IF(OR(LEFT(B227,3)<>\"CSL\", AND(LEFT(B227,3)=\"CSL\",H$522=\"NO\")),\" [\"&B227&\"]\"&G227&\" \",G227&\" \"))),IF(E227=\"\",\"***TRANSLATED TEXT MISSING***\",E227&G227&\" \"))","v":"Filling of articles/equipment [CS84]. "},".","Y"]
[null,"CS85",null,"Bulk product storage","Bulk product storage",{"$f":"IF(AND(H228=\"Y\",CSA!B$15=\"YES\"),IF(E228=\"\",\"***TRANSLATED TEXT MISSING***\",E228&IF(B228=\"\",G228&\" \",IF(OR(LEFT(B228,3)<>\"CSL\", AND(LEFT(B228,3)=\"CSL\",H$522=\"NO\")),\" [\"&B228&\"]\"&G228&\" \",G228&\" \"))),IF(E228=\"\",\"***TRANSLATED TEXT MISSING***\",E228&G228&\" \"))","v":"Bulk product storage [CS85]. "},".","Y"]
[null,"CS86",null,"Rework of articles","Rework of articles",{"$f":"IF(AND(H229=\"Y\",CSA!B$15=\"YES\"),IF(E229=\"\",\"***TRANSLATED TEXT MISSING***\",E229&IF(B229=\"\",G229&\" \",IF(OR(LEFT(B229,3)<>\"CSL\", AND(LEFT(B229,3)=\"CSL\",H$522=\"NO\")),\" [\"&B229&\"]\"&G229&\" \",G229&\" \"))),IF(E229=\"\",\"***TRANSLATED TEXT MISSING***\",E229&G229&\" \"))","v":"Rework of articles [CS86]. "},".","Y"]
[null,"CS87",null,"Polyol processes","Polyol processes",{"$f":"IF(AND(H230=\"Y\",CSA!B$15=\"YES\"),IF(E230=\"\",\"***TRANSLATED TEXT MISSING***\",E230&IF(B230=\"\",G230&\" \",IF(OR(LEFT(B230,3)<>\"CSL\", AND(LEFT(B230,3)=\"CSL\",H$522=\"NO\")),\" [\"&B230&\"]\"&G230&\" \",G230&\" \"))),IF(E230=\"\",\"***TRANSLATED TEXT MISSING***\",E230&G230&\" \"))","v":"Polyol processes [CS87]. "},".","Y"]
[null,"CS88",null,"Extrusion and masterbatching","Extrusion and masterbatching",{"$f":"IF(AND(H231=\"Y\",CSA!B$15=\"YES\"),IF(E231=\"\",\"***TRANSLATED TEXT MISSING***\",E231&IF(B231=\"\",G231&\" \",IF(OR(LEFT(B231,3)<>\"CSL\", AND(LEFT(B231,3)=\"CSL\",H$522=\"NO\")),\" [\"&B231&\"]\"&G231&\" \",G231&\" \"))),IF(E231=\"\",\"***TRANSLATED TEXT MISSING***\",E231&G231&\" \"))","v":"Extrusion and masterbatching [CS88]. "},".","Y"]
[null,"CS89",null,"Injection moulding of articles","Injection moulding of articles",{"$f":"IF(AND(H232=\"Y\",CSA!B$15=\"YES\"),IF(E232=\"\",\"***TRANSLATED TEXT MISSING***\",E232&IF(B232=\"\",G232&\" \",IF(OR(LEFT(B232,3)<>\"CSL\", AND(LEFT(B232,3)=\"CSL\",H$522=\"NO\")),\" [\"&B232&\"]\"&G232&\" \",G232&\" \"))),IF(E232=\"\",\"***TRANSLATED TEXT MISSING***\",E232&G232&\" \"))","v":"Injection moulding of articles [CS89]. "},".","Y"]
[null,"CS90",null,"Small scale weighing","Small scale weighing",{"$f":"IF(AND(H233=\"Y\",CSA!B$15=\"YES\"),IF(E233=\"\",\"***TRANSLATED TEXT MISSING***\",E233&IF(B233=\"\",G233&\" \",IF(OR(LEFT(B233,3)<>\"CSL\", AND(LEFT(B233,3)=\"CSL\",H$522=\"NO\")),\" [\"&B233&\"]\"&G233&\" \",G233&\" \"))),IF(E233=\"\",\"***TRANSLATED TEXT MISSING***\",E233&G233&\" \"))","v":"Small scale weighing [CS90]. "},".","Y"]
[null,"CS91",null,"Bulk weighing","Bulk weighing",{"$f":"IF(AND(H234=\"Y\",CSA!B$15=\"YES\"),IF(E234=\"\",\"***TRANSLATED TEXT MISSING***\",E234&IF(B234=\"\",G234&\" \",IF(OR(LEFT(B234,3)<>\"CSL\", AND(LEFT(B234,3)=\"CSL\",H$522=\"NO\")),\" [\"&B234&\"]\"&G234&\" \",G234&\" \"))),IF(E234=\"\",\"***TRANSLATED TEXT MISSING***\",E234&G234&\" \"))","v":"Bulk weighing [CS91]. "},".","Y"]
[null,"CS92",null,"Additive premixing","Additive premixing",{"$f":"IF(AND(H235=\"Y\",CSA!B$15=\"YES\"),IF(E235=\"\",\"***TRANSLATED TEXT MISSING***\",E235&IF(B235=\"\",G235&\" \",IF(OR(LEFT(B235,3)<>\"CSL\", AND(LEFT(B235,3)=\"CSL\",H$522=\"NO\")),\" [\"&B235&\"]\"&G235&\" \",G235&\" \"))),IF(E235=\"\",\"***TRANSLATED TEXT MISSING***\",E235&G235&\" \"))","v":"Additive premixing [CS92]. "},".","Y"]
[null,"CS93",null,"Automated process with (semi) closed systems.","Automated process with (semi) closed systems.",{"$f":"IF(AND(H236=\"Y\",CSA!B$15=\"YES\"),IF(E236=\"\",\"***TRANSLATED TEXT MISSING***\",E236&IF(B236=\"\",G236&\" \",IF(OR(LEFT(B236,3)<>\"CSL\", AND(LEFT(B236,3)=\"CSL\",H$522=\"NO\")),\" [\"&B236&\"]\"&G236&\" \",G236&\" \"))),IF(E236=\"\",\"***TRANSLATED TEXT MISSING***\",E236&G236&\" \"))","v":"Automated process with (semi) closed systems. [CS93]. "},".","Y"]
[null,"CS94",null,"Film formation - force drying (50 - 100°C). Stoving (>100°C). UV/EB radiation curing","Film formation - force drying (50 - 100°C). Stoving (>100°C). UV/EB radiation curing",{"$f":"IF(AND(H237=\"Y\",CSA!B$15=\"YES\"),IF(E237=\"\",\"***TRANSLATED TEXT MISSING***\",E237&IF(B237=\"\",G237&\" \",IF(OR(LEFT(B237,3)<>\"CSL\", AND(LEFT(B237,3)=\"CSL\",H$522=\"NO\")),\" [\"&B237&\"]\"&G237&\" \",G237&\" \"))),IF(E237=\"\",\"***TRANSLATED TEXT MISSING***\",E237&G237&\" \"))","v":"Film formation - force drying (50 - 100°C). Stoving (>100°C). UV/EB radiation curing [CS94]. "},".","Y"]
[null,"CS95",null,"Film formation - air drying","Film formation - air drying",{"$f":"IF(AND(H238=\"Y\",CSA!B$15=\"YES\"),IF(E238=\"\",\"***TRANSLATED TEXT MISSING***\",E238&IF(B238=\"\",G238&\" \",IF(OR(LEFT(B238,3)<>\"CSL\", AND(LEFT(B238,3)=\"CSL\",H$522=\"NO\")),\" [\"&B238&\"]\"&G238&\" \",G238&\" \"))),IF(E238=\"\",\"***TRANSLATED TEXT MISSING***\",E238&G238&\" \"))","v":"Film formation - air drying [CS95]. "},".","Y"]
[null,"CS96",null,"Preparation of material for application","Preparation of material for application",{"$f":"IF(AND(H239=\"Y\",CSA!B$15=\"YES\"),IF(E239=\"\",\"***TRANSLATED TEXT MISSING***\",E239&IF(B239=\"\",G239&\" \",IF(OR(LEFT(B239,3)<>\"CSL\", AND(LEFT(B239,3)=\"CSL\",H$522=\"NO\")),\" [\"&B239&\"]\"&G239&\" \",G239&\" \"))),IF(E239=\"\",\"***TRANSLATED TEXT MISSING***\",E239&G239&\" \"))","v":"Preparation of material for application [CS96]. "},".","Y"]
[null,"CS97",null,"Spraying (automatic/robotic)","Spraying (automatic/robotic)",{"$f":"IF(AND(H240=\"Y\",CSA!B$15=\"YES\"),IF(E240=\"\",\"***TRANSLATED TEXT MISSING***\",E240&IF(B240=\"\",G240&\" \",IF(OR(LEFT(B240,3)<>\"CSL\", AND(LEFT(B240,3)=\"CSL\",H$522=\"NO\")),\" [\"&B240&\"]\"&G240&\" \",G240&\" \"))),IF(E240=\"\",\"***TRANSLATED TEXT MISSING***\",E240&G240&\" \"))","v":"Spraying (automatic/robotic) [CS97]. "},".","Y"]
[null,"CS98",null,"Roller, spreader, flow application","Roller, spreader, flow application",{"$f":"IF(AND(H241=\"Y\",CSA!B$15=\"YES\"),IF(E241=\"\",\"***TRANSLATED TEXT MISSING***\",E241&IF(B241=\"\",G241&\" \",IF(OR(LEFT(B241,3)<>\"CSL\", AND(LEFT(B241,3)=\"CSL\",H$522=\"NO\")),\" [\"&B241&\"]\"&G241&\" \",G241&\" \"))),IF(E241=\"\",\"***TRANSLATED TEXT MISSING***\",E241&G241&\" \"))","v":"Roller, spreader, flow application [CS98]. "},".","Y"]
[null,"CS99",null,"Film formation - force drying, stoving and other technologies","Film formation - force drying, stoving and other technologies",{"$f":"IF(AND(H242=\"Y\",CSA!B$15=\"YES\"),IF(E242=\"\",\"***TRANSLATED TEXT MISSING***\",E242&IF(B242=\"\",G242&\" \",IF(OR(LEFT(B242,3)<>\"CSL\", AND(LEFT(B242,3)=\"CSL\",H$522=\"NO\")),\" [\"&B242&\"]\"&G242&\" \",G242&\" \"))),IF(E242=\"\",\"***TRANSLATED TEXT MISSING***\",E242&G242&\" \"))","v":"Film formation - force drying, stoving and other technologies [CS99]. "},".","Y"]
[null,"CS100",null,"Production or preparation of articles by tabletting, compression, extrusion or pelletisation","Production or preparation of articles by tabletting, compression, extrusion or pelletisation",{"$f":"IF(AND(H243=\"Y\",CSA!B$15=\"YES\"),IF(E243=\"\",\"***TRANSLATED TEXT MISSING***\",E243&IF(B243=\"\",G243&\" \",IF(OR(LEFT(B243,3)<>\"CSL\", AND(LEFT(B243,3)=\"CSL\",H$522=\"NO\")),\" [\"&B243&\"]\"&G243&\" \",G243&\" \"))),IF(E243=\"\",\"***TRANSLATED TEXT MISSING***\",E243&G243&\" \"))","v":"Production or preparation of articles by tabletting, compression, extrusion or pelletisation [CS100]. "},".","Y"]
[null,"CS101",null,"Application of cleaning products in closed systems ","Application of cleaning products in closed systems ",{"$f":"IF(AND(H244=\"Y\",CSA!B$15=\"YES\"),IF(E244=\"\",\"***TRANSLATED TEXT MISSING***\",E244&IF(B244=\"\",G244&\" \",IF(OR(LEFT(B244,3)<>\"CSL\", AND(LEFT(B244,3)=\"CSL\",H$522=\"NO\")),\" [\"&B244&\"]\"&G244&\" \",G244&\" \"))),IF(E244=\"\",\"***TRANSLATED TEXT MISSING***\",E244&G244&\" \"))","v":"Application of cleaning products in closed systems  [CS101]. "},".","Y"]
[null,"CS102",null,"Finishing operations","Finishing operations",{"$f":"IF(AND(H245=\"Y\",CSA!B$15=\"YES\"),IF(E245=\"\",\"***TRANSLATED TEXT MISSING***\",E245&IF(B245=\"\",G245&\" \",IF(OR(LEFT(B245,3)<>\"CSL\", AND(LEFT(B245,3)=\"CSL\",H$522=\"NO\")),\" [\"&B245&\"]\"&G245&\" \",G245&\" \"))),IF(E245=\"\",\"***TRANSLATED TEXT MISSING***\",E245&G245&\" \"))","v":"Finishing operations [CS102]. "},".","Y"]
[null,"CS103",null,"Vessel and container cleaning","Vessel and container cleaning",{"$f":"IF(AND(H246=\"Y\",CSA!B$15=\"YES\"),IF(E246=\"\",\"***TRANSLATED TEXT MISSING***\",E246&IF(B246=\"\",G246&\" \",IF(OR(LEFT(B246,3)<>\"CSL\", AND(LEFT(B246,3)=\"CSL\",H$522=\"NO\")),\" [\"&B246&\"]\"&G246&\" \",G246&\" \"))),IF(E246=\"\",\"***TRANSLATED TEXT MISSING***\",E246&G246&\" \"))","v":"Vessel and container cleaning [CS103]. "},".","Y"]
[null,"CS104",null,"Maintenance and machine set up","Maintenance and machine set up",{"$f":"IF(AND(H247=\"Y\",CSA!B$15=\"YES\"),IF(E247=\"\",\"***TRANSLATED TEXT MISSING***\",E247&IF(B247=\"\",G247&\" \",IF(OR(LEFT(B247,3)<>\"CSL\", AND(LEFT(B247,3)=\"CSL\",H$522=\"NO\")),\" [\"&B247&\"]\"&G247&\" \",G247&\" \"))),IF(E247=\"\",\"***TRANSLATED TEXT MISSING***\",E247&G247&\" \"))","v":"Maintenance and machine set up [CS104]. "},".","Y"]
[null,"CS105",null,"ion exchange processes","ion exchange processes",{"$f":"IF(AND(H248=\"Y\",CSA!B$15=\"YES\"),IF(E248=\"\",\"***TRANSLATED TEXT MISSING***\",E248&IF(B248=\"\",G248&\" \",IF(OR(LEFT(B248,3)<>\"CSL\", AND(LEFT(B248,3)=\"CSL\",H$522=\"NO\")),\" [\"&B248&\"]\"&G248&\" \",G248&\" \"))),IF(E248=\"\",\"***TRANSLATED TEXT MISSING***\",E248&G248&\" \"))","v":"ion exchange processes [CS105]. "},".","Y"]
[null,"CS106",null,"phase separation","phase separation",{"$f":"IF(AND(H249=\"Y\",CSA!B$15=\"YES\"),IF(E249=\"\",\"***TRANSLATED TEXT MISSING***\",E249&IF(B249=\"\",G249&\" \",IF(OR(LEFT(B249,3)<>\"CSL\", AND(LEFT(B249,3)=\"CSL\",H$522=\"NO\")),\" [\"&B249&\"]\"&G249&\" \",G249&\" \"))),IF(E249=\"\",\"***TRANSLATED TEXT MISSING***\",E249&G249&\" \"))","v":"phase separation [CS106]. "},".","Y"]
[null,"CS107",null,"(closed systems)","(closed systems)",{"$f":"IF(AND(H250=\"Y\",CSA!B$15=\"YES\"),IF(E250=\"\",\"***TRANSLATED TEXT MISSING***\",E250&IF(B250=\"\",G250&\" \",IF(OR(LEFT(B250,3)<>\"CSL\", AND(LEFT(B250,3)=\"CSL\",H$522=\"NO\")),\" [\"&B250&\"]\"&G250&\" \",G250&\" \"))),IF(E250=\"\",\"***TRANSLATED TEXT MISSING***\",E250&G250&\" \"))","v":"(closed systems) [CS107]. "},".","Y"]
[null,"CS108",null,"(open systems)","(open systems)",{"$f":"IF(AND(H251=\"Y\",CSA!B$15=\"YES\"),IF(E251=\"\",\"***TRANSLATED TEXT MISSING***\",E251&IF(B251=\"\",G251&\" \",IF(OR(LEFT(B251,3)<>\"CSL\", AND(LEFT(B251,3)=\"CSL\",H$522=\"NO\")),\" [\"&B251&\"]\"&G251&\" \",G251&\" \"))),IF(E251=\"\",\"***TRANSLATED TEXT MISSING***\",E251&G251&\" \"))","v":"(open systems) [CS108]. "},".","Y"]
[null,"CS109",null,"with local exhaust ventilation","with local exhaust ventilation",{"$f":"IF(AND(H252=\"Y\",CSA!B$15=\"YES\"),IF(E252=\"\",\"***TRANSLATED TEXT MISSING***\",E252&IF(B252=\"\",G252&\" \",IF(OR(LEFT(B252,3)<>\"CSL\", AND(LEFT(B252,3)=\"CSL\",H$522=\"NO\")),\" [\"&B252&\"]\"&G252&\" \",G252&\" \"))),IF(E252=\"\",\"***TRANSLATED TEXT MISSING***\",E252&G252&\" \"))","v":"with local exhaust ventilation [CS109]. "},".","Y"]
[null,"CS110",null,"without local exhaust ventilation","without local exhaust ventilation",{"$f":"IF(AND(H253=\"Y\",CSA!B$15=\"YES\"),IF(E253=\"\",\"***TRANSLATED TEXT MISSING***\",E253&IF(B253=\"\",G253&\" \",IF(OR(LEFT(B253,3)<>\"CSL\", AND(LEFT(B253,3)=\"CSL\",H$522=\"NO\")),\" [\"&B253&\"]\"&G253&\" \",G253&\" \"))),IF(E253=\"\",\"***TRANSLATED TEXT MISSING***\",E253&G253&\" \"))","v":"without local exhaust ventilation [CS110]. "},".","Y"]
[null,"CS111",null,"elevated temperature","elevated temperature",{"$f":"IF(AND(H254=\"Y\",CSA!B$15=\"YES\"),IF(E254=\"\",\"***TRANSLATED TEXT MISSING***\",E254&IF(B254=\"\",G254&\" \",IF(OR(LEFT(B254,3)<>\"CSL\", AND(LEFT(B254,3)=\"CSL\",H$522=\"NO\")),\" [\"&B254&\"]\"&G254&\" \",G254&\" \"))),IF(E254=\"\",\"***TRANSLATED TEXT MISSING***\",E254&G254&\" \"))","v":"elevated temperature [CS111]. "},".","Y"]
[null,"CS112",null,"Tyre build up","Tyre build up",{"$f":"IF(AND(H255=\"Y\",CSA!B$15=\"YES\"),IF(E255=\"\",\"***TRANSLATED TEXT MISSING***\",E255&IF(B255=\"\",G255&\" \",IF(OR(LEFT(B255,3)<>\"CSL\", AND(LEFT(B255,3)=\"CSL\",H$522=\"NO\")),\" [\"&B255&\"]\"&G255&\" \",G255&\" \"))),IF(E255=\"\",\"***TRANSLATED TEXT MISSING***\",E255&G255&\" \"))","v":"Tyre build up [CS112]. "},".","Y"]
[null,"CS113",null,"Production of articles by dipping and pouring","Production of articles by dipping and pouring",{"$f":"IF(AND(H256=\"Y\",CSA!B$15=\"YES\"),IF(E256=\"\",\"***TRANSLATED TEXT MISSING***\",E256&IF(B256=\"\",G256&\" \",IF(OR(LEFT(B256,3)<>\"CSL\", AND(LEFT(B256,3)=\"CSL\",H$522=\"NO\")),\" [\"&B256&\"]\"&G256&\" \",G256&\" \"))),IF(E256=\"\",\"***TRANSLATED TEXT MISSING***\",E256&G256&\" \"))","v":"Production of articles by dipping and pouring [CS113]. "},".","Y"]
[null,"CS114",null,"Bulk transfers from tote tanks and supply vessels","Bulk transfers from tote tanks and supply vessels",{"$f":"IF(AND(H257=\"Y\",CSA!B$15=\"YES\"),IF(E257=\"\",\"***TRANSLATED TEXT MISSING***\",E257&IF(B257=\"\",G257&\" \",IF(OR(LEFT(B257,3)<>\"CSL\", AND(LEFT(B257,3)=\"CSL\",H$522=\"NO\")),\" [\"&B257&\"]\"&G257&\" \",G257&\" \"))),IF(E257=\"\",\"***TRANSLATED TEXT MISSING***\",E257&G257&\" \"))","v":"Bulk transfers from tote tanks and supply vessels [CS114]. "},".","Y"]
[null,"CS115",null,"Drilling mud (re-)formulation","Drilling mud (re-)formulation",{"$f":"IF(AND(H258=\"Y\",CSA!B$15=\"YES\"),IF(E258=\"\",\"***TRANSLATED TEXT MISSING***\",E258&IF(B258=\"\",G258&\" \",IF(OR(LEFT(B258,3)<>\"CSL\", AND(LEFT(B258,3)=\"CSL\",H$522=\"NO\")),\" [\"&B258&\"]\"&G258&\" \",G258&\" \"))),IF(E258=\"\",\"***TRANSLATED TEXT MISSING***\",E258&G258&\" \"))","v":"Drilling mud (re-)formulation [CS115]. "},".","Y"]
[null,"CS116",null,"Drill floor operations","Drill floor operations",{"$f":"IF(AND(H259=\"Y\",CSA!B$15=\"YES\"),IF(E259=\"\",\"***TRANSLATED TEXT MISSING***\",E259&IF(B259=\"\",G259&\" \",IF(OR(LEFT(B259,3)<>\"CSL\", AND(LEFT(B259,3)=\"CSL\",H$522=\"NO\")),\" [\"&B259&\"]\"&G259&\" \",G259&\" \"))),IF(E259=\"\",\"***TRANSLATED TEXT MISSING***\",E259&G259&\" \"))","v":"Drill floor operations [CS116]. "},".","Y"]
[null,"CS117",null,"Operation of solids filtering equipment","Operation of solids filtering equipment",{"$f":"IF(AND(H260=\"Y\",CSA!B$15=\"YES\"),IF(E260=\"\",\"***TRANSLATED TEXT MISSING***\",E260&IF(B260=\"\",G260&\" \",IF(OR(LEFT(B260,3)<>\"CSL\", AND(LEFT(B260,3)=\"CSL\",H$522=\"NO\")),\" [\"&B260&\"]\"&G260&\" \",G260&\" \"))),IF(E260=\"\",\"***TRANSLATED TEXT MISSING***\",E260&G260&\" \"))","v":"Operation of solids filtering equipment [CS117]. "},".","Y"]
[null,"CS118",null,"Operation of solids filtering equipment - vapour exposures","Operation of solids filtering equipment - vapour exposures",{"$f":"IF(AND(H261=\"Y\",CSA!B$15=\"YES\"),IF(E261=\"\",\"***TRANSLATED TEXT MISSING***\",E261&IF(B261=\"\",G261&\" \",IF(OR(LEFT(B261,3)<>\"CSL\", AND(LEFT(B261,3)=\"CSL\",H$522=\"NO\")),\" [\"&B261&\"]\"&G261&\" \",G261&\" \"))),IF(E261=\"\",\"***TRANSLATED TEXT MISSING***\",E261&G261&\" \"))","v":"Operation of solids filtering equipment - vapour exposures [CS118]. "},".","Y"]
[null,"CS119",null,"Operation of solids filtering equipment - aerosol exposures","Operation of solids filtering equipment - aerosol exposures",{"$f":"IF(AND(H262=\"Y\",CSA!B$15=\"YES\"),IF(E262=\"\",\"***TRANSLATED TEXT MISSING***\",E262&IF(B262=\"\",G262&\" \",IF(OR(LEFT(B262,3)<>\"CSL\", AND(LEFT(B262,3)=\"CSL\",H$522=\"NO\")),\" [\"&B262&\"]\"&G262&\" \",G262&\" \"))),IF(E262=\"\",\"***TRANSLATED TEXT MISSING***\",E262&G262&\" \"))","v":"Operation of solids filtering equipment - aerosol exposures [CS119]. "},".","Y"]
[null,"CS120",null,"Cleaning of solids filtering equipment","Cleaning of solids filtering equipment",{"$f":"IF(AND(H263=\"Y\",CSA!B$15=\"YES\"),IF(E263=\"\",\"***TRANSLATED TEXT MISSING***\",E263&IF(B263=\"\",G263&\" \",IF(OR(LEFT(B263,3)<>\"CSL\", AND(LEFT(B263,3)=\"CSL\",H$522=\"NO\")),\" [\"&B263&\"]\"&G263&\" \",G263&\" \"))),IF(E263=\"\",\"***TRANSLATED TEXT MISSING***\",E263&G263&\" \"))","v":"Cleaning of solids filtering equipment [CS120]. "},".","Y"]
[null,"CS121",null,"Treatment and disposal of filtered solids","Treatment and disposal of filtered solids",{"$f":"IF(AND(H264=\"Y\",CSA!B$15=\"YES\"),IF(E264=\"\",\"***TRANSLATED TEXT MISSING***\",E264&IF(B264=\"\",G264&\" \",IF(OR(LEFT(B264,3)<>\"CSL\", AND(LEFT(B264,3)=\"CSL\",H$522=\"NO\")),\" [\"&B264&\"]\"&G264&\" \",G264&\" \"))),IF(E264=\"\",\"***TRANSLATED TEXT MISSING***\",E264&G264&\" \"))","v":"Treatment and disposal of filtered solids [CS121]. "},".","Y"]
[null,"CS122",null,"Extrusion and expansion of polymer mass","Extrusion and expansion of polymer mass",{"$f":"IF(AND(H265=\"Y\",CSA!B$15=\"YES\"),IF(E265=\"\",\"***TRANSLATED TEXT MISSING***\",E265&IF(B265=\"\",G265&\" \",IF(OR(LEFT(B265,3)<>\"CSL\", AND(LEFT(B265,3)=\"CSL\",H$522=\"NO\")),\" [\"&B265&\"]\"&G265&\" \",G265&\" \"))),IF(E265=\"\",\"***TRANSLATED TEXT MISSING***\",E265&G265&\" \"))","v":"Extrusion and expansion of polymer mass [CS122]. "},".","Y"]
[null,"CS123",null,"Collection and re-processing of shavings, cuttings, etc","Collection and re-processing of shavings, cuttings, etc",{"$f":"IF(AND(H266=\"Y\",CSA!B$15=\"YES\"),IF(E266=\"\",\"***TRANSLATED TEXT MISSING***\",E266&IF(B266=\"\",G266&\" \",IF(OR(LEFT(B266,3)<>\"CSL\", AND(LEFT(B266,3)=\"CSL\",H$522=\"NO\")),\" [\"&B266&\"]\"&G266&\" \",G266&\" \"))),IF(E266=\"\",\"***TRANSLATED TEXT MISSING***\",E266&G266&\" \"))","v":"Collection and re-processing of shavings, cuttings, etc [CS123]. "},".","Y"]
[null,"CS124",null,"Product packaging","Product packaging",{"$f":"IF(AND(H267=\"Y\",CSA!B$15=\"YES\"),IF(E267=\"\",\"***TRANSLATED TEXT MISSING***\",E267&IF(B267=\"\",G267&\" \",IF(OR(LEFT(B267,3)<>\"CSL\", AND(LEFT(B267,3)=\"CSL\",H$522=\"NO\")),\" [\"&B267&\"]\"&G267&\" \",G267&\" \"))),IF(E267=\"\",\"***TRANSLATED TEXT MISSING***\",E267&G267&\" \"))","v":"Product packaging [CS124]. "},".","Y"]
[null,"CS125",null,"Production of foam-based objects","Production of foam-based objects",{"$f":"IF(AND(H268=\"Y\",CSA!B$15=\"YES\"),IF(E268=\"\",\"***TRANSLATED TEXT MISSING***\",E268&IF(B268=\"\",G268&\" \",IF(OR(LEFT(B268,3)<>\"CSL\", AND(LEFT(B268,3)=\"CSL\",H$522=\"NO\")),\" [\"&B268&\"]\"&G268&\" \",G268&\" \"))),IF(E268=\"\",\"***TRANSLATED TEXT MISSING***\",E268&G268&\" \"))","v":"Production of foam-based objects [CS125]. "},".","Y"]
[null,"CS126",null,"Installation of insulation panels","Installation of insulation panels",{"$f":"IF(AND(H269=\"Y\",CSA!B$15=\"YES\"),IF(E269=\"\",\"***TRANSLATED TEXT MISSING***\",E269&IF(B269=\"\",G269&\" \",IF(OR(LEFT(B269,3)<>\"CSL\", AND(LEFT(B269,3)=\"CSL\",H$522=\"NO\")),\" [\"&B269&\"]\"&G269&\" \",G269&\" \"))),IF(E269=\"\",\"***TRANSLATED TEXT MISSING***\",E269&G269&\" \"))","v":"Installation of insulation panels [CS126]. "},".","Y"]
[null,"CS127",null,"Centrifuging including discharging","Centrifuging including discharging",{"$f":"IF(AND(H270=\"Y\",CSA!B$15=\"YES\"),IF(E270=\"\",\"***TRANSLATED TEXT MISSING***\",E270&IF(B270=\"\",G270&\" \",IF(OR(LEFT(B270,3)<>\"CSL\", AND(LEFT(B270,3)=\"CSL\",H$522=\"NO\")),\" [\"&B270&\"]\"&G270&\" \",G270&\" \"))),IF(E270=\"\",\"***TRANSLATED TEXT MISSING***\",E270&G270&\" \"))","v":"Centrifuging including discharging [CS127]. "},".","Y"]
[null,"CS128",null,"Semi-bulk packaging","Semi-bulk packaging",{"$f":"IF(AND(H271=\"Y\",CSA!B$15=\"YES\"),IF(E271=\"\",\"***TRANSLATED TEXT MISSING***\",E271&IF(B271=\"\",G271&\" \",IF(OR(LEFT(B271,3)<>\"CSL\", AND(LEFT(B271,3)=\"CSL\",H$522=\"NO\")),\" [\"&B271&\"]\"&G271&\" \",G271&\" \"))),IF(E271=\"\",\"***TRANSLATED TEXT MISSING***\",E271&G271&\" \"))","v":"Semi-bulk packaging [CS128]. "},".","Y"]
[null,"CS129",null,"Treatment by heating","Treatment by heating",{"$f":"IF(AND(H272=\"Y\",CSA!B$15=\"YES\"),IF(E272=\"\",\"***TRANSLATED TEXT MISSING***\",E272&IF(B272=\"\",G272&\" \",IF(OR(LEFT(B272,3)<>\"CSL\", AND(LEFT(B272,3)=\"CSL\",H$522=\"NO\")),\" [\"&B272&\"]\"&G272&\" \",G272&\" \"))),IF(E272=\"\",\"***TRANSLATED TEXT MISSING***\",E272&G272&\" \"))","v":"Treatment by heating [CS129]. "},".","Y"]
[null,"CS130",null,"Article formation in mould ","Article formation in mould ",{"$f":"IF(AND(H273=\"Y\",CSA!B$15=\"YES\"),IF(E273=\"\",\"***TRANSLATED TEXT MISSING***\",E273&IF(B273=\"\",G273&\" \",IF(OR(LEFT(B273,3)<>\"CSL\", AND(LEFT(B273,3)=\"CSL\",H$522=\"NO\")),\" [\"&B273&\"]\"&G273&\" \",G273&\" \"))),IF(E273=\"\",\"***TRANSLATED TEXT MISSING***\",E273&G273&\" \"))","v":"Article formation in mould  [CS130]. "},".","Y"]
[null,"CS131",null,"Cutting by heated wire","Cutting by heated wire",{"$f":"IF(AND(H274=\"Y\",CSA!B$15=\"YES\"),IF(E274=\"\",\"***TRANSLATED TEXT MISSING***\",E274&IF(B274=\"\",G274&\" \",IF(OR(LEFT(B274,3)<>\"CSL\", AND(LEFT(B274,3)=\"CSL\",H$522=\"NO\")),\" [\"&B274&\"]\"&G274&\" \",G274&\" \"))),IF(E274=\"\",\"***TRANSLATED TEXT MISSING***\",E274&G274&\" \"))","v":"Cutting by heated wire [CS131]. "},".","Y"]
[null,"CS132",null,"Foaming","Foaming",{"$f":"IF(AND(H275=\"Y\",CSA!B$15=\"YES\"),IF(E275=\"\",\"***TRANSLATED TEXT MISSING***\",E275&IF(B275=\"\",G275&\" \",IF(OR(LEFT(B275,3)<>\"CSL\", AND(LEFT(B275,3)=\"CSL\",H$522=\"NO\")),\" [\"&B275&\"]\"&G275&\" \",G275&\" \"))),IF(E275=\"\",\"***TRANSLATED TEXT MISSING***\",E275&G275&\" \"))","v":"Foaming [CS132]. "},".","Y"]
[null,"CS133",null,"Compression","Compression",{"$f":"IF(AND(H276=\"Y\",CSA!B$15=\"YES\"),IF(E276=\"\",\"***TRANSLATED TEXT MISSING***\",E276&IF(B276=\"\",G276&\" \",IF(OR(LEFT(B276,3)<>\"CSL\", AND(LEFT(B276,3)=\"CSL\",H$522=\"NO\")),\" [\"&B276&\"]\"&G276&\" \",G276&\" \"))),IF(E276=\"\",\"***TRANSLATED TEXT MISSING***\",E276&G276&\" \"))","v":"Compression [CS133]. "},".","Y"]
[null,"CS134",null,"Cutting and shaving","Cutting and shaving",{"$f":"IF(AND(H277=\"Y\",CSA!B$15=\"YES\"),IF(E277=\"\",\"***TRANSLATED TEXT MISSING***\",E277&IF(B277=\"\",G277&\" \",IF(OR(LEFT(B277,3)<>\"CSL\", AND(LEFT(B277,3)=\"CSL\",H$522=\"NO\")),\" [\"&B277&\"]\"&G277&\" \",G277&\" \"))),IF(E277=\"\",\"***TRANSLATED TEXT MISSING***\",E277&G277&\" \"))","v":"Cutting and shaving [CS134]. "},".","Y"]
[null,"CS135",null,"General measures applicable to all activities","General measures applicable to all activities",{"$f":"IF(AND(H278=\"Y\",CSA!B$15=\"YES\"),IF(E278=\"\",\"***TRANSLATED TEXT MISSING***\",E278&IF(B278=\"\",G278&\" \",IF(OR(LEFT(B278,3)<>\"CSL\", AND(LEFT(B278,3)=\"CSL\",H$522=\"NO\")),\" [\"&B278&\"]\"&G278&\" \",G278&\" \"))),IF(E278=\"\",\"***TRANSLATED TEXT MISSING***\",E278&G278&\" \"))","v":"General measures applicable to all activities [CS135]. "},".","Y"]
[null,"CS136",null,"Batch processes at elevated temperatures","Batch processes at elevated temperatures",{"$f":"IF(AND(H279=\"Y\",CSA!B$15=\"YES\"),IF(E279=\"\",\"***TRANSLATED TEXT MISSING***\",E279&IF(B279=\"\",G279&\" \",IF(OR(LEFT(B279,3)<>\"CSL\", AND(LEFT(B279,3)=\"CSL\",H$522=\"NO\")),\" [\"&B279&\"]\"&G279&\" \",G279&\" \"))),IF(E279=\"\",\"***TRANSLATED TEXT MISSING***\",E279&G279&\" \"))","v":"Batch processes at elevated temperatures [CS136]. "},".","Y"]
[null,"CS137",null,"Product sampling","Product sampling",{"$f":"IF(AND(H280=\"Y\",CSA!B$15=\"YES\"),IF(E280=\"\",\"***TRANSLATED TEXT MISSING***\",E280&IF(B280=\"\",G280&\" \",IF(OR(LEFT(B280,3)<>\"CSL\", AND(LEFT(B280,3)=\"CSL\",H$522=\"NO\")),\" [\"&B280&\"]\"&G280&\" \",G280&\" \"))),IF(E280=\"\",\"***TRANSLATED TEXT MISSING***\",E280&G280&\" \"))","v":"Product sampling [CS137]. "},".","Y"]
[null,"CS138",null,"With potential for aerosol generation","With potential for aerosol generation",{"$f":"IF(AND(H281=\"Y\",CSA!B$15=\"YES\"),IF(E281=\"\",\"***TRANSLATED TEXT MISSING***\",E281&IF(B281=\"\",G281&\" \",IF(OR(LEFT(B281,3)<>\"CSL\", AND(LEFT(B281,3)=\"CSL\",H$522=\"NO\")),\" [\"&B281&\"]\"&G281&\" \",G281&\" \"))),IF(E281=\"\",\"***TRANSLATED TEXT MISSING***\",E281&G281&\" \"))","v":"With potential for aerosol generation [CS138]. "},".","Y"]
[null,"CS140",null,"With occasional controlled exposure.","With occasional controlled exposure.",{"$f":"IF(AND(H282=\"Y\",CSA!B$15=\"YES\"),IF(E282=\"\",\"***TRANSLATED TEXT MISSING***\",E282&IF(B282=\"\",G282&\" \",IF(OR(LEFT(B282,3)<>\"CSL\", AND(LEFT(B282,3)=\"CSL\",H$522=\"NO\")),\" [\"&B282&\"]\"&G282&\" \",G282&\" \"))),IF(E282=\"\",\"***TRANSLATED TEXT MISSING***\",E282&G282&\" \"))","v":"With occasional controlled exposure. [CS140]. "},".","Y"]
[null,null,null,null,null,{"$f":"IF(AND(H283=\"Y\",CSA!B$15=\"YES\"),IF(E283=\"\",\"***TRANSLATED TEXT MISSING***\",E283&IF(B283=\"\",G283&\" \",IF(OR(LEFT(B283,3)<>\"CSL\", AND(LEFT(B283,3)=\"CSL\",H$522=\"NO\")),\" [\"&B283&\"]\"&G283&\" \",G283&\" \"))),IF(E283=\"\",\"***TRANSLATED TEXT MISSING***\",E283&G283&\" \"))","v":"***TRANSLATED TEXT MISSING***"}]
["General phrases",null,null,null,null,{"$f":"IF(AND(H284=\"Y\",CSA!B$15=\"YES\"),IF(E284=\"\",\"***TRANSLATED TEXT MISSING***\",E284&IF(B284=\"\",G284&\" \",IF(OR(LEFT(B284,3)<>\"CSL\", AND(LEFT(B284,3)=\"CSL\",H$522=\"NO\")),\" [\"&B284&\"]\"&G284&\" \",G284&\" \"))),IF(E284=\"\",\"***TRANSLATED TEXT MISSING***\",E284&G284&\" \"))","v":"***TRANSLATED TEXT MISSING***"}]
[null,"G1","GC","Assumes a good basic standard of occupational hygiene is implemented ","Assumes a good basic standard of occupational hygiene is implemented ",{"$f":"IF(AND(H285=\"Y\",CSA!B$15=\"YES\"),IF(E285=\"\",\"***TRANSLATED TEXT MISSING***\",E285&IF(B285=\"\",G285&\" \",IF(OR(LEFT(B285,3)<>\"CSL\", AND(LEFT(B285,3)=\"CSL\",H$522=\"NO\")),\" [\"&B285&\"]\"&G285&\" \",G285&\" \"))),IF(E285=\"\",\"***TRANSLATED TEXT MISSING***\",E285&G285&\" \"))","v":"Assumes a good basic standard of occupational hygiene is implemented  [G1]. "},".","Y",null,null,null,null,"NOTE on 'TYPE':"]
[null,"G2","GC","Covers daily exposures up to 8 hours (unless stated differently)","Covers daily exposures up to 8 hours (unless stated differently)",{"$f":"IF(AND(H286=\"Y\",CSA!B$15=\"YES\"),IF(E286=\"\",\"***TRANSLATED TEXT MISSING***\",E286&IF(B286=\"\",G286&\" \",IF(OR(LEFT(B286,3)<>\"CSL\", AND(LEFT(B286,3)=\"CSL\",H$522=\"NO\")),\" [\"&B286&\"]\"&G286&\" \",G286&\" \"))),IF(E286=\"\",\"***TRANSLATED TEXT MISSING***\",E286&G286&\" \"))","v":"Covers daily exposures up to 8 hours (unless stated differently) [G2]. "},".","Y",null,null,null,null,"GC: General Conditions"]
[null,"G3","GC","Covers frequency up to: weekly use","Covers frequency up to: weekly use",{"$f":"IF(AND(H287=\"Y\",CSA!B$15=\"YES\"),IF(E287=\"\",\"***TRANSLATED TEXT MISSING***\",E287&IF(B287=\"\",G287&\" \",IF(OR(LEFT(B287,3)<>\"CSL\", AND(LEFT(B287,3)=\"CSL\",H$522=\"NO\")),\" [\"&B287&\"]\"&G287&\" \",G287&\" \"))),IF(E287=\"\",\"***TRANSLATED TEXT MISSING***\",E287&G287&\" \"))","v":"Covers frequency up to: weekly use [G3]. "},".","Y",null,null,null,null,"PM: Measure to Prevent emission"]
[null,"G4 ","GC","Covers frequency up to: monthly use","Covers frequency up to: monthly use",{"$f":"IF(AND(H288=\"Y\",CSA!B$15=\"YES\"),IF(E288=\"\",\"***TRANSLATED TEXT MISSING***\",E288&IF(B288=\"\",G288&\" \",IF(OR(LEFT(B288,3)<>\"CSL\", AND(LEFT(B288,3)=\"CSL\",H$522=\"NO\")),\" [\"&B288&\"]\"&G288&\" \",G288&\" \"))),IF(E288=\"\",\"***TRANSLATED TEXT MISSING***\",E288&G288&\" \"))","v":"Covers frequency up to: monthly use [G4 ]. "},".","Y",null,null,null,null,"DM: Measure to control Dispersion"]
[null,"G5 ","GC","Covers frequency up to: daily yearly use","Covers frequency up to: daily yearly use",{"$f":"IF(AND(H289=\"Y\",CSA!B$15=\"YES\"),IF(E289=\"\",\"***TRANSLATED TEXT MISSING***\",E289&IF(B289=\"\",G289&\" \",IF(OR(LEFT(B289,3)<>\"CSL\", AND(LEFT(B289,3)=\"CSL\",H$522=\"NO\")),\" [\"&B289&\"]\"&G289&\" \",G289&\" \"))),IF(E289=\"\",\"***TRANSLATED TEXT MISSING***\",E289&G289&\" \"))","v":"Covers frequency up to: daily yearly use [G5 ]. "},".","Y",null,null,null,null,"OM: Organisational Measure"]
[null,"G6 ","GC","Covers frequency up to: daily use, weekly, monthly, yearly.","Covers frequency up to: daily use, weekly, monthly, yearly.",{"$f":"IF(AND(H290=\"Y\",CSA!B$15=\"YES\"),IF(E290=\"\",\"***TRANSLATED TEXT MISSING***\",E290&IF(B290=\"\",G290&\" \",IF(OR(LEFT(B290,3)<>\"CSL\", AND(LEFT(B290,3)=\"CSL\",H$522=\"NO\")),\" [\"&B290&\"]\"&G290&\" \",G290&\" \"))),IF(E290=\"\",\"***TRANSLATED TEXT MISSING***\",E290&G290&\" \"))","v":"Covers frequency up to: daily use, weekly, monthly, yearly. [G6 ]. "},".","Y",null,null,null,null,"PP: Personal Protection"]
[null,"G7","GC","Covers percentage substance in the product up to 1 %","Covers percentage substance in the product up to 1 %",{"$f":"IF(AND(H291=\"Y\",CSA!B$15=\"YES\"),IF(E291=\"\",\"***TRANSLATED TEXT MISSING***\",E291&IF(B291=\"\",G291&\" \",IF(OR(LEFT(B291,3)<>\"CSL\", AND(LEFT(B291,3)=\"CSL\",H$522=\"NO\")),\" [\"&B291&\"]\"&G291&\" \",G291&\" \"))),IF(E291=\"\",\"***TRANSLATED TEXT MISSING***\",E291&G291&\" \"))","v":"Covers percentage substance in the product up to 1 % [G7]. "},".","Y","TRA",null,"TRA",null,"EV: EnVironmental measure"]
[null,"G8","GC","Estimated workplace exposures are not expected to exceed DNELs when the identified risk management measures are adopted.","Estimated workplace exposures are not expected to exceed DNELs when the identified risk management measures are adopted",{"$f":"IF(AND(H292=\"Y\",CSA!B$15=\"YES\"),IF(E292=\"\",\"***TRANSLATED TEXT MISSING***\",E292&IF(B292=\"\",G292&\" \",IF(OR(LEFT(B292,3)<>\"CSL\", AND(LEFT(B292,3)=\"CSL\",H$522=\"NO\")),\" [\"&B292&\"]\"&G292&\" \",G292&\" \"))),IF(E292=\"\",\"***TRANSLATED TEXT MISSING***\",E292&G292&\" \"))","v":"Estimated workplace exposures are not expected to exceed DNELs when the identified risk management measures are adopted [G8]. "},".","Y"]
[null,"G9 ","GC",", or",", or",{"$f":"IF(AND(H293=\"Y\",CSA!B$15=\"YES\"),IF(E293=\"\",\"***TRANSLATED TEXT MISSING***\",E293&IF(B293=\"\",G293&\" \",IF(OR(LEFT(B293,3)<>\"CSL\", AND(LEFT(B293,3)=\"CSL\",H$522=\"NO\")),\" [\"&B293&\"]\"&G293&\" \",G293&\" \"))),IF(E293=\"\",\"***TRANSLATED TEXT MISSING***\",E293&G293&\" \"))","v":", or "},null,"N",null,null,null,null,"phrase for linking phrases"]
[null,"G10","GC",", alternatively",", alternatively",{"$f":"IF(AND(H294=\"Y\",CSA!B$15=\"YES\"),IF(E294=\"\",\"***TRANSLATED TEXT MISSING***\",E294&IF(B294=\"\",G294&\" \",IF(OR(LEFT(B294,3)<>\"CSL\", AND(LEFT(B294,3)=\"CSL\",H$522=\"NO\")),\" [\"&B294&\"]\"&G294&\" \",G294&\" \"))),IF(E294=\"\",\"***TRANSLATED TEXT MISSING***\",E294&G294&\" \"))","v":", alternatively "},null,"N",null,null,null,null,"phrase for linking phrases"]
[null,"G11 ","GC","Covers percentage substance in the product up to 5%","Covers percentage substance in the product up to 5%",{"$f":"IF(AND(H295=\"Y\",CSA!B$15=\"YES\"),IF(E295=\"\",\"***TRANSLATED TEXT MISSING***\",E295&IF(B295=\"\",G295&\" \",IF(OR(LEFT(B295,3)<>\"CSL\", AND(LEFT(B295,3)=\"CSL\",H$522=\"NO\")),\" [\"&B295&\"]\"&G295&\" \",G295&\" \"))),IF(E295=\"\",\"***TRANSLATED TEXT MISSING***\",E295&G295&\" \"))","v":"Covers percentage substance in the product up to 5% [G11 ]. "},".","Y","TRA",null,"TRA"]
[null,"G12 ","GC","Covers percentage substance in the product up to 25 %","Covers percentage substance in the product up to 25 %",{"$f":"IF(AND(H296=\"Y\",CSA!B$15=\"YES\"),IF(E296=\"\",\"***TRANSLATED TEXT MISSING***\",E296&IF(B296=\"\",G296&\" \",IF(OR(LEFT(B296,3)<>\"CSL\", AND(LEFT(B296,3)=\"CSL\",H$522=\"NO\")),\" [\"&B296&\"]\"&G296&\" \",G296&\" \"))),IF(E296=\"\",\"***TRANSLATED TEXT MISSING***\",E296&G296&\" \"))","v":"Covers percentage substance in the product up to 25 % [G12 ]. "},".","Y","TRA",null,"TRA"]
[null,"G13 ","GC","Covers percentage substance in the product up to 100 % (unless stated differently)","Covers percentage substance in the product up to 100 % (unless stated differently)",{"$f":"IF(AND(H297=\"Y\",CSA!B$15=\"YES\"),IF(E297=\"\",\"***TRANSLATED TEXT MISSING***\",E297&IF(B297=\"\",G297&\" \",IF(OR(LEFT(B297,3)<>\"CSL\", AND(LEFT(B297,3)=\"CSL\",H$522=\"NO\")),\" [\"&B297&\"]\"&G297&\" \",G297&\" \"))),IF(E297=\"\",\"***TRANSLATED TEXT MISSING***\",E297&G297&\" \"))","v":"Covers percentage substance in the product up to 100 % (unless stated differently) [G13 ]. "},".","Y","TRA",null,"TRA"]
[null,"G14","GC","A quantitative risk assessment is not required for human health.","A quantitative risk assessment is not required for human health",{"$f":"IF(AND(H298=\"Y\",CSA!B$15=\"YES\"),IF(E298=\"\",\"***TRANSLATED TEXT MISSING***\",E298&IF(B298=\"\",G298&\" \",IF(OR(LEFT(B298,3)<>\"CSL\", AND(LEFT(B298,3)=\"CSL\",H$522=\"NO\")),\" [\"&B298&\"]\"&G298&\" \",G298&\" \"))),IF(E298=\"\",\"***TRANSLATED TEXT MISSING***\",E298&G298&\" \"))","v":"A quantitative risk assessment is not required for human health [G14]. "},".","Y"]
[null,"G15","GC","Assumes use at not more than 20°C above ambient temperature, unless stated differently","Assumes use at not more than 20°C above ambient temperature, unless stated differently",{"$f":"IF(AND(H299=\"Y\",CSA!B$15=\"YES\"),IF(E299=\"\",\"***TRANSLATED TEXT MISSING***\",E299&IF(B299=\"\",G299&\" \",IF(OR(LEFT(B299,3)<>\"CSL\", AND(LEFT(B299,3)=\"CSL\",H$522=\"NO\")),\" [\"&B299&\"]\"&G299&\" \",G299&\" \"))),IF(E299=\"\",\"***TRANSLATED TEXT MISSING***\",E299&G299&\" \"))","v":"Assumes use at not more than 20°C above ambient temperature, unless stated differently [G15]. "},".","Y"]
[null,"G16","OM","If technical measures not practical:","If technical measures not practical",{"$f":"IF(AND(H300=\"Y\",CSA!B$15=\"YES\"),IF(E300=\"\",\"***TRANSLATED TEXT MISSING***\",E300&IF(B300=\"\",G300&\" \",IF(OR(LEFT(B300,3)<>\"CSL\", AND(LEFT(B300,3)=\"CSL\",H$522=\"NO\")),\" [\"&B300&\"]\"&G300&\" \",G300&\" \"))),IF(E300=\"\",\"***TRANSLATED TEXT MISSING***\",E300&G300&\" \"))","v":"If technical measures not practical [G16]: "},":","Y"]
[null,"G17","GC","Assumes activities are at ambient temperature (unless stated differently)","Assumes activities are at ambient temperature (unless stated differently)",{"$f":"IF(AND(H301=\"Y\",CSA!B$15=\"YES\"),IF(E301=\"\",\"***TRANSLATED TEXT MISSING***\",E301&IF(B301=\"\",G301&\" \",IF(OR(LEFT(B301,3)<>\"CSL\", AND(LEFT(B301,3)=\"CSL\",H$522=\"NO\")),\" [\"&B301&\"]\"&G301&\" \",G301&\" \"))),IF(E301=\"\",\"***TRANSLATED TEXT MISSING***\",E301&G301&\" \"))","v":"Assumes activities are at ambient temperature (unless stated differently) [G17]. "},".","Y"]
[null,"G18","GC","General measures (carcinogens)","General measures (carcinogens)",{"$f":"IF(AND(H302=\"Y\",CSA!B$15=\"YES\"),IF(E302=\"\",\"***TRANSLATED TEXT MISSING***\",E302&IF(B302=\"\",G302&\" \",IF(OR(LEFT(B302,3)<>\"CSL\", AND(LEFT(B302,3)=\"CSL\",H$522=\"NO\")),\" [\"&B302&\"]\"&G302&\" \",G302&\" \"))),IF(E302=\"\",\"***TRANSLATED TEXT MISSING***\",E302&G302&\" \"))","v":"General measures (carcinogens) [G18]: "},":","Y"]
[null,"G19","GC","General measures (skin irritants)","General measures (skin irritants)",{"$f":"IF(AND(H303=\"Y\",CSA!B$15=\"YES\"),IF(E303=\"\",\"***TRANSLATED TEXT MISSING***\",E303&IF(B303=\"\",G303&\" \",IF(OR(LEFT(B303,3)<>\"CSL\", AND(LEFT(B303,3)=\"CSL\",H$522=\"NO\")),\" [\"&B303&\"]\"&G303&\" \",G303&\" \"))),IF(E303=\"\",\"***TRANSLATED TEXT MISSING***\",E303&G303&\" \"))","v":"General measures (skin irritants) [G19]: "},":","Y"]
[null,"G20","GC","Consider technical advances and process upgrades (including automation) for the elimination of releases. Minimise exposure using measures such as closed systems, dedicated facilities and suitable general/local exhaust ventilation. Drain down systems and clear transfer lines prior to breaking containment. Clean/flush equipment, where possible, prior to maintenance.\nWhere there is potential for exposure: restrict access to authorised persons; provide specific activity training to operators to minimise exposures; wear suitable gloves and coveralls to prevent skin contamination; wear respiratory protection when its use is identified for certain contributing scenarios; clear up spills immediately and dispose of wastes safely.\nEnsure safe systems of work or equivalent arrangements are in place to manage risks. Regularly inspect, test and maintain all control measures.\nConsider the need for risk based health surveillance","Consider technical advances and process upgrades (including automation) for the elimination of releases. Minimise exposure using measures such as closed systems, dedicated facilities and suitable general/local exhaust ventilation. Drain down systems and clear transfer lines prior to breaking containment. Clean/flush equipment, where possible, prior to maintenance.\nWhere there is potential for exposure: restrict access to authorised persons; provide specific activity training to operators to minimise exposures; wear suitable gloves and coveralls to prevent skin contamination; wear respiratory protection when its use is identified for certain contributing scenarios; clear up spills immediately and dispose of wastes safely.\nEnsure safe systems of work or equivalent arrangements are in place to manage risks. Regularly inspect, test and maintain all control measures.\nConsider the need for risk based health surveillance",{"$f":"IF(AND(H304=\"Y\",CSA!B$15=\"YES\"),IF(E304=\"\",\"***TRANSLATED TEXT MISSING***\",E304&IF(B304=\"\",G304&\" \",IF(OR(LEFT(B304,3)<>\"CSL\", AND(LEFT(B304,3)=\"CSL\",H$522=\"NO\")),\" [\"&B304&\"]\"&G304&\" \",G304&\" \"))),IF(E304=\"\",\"***TRANSLATED TEXT MISSING***\",E304&G304&\" \"))","v":"Consider technical advances and process upgrades (including automation) for the elimination of releases. Minimise exposure using measures such as closed systems, dedicated facilities and suitable general/local exhaust ventilation. Drain down systems and clear transfer lines prior to breaking containment. Clean/flush equipment, where possible, prior to maintenance.\nWhere there is potential for exposure: restrict access to authorised persons; provide specific activity training to operators to minimise exposures; wear suitable gloves and coveralls to prevent skin contamination; wear respiratory protection when its use is identified for certain contributing scenarios; clear up spills immediately and dispose of wastes safely.\nEnsure safe systems of work or equivalent arrangements are in place to manage risks. Regularly inspect, test and maintain all control measures.\nConsider the need for risk based health surveillance [G20]. "},".","Y",null,null,null,null,"general measures for carcinogens (R45)"]
[null,"G21","GC","The ECETOC TRA tool has been used to estimate workplace exposures unless otherwise indicated","The ECETOC TRA tool has been used to estimate workplace exposures unless otherwise indicated",{"$f":"IF(AND(H305=\"Y\",CSA!B$15=\"YES\"),IF(E305=\"\",\"***TRANSLATED TEXT MISSING***\",E305&IF(B305=\"\",G305&\" \",IF(OR(LEFT(B305,3)<>\"CSL\", AND(LEFT(B305,3)=\"CSL\",H$522=\"NO\")),\" [\"&B305&\"]\"&G305&\" \",G305&\" \"))),IF(E305=\"\",\"***TRANSLATED TEXT MISSING***\",E305&G305&\" \"))","v":"The ECETOC TRA tool has been used to estimate workplace exposures unless otherwise indicated [G21]. "},".","Y"]
[null,"G22","GC","Predicted exposures are not expected to exceed the DN(M)EL when the Risk Management Measures/Operational Conditions outlined in Section 2 are implemented","Predicted exposures are not expected to exceed the DN(M)EL when the Risk Management Measures/Operational Conditions outlined in Section 2 are implemented",{"$f":"IF(AND(H306=\"Y\",CSA!B$15=\"YES\"),IF(E306=\"\",\"***TRANSLATED TEXT MISSING***\",E306&IF(B306=\"\",G306&\" \",IF(OR(LEFT(B306,3)<>\"CSL\", AND(LEFT(B306,3)=\"CSL\",H$522=\"NO\")),\" [\"&B306&\"]\"&G306&\" \",G306&\" \"))),IF(E306=\"\",\"***TRANSLATED TEXT MISSING***\",E306&G306&\" \"))","v":"Predicted exposures are not expected to exceed the DN(M)EL when the Risk Management Measures/Operational Conditions outlined in Section 2 are implemented [G22]. "},".","Y"]
[null,"G23","GC","Where other Risk Management Measures/Operational Conditions are adopted, then users should ensure that risks are managed to at least equivalent levels.","Where other Risk Management Measures/Operational Conditions are adopted, then users should ensure that risks are managed to at least equivalent levels",{"$f":"IF(AND(H307=\"Y\",CSA!B$15=\"YES\"),IF(E307=\"\",\"***TRANSLATED TEXT MISSING***\",E307&IF(B307=\"\",G307&\" \",IF(OR(LEFT(B307,3)<>\"CSL\", AND(LEFT(B307,3)=\"CSL\",H$522=\"NO\")),\" [\"&B307&\"]\"&G307&\" \",G307&\" \"))),IF(E307=\"\",\"***TRANSLATED TEXT MISSING***\",E307&G307&\" \"))","v":"Where other Risk Management Measures/Operational Conditions are adopted, then users should ensure that risks are managed to at least equivalent levels [G23]. "},".","Y"]
[null,"G24","GC","Further information on the assumptions contained in this Exposure Scenario can be found at:","Further information on the assumptions contained in this Exposure Scenario can be found at",{"$f":"IF(AND(H308=\"Y\",CSA!B$15=\"YES\"),IF(E308=\"\",\"***TRANSLATED TEXT MISSING***\",E308&IF(B308=\"\",G308&\" \",IF(OR(LEFT(B308,3)<>\"CSL\", AND(LEFT(B308,3)=\"CSL\",H$522=\"NO\")),\" [\"&B308&\"]\"&G308&\" \",G308&\" \"))),IF(E308=\"\",\"***TRANSLATED TEXT MISSING***\",E308&G308&\" \"))","v":"Further information on the assumptions contained in this Exposure Scenario can be found at [G24]. "},".","Y"]
[null,"G25","GC","Control any potential exposure using measures such as contained or enclosed systems, properly designed and maintained facilities and a good standard of general ventilation. Drain down systems and transfer lines prior to breaking containment. Drain down and flush equipment where possible prior to maintenance.\nWhere there is potential for exposure: Ensure relevant staff are informed of the nature of exposure and aware of basic actions to minimise exposures; ensure suitable personal protective equipment is available; clear up spills and dispose of waste in accordance with regulatory requirements; monitor effectiveness of control measures;  consider the need for health surveillance; identify and implement corrective actions.\n","Control any potential exposure using measures such as contained or enclosed systems, properly designed and maintained facilities and a good standard of general ventilation. Drain down systems and transfer lines prior to breaking containment. Drain down and flush equipment where possible prior to maintenance.\nWhere there is potential for exposure: Ensure relevant staff are informed of the nature of exposure and aware of basic actions to minimise exposures; ensure suitable personal protective equipment is available; clear up spills and dispose of waste in accordance with regulatory requirements; monitor effectiveness of control measures;  consider the need for health surveillance; identify and implement corrective actions\n",{"$f":"IF(AND(H309=\"Y\",CSA!B$15=\"YES\"),IF(E309=\"\",\"***TRANSLATED TEXT MISSING***\",E309&IF(B309=\"\",G309&\" \",IF(OR(LEFT(B309,3)<>\"CSL\", AND(LEFT(B309,3)=\"CSL\",H$522=\"NO\")),\" [\"&B309&\"]\"&G309&\" \",G309&\" \"))),IF(E309=\"\",\"***TRANSLATED TEXT MISSING***\",E309&G309&\" \"))","v":"Control any potential exposure using measures such as contained or enclosed systems, properly designed and maintained facilities and a good standard of general ventilation. Drain down systems and transfer lines prior to breaking containment. Drain down and flush equipment where possible prior to maintenance.\nWhere there is potential for exposure: Ensure relevant staff are informed of the nature of exposure and aware of basic actions to minimise exposures; ensure suitable personal protective equipment is available; clear up spills and dispose of waste in accordance with regulatory requirements; monitor effectiveness of control measures;  consider the need for health surveillance; identify and implement corrective actions\n [G25]. "},".","Y",null,null,null,null,"general measures for carcinogens (R40)","."]
[null,"G25a","GC","Other protection measures such as segregation of activity, minimisation of personnel, respiratory protection, impervious suits and face shields should also be considered for high dispersion activities which are likely to lead to substantial aerosol or vapour release, e.g. spraying","Other protection measures such as segregation of activity, minimisation of personnel, respiratory protection, impervious suits and face shields should also be considered for high dispersion activities which are likely to lead to substantial aerosol or vapour release, e.g. spraying",{"$f":"IF(AND(H310=\"Y\",CSA!B$15=\"YES\"),IF(E310=\"\",\"***TRANSLATED TEXT MISSING***\",E310&IF(B310=\"\",G310&\" \",IF(OR(LEFT(B310,3)<>\"CSL\", AND(LEFT(B310,3)=\"CSL\",H$522=\"NO\")),\" [\"&B310&\"]\"&G310&\" \",G310&\" \"))),IF(E310=\"\",\"***TRANSLATED TEXT MISSING***\",E310&G310&\" \"))","v":"Other protection measures such as segregation of activity, minimisation of personnel, respiratory protection, impervious suits and face shields should also be considered for high dispersion activities which are likely to lead to substantial aerosol or vapour release, e.g. spraying [G25a]. "},".","Y"]
[null,"G26","GC","Industrial","Industrial",{"$f":"IF(AND(H311=\"Y\",CSA!B$15=\"YES\"),IF(E311=\"\",\"***TRANSLATED TEXT MISSING***\",E311&IF(B311=\"\",G311&\" \",IF(OR(LEFT(B311,3)<>\"CSL\", AND(LEFT(B311,3)=\"CSL\",H$522=\"NO\")),\" [\"&B311&\"]\"&G311&\" \",G311&\" \"))),IF(E311=\"\",\"***TRANSLATED TEXT MISSING***\",E311&G311&\" \"))","v":"Industrial. "},".","N"]
[null,"G27","GC","Professional","Professional",{"$f":"IF(AND(H312=\"Y\",CSA!B$15=\"YES\"),IF(E312=\"\",\"***TRANSLATED TEXT MISSING***\",E312&IF(B312=\"\",G312&\" \",IF(OR(LEFT(B312,3)<>\"CSL\", AND(LEFT(B312,3)=\"CSL\",H$522=\"NO\")),\" [\"&B312&\"]\"&G312&\" \",G312&\" \"))),IF(E312=\"\",\"***TRANSLATED TEXT MISSING***\",E312&G312&\" \"))","v":"Professional. "},".","N"]
[null,"G28","GC","Consumer","Consumer",{"$f":"IF(AND(H313=\"Y\",CSA!B$15=\"YES\"),IF(E313=\"\",\"***TRANSLATED TEXT MISSING***\",E313&IF(B313=\"\",G313&\" \",IF(OR(LEFT(B313,3)<>\"CSL\", AND(LEFT(B313,3)=\"CSL\",H$522=\"NO\")),\" [\"&B313&\"]\"&G313&\" \",G313&\" \"))),IF(E313=\"\",\"***TRANSLATED TEXT MISSING***\",E313&G313&\" \"))","v":"Consumer. "},".","N",null,null,null,null,"consumer"]
[null,"G29","GC","Predicted exposures are not expected to exceed the applicable exposure limits (given in section 8 of the SDS) when the operational conditions/risk management measures given in section 2 are implemented","Predicted exposures are not expected to exceed the applicable exposure limits (given in section 8 of the SDS) when the operational conditions/risk management measures given in section 2 are implemented",{"$f":"IF(AND(H314=\"Y\",CSA!B$15=\"YES\"),IF(E314=\"\",\"***TRANSLATED TEXT MISSING***\",E314&IF(B314=\"\",G314&\" \",IF(OR(LEFT(B314,3)<>\"CSL\", AND(LEFT(B314,3)=\"CSL\",H$522=\"NO\")),\" [\"&B314&\"]\"&G314&\" \",G314&\" \"))),IF(E314=\"\",\"***TRANSLATED TEXT MISSING***\",E314&G314&\" \"))","v":"Predicted exposures are not expected to exceed the applicable exposure limits (given in section 8 of the SDS) when the operational conditions/risk management measures given in section 2 are implemented [G29]. "},".","Y"]
[null,"G30","GC","The ECETOC TRA tool has been used to estimate consumer exposures unless otherwise indicated","The ECETOC TRA tool has been used to estimate consumer exposures unless otherwise indicated",{"$f":"IF(AND(H315=\"Y\",CSA!B$15=\"YES\"),IF(E315=\"\",\"***TRANSLATED TEXT MISSING***\",E315&IF(B315=\"\",G315&\" \",IF(OR(LEFT(B315,3)<>\"CSL\", AND(LEFT(B315,3)=\"CSL\",H$522=\"NO\")),\" [\"&B315&\"]\"&G315&\" \",G315&\" \"))),IF(E315=\"\",\"***TRANSLATED TEXT MISSING***\",E315&G315&\" \"))","v":"The ECETOC TRA tool has been used to estimate consumer exposures unless otherwise indicated [G30]. "},".","Y",null,null,null,null,"consumer"]
[null,"G31","GC","The Consexpo model has been used to estimate consumer exposures unless otherwise indicated","The Consexpo model has been used to estimate consumer exposures unless otherwise indicated",{"$f":"IF(AND(H316=\"Y\",CSA!B$15=\"YES\"),IF(E316=\"\",\"***TRANSLATED TEXT MISSING***\",E316&IF(B316=\"\",G316&\" \",IF(OR(LEFT(B316,3)<>\"CSL\", AND(LEFT(B316,3)=\"CSL\",H$522=\"NO\")),\" [\"&B316&\"]\"&G316&\" \",G316&\" \"))),IF(E316=\"\",\"***TRANSLATED TEXT MISSING***\",E316&G316&\" \"))","v":"The Consexpo model has been used to estimate consumer exposures unless otherwise indicated [G31]. "},".","Y",null,null,null,null,"consumer"]
[null,"G32","GC","Available hazard data do not enable the derivation of a DNEL for dermal irritant effects","Available hazard data do not enable the derivation of a DNEL for dermal irritant effects",{"$f":"IF(AND(H317=\"Y\",CSA!B$15=\"YES\"),IF(E317=\"\",\"***TRANSLATED TEXT MISSING***\",E317&IF(B317=\"\",G317&\" \",IF(OR(LEFT(B317,3)<>\"CSL\", AND(LEFT(B317,3)=\"CSL\",H$522=\"NO\")),\" [\"&B317&\"]\"&G317&\" \",G317&\" \"))),IF(E317=\"\",\"***TRANSLATED TEXT MISSING***\",E317&G317&\" \"))","v":"Available hazard data do not enable the derivation of a DNEL for dermal irritant effects [G32]. "},".","Y"]
[null,"G33","GC","Available hazard data do not enable the derivation of a DNEL for carcinogenic effects","Available hazard data do not enable the derivation of a DNEL for carcinogenic effects",{"$f":"IF(AND(H318=\"Y\",CSA!B$15=\"YES\"),IF(E318=\"\",\"***TRANSLATED TEXT MISSING***\",E318&IF(B318=\"\",G318&\" \",IF(OR(LEFT(B318,3)<>\"CSL\", AND(LEFT(B318,3)=\"CSL\",H$522=\"NO\")),\" [\"&B318&\"]\"&G318&\" \",G318&\" \"))),IF(E318=\"\",\"***TRANSLATED TEXT MISSING***\",E318&G318&\" \"))","v":"Available hazard data do not enable the derivation of a DNEL for carcinogenic effects [G33]. "},".","Y"]
[null,"G34","GC","Available hazard data do not enable the derivation of a DNEL for carcinogenic and dermal irritant effects","Available hazard data do not enable the derivation of a DNEL for carcinogenic and dermal irritant effects",{"$f":"IF(AND(H319=\"Y\",CSA!B$15=\"YES\"),IF(E319=\"\",\"***TRANSLATED TEXT MISSING***\",E319&IF(B319=\"\",G319&\" \",IF(OR(LEFT(B319,3)<>\"CSL\", AND(LEFT(B319,3)=\"CSL\",H$522=\"NO\")),\" [\"&B319&\"]\"&G319&\" \",G319&\" \"))),IF(E319=\"\",\"***TRANSLATED TEXT MISSING***\",E319&G319&\" \"))","v":"Available hazard data do not enable the derivation of a DNEL for carcinogenic and dermal irritant effects [G34]. "},".","Y"]
[null,"G35","GC","Available hazard data enable the derivation of a DNEL for other health effects","Available hazard data enable the derivation of a DNEL for other health effects",{"$f":"IF(AND(H320=\"Y\",CSA!B$15=\"YES\"),IF(E320=\"\",\"***TRANSLATED TEXT MISSING***\",E320&IF(B320=\"\",G320&\" \",IF(OR(LEFT(B320,3)<>\"CSL\", AND(LEFT(B320,3)=\"CSL\",H$522=\"NO\")),\" [\"&B320&\"]\"&G320&\" \",G320&\" \"))),IF(E320=\"\",\"***TRANSLATED TEXT MISSING***\",E320&G320&\" \"))","v":"Available hazard data enable the derivation of a DNEL for other health effects [G35]. "},".","Y"]
[null,"G36","GC","Available hazard data do not support the need for a DNEL to be established for other health effects","Available hazard data do not support the need for a DNEL to be established for other health effects",{"$f":"IF(AND(H321=\"Y\",CSA!B$15=\"YES\"),IF(E321=\"\",\"***TRANSLATED TEXT MISSING***\",E321&IF(B321=\"\",G321&\" \",IF(OR(LEFT(B321,3)<>\"CSL\", AND(LEFT(B321,3)=\"CSL\",H$522=\"NO\")),\" [\"&B321&\"]\"&G321&\" \",G321&\" \"))),IF(E321=\"\",\"***TRANSLATED TEXT MISSING***\",E321&G321&\" \"))","v":"Available hazard data do not support the need for a DNEL to be established for other health effects [G36]. "},".","Y"]
[null,"G37","GC","Risk Management Measures are based on qualitative risk characterisation","Risk Management Measures are based on qualitative risk characterisation",{"$f":"IF(AND(H322=\"Y\",CSA!B$15=\"YES\"),IF(E322=\"\",\"***TRANSLATED TEXT MISSING***\",E322&IF(B322=\"\",G322&\" \",IF(OR(LEFT(B322,3)<>\"CSL\", AND(LEFT(B322,3)=\"CSL\",H$522=\"NO\")),\" [\"&B322&\"]\"&G322&\" \",G322&\" \"))),IF(E322=\"\",\"***TRANSLATED TEXT MISSING***\",E322&G322&\" \"))","v":"Risk Management Measures are based on qualitative risk characterisation [G37]. "},".","Y"]
[null,"G38","GC","Users are advised to consider national Occupational Exposure Limits or other equivalent values","Users are advised to consider national Occupational Exposure Limits or other equivalent values",{"$f":"IF(AND(H323=\"Y\",CSA!B$15=\"YES\"),IF(E323=\"\",\"***TRANSLATED TEXT MISSING***\",E323&IF(B323=\"\",G323&\" \",IF(OR(LEFT(B323,3)<>\"CSL\", AND(LEFT(B323,3)=\"CSL\",H$522=\"NO\")),\" [\"&B323&\"]\"&G323&\" \",G323&\" \"))),IF(E323=\"\",\"***TRANSLATED TEXT MISSING***\",E323&G323&\" \"))","v":"Users are advised to consider national Occupational Exposure Limits or other equivalent values [G38]. "},".","Y"]
[null,"G39","GC","No exposure assessment presented for human health","No exposure assessment presented for human health",{"$f":"IF(AND(H324=\"Y\",CSA!B$15=\"YES\"),IF(E324=\"\",\"***TRANSLATED TEXT MISSING***\",E324&IF(B324=\"\",G324&\" \",IF(OR(LEFT(B324,3)<>\"CSL\", AND(LEFT(B324,3)=\"CSL\",H$522=\"NO\")),\" [\"&B324&\"]\"&G324&\" \",G324&\" \"))),IF(E324=\"\",\"***TRANSLATED TEXT MISSING***\",E324&G324&\" \"))","v":"No exposure assessment presented for human health [G39]. "},".","Y"]
[null,"G40","GC","No exposure assessment presented for the environment","No exposure assessment presented for the environment",{"$f":"IF(AND(H325=\"Y\",CSA!B$15=\"YES\"),IF(E325=\"\",\"***TRANSLATED TEXT MISSING***\",E325&IF(B325=\"\",G325&\" \",IF(OR(LEFT(B325,3)<>\"CSL\", AND(LEFT(B325,3)=\"CSL\",H$522=\"NO\")),\" [\"&B325&\"]\"&G325&\" \",G325&\" \"))),IF(E325=\"\",\"***TRANSLATED TEXT MISSING***\",E325&G325&\" \"))","v":"No exposure assessment presented for the environment [G40]. "},".","Y"]
[null,"G41","GC","Unless otherwise stated","Unless otherwise stated",{"$f":"IF(AND(H326=\"Y\",CSA!B$15=\"YES\"),IF(E326=\"\",\"***TRANSLATED TEXT MISSING***\",E326&IF(B326=\"\",G326&\" \",IF(OR(LEFT(B326,3)<>\"CSL\", AND(LEFT(B326,3)=\"CSL\",H$522=\"NO\")),\" [\"&B326&\"]\"&G326&\" \",G326&\" \"))),IF(E326=\"\",\"***TRANSLATED TEXT MISSING***\",E326&G326&\" \"))","v":"Unless otherwise stated [G41]. "},".","Y",null,null,null,null,"consumer"]
[null,"G42","GC","The ECETOC TRA tool has been used to estimate consumer exposures, consistent with the content of ECETOC report #107 and the Chapter R15 of the IR&CSA TGD. Where exposure determinants differ to these source, then they are indicated","The ECETOC TRA tool has been used to estimate consumer exposures, consistent with the content of ECETOC report #107 and the Chapter R15 of the IR&CSA TGD. Where exposure determinants differ to these source, then they are indicated",{"$f":"IF(AND(H327=\"Y\",CSA!B$15=\"YES\"),IF(E327=\"\",\"***TRANSLATED TEXT MISSING***\",E327&IF(B327=\"\",G327&\" \",IF(OR(LEFT(B327,3)<>\"CSL\", AND(LEFT(B327,3)=\"CSL\",H$522=\"NO\")),\" [\"&B327&\"]\"&G327&\" \",G327&\" \"))),IF(E327=\"\",\"***TRANSLATED TEXT MISSING***\",E327&G327&\" \"))","v":"The ECETOC TRA tool has been used to estimate consumer exposures, consistent with the content of ECETOC report #107 and the Chapter R15 of the IR&CSA TGD. Where exposure determinants differ to these source, then they are indicated [G42]. "},".","Y",null,null,null,null,"consumer"]
[null,"G43","GC","Predicted exposures are not expected to exceed the applicable consumer reference values when the operational conditions/risk management measures given in section 2 are implemented","Predicted exposures are not expected to exceed the applicable consumer reference values when the operational conditions/risk management measures given in section 2 are implemented",{"$f":"IF(AND(H328=\"Y\",CSA!B$15=\"YES\"),IF(E328=\"\",\"***TRANSLATED TEXT MISSING***\",E328&IF(B328=\"\",G328&\" \",IF(OR(LEFT(B328,3)<>\"CSL\", AND(LEFT(B328,3)=\"CSL\",H$522=\"NO\")),\" [\"&B328&\"]\"&G328&\" \",G328&\" \"))),IF(E328=\"\",\"***TRANSLATED TEXT MISSING***\",E328&G328&\" \"))","v":"Predicted exposures are not expected to exceed the applicable consumer reference values when the operational conditions/risk management measures given in section 2 are implemented [G43]. "},".","Y",null,null,null,null,"consumer"]
[null,"G44","GC","General measures (eye irritants)","General measures (eye irritants)",{"$f":"IF(AND(H329=\"Y\",CSA!B$15=\"YES\"),IF(E329=\"\",\"***TRANSLATED TEXT MISSING***\",E329&IF(B329=\"\",G329&\" \",IF(OR(LEFT(B329,3)<>\"CSL\", AND(LEFT(B329,3)=\"CSL\",H$522=\"NO\")),\" [\"&B329&\"]\"&G329&\" \",G329&\" \"))),IF(E329=\"\",\"***TRANSLATED TEXT MISSING***\",E329&G329&\" \"))","v":"General measures (eye irritants) [G44]. "},".","Y"]
[null,"G45","GC","Available hazard data do not enable the derivation of a DNEL for eye irritant effects","Available hazard data do not enable the derivation of a DNEL for eye irritant effects",{"$f":"IF(AND(H330=\"Y\",CSA!B$15=\"YES\"),IF(E330=\"\",\"***TRANSLATED TEXT MISSING***\",E330&IF(B330=\"\",G330&\" \",IF(OR(LEFT(B330,3)<>\"CSL\", AND(LEFT(B330,3)=\"CSL\",H$522=\"NO\")),\" [\"&B330&\"]\"&G330&\" \",G330&\" \"))),IF(E330=\"\",\"***TRANSLATED TEXT MISSING***\",E330&G330&\" \"))","v":"Available hazard data do not enable the derivation of a DNEL for eye irritant effects [G45]. "},".","Y"]
[null,"G46","GC","The ECETOC TRA v3 tool has been used to estimate workplace exposures unless otherwise indicated","The ECETOC TRA v3 tool has been used to estimate workplace exposures unless otherwise indicated",{"$f":"IF(AND(H331=\"Y\",CSA!B$15=\"YES\"),IF(E331=\"\",\"***TRANSLATED TEXT MISSING***\",E331&IF(B331=\"\",G331&\" \",IF(OR(LEFT(B331,3)<>\"CSL\", AND(LEFT(B331,3)=\"CSL\",H$522=\"NO\")),\" [\"&B331&\"]\"&G331&\" \",G331&\" \"))),IF(E331=\"\",\"***TRANSLATED TEXT MISSING***\",E331&G331&\" \"))","v":"The ECETOC TRA v3 tool has been used to estimate workplace exposures unless otherwise indicated [G46]. "},".","Y"]
[null,null,null,null,null,{"$f":"IF(AND(H332=\"Y\",CSA!B$15=\"YES\"),IF(E332=\"\",\"***TRANSLATED TEXT MISSING***\",E332&IF(B332=\"\",G332&\" \",IF(OR(LEFT(B332,3)<>\"CSL\", AND(LEFT(B332,3)=\"CSL\",H$522=\"NO\")),\" [\"&B332&\"]\"&G332&\" \",G332&\" \"))),IF(E332=\"\",\"***TRANSLATED TEXT MISSING***\",E332&G332&\" \"))","v":"***TRANSLATED TEXT MISSING***"}]
[null,null,null,null,null,{"$f":"IF(AND(H333=\"Y\",CSA!B$15=\"YES\"),IF(E333=\"\",\"***TRANSLATED TEXT MISSING***\",E333&IF(B333=\"\",G333&\" \",IF(OR(LEFT(B333,3)<>\"CSL\", AND(LEFT(B333,3)=\"CSL\",H$522=\"NO\")),\" [\"&B333&\"]\"&G333&\" \",G333&\" \"))),IF(E333=\"\",\"***TRANSLATED TEXT MISSING***\",E333&G333&\" \"))","v":"***TRANSLATED TEXT MISSING***"}]
["Operational conditions",null,null,null,null,{"$f":"IF(AND(H334=\"Y\",CSA!B$15=\"YES\"),IF(E334=\"\",\"***TRANSLATED TEXT MISSING***\",E334&IF(B334=\"\",G334&\" \",IF(OR(LEFT(B334,3)<>\"CSL\", AND(LEFT(B334,3)=\"CSL\",H$522=\"NO\")),\" [\"&B334&\"]\"&G334&\" \",G334&\" \"))),IF(E334=\"\",\"***TRANSLATED TEXT MISSING***\",E334&G334&\" \"))","v":"***TRANSLATED TEXT MISSING***"}]
[null,"OC1 ","GC","Solid, low dustiness","Solid, low dustiness",{"$f":"IF(AND(H335=\"Y\",CSA!B$15=\"YES\"),IF(E335=\"\",\"***TRANSLATED TEXT MISSING***\",E335&IF(B335=\"\",G335&\" \",IF(OR(LEFT(B335,3)<>\"CSL\", AND(LEFT(B335,3)=\"CSL\",H$522=\"NO\")),\" [\"&B335&\"]\"&G335&\" \",G335&\" \"))),IF(E335=\"\",\"***TRANSLATED TEXT MISSING***\",E335&G335&\" \"))","v":"Solid, low dustiness [OC1 ]. "},".","Y"]
[null,"OC2 ","GC","Solid, medium dustiness","Solid, medium dustiness",{"$f":"IF(AND(H336=\"Y\",CSA!B$15=\"YES\"),IF(E336=\"\",\"***TRANSLATED TEXT MISSING***\",E336&IF(B336=\"\",G336&\" \",IF(OR(LEFT(B336,3)<>\"CSL\", AND(LEFT(B336,3)=\"CSL\",H$522=\"NO\")),\" [\"&B336&\"]\"&G336&\" \",G336&\" \"))),IF(E336=\"\",\"***TRANSLATED TEXT MISSING***\",E336&G336&\" \"))","v":"Solid, medium dustiness [OC2 ]. "},".","Y"]
[null,"OC3","GC","Liquid, vapour pressure < 0.5 kPa at STP","Liquid, vapour pressure < 0.5 kPa at STP",{"$f":"IF(AND(H337=\"Y\",CSA!B$15=\"YES\"),IF(E337=\"\",\"***TRANSLATED TEXT MISSING***\",E337&IF(B337=\"\",G337&\" \",IF(OR(LEFT(B337,3)<>\"CSL\", AND(LEFT(B337,3)=\"CSL\",H$522=\"NO\")),\" [\"&B337&\"]\"&G337&\" \",G337&\" \"))),IF(E337=\"\",\"***TRANSLATED TEXT MISSING***\",E337&G337&\" \"))","v":"Liquid, vapour pressure < 0.5 kPa at STP [OC3]. "},".","Y"]
[null,"OC4","GC","Liquid, vapour pressure 0.5 - 10 kPa at STP","Liquid, vapour pressure 0.5 - 10 kPa at STP",{"$f":"IF(AND(H338=\"Y\",CSA!B$15=\"YES\"),IF(E338=\"\",\"***TRANSLATED TEXT MISSING***\",E338&IF(B338=\"\",G338&\" \",IF(OR(LEFT(B338,3)<>\"CSL\", AND(LEFT(B338,3)=\"CSL\",H$522=\"NO\")),\" [\"&B338&\"]\"&G338&\" \",G338&\" \"))),IF(E338=\"\",\"***TRANSLATED TEXT MISSING***\",E338&G338&\" \"))","v":"Liquid, vapour pressure 0.5 - 10 kPa at STP [OC4]. "},".","Y"]
[null,"OC5","GC","Liquid, vapour pressure > 10 kPa at STP","Liquid, vapour pressure > 10 kPa at STP",{"$f":"IF(AND(H339=\"Y\",CSA!B$15=\"YES\"),IF(E339=\"\",\"***TRANSLATED TEXT MISSING***\",E339&IF(B339=\"\",G339&\" \",IF(OR(LEFT(B339,3)<>\"CSL\", AND(LEFT(B339,3)=\"CSL\",H$522=\"NO\")),\" [\"&B339&\"]\"&G339&\" \",G339&\" \"))),IF(E339=\"\",\"***TRANSLATED TEXT MISSING***\",E339&G339&\" \"))","v":"Liquid, vapour pressure > 10 kPa at STP [OC5]. "},".","Y"]
[null,"OC6 ","GC","Solid, high dustiness","Solid, high dustiness",{"$f":"IF(AND(H340=\"Y\",CSA!B$15=\"YES\"),IF(E340=\"\",\"***TRANSLATED TEXT MISSING***\",E340&IF(B340=\"\",G340&\" \",IF(OR(LEFT(B340,3)<>\"CSL\", AND(LEFT(B340,3)=\"CSL\",H$522=\"NO\")),\" [\"&B340&\"]\"&G340&\" \",G340&\" \"))),IF(E340=\"\",\"***TRANSLATED TEXT MISSING***\",E340&G340&\" \"))","v":"Solid, high dustiness [OC6 ]. "},".","Y"]
[null,"OC7 ","GC","Operation is carried out at elevated temperature (> 20°C above ambient temperature)","Operation is carried out at elevated temperature (> 20°C above ambient temperature)",{"$f":"IF(AND(H341=\"Y\",CSA!B$15=\"YES\"),IF(E341=\"\",\"***TRANSLATED TEXT MISSING***\",E341&IF(B341=\"\",G341&\" \",IF(OR(LEFT(B341,3)<>\"CSL\", AND(LEFT(B341,3)=\"CSL\",H$522=\"NO\")),\" [\"&B341&\"]\"&G341&\" \",G341&\" \"))),IF(E341=\"\",\"***TRANSLATED TEXT MISSING***\",E341&G341&\" \"))","v":"Operation is carried out at elevated temperature (> 20°C above ambient temperature) [OC7 ]. "},".","Y"]
[null,"OC8","GC","Indoor ","Indoor ",{"$f":"IF(AND(H342=\"Y\",CSA!B$15=\"YES\"),IF(E342=\"\",\"***TRANSLATED TEXT MISSING***\",E342&IF(B342=\"\",G342&\" \",IF(OR(LEFT(B342,3)<>\"CSL\", AND(LEFT(B342,3)=\"CSL\",H$522=\"NO\")),\" [\"&B342&\"]\"&G342&\" \",G342&\" \"))),IF(E342=\"\",\"***TRANSLATED TEXT MISSING***\",E342&G342&\" \"))","v":"Indoor  [OC8]. "},".","Y"]
[null,"OC9","GC","Outdoor ","Outdoor ",{"$f":"IF(AND(H343=\"Y\",CSA!B$15=\"YES\"),IF(E343=\"\",\"***TRANSLATED TEXT MISSING***\",E343&IF(B343=\"\",G343&\" \",IF(OR(LEFT(B343,3)<>\"CSL\", AND(LEFT(B343,3)=\"CSL\",H$522=\"NO\")),\" [\"&B343&\"]\"&G343&\" \",G343&\" \"))),IF(E343=\"\",\"***TRANSLATED TEXT MISSING***\",E343&G343&\" \"))","v":"Outdoor  [OC9]. "},".","Y","TRA",null,"TRA"]
[null,"OC10","OM","Avoid carrying out operation for more than 15 minutes","Avoid carrying out operation for more than 15 minutes",{"$f":"IF(AND(H344=\"Y\",CSA!B$15=\"YES\"),IF(E344=\"\",\"***TRANSLATED TEXT MISSING***\",E344&IF(B344=\"\",G344&\" \",IF(OR(LEFT(B344,3)<>\"CSL\", AND(LEFT(B344,3)=\"CSL\",H$522=\"NO\")),\" [\"&B344&\"]\"&G344&\" \",G344&\" \"))),IF(E344=\"\",\"***TRANSLATED TEXT MISSING***\",E344&G344&\" \"))","v":"Avoid carrying out operation for more than 15 minutes [OC10]. "},".","Y","TRA",null,"TRA"]
[null,"OC11 ","OM","Avoid carrying out operation for more than 1 hour","Avoid carrying out operation for more than 1 hour",{"$f":"IF(AND(H345=\"Y\",CSA!B$15=\"YES\"),IF(E345=\"\",\"***TRANSLATED TEXT MISSING***\",E345&IF(B345=\"\",G345&\" \",IF(OR(LEFT(B345,3)<>\"CSL\", AND(LEFT(B345,3)=\"CSL\",H$522=\"NO\")),\" [\"&B345&\"]\"&G345&\" \",G345&\" \"))),IF(E345=\"\",\"***TRANSLATED TEXT MISSING***\",E345&G345&\" \"))","v":"Avoid carrying out operation for more than 1 hour [OC11 ]. "},".","Y","TRA",null,"TRA"]
[null,"OC12 ","OM","Avoid carrying out operation for more than 4 hours","Avoid carrying out operation for more than 4 hours",{"$f":"IF(AND(H346=\"Y\",CSA!B$15=\"YES\"),IF(E346=\"\",\"***TRANSLATED TEXT MISSING***\",E346&IF(B346=\"\",G346&\" \",IF(OR(LEFT(B346,3)<>\"CSL\", AND(LEFT(B346,3)=\"CSL\",H$522=\"NO\")),\" [\"&B346&\"]\"&G346&\" \",G346&\" \"))),IF(E346=\"\",\"***TRANSLATED TEXT MISSING***\",E346&G346&\" \"))","v":"Avoid carrying out operation for more than 4 hours [OC12 ]. "},".","Y","TRA",null,"TRA"]
[null,"OC13","GC","Varies between milliliters (sampling) and cubic meters (material transfers)","Varies between milliliters (sampling) and cubic meters (material transfers)",{"$f":"IF(AND(H347=\"Y\",CSA!B$15=\"YES\"),IF(E347=\"\",\"***TRANSLATED TEXT MISSING***\",E347&IF(B347=\"\",G347&\" \",IF(OR(LEFT(B347,3)<>\"CSL\", AND(LEFT(B347,3)=\"CSL\",H$522=\"NO\")),\" [\"&B347&\"]\"&G347&\" \",G347&\" \"))),IF(E347=\"\",\"***TRANSLATED TEXT MISSING***\",E347&G347&\" \"))","v":"Varies between milliliters (sampling) and cubic meters (material transfers) [OC13]. "},".","Y"]
[null,"OC14","GC","Liquid, vapour pressure < 10 Pa (STP)","Liquid, vapour pressure < 10 Pa (STP)",{"$f":"IF(AND(H348=\"Y\",CSA!B$15=\"YES\"),IF(E348=\"\",\"***TRANSLATED TEXT MISSING***\",E348&IF(B348=\"\",G348&\" \",IF(OR(LEFT(B348,3)<>\"CSL\", AND(LEFT(B348,3)=\"CSL\",H$522=\"NO\")),\" [\"&B348&\"]\"&G348&\" \",G348&\" \"))),IF(E348=\"\",\"***TRANSLATED TEXT MISSING***\",E348&G348&\" \"))","v":"Liquid, vapour pressure < 10 Pa (STP) [OC14]. "},".","Y"]
[null,"OC15","GC","Liquid, vapour pressure > 10 Pa (STP)","Liquid, vapour pressure > 10 Pa (STP)",{"$f":"IF(AND(H349=\"Y\",CSA!B$15=\"YES\"),IF(E349=\"\",\"***TRANSLATED TEXT MISSING***\",E349&IF(B349=\"\",G349&\" \",IF(OR(LEFT(B349,3)<>\"CSL\", AND(LEFT(B349,3)=\"CSL\",H$522=\"NO\")),\" [\"&B349&\"]\"&G349&\" \",G349&\" \"))),IF(E349=\"\",\"***TRANSLATED TEXT MISSING***\",E349&G349&\" \"))","v":"Liquid, vapour pressure > 10 Pa (STP) [OC15]. "},".","Y"]
[null,"OC16","PM","Limit the substance content in the product to 1 % ","Limit the substance content in the product to 1 % ",{"$f":"IF(AND(H350=\"Y\",CSA!B$15=\"YES\"),IF(E350=\"\",\"***TRANSLATED TEXT MISSING***\",E350&IF(B350=\"\",G350&\" \",IF(OR(LEFT(B350,3)<>\"CSL\", AND(LEFT(B350,3)=\"CSL\",H$522=\"NO\")),\" [\"&B350&\"]\"&G350&\" \",G350&\" \"))),IF(E350=\"\",\"***TRANSLATED TEXT MISSING***\",E350&G350&\" \"))","v":"Limit the substance content in the product to 1 %  [OC16]. "},".","Y","TRA",null,"TRA"]
[null,"OC17 ","PM","Limit the substance content in the product to 5 %","Limit the substance content in the product to 5 %",{"$f":"IF(AND(H351=\"Y\",CSA!B$15=\"YES\"),IF(E351=\"\",\"***TRANSLATED TEXT MISSING***\",E351&IF(B351=\"\",G351&\" \",IF(OR(LEFT(B351,3)<>\"CSL\", AND(LEFT(B351,3)=\"CSL\",H$522=\"NO\")),\" [\"&B351&\"]\"&G351&\" \",G351&\" \"))),IF(E351=\"\",\"***TRANSLATED TEXT MISSING***\",E351&G351&\" \"))","v":"Limit the substance content in the product to 5 % [OC17 ]. "},".","Y","TRA",null,"TRA"]
[null,"OC18 ","PM","Limit the substance content in the product to 25 % ","Limit the substance content in the product to 25 % ",{"$f":"IF(AND(H352=\"Y\",CSA!B$15=\"YES\"),IF(E352=\"\",\"***TRANSLATED TEXT MISSING***\",E352&IF(B352=\"\",G352&\" \",IF(OR(LEFT(B352,3)<>\"CSL\", AND(LEFT(B352,3)=\"CSL\",H$522=\"NO\")),\" [\"&B352&\"]\"&G352&\" \",G352&\" \"))),IF(E352=\"\",\"***TRANSLATED TEXT MISSING***\",E352&G352&\" \"))","v":"Limit the substance content in the product to 25 %  [OC18 ]. "},".","Y","TRA",null,"TRA"]
[null,"OC19 ","PM","Limit the substance in product to 10 %","Limit the substance in product to 10 %",{"$f":"IF(AND(H353=\"Y\",CSA!B$15=\"YES\"),IF(E353=\"\",\"***TRANSLATED TEXT MISSING***\",E353&IF(B353=\"\",G353&\" \",IF(OR(LEFT(B353,3)<>\"CSL\", AND(LEFT(B353,3)=\"CSL\",H$522=\"NO\")),\" [\"&B353&\"]\"&G353&\" \",G353&\" \"))),IF(E353=\"\",\"***TRANSLATED TEXT MISSING***\",E353&G353&\" \"))","v":"Limit the substance in product to 10 % [OC19 ]. "},".","Y"]
[null,"OC20 ","PM","Limit the substance in product to 15 %","Limit the substance in product to 15 %",{"$f":"IF(AND(H354=\"Y\",CSA!B$15=\"YES\"),IF(E354=\"\",\"***TRANSLATED TEXT MISSING***\",E354&IF(B354=\"\",G354&\" \",IF(OR(LEFT(B354,3)<>\"CSL\", AND(LEFT(B354,3)=\"CSL\",H$522=\"NO\")),\" [\"&B354&\"]\"&G354&\" \",G354&\" \"))),IF(E354=\"\",\"***TRANSLATED TEXT MISSING***\",E354&G354&\" \"))","v":"Limit the substance in product to 15 % [OC20 ]. "},".","Y"]
[null,"OC21 ","PM","Limit the substance in product to 20 %","Limit the substance in product to 20 %",{"$f":"IF(AND(H355=\"Y\",CSA!B$15=\"YES\"),IF(E355=\"\",\"***TRANSLATED TEXT MISSING***\",E355&IF(B355=\"\",G355&\" \",IF(OR(LEFT(B355,3)<>\"CSL\", AND(LEFT(B355,3)=\"CSL\",H$522=\"NO\")),\" [\"&B355&\"]\"&G355&\" \",G355&\" \"))),IF(E355=\"\",\"***TRANSLATED TEXT MISSING***\",E355&G355&\" \"))","v":"Limit the substance in product to 20 % [OC21 ]. "},".","Y"]
[null,"OC22 ","PM","Limit the substance content in the mixture to 50 % ","Limit the substance content in the mixture to 50 % ",{"$f":"IF(AND(H356=\"Y\",CSA!B$15=\"YES\"),IF(E356=\"\",\"***TRANSLATED TEXT MISSING***\",E356&IF(B356=\"\",G356&\" \",IF(OR(LEFT(B356,3)<>\"CSL\", AND(LEFT(B356,3)=\"CSL\",H$522=\"NO\")),\" [\"&B356&\"]\"&G356&\" \",G356&\" \"))),IF(E356=\"\",\"***TRANSLATED TEXT MISSING***\",E356&G356&\" \"))","v":"Limit the substance content in the mixture to 50 %  [OC22 ]. "},".","Y"]
[null,"OC23 ","OM","Avoid carrying out operation for more than 0.5 hour","Avoid carrying out operation for more than 0.5 hour",{"$f":"IF(AND(H357=\"Y\",CSA!B$15=\"YES\"),IF(E357=\"\",\"***TRANSLATED TEXT MISSING***\",E357&IF(B357=\"\",G357&\" \",IF(OR(LEFT(B357,3)<>\"CSL\", AND(LEFT(B357,3)=\"CSL\",H$522=\"NO\")),\" [\"&B357&\"]\"&G357&\" \",G357&\" \"))),IF(E357=\"\",\"***TRANSLATED TEXT MISSING***\",E357&G357&\" \"))","v":"Avoid carrying out operation for more than 0.5 hour [OC23 ]. "},".","Y"]
[null,"OC24 ","OM","Avoid carrying out operation for more than 2 hours","Avoid carrying out operation for more than 2 hours",{"$f":"IF(AND(H358=\"Y\",CSA!B$15=\"YES\"),IF(E358=\"\",\"***TRANSLATED TEXT MISSING***\",E358&IF(B358=\"\",G358&\" \",IF(OR(LEFT(B358,3)<>\"CSL\", AND(LEFT(B358,3)=\"CSL\",H$522=\"NO\")),\" [\"&B358&\"]\"&G358&\" \",G358&\" \"))),IF(E358=\"\",\"***TRANSLATED TEXT MISSING***\",E358&G358&\" \"))","v":"Avoid carrying out operation for more than 2 hours [OC24 ]. "},".","Y"]
[null,"OC25","GC","Aerosol generation due to elevated process temperature","Aerosol generation due to elevated process temperature",{"$f":"IF(AND(H359=\"Y\",CSA!B$15=\"YES\"),IF(E359=\"\",\"***TRANSLATED TEXT MISSING***\",E359&IF(B359=\"\",G359&\" \",IF(OR(LEFT(B359,3)<>\"CSL\", AND(LEFT(B359,3)=\"CSL\",H$522=\"NO\")),\" [\"&B359&\"]\"&G359&\" \",G359&\" \"))),IF(E359=\"\",\"***TRANSLATED TEXT MISSING***\",E359&G359&\" \"))","v":"Aerosol generation due to elevated process temperature [OC25]. "},".","Y"]
[null,"OC26","OM","Avoid carrying out activities involving exposure for more than 15 minutes","Avoid carrying out activities involving exposure for more than 15 minutes",{"$f":"IF(AND(H360=\"Y\",CSA!B$15=\"YES\"),IF(E360=\"\",\"***TRANSLATED TEXT MISSING***\",E360&IF(B360=\"\",G360&\" \",IF(OR(LEFT(B360,3)<>\"CSL\", AND(LEFT(B360,3)=\"CSL\",H$522=\"NO\")),\" [\"&B360&\"]\"&G360&\" \",G360&\" \"))),IF(E360=\"\",\"***TRANSLATED TEXT MISSING***\",E360&G360&\" \"))","v":"Avoid carrying out activities involving exposure for more than 15 minutes [OC26]. "},".","Y","TRA",null,"TRA"]
[null,"OC27","OM","Avoid carrying out activities involving exposure for more than 1 hour","Avoid carrying out activities involving exposure for more than 1 hour",{"$f":"IF(AND(H361=\"Y\",CSA!B$15=\"YES\"),IF(E361=\"\",\"***TRANSLATED TEXT MISSING***\",E361&IF(B361=\"\",G361&\" \",IF(OR(LEFT(B361,3)<>\"CSL\", AND(LEFT(B361,3)=\"CSL\",H$522=\"NO\")),\" [\"&B361&\"]\"&G361&\" \",G361&\" \"))),IF(E361=\"\",\"***TRANSLATED TEXT MISSING***\",E361&G361&\" \"))","v":"Avoid carrying out activities involving exposure for more than 1 hour [OC27]. "},".","Y","TRA",null,"TRA"]
[null,"OC28","OM","Avoid carrying out activities involving exposure for more than 4 hours","Avoid carrying out activities involving exposure for more than 4 hours",{"$f":"IF(AND(H362=\"Y\",CSA!B$15=\"YES\"),IF(E362=\"\",\"***TRANSLATED TEXT MISSING***\",E362&IF(B362=\"\",G362&\" \",IF(OR(LEFT(B362,3)<>\"CSL\", AND(LEFT(B362,3)=\"CSL\",H$522=\"NO\")),\" [\"&B362&\"]\"&G362&\" \",G362&\" \"))),IF(E362=\"\",\"***TRANSLATED TEXT MISSING***\",E362&G362&\" \"))","v":"Avoid carrying out activities involving exposure for more than 4 hours [OC28]. "},".","Y","TRA",null,"TRA"]
[null,"OC29","GC","Solid at STP, liquid at elevated operating temperature, vapour pressure < 0.5 kPa ","Solid at STP, liquid at elevated operating temperature, vapour pressure < 0.5 kPa ",{"$f":"IF(AND(H363=\"Y\",CSA!B$15=\"YES\"),IF(E363=\"\",\"***TRANSLATED TEXT MISSING***\",E363&IF(B363=\"\",G363&\" \",IF(OR(LEFT(B363,3)<>\"CSL\", AND(LEFT(B363,3)=\"CSL\",H$522=\"NO\")),\" [\"&B363&\"]\"&G363&\" \",G363&\" \"))),IF(E363=\"\",\"***TRANSLATED TEXT MISSING***\",E363&G363&\" \"))","v":"Solid at STP, liquid at elevated operating temperature, vapour pressure < 0.5 kPa  [OC29]. "},".","Y",null,null,null,null,"For sulphur"]
[null,"OC30","GC","Liquid vapour pressure <0.01Pa at STP","Liquid vapour pressure <0.01Pa at STP",{"$f":"IF(AND(H364=\"Y\",CSA!B$15=\"YES\"),IF(E364=\"\",\"***TRANSLATED TEXT MISSING***\",E364&IF(B364=\"\",G364&\" \",IF(OR(LEFT(B364,3)<>\"CSL\", AND(LEFT(B364,3)=\"CSL\",H$522=\"NO\")),\" [\"&B364&\"]\"&G364&\" \",G364&\" \"))),IF(E364=\"\",\"***TRANSLATED TEXT MISSING***\",E364&G364&\" \"))","v":"Liquid vapour pressure <0.01Pa at STP [OC30]. "},".","Y"]
[null,"OC31","GC","Liquid vapour pressure <0.01Pa at STP","Liquid vapour pressure 0.01Pa - 0.5kPa at STP",{"$f":"IF(AND(H365=\"Y\",CSA!B$15=\"YES\"),IF(E365=\"\",\"***TRANSLATED TEXT MISSING***\",E365&IF(B365=\"\",G365&\" \",IF(OR(LEFT(B365,3)<>\"CSL\", AND(LEFT(B365,3)=\"CSL\",H$522=\"NO\")),\" [\"&B365&\"]\"&G365&\" \",G365&\" \"))),IF(E365=\"\",\"***TRANSLATED TEXT MISSING***\",E365&G365&\" \"))","v":"Liquid vapour pressure 0.01Pa - 0.5kPa at STP [OC31]. "},".","Y"]
["Risk management measures","E1","DM","Provide a good standard of general ventilation. Natural ventilation is from doors, windows etc. Controlled ventilation means air is supplied or removed by a powered fan","Provide a good standard of general ventilation. Natural ventilation is from doors, windows etc. Controlled ventilation means air is supplied or removed by a powered fan",{"$f":"IF(AND(H366=\"Y\",CSA!B$15=\"YES\"),IF(E366=\"\",\"***TRANSLATED TEXT MISSING***\",E366&IF(B366=\"\",G366&\" \",IF(OR(LEFT(B366,3)<>\"CSL\", AND(LEFT(B366,3)=\"CSL\",H$522=\"NO\")),\" [\"&B366&\"]\"&G366&\" \",G366&\" \"))),IF(E366=\"\",\"***TRANSLATED TEXT MISSING***\",E366&G366&\" \"))","v":"Provide a good standard of general ventilation. Natural ventilation is from doors, windows etc. Controlled ventilation means air is supplied or removed by a powered fan [E1]. "},".","Y","TRA",null,null,null,null,"Benchmarked to the TRA; RIVM factsheet ref?? (can also be applied together with LEV)"]
[null,"E2","OM","Locate bulk storage outdoors","Locate bulk storage outdoors",{"$f":"IF(AND(H367=\"Y\",CSA!B$15=\"YES\"),IF(E367=\"\",\"***TRANSLATED TEXT MISSING***\",E367&IF(B367=\"\",G367&\" \",IF(OR(LEFT(B367,3)<>\"CSL\", AND(LEFT(B367,3)=\"CSL\",H$522=\"NO\")),\" [\"&B367&\"]\"&G367&\" \",G367&\" \"))),IF(E367=\"\",\"***TRANSLATED TEXT MISSING***\",E367&G367&\" \"))","v":"Locate bulk storage outdoors [E2]. "},".","Y","TRA",null,null,null,null,"TRA (should not be applied together with LEV)"]
[null,"E3","OM","Avoid direct skin contact with product. Identify potential areas for indirect skin contact.  Wear gloves (tested to EN374) if hand contact with substance likely. Clean up contamination/spills as soon as they occur. Wash off any skin contamination immediately. Provide basic employee training to prevent / minimise exposures and to report any skin problems that may develop","Avoid direct skin contact with product. Identify potential areas for indirect skin contact.  Wear gloves (tested to EN374) if hand contact with substance likely. Clean up contamination/spills as soon as they occur. Wash off any skin contamination immediately. Provide basic employee training to prevent / minimise exposures and to report any skin problems that may develop",{"$f":"IF(AND(H368=\"Y\",CSA!B$15=\"YES\"),IF(E368=\"\",\"***TRANSLATED TEXT MISSING***\",E368&IF(B368=\"\",G368&\" \",IF(OR(LEFT(B368,3)<>\"CSL\", AND(LEFT(B368,3)=\"CSL\",H$522=\"NO\")),\" [\"&B368&\"]\"&G368&\" \",G368&\" \"))),IF(E368=\"\",\"***TRANSLATED TEXT MISSING***\",E368&G368&\" \"))","v":"Avoid direct skin contact with product. Identify potential areas for indirect skin contact.  Wear gloves (tested to EN374) if hand contact with substance likely. Clean up contamination/spills as soon as they occur. Wash off any skin contamination immediately. Provide basic employee training to prevent / minimise exposures and to report any skin problems that may develop [E3]. "},".","Y",null,null,null,null,"RMM for qualitative risk assessment of R38 skin irritants; relevant for all PROCs "]
[null,"E4","OM","Other skin protection measures such as impervious suits and face shields may be required during high dispersion activities which are likely to lead to substantial aerosol release, e.g. Spraying","Other skin protection measures such as impervious suits and face shields may be required during high dispersion activities which are likely to lead to substantial aerosol release, e.g. Spraying",{"$f":"IF(AND(H369=\"Y\",CSA!B$15=\"YES\"),IF(E369=\"\",\"***TRANSLATED TEXT MISSING***\",E369&IF(B369=\"\",G369&\" \",IF(OR(LEFT(B369,3)<>\"CSL\", AND(LEFT(B369,3)=\"CSL\",H$522=\"NO\")),\" [\"&B369&\"]\"&G369&\" \",G369&\" \"))),IF(E369=\"\",\"***TRANSLATED TEXT MISSING***\",E369&G369&\" \"))","v":"Other skin protection measures such as impervious suits and face shields may be required during high dispersion activities which are likely to lead to substantial aerosol release, e.g. Spraying [E4]. "},".","Y",null,null,null,null,"relevant for PROCs 7,11 and 17 (recognises additional risks from spraying activities)"]
[null,"E5","DM","Ensure that enough fresh air is supplied to dilute and remove dusts, fumes or vapours. Between 5 and 15 air changes per hour are recommended, with a through draught","Ensure that enough fresh air is supplied to dilute and remove dusts, fumes or vapours. Between 5 and 15 air changes per hour are recommended, with a through draught",{"$f":"IF(AND(H370=\"Y\",CSA!B$15=\"YES\"),IF(E370=\"\",\"***TRANSLATED TEXT MISSING***\",E370&IF(B370=\"\",G370&\" \",IF(OR(LEFT(B370,3)<>\"CSL\", AND(LEFT(B370,3)=\"CSL\",H$522=\"NO\")),\" [\"&B370&\"]\"&G370&\" \",G370&\" \"))),IF(E370=\"\",\"***TRANSLATED TEXT MISSING***\",E370&G370&\" \"))","v":"Ensure that enough fresh air is supplied to dilute and remove dusts, fumes or vapours. Between 5 and 15 air changes per hour are recommended, with a through draught [E5]. "},".","Y","TRA"]
[null,"E6","OM","Ensure control measures are regularly inspected and maintained","Ensure control measures are regularly inspected and maintained",{"$f":"IF(AND(H371=\"Y\",CSA!B$15=\"YES\"),IF(E371=\"\",\"***TRANSLATED TEXT MISSING***\",E371&IF(B371=\"\",G371&\" \",IF(OR(LEFT(B371,3)<>\"CSL\", AND(LEFT(B371,3)=\"CSL\",H$522=\"NO\")),\" [\"&B371&\"]\"&G371&\" \",G371&\" \"))),IF(E371=\"\",\"***TRANSLATED TEXT MISSING***\",E371&G371&\" \"))","v":"Ensure control measures are regularly inspected and maintained [E6]. "},".","Y"]
[null,"E7","OM","Minimise the volume and frequency of sampling","Minimise the volume and frequency of sampling",{"$f":"IF(AND(H372=\"Y\",CSA!B$15=\"YES\"),IF(E372=\"\",\"***TRANSLATED TEXT MISSING***\",E372&IF(B372=\"\",G372&\" \",IF(OR(LEFT(B372,3)<>\"CSL\", AND(LEFT(B372,3)=\"CSL\",H$522=\"NO\")),\" [\"&B372&\"]\"&G372&\" \",G372&\" \"))),IF(E372=\"\",\"***TRANSLATED TEXT MISSING***\",E372&G372&\" \"))","v":"Minimise the volume and frequency of sampling [E7]. "},".","Y"]
[null,"E8","PM","Sample via a closed loop or other system to avoid exposure","Sample via a closed loop or other system to avoid exposure",{"$f":"IF(AND(H373=\"Y\",CSA!B$15=\"YES\"),IF(E373=\"\",\"***TRANSLATED TEXT MISSING***\",E373&IF(B373=\"\",G373&\" \",IF(OR(LEFT(B373,3)<>\"CSL\", AND(LEFT(B373,3)=\"CSL\",H$522=\"NO\")),\" [\"&B373&\"]\"&G373&\" \",G373&\" \"))),IF(E373=\"\",\"***TRANSLATED TEXT MISSING***\",E373&G373&\" \"))","v":"Sample via a closed loop or other system to avoid exposure [E8]. "},".","Y"]
[null,"E9","OM","Put lids on containers immediately after use","Put lids on containers immediately after use.",{"$f":"IF(AND(H374=\"Y\",CSA!B$15=\"YES\"),IF(E374=\"\",\"***TRANSLATED TEXT MISSING***\",E374&IF(B374=\"\",G374&\" \",IF(OR(LEFT(B374,3)<>\"CSL\", AND(LEFT(B374,3)=\"CSL\",H$522=\"NO\")),\" [\"&B374&\"]\"&G374&\" \",G374&\" \"))),IF(E374=\"\",\"***TRANSLATED TEXT MISSING***\",E374&G374&\" \"))","v":"Put lids on containers immediately after use. [E9]. "},".","Y"]
[null,"E10","PM","Ensure dedicated sample points are provided","Ensure dedicated sample points are provided",{"$f":"IF(AND(H375=\"Y\",CSA!B$15=\"YES\"),IF(E375=\"\",\"***TRANSLATED TEXT MISSING***\",E375&IF(B375=\"\",G375&\" \",IF(OR(LEFT(B375,3)<>\"CSL\", AND(LEFT(B375,3)=\"CSL\",H$522=\"NO\")),\" [\"&B375&\"]\"&G375&\" \",G375&\" \"))),IF(E375=\"\",\"***TRANSLATED TEXT MISSING***\",E375&G375&\" \"))","v":"Ensure dedicated sample points are provided [E10]. "},".","Y"]
[null,"E11","DM","Provide a good standard of general ventilation (not less than 3 to 5 air changes per hour) ","Provide a good standard of general ventilation (not less than 3 to 5 air changes per hour) ",{"$f":"IF(AND(H376=\"Y\",CSA!B$15=\"YES\"),IF(E376=\"\",\"***TRANSLATED TEXT MISSING***\",E376&IF(B376=\"\",G376&\" \",IF(OR(LEFT(B376,3)<>\"CSL\", AND(LEFT(B376,3)=\"CSL\",H$522=\"NO\")),\" [\"&B376&\"]\"&G376&\" \",G376&\" \"))),IF(E376=\"\",\"***TRANSLATED TEXT MISSING***\",E376&G376&\" \"))","v":"Provide a good standard of general ventilation (not less than 3 to 5 air changes per hour)  [E11]. "},".","Y","TRA"]
[null,"E12","DM","Handle within a fume cupboard or implement suitable equivalent methods to minimise exposure","Handle within a fume cupboard or implement suitable equivalent methods to minimise exposure",{"$f":"IF(AND(H377=\"Y\",CSA!B$15=\"YES\"),IF(E377=\"\",\"***TRANSLATED TEXT MISSING***\",E377&IF(B377=\"\",G377&\" \",IF(OR(LEFT(B377,3)<>\"CSL\", AND(LEFT(B377,3)=\"CSL\",H$522=\"NO\")),\" [\"&B377&\"]\"&G377&\" \",G377&\" \"))),IF(E377=\"\",\"***TRANSLATED TEXT MISSING***\",E377&G377&\" \"))","v":"Handle within a fume cupboard or implement suitable equivalent methods to minimise exposure [E12]. "},".","Y"]
[null,"E13","OM","Decontaminate tools, equipment and personal protective equipment in a segregated area","Decontaminate tools, equipment and personal protective equipment in a segregated area",{"$f":"IF(AND(H378=\"Y\",CSA!B$15=\"YES\"),IF(E378=\"\",\"***TRANSLATED TEXT MISSING***\",E378&IF(B378=\"\",G378&\" \",IF(OR(LEFT(B378,3)<>\"CSL\", AND(LEFT(B378,3)=\"CSL\",H$522=\"NO\")),\" [\"&B378&\"]\"&G378&\" \",G378&\" \"))),IF(E378=\"\",\"***TRANSLATED TEXT MISSING***\",E378&G378&\" \"))","v":"Decontaminate tools, equipment and personal protective equipment in a segregated area [E13]. "},".","Y"]
[null,"E14","OM","Do not ingest. If swallowed then seek immediate medical assistance","Do not ingest. If swallowed then seek immediate medical assistance.",{"$f":"IF(AND(H379=\"Y\",CSA!B$15=\"YES\"),IF(E379=\"\",\"***TRANSLATED TEXT MISSING***\",E379&IF(B379=\"\",G379&\" \",IF(OR(LEFT(B379,3)<>\"CSL\", AND(LEFT(B379,3)=\"CSL\",H$522=\"NO\")),\" [\"&B379&\"]\"&G379&\" \",G379&\" \"))),IF(E379=\"\",\"***TRANSLATED TEXT MISSING***\",E379&G379&\" \"))","v":"Do not ingest. If swallowed then seek immediate medical assistance. [E14]. "},".","Y",null,null,null,null,"Phrase for use with R65 (aspiration hazard); for use in the main sections to the SDS"]
[null,"E15",null,null,null,{"$f":"IF(AND(H380=\"Y\",CSA!B$15=\"YES\"),IF(E380=\"\",\"***TRANSLATED TEXT MISSING***\",E380&IF(B380=\"\",G380&\" \",IF(OR(LEFT(B380,3)<>\"CSL\", AND(LEFT(B380,3)=\"CSL\",H$522=\"NO\")),\" [\"&B380&\"]\"&G380&\" \",G380&\" \"))),IF(E380=\"\",\"***TRANSLATED TEXT MISSING***\",E380&G380&\" \"))","v":"***TRANSLATED TEXT MISSING***"},".","Y"]
[null,"E23","OM","Label feed lines","Label feed lines",{"$f":"IF(AND(H381=\"Y\",CSA!B$15=\"YES\"),IF(E381=\"\",\"***TRANSLATED TEXT MISSING***\",E381&IF(B381=\"\",G381&\" \",IF(OR(LEFT(B381,3)<>\"CSL\", AND(LEFT(B381,3)=\"CSL\",H$522=\"NO\")),\" [\"&B381&\"]\"&G381&\" \",G381&\" \"))),IF(E381=\"\",\"***TRANSLATED TEXT MISSING***\",E381&G381&\" \"))","v":"Label feed lines [E23]. "},".","Y"]
[null,"E39","PM","Clear transfer lines prior to de-coupling","Clear transfer lines prior to de-coupling",{"$f":"IF(AND(H382=\"Y\",CSA!B$15=\"YES\"),IF(E382=\"\",\"***TRANSLATED TEXT MISSING***\",E382&IF(B382=\"\",G382&\" \",IF(OR(LEFT(B382,3)<>\"CSL\", AND(LEFT(B382,3)=\"CSL\",H$522=\"NO\")),\" [\"&B382&\"]\"&G382&\" \",G382&\" \"))),IF(E382=\"\",\"***TRANSLATED TEXT MISSING***\",E382&G382&\" \"))","v":"Clear transfer lines prior to de-coupling [E39]. "},".","Y"]
[null,"E40","DM","Provide a good standard of controlled ventilation (10 to 15 air changes per hour)","Provide a good standard of controlled ventilation (10 to 15 air changes per hour)",{"$f":"IF(AND(H383=\"Y\",CSA!B$15=\"YES\"),IF(E383=\"\",\"***TRANSLATED TEXT MISSING***\",E383&IF(B383=\"\",G383&\" \",IF(OR(LEFT(B383,3)<>\"CSL\", AND(LEFT(B383,3)=\"CSL\",H$522=\"NO\")),\" [\"&B383&\"]\"&G383&\" \",G383&\" \"))),IF(E383=\"\",\"***TRANSLATED TEXT MISSING***\",E383&G383&\" \"))","v":"Provide a good standard of controlled ventilation (10 to 15 air changes per hour) [E40]. "},".","Y","TRA",null,null,null,null,"Benchmarked to the TRA; RIVM factsheet ref?? (can also be applied together with LEV)"]
[null,"E41","PM","Use in semi-automated and predominantly enclosed filling lines","Use in semi-automated and predominantly enclosed filling lines",{"$f":"IF(AND(H384=\"Y\",CSA!B$15=\"YES\"),IF(E384=\"\",\"***TRANSLATED TEXT MISSING***\",E384&IF(B384=\"\",G384&\" \",IF(OR(LEFT(B384,3)<>\"CSL\", AND(LEFT(B384,3)=\"CSL\",H$522=\"NO\")),\" [\"&B384&\"]\"&G384&\" \",G384&\" \"))),IF(E384=\"\",\"***TRANSLATED TEXT MISSING***\",E384&G384&\" \"))","v":"Use in semi-automated and predominantly enclosed filling lines [E41]. "},".","Y"]
[null,"E42","PM","Avoid dip sampling","Avoid dip sampling",{"$f":"IF(AND(H385=\"Y\",CSA!B$15=\"YES\"),IF(E385=\"\",\"***TRANSLATED TEXT MISSING***\",E385&IF(B385=\"\",G385&\" \",IF(OR(LEFT(B385,3)<>\"CSL\", AND(LEFT(B385,3)=\"CSL\",H$522=\"NO\")),\" [\"&B385&\"]\"&G385&\" \",G385&\" \"))),IF(E385=\"\",\"***TRANSLATED TEXT MISSING***\",E385&G385&\" \"))","v":"Avoid dip sampling [E42]. "},".","Y"]
[null,"E43","PM","Use bulk or semi-bulk handling systems ","Use bulk or semi-bulk handling systems ",{"$f":"IF(AND(H386=\"Y\",CSA!B$15=\"YES\"),IF(E386=\"\",\"***TRANSLATED TEXT MISSING***\",E386&IF(B386=\"\",G386&\" \",IF(OR(LEFT(B386,3)<>\"CSL\", AND(LEFT(B386,3)=\"CSL\",H$522=\"NO\")),\" [\"&B386&\"]\"&G386&\" \",G386&\" \"))),IF(E386=\"\",\"***TRANSLATED TEXT MISSING***\",E386&G386&\" \"))","v":"Use bulk or semi-bulk handling systems  [E43]. "},".","Y"]
[null,"E44","PM","Discharge sacks via suitable vented charge chute","Discharge sacks via suitable vented charge chute",{"$f":"IF(AND(H387=\"Y\",CSA!B$15=\"YES\"),IF(E387=\"\",\"***TRANSLATED TEXT MISSING***\",E387&IF(B387=\"\",G387&\" \",IF(OR(LEFT(B387,3)<>\"CSL\", AND(LEFT(B387,3)=\"CSL\",H$522=\"NO\")),\" [\"&B387&\"]\"&G387&\" \",G387&\" \"))),IF(E387=\"\",\"***TRANSLATED TEXT MISSING***\",E387&G387&\" \"))","v":"Discharge sacks via suitable vented charge chute [E44]. "},".","Y"]
[null,"E45","PM","Transfer materials directly to mixing vessels ","Transfer materials directly to mixing vessels",{"$f":"IF(AND(H388=\"Y\",CSA!B$15=\"YES\"),IF(E388=\"\",\"***TRANSLATED TEXT MISSING***\",E388&IF(B388=\"\",G388&\" \",IF(OR(LEFT(B388,3)<>\"CSL\", AND(LEFT(B388,3)=\"CSL\",H$522=\"NO\")),\" [\"&B388&\"]\"&G388&\" \",G388&\" \"))),IF(E388=\"\",\"***TRANSLATED TEXT MISSING***\",E388&G388&\" \"))","v":"Transfer materials directly to mixing vessels [E45]. "},".","Y"]
[null,"E46","PM","Formulate in enclosed or ventilated mixing vessels ","Formulate in enclosed or ventilated mixing vessels",{"$f":"IF(AND(H389=\"Y\",CSA!B$15=\"YES\"),IF(E389=\"\",\"***TRANSLATED TEXT MISSING***\",E389&IF(B389=\"\",G389&\" \",IF(OR(LEFT(B389,3)<>\"CSL\", AND(LEFT(B389,3)=\"CSL\",H$522=\"NO\")),\" [\"&B389&\"]\"&G389&\" \",G389&\" \"))),IF(E389=\"\",\"***TRANSLATED TEXT MISSING***\",E389&G389&\" \"))","v":"Formulate in enclosed or ventilated mixing vessels [E46]. "},".","Y"]
[null,"E47","PM","Handle substance within a closed system","Handle substance within a closed system",{"$f":"IF(AND(H390=\"Y\",CSA!B$15=\"YES\"),IF(E390=\"\",\"***TRANSLATED TEXT MISSING***\",E390&IF(B390=\"\",G390&\" \",IF(OR(LEFT(B390,3)<>\"CSL\", AND(LEFT(B390,3)=\"CSL\",H$522=\"NO\")),\" [\"&B390&\"]\"&G390&\" \",G390&\" \"))),IF(E390=\"\",\"***TRANSLATED TEXT MISSING***\",E390&G390&\" \"))","v":"Handle substance within a closed system [E47]. "},".","Y"]
[null,"E48","DM","Provide enhanced general ventilation by mechanical means","Provide enhanced general ventilation by mechanical means",{"$f":"IF(AND(H391=\"Y\",CSA!B$15=\"YES\"),IF(E391=\"\",\"***TRANSLATED TEXT MISSING***\",E391&IF(B391=\"\",G391&\" \",IF(OR(LEFT(B391,3)<>\"CSL\", AND(LEFT(B391,3)=\"CSL\",H$522=\"NO\")),\" [\"&B391&\"]\"&G391&\" \",G391&\" \"))),IF(E391=\"\",\"***TRANSLATED TEXT MISSING***\",E391&G391&\" \"))","v":"Provide enhanced general ventilation by mechanical means [E48]. "},".","Y","TRA",null,null,null,null,"ACGIH Industrial Ventilation Manual (??? ach); (can also be applied together with LEV)"]
[null,"E49","PM","Handle substance within a predominantly closed system provided with extract ventilation","Handle substance within a predominantly closed system provided with extract ventilation",{"$f":"IF(AND(H392=\"Y\",CSA!B$15=\"YES\"),IF(E392=\"\",\"***TRANSLATED TEXT MISSING***\",E392&IF(B392=\"\",G392&\" \",IF(OR(LEFT(B392,3)<>\"CSL\", AND(LEFT(B392,3)=\"CSL\",H$522=\"NO\")),\" [\"&B392&\"]\"&G392&\" \",G392&\" \"))),IF(E392=\"\",\"***TRANSLATED TEXT MISSING***\",E392&G392&\" \"))","v":"Handle substance within a predominantly closed system provided with extract ventilation [E49]. "},".","Y","TRA",null,null,"TRA"]
[null,"E50","OM","Use long handled tools where possible","Use long handled tools where possible",{"$f":"IF(AND(H393=\"Y\",CSA!B$15=\"YES\"),IF(E393=\"\",\"***TRANSLATED TEXT MISSING***\",E393&IF(B393=\"\",G393&\" \",IF(OR(LEFT(B393,3)<>\"CSL\", AND(LEFT(B393,3)=\"CSL\",H$522=\"NO\")),\" [\"&B393&\"]\"&G393&\" \",G393&\" \"))),IF(E393=\"\",\"***TRANSLATED TEXT MISSING***\",E393&G393&\" \"))","v":"Use long handled tools where possible [E50]. "},".","Y"]
[null,"E51","PM","Fill containers/cans at dedicated fill points supplied with local extract ventilation","Fill containers/cans at dedicated fill points supplied with local extract ventilation",{"$f":"IF(AND(H394=\"Y\",CSA!B$15=\"YES\"),IF(E394=\"\",\"***TRANSLATED TEXT MISSING***\",E394&IF(B394=\"\",G394&\" \",IF(OR(LEFT(B394,3)<>\"CSL\", AND(LEFT(B394,3)=\"CSL\",H$522=\"NO\")),\" [\"&B394&\"]\"&G394&\" \",G394&\" \"))),IF(E394=\"\",\"***TRANSLATED TEXT MISSING***\",E394&G394&\" \"))","v":"Fill containers/cans at dedicated fill points supplied with local extract ventilation [E51]. "},".","Y","TRA",null,null,"TRA"]
[null,"E52","PM","Transfer via enclosed lines","Transfer via enclosed lines",{"$f":"IF(AND(H395=\"Y\",CSA!B$15=\"YES\"),IF(E395=\"\",\"***TRANSLATED TEXT MISSING***\",E395&IF(B395=\"\",G395&\" \",IF(OR(LEFT(B395,3)<>\"CSL\", AND(LEFT(B395,3)=\"CSL\",H$522=\"NO\")),\" [\"&B395&\"]\"&G395&\" \",G395&\" \"))),IF(E395=\"\",\"***TRANSLATED TEXT MISSING***\",E395&G395&\" \"))","v":"Transfer via enclosed lines [E52]. "},".","Y",null,null,null,null,null,"(only applies to bulk applications)"]
[null,"E53","PM","Use drum pumps","Use drum pumps",{"$f":"IF(AND(H396=\"Y\",CSA!B$15=\"YES\"),IF(E396=\"\",\"***TRANSLATED TEXT MISSING***\",E396&IF(B396=\"\",G396&\" \",IF(OR(LEFT(B396,3)<>\"CSL\", AND(LEFT(B396,3)=\"CSL\",H$522=\"NO\")),\" [\"&B396&\"]\"&G396&\" \",G396&\" \"))),IF(E396=\"\",\"***TRANSLATED TEXT MISSING***\",E396&G396&\" \"))","v":"Use drum pumps [E53]. "},".","Y",null,null,null,null,null,"Equivalent to a contained transfer (only applicable for material transfers)"]
[null,"E54","DM","Provide extract ventilation to points where emissions occur","Provide extract ventilation to points where emissions occur",{"$f":"IF(AND(H397=\"Y\",CSA!B$15=\"YES\"),IF(E397=\"\",\"***TRANSLATED TEXT MISSING***\",E397&IF(B397=\"\",G397&\" \",IF(OR(LEFT(B397,3)<>\"CSL\", AND(LEFT(B397,3)=\"CSL\",H$522=\"NO\")),\" [\"&B397&\"]\"&G397&\" \",G397&\" \"))),IF(E397=\"\",\"***TRANSLATED TEXT MISSING***\",E397&G397&\" \"))","v":"Provide extract ventilation to points where emissions occur [E54]. "},".","Y","TRA",null,null,"TRA",null,"TRA"]
[null,"E55","PM","Drain down and flush system prior to equipment break-in or maintenance ","Drain down and flush system prior to equipment break-in or maintenance ",{"$f":"IF(AND(H398=\"Y\",CSA!B$15=\"YES\"),IF(E398=\"\",\"***TRANSLATED TEXT MISSING***\",E398&IF(B398=\"\",G398&\" \",IF(OR(LEFT(B398,3)<>\"CSL\", AND(LEFT(B398,3)=\"CSL\",H$522=\"NO\")),\" [\"&B398&\"]\"&G398&\" \",G398&\" \"))),IF(E398=\"\",\"***TRANSLATED TEXT MISSING***\",E398&G398&\" \"))","v":"Drain down and flush system prior to equipment break-in or maintenance  [E55]. "},".","Y"]
[null,"E56","DM","Use ventilation to extract vapours from freshly coated articles/objects and surfaces","Use ventilation to extract vapours from freshly coated articles/objects and surfaces",{"$f":"IF(AND(H399=\"Y\",CSA!B$15=\"YES\"),IF(E399=\"\",\"***TRANSLATED TEXT MISSING***\",E399&IF(B399=\"\",G399&\" \",IF(OR(LEFT(B399,3)<>\"CSL\", AND(LEFT(B399,3)=\"CSL\",H$522=\"NO\")),\" [\"&B399&\"]\"&G399&\" \",G399&\" \"))),IF(E399=\"\",\"***TRANSLATED TEXT MISSING***\",E399&G399&\" \"))","v":"Use ventilation to extract vapours from freshly coated articles/objects and surfaces [E56]. "},".","Y","TRA",null,null,"TRA",null,"TRA"]
[null,"E57","DM","Carry out in a vented booth or extracted enclosure","Carry out in a vented booth or extracted enclosure",{"$f":"IF(AND(H400=\"Y\",CSA!B$15=\"YES\"),IF(E400=\"\",\"***TRANSLATED TEXT MISSING***\",E400&IF(B400=\"\",G400&\" \",IF(OR(LEFT(B400,3)<>\"CSL\", AND(LEFT(B400,3)=\"CSL\",H$522=\"NO\")),\" [\"&B400&\"]\"&G400&\" \",G400&\" \"))),IF(E400=\"\",\"***TRANSLATED TEXT MISSING***\",E400&G400&\" \"))","v":"Carry out in a vented booth or extracted enclosure [E57]. "},".","Y","TRA",null,null,"TRA"]
[null,"E58","DM","Use long handled brushes and rollers where possible.","Use long handled brushes and rollers where possible.",{"$f":"IF(AND(H401=\"Y\",CSA!B$15=\"YES\"),IF(E401=\"\",\"***TRANSLATED TEXT MISSING***\",E401&IF(B401=\"\",G401&\" \",IF(OR(LEFT(B401,3)<>\"CSL\", AND(LEFT(B401,3)=\"CSL\",H$522=\"NO\")),\" [\"&B401&\"]\"&G401&\" \",G401&\" \"))),IF(E401=\"\",\"***TRANSLATED TEXT MISSING***\",E401&G401&\" \"))","v":"Use long handled brushes and rollers where possible. [E58]. "},".","Y"]
[null,"E59","DM","Carry out in a vented booth provided with laminar airflow","Carry out in a vented booth provided with laminar airflow",{"$f":"IF(AND(H402=\"Y\",CSA!B$15=\"YES\"),IF(E402=\"\",\"***TRANSLATED TEXT MISSING***\",E402&IF(B402=\"\",G402&\" \",IF(OR(LEFT(B402,3)<>\"CSL\", AND(LEFT(B402,3)=\"CSL\",H$522=\"NO\")),\" [\"&B402&\"]\"&G402&\" \",G402&\" \"))),IF(E402=\"\",\"***TRANSLATED TEXT MISSING***\",E402&G402&\" \"))","v":"Carry out in a vented booth provided with laminar airflow [E59]. "},".","Y"]
[null,"E60","DM","Minimise exposure by partial enclosure of the operation or equipment and provide extract ventilation at openings","Minimise exposure by partial enclosure of the operation or equipment and provide extract ventilation at openings",{"$f":"IF(AND(H403=\"Y\",CSA!B$15=\"YES\"),IF(E403=\"\",\"***TRANSLATED TEXT MISSING***\",E403&IF(B403=\"\",G403&\" \",IF(OR(LEFT(B403,3)<>\"CSL\", AND(LEFT(B403,3)=\"CSL\",H$522=\"NO\")),\" [\"&B403&\"]\"&G403&\" \",G403&\" \"))),IF(E403=\"\",\"***TRANSLATED TEXT MISSING***\",E403&G403&\" \"))","v":"Minimise exposure by partial enclosure of the operation or equipment and provide extract ventilation at openings [E60]. "},".","Y","TRA",null,null,"TRA"]
[null,"E61","DM","Minimise exposure by extracted full enclosure for the operation or equipment ","Minimise exposure by extracted full enclosure for the operation or equipment ",{"$f":"IF(AND(H404=\"Y\",CSA!B$15=\"YES\"),IF(E404=\"\",\"***TRANSLATED TEXT MISSING***\",E404&IF(B404=\"\",G404&\" \",IF(OR(LEFT(B404,3)<>\"CSL\", AND(LEFT(B404,3)=\"CSL\",H$522=\"NO\")),\" [\"&B404&\"]\"&G404&\" \",G404&\" \"))),IF(E404=\"\",\"***TRANSLATED TEXT MISSING***\",E404&G404&\" \"))","v":"Minimise exposure by extracted full enclosure for the operation or equipment  [E61]. "},".","Y","TRA",null,null,"TRA"]
[null,"E62","OM","Carefully pour from containers.","Carefully pour from containers.",{"$f":"IF(AND(H405=\"Y\",CSA!B$15=\"YES\"),IF(E405=\"\",\"***TRANSLATED TEXT MISSING***\",E405&IF(B405=\"\",G405&\" \",IF(OR(LEFT(B405,3)<>\"CSL\", AND(LEFT(B405,3)=\"CSL\",H$522=\"NO\")),\" [\"&B405&\"]\"&G405&\" \",G405&\" \"))),IF(E405=\"\",\"***TRANSLATED TEXT MISSING***\",E405&G405&\" \"))","v":"Carefully pour from containers. [E62]. "},".","Y"]
[null,"E63","OM","Segregate the activity away from other operations ","Segregate the activity away from other operations ",{"$f":"IF(AND(H406=\"Y\",CSA!B$15=\"YES\"),IF(E406=\"\",\"***TRANSLATED TEXT MISSING***\",E406&IF(B406=\"\",G406&\" \",IF(OR(LEFT(B406,3)<>\"CSL\", AND(LEFT(B406,3)=\"CSL\",H$522=\"NO\")),\" [\"&B406&\"]\"&G406&\" \",G406&\" \"))),IF(E406=\"\",\"***TRANSLATED TEXT MISSING***\",E406&G406&\" \"))","v":"Segregate the activity away from other operations  [E63]. "},".","Y"]
[null,"E64","PM","Use drum pumps or carefully pour from container","Use drum pumps or carefully pour from container",{"$f":"IF(AND(H407=\"Y\",CSA!B$15=\"YES\"),IF(E407=\"\",\"***TRANSLATED TEXT MISSING***\",E407&IF(B407=\"\",G407&\" \",IF(OR(LEFT(B407,3)<>\"CSL\", AND(LEFT(B407,3)=\"CSL\",H$522=\"NO\")),\" [\"&B407&\"]\"&G407&\" \",G407&\" \"))),IF(E407=\"\",\"***TRANSLATED TEXT MISSING***\",E407&G407&\" \"))","v":"Use drum pumps or carefully pour from container [E64]. "},".","Y"]
[null,"E65","PM","Drain down system prior to equipment break-in or maintenance ","Drain down system prior to equipment break-in or maintenance ",{"$f":"IF(AND(H408=\"Y\",CSA!B$15=\"YES\"),IF(E408=\"\",\"***TRANSLATED TEXT MISSING***\",E408&IF(B408=\"\",G408&\" \",IF(OR(LEFT(B408,3)<>\"CSL\", AND(LEFT(B408,3)=\"CSL\",H$522=\"NO\")),\" [\"&B408&\"]\"&G408&\" \",G408&\" \"))),IF(E408=\"\",\"***TRANSLATED TEXT MISSING***\",E408&G408&\" \"))","v":"Drain down system prior to equipment break-in or maintenance  [E65]. "},".","Y"]
[null,"E66","DM","Ensure material transfers are under containment or extract ventilation","Ensure material transfers are under containment or extract ventilation",{"$f":"IF(AND(H409=\"Y\",CSA!B$15=\"YES\"),IF(E409=\"\",\"***TRANSLATED TEXT MISSING***\",E409&IF(B409=\"\",G409&\" \",IF(OR(LEFT(B409,3)<>\"CSL\", AND(LEFT(B409,3)=\"CSL\",H$522=\"NO\")),\" [\"&B409&\"]\"&G409&\" \",G409&\" \"))),IF(E409=\"\",\"***TRANSLATED TEXT MISSING***\",E409&G409&\" \"))","v":"Ensure material transfers are under containment or extract ventilation [E66]. "},".","Y","TRA",null,null,"TRA"]
[null,"E67","DM","Provide extract ventilation to emission points when contact with warm (>50oC) lubricant is likely","Provide extract ventilation to emission points when contact with warm (>50oC) lubricant is likely",{"$f":"IF(AND(H410=\"Y\",CSA!B$15=\"YES\"),IF(E410=\"\",\"***TRANSLATED TEXT MISSING***\",E410&IF(B410=\"\",G410&\" \",IF(OR(LEFT(B410,3)<>\"CSL\", AND(LEFT(B410,3)=\"CSL\",H$522=\"NO\")),\" [\"&B410&\"]\"&G410&\" \",G410&\" \"))),IF(E410=\"\",\"***TRANSLATED TEXT MISSING***\",E410&G410&\" \"))","v":"Provide extract ventilation to emission points when contact with warm (>50oC) lubricant is likely [E67]. "},".","Y"]
[null,"E68","PM","Restrict area of openings to equipment ","Restrict area of openings to equipment ",{"$f":"IF(AND(H411=\"Y\",CSA!B$15=\"YES\"),IF(E411=\"\",\"***TRANSLATED TEXT MISSING***\",E411&IF(B411=\"\",G411&\" \",IF(OR(LEFT(B411,3)<>\"CSL\", AND(LEFT(B411,3)=\"CSL\",H$522=\"NO\")),\" [\"&B411&\"]\"&G411&\" \",G411&\" \"))),IF(E411=\"\",\"***TRANSLATED TEXT MISSING***\",E411&G411&\" \"))","v":"Restrict area of openings to equipment  [E68]. "},".","Y"]
[null,"E69","DM","Ensure operation is undertaken outdoors ","Ensure operation is undertaken outdoors ",{"$f":"IF(AND(H412=\"Y\",CSA!B$15=\"YES\"),IF(E412=\"\",\"***TRANSLATED TEXT MISSING***\",E412&IF(B412=\"\",G412&\" \",IF(OR(LEFT(B412,3)<>\"CSL\", AND(LEFT(B412,3)=\"CSL\",H$522=\"NO\")),\" [\"&B412&\"]\"&G412&\" \",G412&\" \"))),IF(E412=\"\",\"***TRANSLATED TEXT MISSING***\",E412&G412&\" \"))","v":"Ensure operation is undertaken outdoors  [E69]. "},".","Y","TRA"]
[null,"E70","DM","Apply within a vented cab supplied with filtered air under positive pressure and with a protection factor of >20","Apply within a vented cab supplied with filtered air under positive pressure and with a protection factor of >20",{"$f":"IF(AND(H413=\"Y\",CSA!B$15=\"YES\"),IF(E413=\"\",\"***TRANSLATED TEXT MISSING***\",E413&IF(B413=\"\",G413&\" \",IF(OR(LEFT(B413,3)<>\"CSL\", AND(LEFT(B413,3)=\"CSL\",H$522=\"NO\")),\" [\"&B413&\"]\"&G413&\" \",G413&\" \"))),IF(E413=\"\",\"***TRANSLATED TEXT MISSING***\",E413&G413&\" \"))","v":"Apply within a vented cab supplied with filtered air under positive pressure and with a protection factor of >20 [E70]. "},".","Y"]
[null,"E71","DM","Provide the operation with a properly sited receiving hood","Provide the operation with a properly sited receiving hood",{"$f":"IF(AND(H414=\"Y\",CSA!B$15=\"YES\"),IF(E414=\"\",\"***TRANSLATED TEXT MISSING***\",E414&IF(B414=\"\",G414&\" \",IF(OR(LEFT(B414,3)<>\"CSL\", AND(LEFT(B414,3)=\"CSL\",H$522=\"NO\")),\" [\"&B414&\"]\"&G414&\" \",G414&\" \"))),IF(E414=\"\",\"***TRANSLATED TEXT MISSING***\",E414&G414&\" \"))","v":"Provide the operation with a properly sited receiving hood [E71]. "},".","Y","TRA",null,null,"TRA"]
[null,"E72","OM","Ensure doors and windows are opened ","Ensure doors and windows are opened ",{"$f":"IF(AND(H415=\"Y\",CSA!B$15=\"YES\"),IF(E415=\"\",\"***TRANSLATED TEXT MISSING***\",E415&IF(B415=\"\",G415&\" \",IF(OR(LEFT(B415,3)<>\"CSL\", AND(LEFT(B415,3)=\"CSL\",H$522=\"NO\")),\" [\"&B415&\"]\"&G415&\" \",G415&\" \"))),IF(E415=\"\",\"***TRANSLATED TEXT MISSING***\",E415&G415&\" \"))","v":"Ensure doors and windows are opened  [E72]. "},".","Y"]
[null,"E73","OM","Avoid direct eye contact with product, also via contamination on hands.","Avoid direct eye contact with product, also via contamination on hands",{"$f":"IF(AND(H416=\"Y\",CSA!B$15=\"YES\"),IF(E416=\"\",\"***TRANSLATED TEXT MISSING***\",E416&IF(B416=\"\",G416&\" \",IF(OR(LEFT(B416,3)<>\"CSL\", AND(LEFT(B416,3)=\"CSL\",H$522=\"NO\")),\" [\"&B416&\"]\"&G416&\" \",G416&\" \"))),IF(E416=\"\",\"***TRANSLATED TEXT MISSING***\",E416&G416&\" \"))","v":"Avoid direct eye contact with product, also via contamination on hands [E73]. "},".","Y"]
[null,"E74","OM","Ensure the ventilation system is regularly maintained and tested","Ensure the ventilation system is regularly maintained and tested",{"$f":"IF(AND(H417=\"Y\",CSA!B$15=\"YES\"),IF(E417=\"\",\"***TRANSLATED TEXT MISSING***\",E417&IF(B417=\"\",G417&\" \",IF(OR(LEFT(B417,3)<>\"CSL\", AND(LEFT(B417,3)=\"CSL\",H$522=\"NO\")),\" [\"&B417&\"]\"&G417&\" \",G417&\" \"))),IF(E417=\"\",\"***TRANSLATED TEXT MISSING***\",E417&G417&\" \"))","v":"Ensure the ventilation system is regularly maintained and tested [E74]. "},".","Y"]
[null,"E75","PM","Use dry break couplings for material transfer ","Use dry break couplings for material transfer ",{"$f":"IF(AND(H418=\"Y\",CSA!B$15=\"YES\"),IF(E418=\"\",\"***TRANSLATED TEXT MISSING***\",E418&IF(B418=\"\",G418&\" \",IF(OR(LEFT(B418,3)<>\"CSL\", AND(LEFT(B418,3)=\"CSL\",H$522=\"NO\")),\" [\"&B418&\"]\"&G418&\" \",G418&\" \"))),IF(E418=\"\",\"***TRANSLATED TEXT MISSING***\",E418&G418&\" \"))","v":"Use dry break couplings for material transfer  [E75]. "},".","Y"]
[null,"E76","DM","Ensure samples are obtained under containment or extract ventilation","Ensure samples are obtained under containment or extract ventilation",{"$f":"IF(AND(H419=\"Y\",CSA!B$15=\"YES\"),IF(E419=\"\",\"***TRANSLATED TEXT MISSING***\",E419&IF(B419=\"\",G419&\" \",IF(OR(LEFT(B419,3)<>\"CSL\", AND(LEFT(B419,3)=\"CSL\",H$522=\"NO\")),\" [\"&B419&\"]\"&G419&\" \",G419&\" \"))),IF(E419=\"\",\"***TRANSLATED TEXT MISSING***\",E419&G419&\" \"))","v":"Ensure samples are obtained under containment or extract ventilation [E76]. "},".","Y","TRA",null,null,"TRA"]
[null,"E77","DM","Operate activity away from sources of substance emission or release","Operate activity away from sources of substance emission or release",{"$f":"IF(AND(H420=\"Y\",CSA!B$15=\"YES\"),IF(E420=\"\",\"***TRANSLATED TEXT MISSING***\",E420&IF(B420=\"\",G420&\" \",IF(OR(LEFT(B420,3)<>\"CSL\", AND(LEFT(B420,3)=\"CSL\",H$522=\"NO\")),\" [\"&B420&\"]\"&G420&\" \",G420&\" \"))),IF(E420=\"\",\"***TRANSLATED TEXT MISSING***\",E420&G420&\" \"))","v":"Operate activity away from sources of substance emission or release [E77]. "},".","Y"]
[null,"E78",null,null,null,{"$f":"IF(AND(H421=\"Y\",CSA!B$15=\"YES\"),IF(E421=\"\",\"***TRANSLATED TEXT MISSING***\",E421&IF(B421=\"\",G421&\" \",IF(OR(LEFT(B421,3)<>\"CSL\", AND(LEFT(B421,3)=\"CSL\",H$522=\"NO\")),\" [\"&B421&\"]\"&G421&\" \",G421&\" \"))),IF(E421=\"\",\"***TRANSLATED TEXT MISSING***\",E421&G421&\" \"))","v":"***TRANSLATED TEXT MISSING***"},".","Y"]
[null,"E79",null,null,null,{"$f":"IF(AND(H422=\"Y\",CSA!B$15=\"YES\"),IF(E422=\"\",\"***TRANSLATED TEXT MISSING***\",E422&IF(B422=\"\",G422&\" \",IF(OR(LEFT(B422,3)<>\"CSL\", AND(LEFT(B422,3)=\"CSL\",H$522=\"NO\")),\" [\"&B422&\"]\"&G422&\" \",G422&\" \"))),IF(E422=\"\",\"***TRANSLATED TEXT MISSING***\",E422&G422&\" \"))","v":"***TRANSLATED TEXT MISSING***"},".","Y"]
[null,"E80",null,null,null,{"$f":"IF(AND(H423=\"Y\",CSA!B$15=\"YES\"),IF(E423=\"\",\"***TRANSLATED TEXT MISSING***\",E423&IF(B423=\"\",G423&\" \",IF(OR(LEFT(B423,3)<>\"CSL\", AND(LEFT(B423,3)=\"CSL\",H$522=\"NO\")),\" [\"&B423&\"]\"&G423&\" \",G423&\" \"))),IF(E423=\"\",\"***TRANSLATED TEXT MISSING***\",E423&G423&\" \"))","v":"***TRANSLATED TEXT MISSING***"},".","Y"]
[null,"E81","DM","Drain or remove substance from equipment prior to break-in or maintenance ","Drain or remove substance from equipment prior to break-in or maintenance ",{"$f":"IF(AND(H424=\"Y\",CSA!B$15=\"YES\"),IF(E424=\"\",\"***TRANSLATED TEXT MISSING***\",E424&IF(B424=\"\",G424&\" \",IF(OR(LEFT(B424,3)<>\"CSL\", AND(LEFT(B424,3)=\"CSL\",H$522=\"NO\")),\" [\"&B424&\"]\"&G424&\" \",G424&\" \"))),IF(E424=\"\",\"***TRANSLATED TEXT MISSING***\",E424&G424&\" \"))","v":"Drain or remove substance from equipment prior to break-in or maintenance  [E81]. "},".","Y"]
[null,"E82","DM","Provide extract ventilation to material transfer points and other openings","Provide extract ventilation to material transfer points and other openings",{"$f":"IF(AND(H425=\"Y\",CSA!B$15=\"YES\"),IF(E425=\"\",\"***TRANSLATED TEXT MISSING***\",E425&IF(B425=\"\",G425&\" \",IF(OR(LEFT(B425,3)<>\"CSL\", AND(LEFT(B425,3)=\"CSL\",H$522=\"NO\")),\" [\"&B425&\"]\"&G425&\" \",G425&\" \"))),IF(E425=\"\",\"***TRANSLATED TEXT MISSING***\",E425&G425&\" \"))","v":"Provide extract ventilation to material transfer points and other openings [E82]. "},".","Y","TRA",null,null,"TRA"]
[null,"E83","DM","Handle in a fume cupboard or under extract ventilation","Handle in a fume cupboard or under extract ventilation",{"$f":"IF(AND(H426=\"Y\",CSA!B$15=\"YES\"),IF(E426=\"\",\"***TRANSLATED TEXT MISSING***\",E426&IF(B426=\"\",G426&\" \",IF(OR(LEFT(B426,3)<>\"CSL\", AND(LEFT(B426,3)=\"CSL\",H$522=\"NO\")),\" [\"&B426&\"]\"&G426&\" \",G426&\" \"))),IF(E426=\"\",\"***TRANSLATED TEXT MISSING***\",E426&G426&\" \"))","v":"Handle in a fume cupboard or under extract ventilation [E83]. "},".","Y","TRA",null,null,"TRA"]
[null,"E84","DM","Store substance within a closed system","Store substance within a closed system",{"$f":"IF(AND(H427=\"Y\",CSA!B$15=\"YES\"),IF(E427=\"\",\"***TRANSLATED TEXT MISSING***\",E427&IF(B427=\"\",G427&\" \",IF(OR(LEFT(B427,3)<>\"CSL\", AND(LEFT(B427,3)=\"CSL\",H$522=\"NO\")),\" [\"&B427&\"]\"&G427&\" \",G427&\" \"))),IF(E427=\"\",\"***TRANSLATED TEXT MISSING***\",E427&G427&\" \"))","v":"Store substance within a closed system [E84]. "},".","Y"]
[null,"E85","DM","Use dedicated equipment","Use dedicated equipment",{"$f":"IF(AND(H428=\"Y\",CSA!B$15=\"YES\"),IF(E428=\"\",\"***TRANSLATED TEXT MISSING***\",E428&IF(B428=\"\",G428&\" \",IF(OR(LEFT(B428,3)<>\"CSL\", AND(LEFT(B428,3)=\"CSL\",H$522=\"NO\")),\" [\"&B428&\"]\"&G428&\" \",G428&\" \"))),IF(E428=\"\",\"***TRANSLATED TEXT MISSING***\",E428&G428&\" \"))","v":"Use dedicated equipment [E85]. "},".","Y"]
[null,"E86","DM","Use high-performance fume cupboard","Use high-performance fume cupboard",{"$f":"IF(AND(H429=\"Y\",CSA!B$15=\"YES\"),IF(E429=\"\",\"***TRANSLATED TEXT MISSING***\",E429&IF(B429=\"\",G429&\" \",IF(OR(LEFT(B429,3)<>\"CSL\", AND(LEFT(B429,3)=\"CSL\",H$522=\"NO\")),\" [\"&B429&\"]\"&G429&\" \",G429&\" \"))),IF(E429=\"\",\"***TRANSLATED TEXT MISSING***\",E429&G429&\" \"))","v":"Use high-performance fume cupboard [E86]. "},".","Y",99,null,null,null,"???"]
[null,"E87","DM","Use a receptor hood for fumes/vapours","Use a receptor hood for fumes/vapours",{"$f":"IF(AND(H430=\"Y\",CSA!B$15=\"YES\"),IF(E430=\"\",\"***TRANSLATED TEXT MISSING***\",E430&IF(B430=\"\",G430&\" \",IF(OR(LEFT(B430,3)<>\"CSL\", AND(LEFT(B430,3)=\"CSL\",H$522=\"NO\")),\" [\"&B430&\"]\"&G430&\" \",G430&\" \"))),IF(E430=\"\",\"***TRANSLATED TEXT MISSING***\",E430&G430&\" \"))","v":"Use a receptor hood for fumes/vapours [E87]. "},".","Y","TRA",null,null,"TRA",null,"BDI phrase (03.03.01.01.01.05-12000)"]
[null,"E88","DM","Re-circulation of exhaust air is not recommended","Re-circulation of exhaust air is not recommended",{"$f":"IF(AND(H431=\"Y\",CSA!B$15=\"YES\"),IF(E431=\"\",\"***TRANSLATED TEXT MISSING***\",E431&IF(B431=\"\",G431&\" \",IF(OR(LEFT(B431,3)<>\"CSL\", AND(LEFT(B431,3)=\"CSL\",H$522=\"NO\")),\" [\"&B431&\"]\"&G431&\" \",G431&\" \"))),IF(E431=\"\",\"***TRANSLATED TEXT MISSING***\",E431&G431&\" \"))","v":"Re-circulation of exhaust air is not recommended [E88]. "},".","Y",null,null,null,null,null,"BDI phrase (03.03.01.01.01.05-17003)"]
[null,"E89","DM","Use a sampling system designed to control exposure","Use a sampling system designed to control exposure",{"$f":"IF(AND(H432=\"Y\",CSA!B$15=\"YES\"),IF(E432=\"\",\"***TRANSLATED TEXT MISSING***\",E432&IF(B432=\"\",G432&\" \",IF(OR(LEFT(B432,3)<>\"CSL\", AND(LEFT(B432,3)=\"CSL\",H$522=\"NO\")),\" [\"&B432&\"]\"&G432&\" \",G432&\" \"))),IF(E432=\"\",\"***TRANSLATED TEXT MISSING***\",E432&G432&\" \"))","v":"Use a sampling system designed to control exposure [E89]. "},".","Y",80,null,null,null,null,"BDI phrase (03.03.01.01.01.05-22000)"]
[null,"E90","DM","Ensure material transfers are provided with suitable arrangements for vapour capture or venting","Ensure material transfers are provided with suitable arrangements for vapour capture or venting",{"$f":"IF(AND(H433=\"Y\",CSA!B$15=\"YES\"),IF(E433=\"\",\"***TRANSLATED TEXT MISSING***\",E433&IF(B433=\"\",G433&\" \",IF(OR(LEFT(B433,3)<>\"CSL\", AND(LEFT(B433,3)=\"CSL\",H$522=\"NO\")),\" [\"&B433&\"]\"&G433&\" \",G433&\" \"))),IF(E433=\"\",\"***TRANSLATED TEXT MISSING***\",E433&G433&\" \"))","v":"Ensure material transfers are provided with suitable arrangements for vapour capture or venting [E90]. "},".","Y",null,null,null,null,null,"Concawe phrases to support R40/45 subs."]
[null,null,null,null,null,{"$f":"IF(AND(H434=\"Y\",CSA!B$15=\"YES\"),IF(E434=\"\",\"***TRANSLATED TEXT MISSING***\",E434&IF(B434=\"\",G434&\" \",IF(OR(LEFT(B434,3)<>\"CSL\", AND(LEFT(B434,3)=\"CSL\",H$522=\"NO\")),\" [\"&B434&\"]\"&G434&\" \",G434&\" \"))),IF(E434=\"\",\"***TRANSLATED TEXT MISSING***\",E434&G434&\" \"))","v":"***TRANSLATED TEXT MISSING***"},".","Y"]
[null,"AP1","OM","Only allow access to authorised persons","Only allow access to authorised persons",{"$f":"IF(AND(H435=\"Y\",CSA!B$15=\"YES\"),IF(E435=\"\",\"***TRANSLATED TEXT MISSING***\",E435&IF(B435=\"\",G435&\" \",IF(OR(LEFT(B435,3)<>\"CSL\", AND(LEFT(B435,3)=\"CSL\",H$522=\"NO\")),\" [\"&B435&\"]\"&G435&\" \",G435&\" \"))),IF(E435=\"\",\"***TRANSLATED TEXT MISSING***\",E435&G435&\" \"))","v":"Only allow access to authorised persons [AP1]. "},".","Y"]
[null,"AP15","OM","Apply vessel entry procedures including use of forced supplied air","Apply vessel entry procedures including use of forced supplied air",{"$f":"IF(AND(H436=\"Y\",CSA!B$15=\"YES\"),IF(E436=\"\",\"***TRANSLATED TEXT MISSING***\",E436&IF(B436=\"\",G436&\" \",IF(OR(LEFT(B436,3)<>\"CSL\", AND(LEFT(B436,3)=\"CSL\",H$522=\"NO\")),\" [\"&B436&\"]\"&G436&\" \",G436&\" \"))),IF(E436=\"\",\"***TRANSLATED TEXT MISSING***\",E436&G436&\" \"))","v":"Apply vessel entry procedures including use of forced supplied air [AP15]. "},".","Y"]
[null,"AP16","OM","Automate activity where possible","Automate activity where possible",{"$f":"IF(AND(H437=\"Y\",CSA!B$15=\"YES\"),IF(E437=\"\",\"***TRANSLATED TEXT MISSING***\",E437&IF(B437=\"\",G437&\" \",IF(OR(LEFT(B437,3)<>\"CSL\", AND(LEFT(B437,3)=\"CSL\",H$522=\"NO\")),\" [\"&B437&\"]\"&G437&\" \",G437&\" \"))),IF(E437=\"\",\"***TRANSLATED TEXT MISSING***\",E437&G437&\" \"))","v":"Automate activity where possible [AP16]. "},".","Y"]
[null,null,null,null,null,{"$f":"IF(AND(H438=\"Y\",CSA!B$15=\"YES\"),IF(E438=\"\",\"***TRANSLATED TEXT MISSING***\",E438&IF(B438=\"\",G438&\" \",IF(OR(LEFT(B438,3)<>\"CSL\", AND(LEFT(B438,3)=\"CSL\",H$522=\"NO\")),\" [\"&B438&\"]\"&G438&\" \",G438&\" \"))),IF(E438=\"\",\"***TRANSLATED TEXT MISSING***\",E438&G438&\" \"))","v":"***TRANSLATED TEXT MISSING***"},".","Y"]
[null,"C&H3","OM","Clean equipment and the work area every day","Clean equipment and the work area every day",{"$f":"IF(AND(H439=\"Y\",CSA!B$15=\"YES\"),IF(E439=\"\",\"***TRANSLATED TEXT MISSING***\",E439&IF(B439=\"\",G439&\" \",IF(OR(LEFT(B439,3)<>\"CSL\", AND(LEFT(B439,3)=\"CSL\",H$522=\"NO\")),\" [\"&B439&\"]\"&G439&\" \",G439&\" \"))),IF(E439=\"\",\"***TRANSLATED TEXT MISSING***\",E439&G439&\" \"))","v":"Clean equipment and the work area every day [C&H3]. "},".","Y"]
[null,"C&H8","OM","Dispose of empty containers and wastes safely","Dispose of empty containers and wastes safely",{"$f":"IF(AND(H440=\"Y\",CSA!B$15=\"YES\"),IF(E440=\"\",\"***TRANSLATED TEXT MISSING***\",E440&IF(B440=\"\",G440&\" \",IF(OR(LEFT(B440,3)<>\"CSL\", AND(LEFT(B440,3)=\"CSL\",H$522=\"NO\")),\" [\"&B440&\"]\"&G440&\" \",G440&\" \"))),IF(E440=\"\",\"***TRANSLATED TEXT MISSING***\",E440&G440&\" \"))","v":"Dispose of empty containers and wastes safely [C&H8]. "},".","Y"]
[null,"C&H11","OM","Dispose of waste in accordance with environmental legislation.","Dispose of waste in accordance with environmental legislation",{"$f":"IF(AND(H441=\"Y\",CSA!B$15=\"YES\"),IF(E441=\"\",\"***TRANSLATED TEXT MISSING***\",E441&IF(B441=\"\",G441&\" \",IF(OR(LEFT(B441,3)<>\"CSL\", AND(LEFT(B441,3)=\"CSL\",H$522=\"NO\")),\" [\"&B441&\"]\"&G441&\" \",G441&\" \"))),IF(E441=\"\",\"***TRANSLATED TEXT MISSING***\",E441&G441&\" \"))","v":"Dispose of waste in accordance with environmental legislation [C&H11]. "},".","Y"]
[null,"C&H13","OM","Clear spills immediately","Clear spills immediately",{"$f":"IF(AND(H442=\"Y\",CSA!B$15=\"YES\"),IF(E442=\"\",\"***TRANSLATED TEXT MISSING***\",E442&IF(B442=\"\",G442&\" \",IF(OR(LEFT(B442,3)<>\"CSL\", AND(LEFT(B442,3)=\"CSL\",H$522=\"NO\")),\" [\"&B442&\"]\"&G442&\" \",G442&\" \"))),IF(E442=\"\",\"***TRANSLATED TEXT MISSING***\",E442&G442&\" \"))","v":"Clear spills immediately [C&H13]. "},".","Y"]
[null,"C&H14","OM","Contain and dispose of waste according to local regulations ","Contain and dispose of waste according to local regulations ",{"$f":"IF(AND(H443=\"Y\",CSA!B$15=\"YES\"),IF(E443=\"\",\"***TRANSLATED TEXT MISSING***\",E443&IF(B443=\"\",G443&\" \",IF(OR(LEFT(B443,3)<>\"CSL\", AND(LEFT(B443,3)=\"CSL\",H$522=\"NO\")),\" [\"&B443&\"]\"&G443&\" \",G443&\" \"))),IF(E443=\"\",\"***TRANSLATED TEXT MISSING***\",E443&G443&\" \"))","v":"Contain and dispose of waste according to local regulations  [C&H14]. "},".","Y"]
[null,"C&H15","OM","Avoid splashing","Avoid splashing",{"$f":"IF(AND(H444=\"Y\",CSA!B$15=\"YES\"),IF(E444=\"\",\"***TRANSLATED TEXT MISSING***\",E444&IF(B444=\"\",G444&\" \",IF(OR(LEFT(B444,3)<>\"CSL\", AND(LEFT(B444,3)=\"CSL\",H$522=\"NO\")),\" [\"&B444&\"]\"&G444&\" \",G444&\" \"))),IF(E444=\"\",\"***TRANSLATED TEXT MISSING***\",E444&G444&\" \"))","v":"Avoid splashing [C&H15]. "},".","Y"]
[null,"C&H16","OM","Avoid spillage when withdrawing pump","Avoid spillage when withdrawing pump",{"$f":"IF(AND(H445=\"Y\",CSA!B$15=\"YES\"),IF(E445=\"\",\"***TRANSLATED TEXT MISSING***\",E445&IF(B445=\"\",G445&\" \",IF(OR(LEFT(B445,3)<>\"CSL\", AND(LEFT(B445,3)=\"CSL\",H$522=\"NO\")),\" [\"&B445&\"]\"&G445&\" \",G445&\" \"))),IF(E445=\"\",\"***TRANSLATED TEXT MISSING***\",E445&G445&\" \"))","v":"Avoid spillage when withdrawing pump [C&H16]. "},".","Y"]
[null,"C&H17 ","OM","Carefully handle the substance to minimise releases","Carefully handle the substance to minimise releases",{"$f":"IF(AND(H446=\"Y\",CSA!B$15=\"YES\"),IF(E446=\"\",\"***TRANSLATED TEXT MISSING***\",E446&IF(B446=\"\",G446&\" \",IF(OR(LEFT(B446,3)<>\"CSL\", AND(LEFT(B446,3)=\"CSL\",H$522=\"NO\")),\" [\"&B446&\"]\"&G446&\" \",G446&\" \"))),IF(E446=\"\",\"***TRANSLATED TEXT MISSING***\",E446&G446&\" \"))","v":"Carefully handle the substance to minimise releases [C&H17 ]. "},".","Y",null,null,null,null,null,"data on spray booth operators and dye weighing (only applies to PROCs that address task related exposures; can be applied to either inhalation or dermal)"]
[null,null,null,null,null,{"$f":"IF(AND(H447=\"Y\",CSA!B$15=\"YES\"),IF(E447=\"\",\"***TRANSLATED TEXT MISSING***\",E447&IF(B447=\"\",G447&\" \",IF(OR(LEFT(B447,3)<>\"CSL\", AND(LEFT(B447,3)=\"CSL\",H$522=\"NO\")),\" [\"&B447&\"]\"&G447&\" \",G447&\" \"))),IF(E447=\"\",\"***TRANSLATED TEXT MISSING***\",E447&G447&\" \"))","v":"***TRANSLATED TEXT MISSING***"},".","Y"]
[null,"EI1","OM","Handle all packages and containers carefully to minimise spills","Handle all packages and containers carefully to minimise spills",{"$f":"IF(AND(H448=\"Y\",CSA!B$15=\"YES\"),IF(E448=\"\",\"***TRANSLATED TEXT MISSING***\",E448&IF(B448=\"\",G448&\" \",IF(OR(LEFT(B448,3)<>\"CSL\", AND(LEFT(B448,3)=\"CSL\",H$522=\"NO\")),\" [\"&B448&\"]\"&G448&\" \",G448&\" \"))),IF(E448=\"\",\"***TRANSLATED TEXT MISSING***\",E448&G448&\" \"))","v":"Handle all packages and containers carefully to minimise spills [EI1]. "},".","Y"]
[null,"EI9","OM","Clear up spills immediately and dispose of waste safely","Clear up spills immediately and dispose of waste safely",{"$f":"IF(AND(H449=\"Y\",CSA!B$15=\"YES\"),IF(E449=\"\",\"***TRANSLATED TEXT MISSING***\",E449&IF(B449=\"\",G449&\" \",IF(OR(LEFT(B449,3)<>\"CSL\", AND(LEFT(B449,3)=\"CSL\",H$522=\"NO\")),\" [\"&B449&\"]\"&G449&\" \",G449&\" \"))),IF(E449=\"\",\"***TRANSLATED TEXT MISSING***\",E449&G449&\" \"))","v":"Clear up spills immediately and dispose of waste safely [EI9]. "},".","Y"]
[null,"EI17","OM","Avoid manual contact with wet work pieces","Avoid manual contact with wet work pieces",{"$f":"IF(AND(H450=\"Y\",CSA!B$15=\"YES\"),IF(E450=\"\",\"***TRANSLATED TEXT MISSING***\",E450&IF(B450=\"\",G450&\" \",IF(OR(LEFT(B450,3)<>\"CSL\", AND(LEFT(B450,3)=\"CSL\",H$522=\"NO\")),\" [\"&B450&\"]\"&G450&\" \",G450&\" \"))),IF(E450=\"\",\"***TRANSLATED TEXT MISSING***\",E450&G450&\" \"))","v":"Avoid manual contact with wet work pieces [EI17]. "},".","Y"]
[null,"EI18","OM","No specific measures identified","No specific measures identified",{"$f":"IF(AND(H451=\"Y\",CSA!B$15=\"YES\"),IF(E451=\"\",\"***TRANSLATED TEXT MISSING***\",E451&IF(B451=\"\",G451&\" \",IF(OR(LEFT(B451,3)<>\"CSL\", AND(LEFT(B451,3)=\"CSL\",H$522=\"NO\")),\" [\"&B451&\"]\"&G451&\" \",G451&\" \"))),IF(E451=\"\",\"***TRANSLATED TEXT MISSING***\",E451&G451&\" \"))","v":"No specific measures identified [EI18]. "},".","Y"]
[null,"EI19","OM","Ensure operatives are trained to minimise exposures","Ensure operatives are trained to minimise exposures",{"$f":"IF(AND(H452=\"Y\",CSA!B$15=\"YES\"),IF(E452=\"\",\"***TRANSLATED TEXT MISSING***\",E452&IF(B452=\"\",G452&\" \",IF(OR(LEFT(B452,3)<>\"CSL\", AND(LEFT(B452,3)=\"CSL\",H$522=\"NO\")),\" [\"&B452&\"]\"&G452&\" \",G452&\" \"))),IF(E452=\"\",\"***TRANSLATED TEXT MISSING***\",E452&G452&\" \"))","v":"Ensure operatives are trained to minimise exposures [EI19]. "},".","Y",null,null,null,null,null,"data on spray booth operators and dye weighing (only applies to PROCs that address task related exposures; can be applied to either inhalation or dermal)"]
[null,"EI20","OM","No other specific measures identified","No other specific measures identified",{"$f":"IF(AND(H453=\"Y\",CSA!B$15=\"YES\"),IF(E453=\"\",\"***TRANSLATED TEXT MISSING***\",E453&IF(B453=\"\",G453&\" \",IF(OR(LEFT(B453,3)<>\"CSL\", AND(LEFT(B453,3)=\"CSL\",H$522=\"NO\")),\" [\"&B453&\"]\"&G453&\" \",G453&\" \"))),IF(E453=\"\",\"***TRANSLATED TEXT MISSING***\",E453&G453&\" \"))","v":"No other specific measures identified [EI20]. "},".","Y"]
[null,"EI21","OM","Allow time for product to drain from workpiece","Allow time for product to drain from workpiece",{"$f":"IF(AND(H454=\"Y\",CSA!B$15=\"YES\"),IF(E454=\"\",\"***TRANSLATED TEXT MISSING***\",E454&IF(B454=\"\",G454&\" \",IF(OR(LEFT(B454,3)<>\"CSL\", AND(LEFT(B454,3)=\"CSL\",H$522=\"NO\")),\" [\"&B454&\"]\"&G454&\" \",G454&\" \"))),IF(E454=\"\",\"***TRANSLATED TEXT MISSING***\",E454&G454&\" \"))","v":"Allow time for product to drain from workpiece [EI21]. "},".","Y"]
[null,"EI22","OM","Stay upwind/keep distance from source","Stay upwind/keep distance from source",{"$f":"IF(AND(H455=\"Y\",CSA!B$15=\"YES\"),IF(E455=\"\",\"***TRANSLATED TEXT MISSING***\",E455&IF(B455=\"\",G455&\" \",IF(OR(LEFT(B455,3)<>\"CSL\", AND(LEFT(B455,3)=\"CSL\",H$522=\"NO\")),\" [\"&B455&\"]\"&G455&\" \",G455&\" \"))),IF(E455=\"\",\"***TRANSLATED TEXT MISSING***\",E455&G455&\" \"))","v":"Stay upwind/keep distance from source [EI22]. "},".","Y"]
[null,null,null,null,null,{"$f":"IF(AND(H456=\"Y\",CSA!B$15=\"YES\"),IF(E456=\"\",\"***TRANSLATED TEXT MISSING***\",E456&IF(B456=\"\",G456&\" \",IF(OR(LEFT(B456,3)<>\"CSL\", AND(LEFT(B456,3)=\"CSL\",H$522=\"NO\")),\" [\"&B456&\"]\"&G456&\" \",G456&\" \"))),IF(E456=\"\",\"***TRANSLATED TEXT MISSING***\",E456&G456&\" \"))","v":"***TRANSLATED TEXT MISSING***"},".","Y"]
[null,"PPE14","PP","Use suitable eye protection and gloves","Use suitable eye protection and gloves",{"$f":"IF(AND(H457=\"Y\",CSA!B$15=\"YES\"),IF(E457=\"\",\"***TRANSLATED TEXT MISSING***\",E457&IF(B457=\"\",G457&\" \",IF(OR(LEFT(B457,3)<>\"CSL\", AND(LEFT(B457,3)=\"CSL\",H$522=\"NO\")),\" [\"&B457&\"]\"&G457&\" \",G457&\" \"))),IF(E457=\"\",\"***TRANSLATED TEXT MISSING***\",E457&G457&\" \"))","v":"Use suitable eye protection and gloves [PPE14]. "},".","Y"]
[null,"PPE15","PP","Wear suitable gloves tested to EN374","Wear suitable gloves tested to EN374",{"$f":"IF(AND(H458=\"Y\",CSA!B$15=\"YES\"),IF(E458=\"\",\"***TRANSLATED TEXT MISSING***\",E458&IF(B458=\"\",G458&\" \",IF(OR(LEFT(B458,3)<>\"CSL\", AND(LEFT(B458,3)=\"CSL\",H$522=\"NO\")),\" [\"&B458&\"]\"&G458&\" \",G458&\" \"))),IF(E458=\"\",\"***TRANSLATED TEXT MISSING***\",E458&G458&\" \"))","v":"Wear suitable gloves tested to EN374 [PPE15]. "},".","Y",null,null,null,"TRA"]
[null,"PPE16","PP","Wear chemically resistant gloves (tested to EN374) in combination with ‘basic’ employee training","Wear chemically resistant gloves (tested to EN374) in combination with ‘basic’ employee training",{"$f":"IF(AND(H459=\"Y\",CSA!B$15=\"YES\"),IF(E459=\"\",\"***TRANSLATED TEXT MISSING***\",E459&IF(B459=\"\",G459&\" \",IF(OR(LEFT(B459,3)<>\"CSL\", AND(LEFT(B459,3)=\"CSL\",H$522=\"NO\")),\" [\"&B459&\"]\"&G459&\" \",G459&\" \"))),IF(E459=\"\",\"***TRANSLATED TEXT MISSING***\",E459&G459&\" \"))","v":"Wear chemically resistant gloves (tested to EN374) in combination with ‘basic’ employee training [PPE16]. "},".","Y",null,null,null,"TRA"]
[null,"PPE17","PP","Wear chemically resistant gloves (tested to EN374) in combination with specific activity training\n","Wear chemically resistant gloves (tested to EN374) in combination with specific activity training",{"$f":"IF(AND(H460=\"Y\",CSA!B$15=\"YES\"),IF(E460=\"\",\"***TRANSLATED TEXT MISSING***\",E460&IF(B460=\"\",G460&\" \",IF(OR(LEFT(B460,3)<>\"CSL\", AND(LEFT(B460,3)=\"CSL\",H$522=\"NO\")),\" [\"&B460&\"]\"&G460&\" \",G460&\" \"))),IF(E460=\"\",\"***TRANSLATED TEXT MISSING***\",E460&G460&\" \"))","v":"Wear chemically resistant gloves (tested to EN374) in combination with specific activity training [PPE17]. "},".","Y",null,null,null,"TRA"]
[null,"PPE18","PP","Wear chemically resistant gloves (tested to EN374) in combination with intensive management supervision controls\n","Wear chemically resistant gloves (tested to EN374) in combination with intensive management supervision controls",{"$f":"IF(AND(H461=\"Y\",CSA!B$15=\"YES\"),IF(E461=\"\",\"***TRANSLATED TEXT MISSING***\",E461&IF(B461=\"\",G461&\" \",IF(OR(LEFT(B461,3)<>\"CSL\", AND(LEFT(B461,3)=\"CSL\",H$522=\"NO\")),\" [\"&B461&\"]\"&G461&\" \",G461&\" \"))),IF(E461=\"\",\"***TRANSLATED TEXT MISSING***\",E461&G461&\" \"))","v":"Wear chemically resistant gloves (tested to EN374) in combination with intensive management supervision controls [PPE18]. "},".","Y",null,null,null,"TRA",null,"only applies to industrial setting; not generally considered a tier 1 RMM"]
[null,"PPE19","PP","Wear suitable gloves (tested to EN374) and eye protection","Wear suitable gloves (tested to EN374) and eye protection",{"$f":"IF(AND(H462=\"Y\",CSA!B$15=\"YES\"),IF(E462=\"\",\"***TRANSLATED TEXT MISSING***\",E462&IF(B462=\"\",G462&\" \",IF(OR(LEFT(B462,3)<>\"CSL\", AND(LEFT(B462,3)=\"CSL\",H$522=\"NO\")),\" [\"&B462&\"]\"&G462&\" \",G462&\" \"))),IF(E462=\"\",\"***TRANSLATED TEXT MISSING***\",E462&G462&\" \"))","v":"Wear suitable gloves (tested to EN374) and eye protection [PPE19]. "},".","Y",null,null,null,"TRA"]
[null,"PPE20","PP","If repeated and/or prolonged skin exposure to the substance is likely, then wear suitable gloves tested to EN374 and provide employee skin care programmes","If repeated and/or prolonged skin exposure to the substance is likely, then wear suitable gloves tested to EN374 and provide employee skin care programmes",{"$f":"IF(AND(H463=\"Y\",CSA!B$15=\"YES\"),IF(E463=\"\",\"***TRANSLATED TEXT MISSING***\",E463&IF(B463=\"\",G463&\" \",IF(OR(LEFT(B463,3)<>\"CSL\", AND(LEFT(B463,3)=\"CSL\",H$522=\"NO\")),\" [\"&B463&\"]\"&G463&\" \",G463&\" \"))),IF(E463=\"\",\"***TRANSLATED TEXT MISSING***\",E463&G463&\" \"))","v":"If repeated and/or prolonged skin exposure to the substance is likely, then wear suitable gloves tested to EN374 and provide employee skin care programmes [PPE20]. "},".","Y",null,null,null,null,null,"phrase for use with R66 Skin defatting (for use in the main sections of the SDS)"]
[null,"PPE21","PP","Wear suitable respiratory protection (conforming to EN140 with Type A filter or better) and gloves (type EN374) if regular skin contact likely","Wear suitable respiratory protection (conforming to EN140 with Type A filter or better) and gloves (type EN374) if regular skin contact likely",{"$f":"IF(AND(H464=\"Y\",CSA!B$15=\"YES\"),IF(E464=\"\",\"***TRANSLATED TEXT MISSING***\",E464&IF(B464=\"\",G464&\" \",IF(OR(LEFT(B464,3)<>\"CSL\", AND(LEFT(B464,3)=\"CSL\",H$522=\"NO\")),\" [\"&B464&\"]\"&G464&\" \",G464&\" \"))),IF(E464=\"\",\"***TRANSLATED TEXT MISSING***\",E464&G464&\" \"))","v":"Wear suitable respiratory protection (conforming to EN140 with Type A filter or better) and gloves (type EN374) if regular skin contact likely [PPE21]. "},".","Y","TRA",null,null,"TRA",null,"TRA (APF=10)"]
[null,"PPE22","PP","Wear a respirator conforming to EN140 with Type A filter or better","Wear a respirator conforming to EN140 with Type A filter or better",{"$f":"IF(AND(H465=\"Y\",CSA!B$15=\"YES\"),IF(E465=\"\",\"***TRANSLATED TEXT MISSING***\",E465&IF(B465=\"\",G465&\" \",IF(OR(LEFT(B465,3)<>\"CSL\", AND(LEFT(B465,3)=\"CSL\",H$522=\"NO\")),\" [\"&B465&\"]\"&G465&\" \",G465&\" \"))),IF(E465=\"\",\"***TRANSLATED TEXT MISSING***\",E465&G465&\" \"))","v":"Wear a respirator conforming to EN140 with Type A filter or better [PPE22]. "},".","Y","TRA",null,null,null,null,"TRA (APF=10)"]
[null,"PPE23","PP","Wear suitable gloves (tested to EN374), coverall and eye protection","Wear suitable gloves (tested to EN374), coverall and eye protection",{"$f":"IF(AND(H466=\"Y\",CSA!B$15=\"YES\"),IF(E466=\"\",\"***TRANSLATED TEXT MISSING***\",E466&IF(B466=\"\",G466&\" \",IF(OR(LEFT(B466,3)<>\"CSL\", AND(LEFT(B466,3)=\"CSL\",H$522=\"NO\")),\" [\"&B466&\"]\"&G466&\" \",G466&\" \"))),IF(E466=\"\",\"***TRANSLATED TEXT MISSING***\",E466&G466&\" \"))","v":"Wear suitable gloves (tested to EN374), coverall and eye protection [PPE23]. "},".","Y",null,null,null,"TRA"]
[null,"PPE24","PP","Wear a full face respirator conforming to EN140 with Type A filter or better","Wear a full face respirator conforming to EN140 with Type A filter or better",{"$f":"IF(AND(H467=\"Y\",CSA!B$15=\"YES\"),IF(E467=\"\",\"***TRANSLATED TEXT MISSING***\",E467&IF(B467=\"\",G467&\" \",IF(OR(LEFT(B467,3)<>\"CSL\", AND(LEFT(B467,3)=\"CSL\",H$522=\"NO\")),\" [\"&B467&\"]\"&G467&\" \",G467&\" \"))),IF(E467=\"\",\"***TRANSLATED TEXT MISSING***\",E467&G467&\" \"))","v":"Wear a full face respirator conforming to EN140 with Type A filter or better [PPE24]. "},".","Y","TRA",null,null,null,null,"TRA (APF=20)"]
[null,"PPE25","PP","Change filter cartridge on respirator daily","Change filter cartridge on respirator daily",{"$f":"IF(AND(H468=\"Y\",CSA!B$15=\"YES\"),IF(E468=\"\",\"***TRANSLATED TEXT MISSING***\",E468&IF(B468=\"\",G468&\" \",IF(OR(LEFT(B468,3)<>\"CSL\", AND(LEFT(B468,3)=\"CSL\",H$522=\"NO\")),\" [\"&B468&\"]\"&G468&\" \",G468&\" \"))),IF(E468=\"\",\"***TRANSLATED TEXT MISSING***\",E468&G468&\" \"))","v":"Change filter cartridge on respirator daily [PPE25]. "},".","Y"]
[null,"PPE26","PP","Use suitable eye protection","Use suitable eye protection",{"$f":"IF(AND(H469=\"Y\",CSA!B$15=\"YES\"),IF(E469=\"\",\"***TRANSLATED TEXT MISSING***\",E469&IF(B469=\"\",G469&\" \",IF(OR(LEFT(B469,3)<>\"CSL\", AND(LEFT(B469,3)=\"CSL\",H$522=\"NO\")),\" [\"&B469&\"]\"&G469&\" \",G469&\" \"))),IF(E469=\"\",\"***TRANSLATED TEXT MISSING***\",E469&G469&\" \"))","v":"Use suitable eye protection [PPE26]. "},".","Y"]
[null,"PPE27","PP","Wear suitable coveralls to prevent exposure to the skin","Wear suitable coveralls to prevent exposure to the skin",{"$f":"IF(AND(H470=\"Y\",CSA!B$15=\"YES\"),IF(E470=\"\",\"***TRANSLATED TEXT MISSING***\",E470&IF(B470=\"\",G470&\" \",IF(OR(LEFT(B470,3)<>\"CSL\", AND(LEFT(B470,3)=\"CSL\",H$522=\"NO\")),\" [\"&B470&\"]\"&G470&\" \",G470&\" \"))),IF(E470=\"\",\"***TRANSLATED TEXT MISSING***\",E470&G470&\" \"))","v":"Wear suitable coveralls to prevent exposure to the skin [PPE27]. "},".","Y"]
[null,"PPE28","PP","Wear rubber boots","Wear rubber boots",{"$f":"IF(AND(H471=\"Y\",CSA!B$15=\"YES\"),IF(E471=\"\",\"***TRANSLATED TEXT MISSING***\",E471&IF(B471=\"\",G471&\" \",IF(OR(LEFT(B471,3)<>\"CSL\", AND(LEFT(B471,3)=\"CSL\",H$522=\"NO\")),\" [\"&B471&\"]\"&G471&\" \",G471&\" \"))),IF(E471=\"\",\"***TRANSLATED TEXT MISSING***\",E471&G471&\" \"))","v":"Wear rubber boots [PPE28]. "},".","Y"]
[null,"PPE29","PP","Wear a respirator conforming to EN140 with Type A/P2  filter or better","Wear a respirator conforming to EN140 with Type A/P2  filter or better",{"$f":"IF(AND(H472=\"Y\",CSA!B$15=\"YES\"),IF(E472=\"\",\"***TRANSLATED TEXT MISSING***\",E472&IF(B472=\"\",G472&\" \",IF(OR(LEFT(B472,3)<>\"CSL\", AND(LEFT(B472,3)=\"CSL\",H$522=\"NO\")),\" [\"&B472&\"]\"&G472&\" \",G472&\" \"))),IF(E472=\"\",\"***TRANSLATED TEXT MISSING***\",E472&G472&\" \"))","v":"Wear a respirator conforming to EN140 with Type A/P2  filter or better [PPE29]. "},".","Y","TRA"]
[null,"PPE30","PP","If above technical/organisational control measures are not feasible, then adopt following PPE","If above technical/organisational control measures are not feasible, then adopt following PPE",{"$f":"IF(AND(H473=\"Y\",CSA!B$15=\"YES\"),IF(E473=\"\",\"***TRANSLATED TEXT MISSING***\",E473&IF(B473=\"\",G473&\" \",IF(OR(LEFT(B473,3)<>\"CSL\", AND(LEFT(B473,3)=\"CSL\",H$522=\"NO\")),\" [\"&B473&\"]\"&G473&\" \",G473&\" \"))),IF(E473=\"\",\"***TRANSLATED TEXT MISSING***\",E473&G473&\" \"))","v":"If above technical/organisational control measures are not feasible, then adopt following PPE [PPE30]. "},".","Y"]
[null,"PPE31","PP","Wear positive pressure air supplied respirator if required by safe entry procedures","Wear positive pressure air supplied respirator if required by safe entry procedures",{"$f":"IF(AND(H474=\"Y\",CSA!B$15=\"YES\"),IF(E474=\"\",\"***TRANSLATED TEXT MISSING***\",E474&IF(B474=\"\",G474&\" \",IF(OR(LEFT(B474,3)<>\"CSL\", AND(LEFT(B474,3)=\"CSL\",H$522=\"NO\")),\" [\"&B474&\"]\"&G474&\" \",G474&\" \"))),IF(E474=\"\",\"***TRANSLATED TEXT MISSING***\",E474&G474&\" \"))","v":"Wear positive pressure air supplied respirator if required by safe entry procedures [PPE31]. "},".","Y"]
[null,"PPE32","PP","Wear a full face respirator conforming to EN140 with Type A/P2  filter or better","Wear a full face respirator conforming to EN140 with Type A/P2  filter or better",{"$f":"IF(AND(H475=\"Y\",CSA!B$15=\"YES\"),IF(E475=\"\",\"***TRANSLATED TEXT MISSING***\",E475&IF(B475=\"\",G475&\" \",IF(OR(LEFT(B475,3)<>\"CSL\", AND(LEFT(B475,3)=\"CSL\",H$522=\"NO\")),\" [\"&B475&\"]\"&G475&\" \",G475&\" \"))),IF(E475=\"\",\"***TRANSLATED TEXT MISSING***\",E475&G475&\" \"))","v":"Wear a full face respirator conforming to EN140 with Type A/P2  filter or better [PPE32]. "},".","Y","TRA",null,null,null,null,"TRA (APF=20)"]
[null,"PPE33","PP","Wear a respirator providing a minimum efficiency of 90 %","Wear a respirator providing a minimum efficiency of 90 %",{"$f":"IF(AND(H476=\"Y\",CSA!B$15=\"YES\"),IF(E476=\"\",\"***TRANSLATED TEXT MISSING***\",E476&IF(B476=\"\",G476&\" \",IF(OR(LEFT(B476,3)<>\"CSL\", AND(LEFT(B476,3)=\"CSL\",H$522=\"NO\")),\" [\"&B476&\"]\"&G476&\" \",G476&\" \"))),IF(E476=\"\",\"***TRANSLATED TEXT MISSING***\",E476&G476&\" \"))","v":"Wear a respirator providing a minimum efficiency of 90 % [PPE33]. "},".","Y","TRA"]
[null,"PPE34","PP","Wear a respirator providing a minimum efficiency of 95 %","Wear a respirator providing a minimum efficiency of 95 %",{"$f":"IF(AND(H477=\"Y\",CSA!B$15=\"YES\"),IF(E477=\"\",\"***TRANSLATED TEXT MISSING***\",E477&IF(B477=\"\",G477&\" \",IF(OR(LEFT(B477,3)<>\"CSL\", AND(LEFT(B477,3)=\"CSL\",H$522=\"NO\")),\" [\"&B477&\"]\"&G477&\" \",G477&\" \"))),IF(E477=\"\",\"***TRANSLATED TEXT MISSING***\",E477&G477&\" \"))","v":"Wear a respirator providing a minimum efficiency of 95 % [PPE34]. "},".","Y","TRA"]
[null,"ENVT3","EV",null,null,{"$f":"IF(AND(H478=\"Y\",CSA!B$15=\"YES\"),IF(E478=\"\",\"***TRANSLATED TEXT MISSING***\",E478&IF(B478=\"\",G478&\" \",IF(OR(LEFT(B478,3)<>\"CSL\", AND(LEFT(B478,3)=\"CSL\",H$522=\"NO\")),\" [\"&B478&\"]\"&G478&\" \",G478&\" \"))),IF(E478=\"\",\"***TRANSLATED TEXT MISSING***\",E478&G478&\" \"))","v":"***TRANSLATED TEXT MISSING***"},".","Y"]
[null,"ENVT4","EV","Retain drain downs in sealed storage pending disposal or for subsequent recycle","Retain drain downs in sealed storage pending disposal or for subsequent recycle",{"$f":"IF(AND(H479=\"Y\",CSA!B$15=\"YES\"),IF(E479=\"\",\"***TRANSLATED TEXT MISSING***\",E479&IF(B479=\"\",G479&\" \",IF(OR(LEFT(B479,3)<>\"CSL\", AND(LEFT(B479,3)=\"CSL\",H$522=\"NO\")),\" [\"&B479&\"]\"&G479&\" \",G479&\" \"))),IF(E479=\"\",\"***TRANSLATED TEXT MISSING***\",E479&G479&\" \"))","v":"Retain drain downs in sealed storage pending disposal or for subsequent recycle [ENVT4]. "},".","Y"]
[null,"ENVT5","EV",null,null,{"$f":"IF(AND(H480=\"Y\",CSA!B$15=\"YES\"),IF(E480=\"\",\"***TRANSLATED TEXT MISSING***\",E480&IF(B480=\"\",G480&\" \",IF(OR(LEFT(B480,3)<>\"CSL\", AND(LEFT(B480,3)=\"CSL\",H$522=\"NO\")),\" [\"&B480&\"]\"&G480&\" \",G480&\" \"))),IF(E480=\"\",\"***TRANSLATED TEXT MISSING***\",E480&G480&\" \"))","v":"***TRANSLATED TEXT MISSING***"},".","Y"]
[null,"ENVT6","EV","Return IBCs to supplier ","Return IBCs to supplier ",{"$f":"IF(AND(H481=\"Y\",CSA!B$15=\"YES\"),IF(E481=\"\",\"***TRANSLATED TEXT MISSING***\",E481&IF(B481=\"\",G481&\" \",IF(OR(LEFT(B481,3)<>\"CSL\", AND(LEFT(B481,3)=\"CSL\",H$522=\"NO\")),\" [\"&B481&\"]\"&G481&\" \",G481&\" \"))),IF(E481=\"\",\"***TRANSLATED TEXT MISSING***\",E481&G481&\" \"))","v":"Return IBCs to supplier  [ENVT6]. "},".","Y"]
[null,"ENVT7","EV","Return IBCs or tanks to supplier for re-use","Return IBCs or tanks to supplier for re-use",{"$f":"IF(AND(H482=\"Y\",CSA!B$15=\"YES\"),IF(E482=\"\",\"***TRANSLATED TEXT MISSING***\",E482&IF(B482=\"\",G482&\" \",IF(OR(LEFT(B482,3)<>\"CSL\", AND(LEFT(B482,3)=\"CSL\",H$522=\"NO\")),\" [\"&B482&\"]\"&G482&\" \",G482&\" \"))),IF(E482=\"\",\"***TRANSLATED TEXT MISSING***\",E482&G482&\" \"))","v":"Return IBCs or tanks to supplier for re-use [ENVT7]. "},".","Y"]
[null,"ENVT8","EV","All waste product is assumed to be collected and returned for re-processing or use as a fuel","All waste product is assumed to be collected and returned for re-processing or use as a fuel",{"$f":"IF(AND(H483=\"Y\",CSA!B$15=\"YES\"),IF(E483=\"\",\"***TRANSLATED TEXT MISSING***\",E483&IF(B483=\"\",G483&\" \",IF(OR(LEFT(B483,3)<>\"CSL\", AND(LEFT(B483,3)=\"CSL\",H$522=\"NO\")),\" [\"&B483&\"]\"&G483&\" \",G483&\" \"))),IF(E483=\"\",\"***TRANSLATED TEXT MISSING***\",E483&G483&\" \"))","v":"All waste product is assumed to be collected and returned for re-processing or use as a fuel [ENVT8]. "},".","Y"]
[null,"ENVT9","EV","User sites are assumed to be provided with oil/water separators and for waste water to be discharged via public sewer system   ","User sites are assumed to be provided with oil/water separators and for waste water to be discharged via public sewer system   ",{"$f":"IF(AND(H484=\"Y\",CSA!B$15=\"YES\"),IF(E484=\"\",\"***TRANSLATED TEXT MISSING***\",E484&IF(B484=\"\",G484&\" \",IF(OR(LEFT(B484,3)<>\"CSL\", AND(LEFT(B484,3)=\"CSL\",H$522=\"NO\")),\" [\"&B484&\"]\"&G484&\" \",G484&\" \"))),IF(E484=\"\",\"***TRANSLATED TEXT MISSING***\",E484&G484&\" \"))","v":"User sites are assumed to be provided with oil/water separators and for waste water to be discharged via public sewer system    [ENVT9]. "},".","Y"]
[null,"ENVT10","EV","Dispose of waste or used sacks/containers according to local regulations","Dispose of waste or used sacks/containers according to local regulations",{"$f":"IF(AND(H485=\"Y\",CSA!B$15=\"YES\"),IF(E485=\"\",\"***TRANSLATED TEXT MISSING***\",E485&IF(B485=\"\",G485&\" \",IF(OR(LEFT(B485,3)<>\"CSL\", AND(LEFT(B485,3)=\"CSL\",H$522=\"NO\")),\" [\"&B485&\"]\"&G485&\" \",G485&\" \"))),IF(E485=\"\",\"***TRANSLATED TEXT MISSING***\",E485&G485&\" \"))","v":"Dispose of waste or used sacks/containers according to local regulations [ENVT10]. "},".","Y"]
[null,"ENVT11","EV",null,null,{"$f":"IF(AND(H486=\"Y\",CSA!B$15=\"YES\"),IF(E486=\"\",\"***TRANSLATED TEXT MISSING***\",E486&IF(B486=\"\",G486&\" \",IF(OR(LEFT(B486,3)<>\"CSL\", AND(LEFT(B486,3)=\"CSL\",H$522=\"NO\")),\" [\"&B486&\"]\"&G486&\" \",G486&\" \"))),IF(E486=\"\",\"***TRANSLATED TEXT MISSING***\",E486&G486&\" \"))","v":"***TRANSLATED TEXT MISSING***"},".","Y"]
[null,"ENVT12","EV","Dispose of waste product or used containers according to local regulations","Dispose of waste product or used containers according to local regulations",{"$f":"IF(AND(H487=\"Y\",CSA!B$15=\"YES\"),IF(E487=\"\",\"***TRANSLATED TEXT MISSING***\",E487&IF(B487=\"\",G487&\" \",IF(OR(LEFT(B487,3)<>\"CSL\", AND(LEFT(B487,3)=\"CSL\",H$522=\"NO\")),\" [\"&B487&\"]\"&G487&\" \",G487&\" \"))),IF(E487=\"\",\"***TRANSLATED TEXT MISSING***\",E487&G487&\" \"))","v":"Dispose of waste product or used containers according to local regulations [ENVT12]. "},".","Y"]
[null,"ENVT13","EV",null,null,{"$f":"IF(AND(H488=\"Y\",CSA!B$15=\"YES\"),IF(E488=\"\",\"***TRANSLATED TEXT MISSING***\",E488&IF(B488=\"\",G488&\" \",IF(OR(LEFT(B488,3)<>\"CSL\", AND(LEFT(B488,3)=\"CSL\",H$522=\"NO\")),\" [\"&B488&\"]\"&G488&\" \",G488&\" \"))),IF(E488=\"\",\"***TRANSLATED TEXT MISSING***\",E488&G488&\" \"))","v":"***TRANSLATED TEXT MISSING***"},".","Y"]
[null,"ENVT14","EV","Clean IBCs or drums at approved facility ","Clean IBCs or drums at approved facility ",{"$f":"IF(AND(H489=\"Y\",CSA!B$15=\"YES\"),IF(E489=\"\",\"***TRANSLATED TEXT MISSING***\",E489&IF(B489=\"\",G489&\" \",IF(OR(LEFT(B489,3)<>\"CSL\", AND(LEFT(B489,3)=\"CSL\",H$522=\"NO\")),\" [\"&B489&\"]\"&G489&\" \",G489&\" \"))),IF(E489=\"\",\"***TRANSLATED TEXT MISSING***\",E489&G489&\" \"))","v":"Clean IBCs or drums at approved facility  [ENVT14]. "},".","Y"]
[null,"ENVT15","EV","User site assumed to be separate chemical and foul/rain water and be equipped with a WWTP ","User site assumed to be separate chemical and foul/rain water and be equipped with a WWTP ",{"$f":"IF(AND(H490=\"Y\",CSA!B$15=\"YES\"),IF(E490=\"\",\"***TRANSLATED TEXT MISSING***\",E490&IF(B490=\"\",G490&\" \",IF(OR(LEFT(B490,3)<>\"CSL\", AND(LEFT(B490,3)=\"CSL\",H$522=\"NO\")),\" [\"&B490&\"]\"&G490&\" \",G490&\" \"))),IF(E490=\"\",\"***TRANSLATED TEXT MISSING***\",E490&G490&\" \"))","v":"User site assumed to be separate chemical and foul/rain water and be equipped with a WWTP  [ENVT15]. "},".","Y"]
[null,"ENVT16","EV","Do not wash equipment or storage containers ","Do not wash equipment or storage containers ",{"$f":"IF(AND(H491=\"Y\",CSA!B$15=\"YES\"),IF(E491=\"\",\"***TRANSLATED TEXT MISSING***\",E491&IF(B491=\"\",G491&\" \",IF(OR(LEFT(B491,3)<>\"CSL\", AND(LEFT(B491,3)=\"CSL\",H$522=\"NO\")),\" [\"&B491&\"]\"&G491&\" \",G491&\" \"))),IF(E491=\"\",\"***TRANSLATED TEXT MISSING***\",E491&G491&\" \"))","v":"Do not wash equipment or storage containers  [ENVT16]. "},".","Y"]
[null,"ENVT17","EV","Remotely vent displaced vapours","Remotely vent displaced vapours",{"$f":"IF(AND(H492=\"Y\",CSA!B$15=\"YES\"),IF(E492=\"\",\"***TRANSLATED TEXT MISSING***\",E492&IF(B492=\"\",G492&\" \",IF(OR(LEFT(B492,3)<>\"CSL\", AND(LEFT(B492,3)=\"CSL\",H$522=\"NO\")),\" [\"&B492&\"]\"&G492&\" \",G492&\" \"))),IF(E492=\"\",\"***TRANSLATED TEXT MISSING***\",E492&G492&\" \"))","v":"Remotely vent displaced vapours [ENVT17]. "},".","Y"]
[null,"ENVT18","EV",null,null,{"$f":"IF(AND(H493=\"Y\",CSA!B$15=\"YES\"),IF(E493=\"\",\"***TRANSLATED TEXT MISSING***\",E493&IF(B493=\"\",G493&\" \",IF(OR(LEFT(B493,3)<>\"CSL\", AND(LEFT(B493,3)=\"CSL\",H$522=\"NO\")),\" [\"&B493&\"]\"&G493&\" \",G493&\" \"))),IF(E493=\"\",\"***TRANSLATED TEXT MISSING***\",E493&G493&\" \"))","v":"***TRANSLATED TEXT MISSING***"},".","Y"]
[null,"ENVT19","EV",null,null,{"$f":"IF(AND(H494=\"Y\",CSA!B$15=\"YES\"),IF(E494=\"\",\"***TRANSLATED TEXT MISSING***\",E494&IF(B494=\"\",G494&\" \",IF(OR(LEFT(B494,3)<>\"CSL\", AND(LEFT(B494,3)=\"CSL\",H$522=\"NO\")),\" [\"&B494&\"]\"&G494&\" \",G494&\" \"))),IF(E494=\"\",\"***TRANSLATED TEXT MISSING***\",E494&G494&\" \"))","v":"***TRANSLATED TEXT MISSING***"},".","Y"]
[null,"ENVT20","EV","Additive package assumed to be blended direct to lubricant with no process steps ","Additive package assumed to be blended direct to lubricant with no process steps ",{"$f":"IF(AND(H495=\"Y\",CSA!B$15=\"YES\"),IF(E495=\"\",\"***TRANSLATED TEXT MISSING***\",E495&IF(B495=\"\",G495&\" \",IF(OR(LEFT(B495,3)<>\"CSL\", AND(LEFT(B495,3)=\"CSL\",H$522=\"NO\")),\" [\"&B495&\"]\"&G495&\" \",G495&\" \"))),IF(E495=\"\",\"***TRANSLATED TEXT MISSING***\",E495&G495&\" \"))","v":"Additive package assumed to be blended direct to lubricant with no process steps  [ENVT20]. "},".","Y"]
[null,null,null,null,null,{"$f":"IF(AND(H496=\"Y\",CSA!B$15=\"YES\"),IF(E496=\"\",\"***TRANSLATED TEXT MISSING***\",E496&IF(B496=\"\",G496&\" \",IF(OR(LEFT(B496,3)<>\"CSL\", AND(LEFT(B496,3)=\"CSL\",H$522=\"NO\")),\" [\"&B496&\"]\"&G496&\" \",G496&\" \"))),IF(E496=\"\",\"***TRANSLATED TEXT MISSING***\",E496&G496&\" \"))","v":"***TRANSLATED TEXT MISSING***"},".","Y"]
[null,"S1","EV",null,null,{"$f":"IF(AND(H497=\"Y\",CSA!B$15=\"YES\"),IF(E497=\"\",\"***TRANSLATED TEXT MISSING***\",E497&IF(B497=\"\",G497&\" \",IF(OR(LEFT(B497,3)<>\"CSL\", AND(LEFT(B497,3)=\"CSL\",H$522=\"NO\")),\" [\"&B497&\"]\"&G497&\" \",G497&\" \"))),IF(E497=\"\",\"***TRANSLATED TEXT MISSING***\",E497&G497&\" \"))","v":"***TRANSLATED TEXT MISSING***"},".","Y"]
[null,"S2","EV","Dispose of waste or used sacks/containers according to local regulations","Dispose of waste or used sacks/containers according to local regulations",{"$f":"IF(AND(H498=\"Y\",CSA!B$15=\"YES\"),IF(E498=\"\",\"***TRANSLATED TEXT MISSING***\",E498&IF(B498=\"\",G498&\" \",IF(OR(LEFT(B498,3)<>\"CSL\", AND(LEFT(B498,3)=\"CSL\",H$522=\"NO\")),\" [\"&B498&\"]\"&G498&\" \",G498&\" \"))),IF(E498=\"\",\"***TRANSLATED TEXT MISSING***\",E498&G498&\" \"))","v":"Dispose of waste or used sacks/containers according to local regulations [S2]. "},".","Y"]
[null,"S3","EV","Good housekeeping- e.g. inspection procedures will ensure that there are no leaks to soil","Good housekeeping- e.g. inspection procedures will ensure that there are no leaks to soil",{"$f":"IF(AND(H499=\"Y\",CSA!B$15=\"YES\"),IF(E499=\"\",\"***TRANSLATED TEXT MISSING***\",E499&IF(B499=\"\",G499&\" \",IF(OR(LEFT(B499,3)<>\"CSL\", AND(LEFT(B499,3)=\"CSL\",H$522=\"NO\")),\" [\"&B499&\"]\"&G499&\" \",G499&\" \"))),IF(E499=\"\",\"***TRANSLATED TEXT MISSING***\",E499&G499&\" \"))","v":"Good housekeeping- e.g. inspection procedures will ensure that there are no leaks to soil [S3]. "},".","Y"]
[null,"S4","EV","Prevent leaks and prevent soil / water pollution caused by leaks","Prevent leaks and prevent soil / water pollution caused by leaks",{"$f":"IF(AND(H500=\"Y\",CSA!B$15=\"YES\"),IF(E500=\"\",\"***TRANSLATED TEXT MISSING***\",E500&IF(B500=\"\",G500&\" \",IF(OR(LEFT(B500,3)<>\"CSL\", AND(LEFT(B500,3)=\"CSL\",H$522=\"NO\")),\" [\"&B500&\"]\"&G500&\" \",G500&\" \"))),IF(E500=\"\",\"***TRANSLATED TEXT MISSING***\",E500&G500&\" \"))","v":"Prevent leaks and prevent soil / water pollution caused by leaks [S4]. "},".","Y"]
[null,"S5","EV","Bund storage facilities to prevent soil and water pollution in the event of spillage","Bund storage facilities to prevent soil and water pollution in the event of spillage",{"$f":"IF(AND(H501=\"Y\",CSA!B$15=\"YES\"),IF(E501=\"\",\"***TRANSLATED TEXT MISSING***\",E501&IF(B501=\"\",G501&\" \",IF(OR(LEFT(B501,3)<>\"CSL\", AND(LEFT(B501,3)=\"CSL\",H$522=\"NO\")),\" [\"&B501&\"]\"&G501&\" \",G501&\" \"))),IF(E501=\"\",\"***TRANSLATED TEXT MISSING***\",E501&G501&\" \"))","v":"Bund storage facilities to prevent soil and water pollution in the event of spillage [S5]. "},".","Y"]
[null,null,null,null,null,{"$f":"IF(AND(H502=\"Y\",CSA!B$15=\"YES\"),IF(E502=\"\",\"***TRANSLATED TEXT MISSING***\",E502&IF(B502=\"\",G502&\" \",IF(OR(LEFT(B502,3)<>\"CSL\", AND(LEFT(B502,3)=\"CSL\",H$522=\"NO\")),\" [\"&B502&\"]\"&G502&\" \",G502&\" \"))),IF(E502=\"\",\"***TRANSLATED TEXT MISSING***\",E502&G502&\" \"))","v":"***TRANSLATED TEXT MISSING***"},".","Y"]
[null,"W1","EV","All contaminated waste water must be processed in an industrial or municipal wastewater treatment plant that incorporates both primary and secondary treatments","All contaminated waste water must be processed in an industrial or municipal wastewater treatment plant that incorporates both primary and secondary treatments",{"$f":"IF(AND(H503=\"Y\",CSA!B$15=\"YES\"),IF(E503=\"\",\"***TRANSLATED TEXT MISSING***\",E503&IF(B503=\"\",G503&\" \",IF(OR(LEFT(B503,3)<>\"CSL\", AND(LEFT(B503,3)=\"CSL\",H$522=\"NO\")),\" [\"&B503&\"]\"&G503&\" \",G503&\" \"))),IF(E503=\"\",\"***TRANSLATED TEXT MISSING***\",E503&G503&\" \"))","v":"All contaminated waste water must be processed in an industrial or municipal wastewater treatment plant that incorporates both primary and secondary treatments [W1]. "},".","Y"]
[null,"W2","EV","Site should have a spill plan to ensure that adequate safeguards are in place to minimize the impact of episodic releases","Site should have a spill plan to ensure that adequate safeguards are in place to minimize the impact of episodic releases",{"$f":"IF(AND(H504=\"Y\",CSA!B$15=\"YES\"),IF(E504=\"\",\"***TRANSLATED TEXT MISSING***\",E504&IF(B504=\"\",G504&\" \",IF(OR(LEFT(B504,3)<>\"CSL\", AND(LEFT(B504,3)=\"CSL\",H$522=\"NO\")),\" [\"&B504&\"]\"&G504&\" \",G504&\" \"))),IF(E504=\"\",\"***TRANSLATED TEXT MISSING***\",E504&G504&\" \"))","v":"Site should have a spill plan to ensure that adequate safeguards are in place to minimize the impact of episodic releases [W2]. "},".","Y"]
[null,"W3","EV","A leak prevention plan is needed to prevent low level continual releases ","A leak prevention plan is needed to prevent low level continual releases ",{"$f":"IF(AND(H505=\"Y\",CSA!B$15=\"YES\"),IF(E505=\"\",\"***TRANSLATED TEXT MISSING***\",E505&IF(B505=\"\",G505&\" \",IF(OR(LEFT(B505,3)<>\"CSL\", AND(LEFT(B505,3)=\"CSL\",H$522=\"NO\")),\" [\"&B505&\"]\"&G505&\" \",G505&\" \"))),IF(E505=\"\",\"***TRANSLATED TEXT MISSING***\",E505&G505&\" \"))","v":"A leak prevention plan is needed to prevent low level continual releases  [W3]. "},".","Y"]
[null,"W4","EV","A storm water management plan is needed to ensure that the wastewater treatment plant is not overloaded with uncontaminated water ","A storm water management plan is needed to ensure that the wastewater treatment plant is not overloaded with uncontaminated water ",{"$f":"IF(AND(H506=\"Y\",CSA!B$15=\"YES\"),IF(E506=\"\",\"***TRANSLATED TEXT MISSING***\",E506&IF(B506=\"\",G506&\" \",IF(OR(LEFT(B506,3)<>\"CSL\", AND(LEFT(B506,3)=\"CSL\",H$522=\"NO\")),\" [\"&B506&\"]\"&G506&\" \",G506&\" \"))),IF(E506=\"\",\"***TRANSLATED TEXT MISSING***\",E506&G506&\" \"))","v":"A storm water management plan is needed to ensure that the wastewater treatment plant is not overloaded with uncontaminated water  [W4]. "},".","Y"]
[null,"W5","EV","minimize water use and curtail all unnecessary waste water generation","minimize water use and curtail all unnecessary waste water generation",{"$f":"IF(AND(H507=\"Y\",CSA!B$15=\"YES\"),IF(E507=\"\",\"***TRANSLATED TEXT MISSING***\",E507&IF(B507=\"\",G507&\" \",IF(OR(LEFT(B507,3)<>\"CSL\", AND(LEFT(B507,3)=\"CSL\",H$522=\"NO\")),\" [\"&B507&\"]\"&G507&\" \",G507&\" \"))),IF(E507=\"\",\"***TRANSLATED TEXT MISSING***\",E507&G507&\" \"))","v":"minimize water use and curtail all unnecessary waste water generation [W5]. "},".","Y"]
[null,"W6","EV","Ensure all waste water is collected and treated via a WWTP ","Ensure all waste water is collected and treated via a WWTP ",{"$f":"IF(AND(H508=\"Y\",CSA!B$15=\"YES\"),IF(E508=\"\",\"***TRANSLATED TEXT MISSING***\",E508&IF(B508=\"\",G508&\" \",IF(OR(LEFT(B508,3)<>\"CSL\", AND(LEFT(B508,3)=\"CSL\",H$522=\"NO\")),\" [\"&B508&\"]\"&G508&\" \",G508&\" \"))),IF(E508=\"\",\"***TRANSLATED TEXT MISSING***\",E508&G508&\" \"))","v":"Ensure all waste water is collected and treated via a WWTP  [W6]. "},".","Y"]
[null,"W7","EV","Contain and treat vapors from stripping operations","Contain and treat vapors from stripping operations",{"$f":"IF(AND(H509=\"Y\",CSA!B$15=\"YES\"),IF(E509=\"\",\"***TRANSLATED TEXT MISSING***\",E509&IF(B509=\"\",G509&\" \",IF(OR(LEFT(B509,3)<>\"CSL\", AND(LEFT(B509,3)=\"CSL\",H$522=\"NO\")),\" [\"&B509&\"]\"&G509&\" \",G509&\" \"))),IF(E509=\"\",\"***TRANSLATED TEXT MISSING***\",E509&G509&\" \"))","v":"Contain and treat vapors from stripping operations [W7]. "},".","Y"]
[null,"W8","EV","Do not wash equipment or storage containers ","Do not wash equipment or storage containers ",{"$f":"IF(AND(H510=\"Y\",CSA!B$15=\"YES\"),IF(E510=\"\",\"***TRANSLATED TEXT MISSING***\",E510&IF(B510=\"\",G510&\" \",IF(OR(LEFT(B510,3)<>\"CSL\", AND(LEFT(B510,3)=\"CSL\",H$522=\"NO\")),\" [\"&B510&\"]\"&G510&\" \",G510&\" \"))),IF(E510=\"\",\"***TRANSLATED TEXT MISSING***\",E510&G510&\" \"))","v":"Do not wash equipment or storage containers  [W8]. "},".","Y"]
[null,"W9","EV","Maximize waste water reuse","Maximize waste water reuse",{"$f":"IF(AND(H511=\"Y\",CSA!B$15=\"YES\"),IF(E511=\"\",\"***TRANSLATED TEXT MISSING***\",E511&IF(B511=\"\",G511&\" \",IF(OR(LEFT(B511,3)<>\"CSL\", AND(LEFT(B511,3)=\"CSL\",H$522=\"NO\")),\" [\"&B511&\"]\"&G511&\" \",G511&\" \"))),IF(E511=\"\",\"***TRANSLATED TEXT MISSING***\",E511&G511&\" \"))","v":"Maximize waste water reuse [W9]. "},".","Y"]
[null,"A1","EV","Adequate closed storage facilities (e.g., bulk storage tanks, intermediate bulk containers, drums) for VOC-containing raw materials","Adequate closed storage facilities (e.g., bulk storage tanks, intermediate bulk containers, drums) for VOC-containing raw materials",{"$f":"IF(AND(H512=\"Y\",CSA!B$15=\"YES\"),IF(E512=\"\",\"***TRANSLATED TEXT MISSING***\",E512&IF(B512=\"\",G512&\" \",IF(OR(LEFT(B512,3)<>\"CSL\", AND(LEFT(B512,3)=\"CSL\",H$522=\"NO\")),\" [\"&B512&\"]\"&G512&\" \",G512&\" \"))),IF(E512=\"\",\"***TRANSLATED TEXT MISSING***\",E512&G512&\" \"))","v":"Adequate closed storage facilities (e.g., bulk storage tanks, intermediate bulk containers, drums) for VOC-containing raw materials [A1]. "},".","Y"]
[null,"A10","EV","Formulation activity is assumed to be a predominantly enclosed process  ","Formulation activity is assumed to be a predominantly enclosed process",{"$f":"IF(AND(H513=\"Y\",CSA!B$15=\"YES\"),IF(E513=\"\",\"***TRANSLATED TEXT MISSING***\",E513&IF(B513=\"\",G513&\" \",IF(OR(LEFT(B513,3)<>\"CSL\", AND(LEFT(B513,3)=\"CSL\",H$522=\"NO\")),\" [\"&B513&\"]\"&G513&\" \",G513&\" \"))),IF(E513=\"\",\"***TRANSLATED TEXT MISSING***\",E513&G513&\" \"))","v":"Formulation activity is assumed to be a predominantly enclosed process [A10]. "},".","Y"]
[null,"A2","EV","Use of closed transfers of liquids from storage to production equipment (e.g. metered piped or pumped additions)","Use of closed transfers of liquids from storage to production equipment (e.g. metered piped or pumped additions)",{"$f":"IF(AND(H514=\"Y\",CSA!B$15=\"YES\"),IF(E514=\"\",\"***TRANSLATED TEXT MISSING***\",E514&IF(B514=\"\",G514&\" \",IF(OR(LEFT(B514,3)<>\"CSL\", AND(LEFT(B514,3)=\"CSL\",H$522=\"NO\")),\" [\"&B514&\"]\"&G514&\" \",G514&\" \"))),IF(E514=\"\",\"***TRANSLATED TEXT MISSING***\",E514&G514&\" \"))","v":"Use of closed transfers of liquids from storage to production equipment (e.g. metered piped or pumped additions) [A2]. "},".","Y"]
[null,"A3","EV","Use of closed production equipment, with no extraction, except when opening vessels for additions/sampling","Use of closed production equipment, with no extraction, except when opening vessels for additions/sampling",{"$f":"IF(AND(H515=\"Y\",CSA!B$15=\"YES\"),IF(E515=\"\",\"***TRANSLATED TEXT MISSING***\",E515&IF(B515=\"\",G515&\" \",IF(OR(LEFT(B515,3)<>\"CSL\", AND(LEFT(B515,3)=\"CSL\",H$522=\"NO\")),\" [\"&B515&\"]\"&G515&\" \",G515&\" \"))),IF(E515=\"\",\"***TRANSLATED TEXT MISSING***\",E515&G515&\" \"))","v":"Use of closed production equipment, with no extraction, except when opening vessels for additions/sampling [A3]. "},".","Y"]
[null,"A4","EV","Use of closed filling equipment","Use of closed filling equipment",{"$f":"IF(AND(H516=\"Y\",CSA!B$15=\"YES\"),IF(E516=\"\",\"***TRANSLATED TEXT MISSING***\",E516&IF(B516=\"\",G516&\" \",IF(OR(LEFT(B516,3)<>\"CSL\", AND(LEFT(B516,3)=\"CSL\",H$522=\"NO\")),\" [\"&B516&\"]\"&G516&\" \",G516&\" \"))),IF(E516=\"\",\"***TRANSLATED TEXT MISSING***\",E516&G516&\" \"))","v":"Use of closed filling equipment [A4]. "},".","Y"]
[null,"A5","EV","Store finished products in closed containers (e.g., bulk tanks,, drums, cans)","Store finished products in closed containers (e.g., bulk tanks,, drums, cans)",{"$f":"IF(AND(H517=\"Y\",CSA!B$15=\"YES\"),IF(E517=\"\",\"***TRANSLATED TEXT MISSING***\",E517&IF(B517=\"\",G517&\" \",IF(OR(LEFT(B517,3)<>\"CSL\", AND(LEFT(B517,3)=\"CSL\",H$522=\"NO\")),\" [\"&B517&\"]\"&G517&\" \",G517&\" \"))),IF(E517=\"\",\"***TRANSLATED TEXT MISSING***\",E517&G517&\" \"))","v":"Store finished products in closed containers (e.g., bulk tanks,, drums, cans) [A5]. "},".","Y"]
[null,"A6","EV","Store all VOC-containing wastes in closed, secure containers (e.g., bulk tanks, intermediate bulk containers, drums)","Store all VOC-containing wastes in closed, secure containers (e.g., bulk tanks, intermediate bulk containers, drums)",{"$f":"IF(AND(H518=\"Y\",CSA!B$15=\"YES\"),IF(E518=\"\",\"***TRANSLATED TEXT MISSING***\",E518&IF(B518=\"\",G518&\" \",IF(OR(LEFT(B518,3)<>\"CSL\", AND(LEFT(B518,3)=\"CSL\",H$522=\"NO\")),\" [\"&B518&\"]\"&G518&\" \",G518&\" \"))),IF(E518=\"\",\"***TRANSLATED TEXT MISSING***\",E518&G518&\" \"))","v":"Store all VOC-containing wastes in closed, secure containers (e.g., bulk tanks, intermediate bulk containers, drums) [A6]. "},".","Y"]
[null,"A7","EV","Use vapour recovery units when necessary","Use vapour recovery units when necessary",{"$f":"IF(AND(H519=\"Y\",CSA!B$15=\"YES\"),IF(E519=\"\",\"***TRANSLATED TEXT MISSING***\",E519&IF(B519=\"\",G519&\" \",IF(OR(LEFT(B519,3)<>\"CSL\", AND(LEFT(B519,3)=\"CSL\",H$522=\"NO\")),\" [\"&B519&\"]\"&G519&\" \",G519&\" \"))),IF(E519=\"\",\"***TRANSLATED TEXT MISSING***\",E519&G519&\" \"))","v":"Use vapour recovery units when necessary [A7]. "},".","Y"]
[null,"A8","EV","Incinerate, absorb, or adsorb vapours stripped from solution whenever necessary","Incinerate, absorb, or adsorb vapours stripped from solution whenever necessary",{"$f":"IF(AND(H520=\"Y\",CSA!B$15=\"YES\"),IF(E520=\"\",\"***TRANSLATED TEXT MISSING***\",E520&IF(B520=\"\",G520&\" \",IF(OR(LEFT(B520,3)<>\"CSL\", AND(LEFT(B520,3)=\"CSL\",H$522=\"NO\")),\" [\"&B520&\"]\"&G520&\" \",G520&\" \"))),IF(E520=\"\",\"***TRANSLATED TEXT MISSING***\",E520&G520&\" \"))","v":"Incinerate, absorb, or adsorb vapours stripped from solution whenever necessary [A8]. "},".","Y"]
[null,"A9","EV","All waste product is assumed to be collected and returned for re-processing or use as a fuel","All waste product is assumed to be collected and returned for re-processing or use as a fuel",{"$f":"IF(AND(H521=\"Y\",CSA!B$15=\"YES\"),IF(E521=\"\",\"***TRANSLATED TEXT MISSING***\",E521&IF(B521=\"\",G521&\" \",IF(OR(LEFT(B521,3)<>\"CSL\", AND(LEFT(B521,3)=\"CSL\",H$522=\"NO\")),\" [\"&B521&\"]\"&G521&\" \",G521&\" \"))),IF(E521=\"\",\"***TRANSLATED TEXT MISSING***\",E521&G521&\" \"))","v":"All waste product is assumed to be collected and returned for re-processing or use as a fuel [A9]. "},".","Y"]
["Phrases added for INEOS purposes",null,null,null,null,"Suppress INEOS phrase reference number",null,"YES"]
["End point"]
[null,"CSL02",null,"Based on ECHA Template CSA&IR Part D June 08 combined with the GES Narrative Format","Based on ECHA Template CSA&IR Part D June 08 combined with the GES Narrative Format",{"$f":"IF(AND(H524=\"Y\",CSA!B$15=\"YES\"),IF(E524=\"\",\"***TRANSLATED TEXT MISSING***\",E524&IF(B524=\"\",G524&\" \",IF(OR(LEFT(B524,3)<>\"CSL\", AND(LEFT(B524,3)=\"CSL\",H$522=\"NO\")),\" [\"&B524&\"]\"&G524&\" \",G524&\" \"))),IF(E524=\"\",\"***TRANSLATED TEXT MISSING***\",E524&G524&\" \"))","v":"Based on ECHA Template CSA&IR Part D June 08 combined with the GES Narrative Format. "},".","Y"]
[null,"CSL03",null,"Section","Section",{"$f":"IF(AND(H525=\"Y\",CSA!B$15=\"YES\"),IF(E525=\"\",\"***TRANSLATED TEXT MISSING***\",E525&IF(B525=\"\",G525&\" \",IF(OR(LEFT(B525,3)<>\"CSL\", AND(LEFT(B525,3)=\"CSL\",H$522=\"NO\")),\" [\"&B525&\"]\"&G525&\" \",G525&\" \"))),IF(E525=\"\",\"***TRANSLATED TEXT MISSING***\",E525&G525&\" \"))","v":"Section: "},":","Y"]
[null,"CSL04",null,"Processes, tasks, activities covered ","Processes, tasks, activities covered ",{"$f":"IF(AND(H526=\"Y\",CSA!B$15=\"YES\"),IF(E526=\"\",\"***TRANSLATED TEXT MISSING***\",E526&IF(B526=\"\",G526&\" \",IF(OR(LEFT(B526,3)<>\"CSL\", AND(LEFT(B526,3)=\"CSL\",H$522=\"NO\")),\" [\"&B526&\"]\"&G526&\" \",G526&\" \"))),IF(E526=\"\",\"***TRANSLATED TEXT MISSING***\",E526&G526&\" \"))","v":"Processes, tasks, activities covered : "},":","N"]
[null,"CSL05",null,"Use Descriptor","Use Descriptor",{"$f":"IF(AND(H527=\"Y\",CSA!B$15=\"YES\"),IF(E527=\"\",\"***TRANSLATED TEXT MISSING***\",E527&IF(B527=\"\",G527&\" \",IF(OR(LEFT(B527,3)<>\"CSL\", AND(LEFT(B527,3)=\"CSL\",H$522=\"NO\")),\" [\"&B527&\"]\"&G527&\" \",G527&\" \"))),IF(E527=\"\",\"***TRANSLATED TEXT MISSING***\",E527&G527&\" \"))","v":"Use Descriptor: "},":","N"]
[null,"CSL06",null,"Other Operational Conditions affecting worker exposure ","Other Operational Conditions affecting worker exposure ",{"$f":"IF(AND(H528=\"Y\",CSA!B$15=\"YES\"),IF(E528=\"\",\"***TRANSLATED TEXT MISSING***\",E528&IF(B528=\"\",G528&\" \",IF(OR(LEFT(B528,3)<>\"CSL\", AND(LEFT(B528,3)=\"CSL\",H$522=\"NO\")),\" [\"&B528&\"]\"&G528&\" \",G528&\" \"))),IF(E528=\"\",\"***TRANSLATED TEXT MISSING***\",E528&G528&\" \"))","v":"Other Operational Conditions affecting worker exposure : "},":","N"]
[null,"CSL07",null,"Note: list RMM standard phrases according to the control hierarchy indicated in the ECHA template: 1. Technical measures to prevent release, 2. Technical measures to prevent dispersion, 3. Organisational measures , 4. Personal protection. Phrases between brackets are good practice advice only, beyond REACH Chemical Safety Assessment and may be communicated in Section 5 of the ES or within the main sections of the SDS","Note: list RMM standard phrases according to the control hierarchy indicated in the ECHA template: 1. Technical measures to prevent release, 2. Technical measures to prevent dispersion, 3. Organisational measures , 4. Personal protection",{"$f":"IF(AND(H529=\"Y\",CSA!B$15=\"YES\"),IF(E529=\"\",\"***TRANSLATED TEXT MISSING***\",E529&IF(B529=\"\",G529&\" \",IF(OR(LEFT(B529,3)<>\"CSL\", AND(LEFT(B529,3)=\"CSL\",H$522=\"NO\")),\" [\"&B529&\"]\"&G529&\" \",G529&\" \"))),IF(E529=\"\",\"***TRANSLATED TEXT MISSING***\",E529&G529&\" \"))","v":"Note: list RMM standard phrases according to the control hierarchy indicated in the ECHA template: 1. Technical measures to prevent release, 2. Technical measures to prevent dispersion, 3. Organisational measures , 4. Personal protection. "},".","N"]
[null,"CSL08",null,"From tote tanks and supply vessels","From tote tanks and supply vessels",{"$f":"IF(AND(H530=\"Y\",CSA!B$15=\"YES\"),IF(E530=\"\",\"***TRANSLATED TEXT MISSING***\",E530&IF(B530=\"\",G530&\" \",IF(OR(LEFT(B530,3)<>\"CSL\", AND(LEFT(B530,3)=\"CSL\",H$522=\"NO\")),\" [\"&B530&\"]\"&G530&\" \",G530&\" \"))),IF(E530=\"\",\"***TRANSLATED TEXT MISSING***\",E530&G530&\" \"))","v":"From tote tanks and supply vessels. "},".","Y"]
[null,"CSL09",null,"Charging from drums","Charging from drums",{"$f":"IF(AND(H531=\"Y\",CSA!B$15=\"YES\"),IF(E531=\"\",\"***TRANSLATED TEXT MISSING***\",E531&IF(B531=\"\",G531&\" \",IF(OR(LEFT(B531,3)<>\"CSL\", AND(LEFT(B531,3)=\"CSL\",H$522=\"NO\")),\" [\"&B531&\"]\"&G531&\" \",G531&\" \"))),IF(E531=\"\",\"***TRANSLATED TEXT MISSING***\",E531&G531&\" \"))","v":"Charging from drums. "},".","Y"]
[null,"CSL10",null,"formulated product","formulated product",{"$f":"IF(AND(H532=\"Y\",CSA!B$15=\"YES\"),IF(E532=\"\",\"***TRANSLATED TEXT MISSING***\",E532&IF(B532=\"\",G532&\" \",IF(OR(LEFT(B532,3)<>\"CSL\", AND(LEFT(B532,3)=\"CSL\",H$522=\"NO\")),\" [\"&B532&\"]\"&G532&\" \",G532&\" \"))),IF(E532=\"\",\"***TRANSLATED TEXT MISSING***\",E532&G532&\" \"))","v":"formulated product. "},".","Y"]
[null,"CSL11",null,"In line injection of process chemicals by fixed dose pumping","In line injection of process chemicals by fixed dose pumping",{"$f":"IF(AND(H533=\"Y\",CSA!B$15=\"YES\"),IF(E533=\"\",\"***TRANSLATED TEXT MISSING***\",E533&IF(B533=\"\",G533&\" \",IF(OR(LEFT(B533,3)<>\"CSL\", AND(LEFT(B533,3)=\"CSL\",H$522=\"NO\")),\" [\"&B533&\"]\"&G533&\" \",G533&\" \"))),IF(E533=\"\",\"***TRANSLATED TEXT MISSING***\",E533&G533&\" \"))","v":"In line injection of process chemicals by fixed dose pumping. "},".","Y"]
[null,"CSL12",null,"Application of process chemicals by pouring from a jug into systems","Application of process chemicals by pouring from a jug into systems",{"$f":"IF(AND(H534=\"Y\",CSA!B$15=\"YES\"),IF(E534=\"\",\"***TRANSLATED TEXT MISSING***\",E534&IF(B534=\"\",G534&\" \",IF(OR(LEFT(B534,3)<>\"CSL\", AND(LEFT(B534,3)=\"CSL\",H$522=\"NO\")),\" [\"&B534&\"]\"&G534&\" \",G534&\" \"))),IF(E534=\"\",\"***TRANSLATED TEXT MISSING***\",E534&G534&\" \"))","v":"Application of process chemicals by pouring from a jug into systems. "},".","Y"]
[null,"CSL13",null,"mg/kg/day","mg/kg/day",{"$f":"IF(AND(H535=\"Y\",CSA!B$15=\"YES\"),IF(E535=\"\",\"***TRANSLATED TEXT MISSING***\",E535&IF(B535=\"\",G535&\" \",IF(OR(LEFT(B535,3)<>\"CSL\", AND(LEFT(B535,3)=\"CSL\",H$522=\"NO\")),\" [\"&B535&\"]\"&G535&\" \",G535&\" \"))),IF(E535=\"\",\"***TRANSLATED TEXT MISSING***\",E535&G535&\" \"))","v":"mg/kg/day. "},".","N"]
[null,"CSL14",null,"ppm","ppm",{"$f":"IF(AND(H536=\"Y\",CSA!B$15=\"YES\"),IF(E536=\"\",\"***TRANSLATED TEXT MISSING***\",E536&IF(B536=\"\",G536&\" \",IF(OR(LEFT(B536,3)<>\"CSL\", AND(LEFT(B536,3)=\"CSL\",H$522=\"NO\")),\" [\"&B536&\"]\"&G536&\" \",G536&\" \"))),IF(E536=\"\",\"***TRANSLATED TEXT MISSING***\",E536&G536&\" \"))","v":"ppm. "},".","N"]
[null,"CSL15",null,"Professional (SU22)","Professional (SU22)",{"$f":"IF(AND(H537=\"Y\",CSA!B$15=\"YES\"),IF(E537=\"\",\"***TRANSLATED TEXT MISSING***\",E537&IF(B537=\"\",G537&\" \",IF(OR(LEFT(B537,3)<>\"CSL\", AND(LEFT(B537,3)=\"CSL\",H$522=\"NO\")),\" [\"&B537&\"]\"&G537&\" \",G537&\" \"))),IF(E537=\"\",\"***TRANSLATED TEXT MISSING***\",E537&G537&\" \"))","v":"Professional (SU22). "},".","N"]
[null,"CSL16",null,"Industrial (SU3)","Industrial (SU3)",{"$f":"IF(AND(H538=\"Y\",CSA!B$15=\"YES\"),IF(E538=\"\",\"***TRANSLATED TEXT MISSING***\",E538&IF(B538=\"\",G538&\" \",IF(OR(LEFT(B538,3)<>\"CSL\", AND(LEFT(B538,3)=\"CSL\",H$522=\"NO\")),\" [\"&B538&\"]\"&G538&\" \",G538&\" \"))),IF(E538=\"\",\"***TRANSLATED TEXT MISSING***\",E538&G538&\" \"))","v":"Industrial (SU3). "},".","N"]
[null,"CSL17",null,"Consumer (SU21)","Consumer (SU21)",{"$f":"IF(AND(H539=\"Y\",CSA!B$15=\"YES\"),IF(E539=\"\",\"***TRANSLATED TEXT MISSING***\",E539&IF(B539=\"\",G539&\" \",IF(OR(LEFT(B539,3)<>\"CSL\", AND(LEFT(B539,3)=\"CSL\",H$522=\"NO\")),\" [\"&B539&\"]\"&G539&\" \",G539&\" \"))),IF(E539=\"\",\"***TRANSLATED TEXT MISSING***\",E539&G539&\" \"))","v":"Consumer (SU21). "},".","N"]
[null,"CSL18",null,"Contributing scenario","Contributing scenario",{"$f":"IF(AND(H540=\"Y\",CSA!B$15=\"YES\"),IF(E540=\"\",\"***TRANSLATED TEXT MISSING***\",E540&IF(B540=\"\",G540&\" \",IF(OR(LEFT(B540,3)<>\"CSL\", AND(LEFT(B540,3)=\"CSL\",H$522=\"NO\")),\" [\"&B540&\"]\"&G540&\" \",G540&\" \"))),IF(E540=\"\",\"***TRANSLATED TEXT MISSING***\",E540&G540&\" \"))","v":"Contributing scenario. "},".","N"]
[null,"CSL19",null,"Product characteristics","Product characteristics",{"$f":"IF(AND(H541=\"Y\",CSA!B$15=\"YES\"),IF(E541=\"\",\"***TRANSLATED TEXT MISSING***\",E541&IF(B541=\"\",G541&\" \",IF(OR(LEFT(B541,3)<>\"CSL\", AND(LEFT(B541,3)=\"CSL\",H$522=\"NO\")),\" [\"&B541&\"]\"&G541&\" \",G541&\" \"))),IF(E541=\"\",\"***TRANSLATED TEXT MISSING***\",E541&G541&\" \"))","v":"Product characteristics. "},".","N"]
[null,"CSL20",null,"Amounts used per site (tonne per year)","Amounts used per site (tonne per year)",{"$f":"IF(AND(H542=\"Y\",CSA!B$15=\"YES\"),IF(E542=\"\",\"***TRANSLATED TEXT MISSING***\",E542&IF(B542=\"\",G542&\" \",IF(OR(LEFT(B542,3)<>\"CSL\", AND(LEFT(B542,3)=\"CSL\",H$522=\"NO\")),\" [\"&B542&\"]\"&G542&\" \",G542&\" \"))),IF(E542=\"\",\"***TRANSLATED TEXT MISSING***\",E542&G542&\" \"))","v":"Amounts used per site (tonne per year). "},".","N"]
[null,"CSL21",null,"Other Operational Conditions of use affecting environmental exposure","Other Operational Conditions of use affecting environmental exposure",{"$f":"IF(AND(H543=\"Y\",CSA!B$15=\"YES\"),IF(E543=\"\",\"***TRANSLATED TEXT MISSING***\",E543&IF(B543=\"\",G543&\" \",IF(OR(LEFT(B543,3)<>\"CSL\", AND(LEFT(B543,3)=\"CSL\",H$522=\"NO\")),\" [\"&B543&\"]\"&G543&\" \",G543&\" \"))),IF(E543=\"\",\"***TRANSLATED TEXT MISSING***\",E543&G543&\" \"))","v":"Other Operational Conditions of use affecting environmental exposure. "},".","N"]
[null,"CSL22",null,"Technical onsite conditions and measures to reduce or limit discharges, air emissions and releases to soil","Technical onsite conditions and measures to reduce or limit discharges, air emissions and releases to soil",{"$f":"IF(AND(H544=\"Y\",CSA!B$15=\"YES\"),IF(E544=\"\",\"***TRANSLATED TEXT MISSING***\",E544&IF(B544=\"\",G544&\" \",IF(OR(LEFT(B544,3)<>\"CSL\", AND(LEFT(B544,3)=\"CSL\",H$522=\"NO\")),\" [\"&B544&\"]\"&G544&\" \",G544&\" \"))),IF(E544=\"\",\"***TRANSLATED TEXT MISSING***\",E544&G544&\" \"))","v":"Technical onsite conditions and measures to reduce or limit discharges, air emissions and releases to soil. "},".","N"]
[null,"CSL23",null,"Organisation measures to prevent/limit release from site","Organisation measures to prevent/limit release from site",{"$f":"IF(AND(H545=\"Y\",CSA!B$15=\"YES\"),IF(E545=\"\",\"***TRANSLATED TEXT MISSING***\",E545&IF(B545=\"\",G545&\" \",IF(OR(LEFT(B545,3)<>\"CSL\", AND(LEFT(B545,3)=\"CSL\",H$522=\"NO\")),\" [\"&B545&\"]\"&G545&\" \",G545&\" \"))),IF(E545=\"\",\"***TRANSLATED TEXT MISSING***\",E545&G545&\" \"))","v":"Organisation measures to prevent/limit release from site. "},".","N"]
[null,"CSL24",null,"Conditions and measures related to municipal sewage treatment plant","Conditions and measures related to municipal sewage treatment plant",{"$f":"IF(AND(H546=\"Y\",CSA!B$15=\"YES\"),IF(E546=\"\",\"***TRANSLATED TEXT MISSING***\",E546&IF(B546=\"\",G546&\" \",IF(OR(LEFT(B546,3)<>\"CSL\", AND(LEFT(B546,3)=\"CSL\",H$522=\"NO\")),\" [\"&B546&\"]\"&G546&\" \",G546&\" \"))),IF(E546=\"\",\"***TRANSLATED TEXT MISSING***\",E546&G546&\" \"))","v":"Conditions and measures related to municipal sewage treatment plant. "},".","N"]
[null,"CSL25",null,"Conditions and measures related to external treatment of waste for disposal","Conditions and measures related to external treatment of waste for disposal",{"$f":"IF(AND(H547=\"Y\",CSA!B$15=\"YES\"),IF(E547=\"\",\"***TRANSLATED TEXT MISSING***\",E547&IF(B547=\"\",G547&\" \",IF(OR(LEFT(B547,3)<>\"CSL\", AND(LEFT(B547,3)=\"CSL\",H$522=\"NO\")),\" [\"&B547&\"]\"&G547&\" \",G547&\" \"))),IF(E547=\"\",\"***TRANSLATED TEXT MISSING***\",E547&G547&\" \"))","v":"Conditions and measures related to external treatment of waste for disposal. "},".","N"]
[null,"CSL26",null,"Conditions and measures related to external recovery of waste","Conditions and measures related to external recovery of waste",{"$f":"IF(AND(H548=\"Y\",CSA!B$15=\"YES\"),IF(E548=\"\",\"***TRANSLATED TEXT MISSING***\",E548&IF(B548=\"\",G548&\" \",IF(OR(LEFT(B548,3)<>\"CSL\", AND(LEFT(B548,3)=\"CSL\",H$522=\"NO\")),\" [\"&B548&\"]\"&G548&\" \",G548&\" \"))),IF(E548=\"\",\"***TRANSLATED TEXT MISSING***\",E548&G548&\" \"))","v":"Conditions and measures related to external recovery of waste. "},".","N"]
[null,"CSL27",null,"Other environmental control measures additional to above","Other environmental control measures additional to above",{"$f":"IF(AND(H549=\"Y\",CSA!B$15=\"YES\"),IF(E549=\"\",\"***TRANSLATED TEXT MISSING***\",E549&IF(B549=\"\",G549&\" \",IF(OR(LEFT(B549,3)<>\"CSL\", AND(LEFT(B549,3)=\"CSL\",H$522=\"NO\")),\" [\"&B549&\"]\"&G549&\" \",G549&\" \"))),IF(E549=\"\",\"***TRANSLATED TEXT MISSING***\",E549&G549&\" \"))","v":"Other environmental control measures additional to above. "},".","N"]
[null,"CSL28",null,"days per year of operation","days per year of operation",{"$f":"IF(AND(H550=\"Y\",CSA!B$15=\"YES\"),IF(E550=\"\",\"***TRANSLATED TEXT MISSING***\",E550&IF(B550=\"\",G550&\" \",IF(OR(LEFT(B550,3)<>\"CSL\", AND(LEFT(B550,3)=\"CSL\",H$522=\"NO\")),\" [\"&B550&\"]\"&G550&\" \",G550&\" \"))),IF(E550=\"\",\"***TRANSLATED TEXT MISSING***\",E550&G550&\" \"))","v":"days per year of operation. "},".","N"]
[null,"CSL29",null,"none","none",{"$f":"IF(AND(H551=\"Y\",CSA!B$15=\"YES\"),IF(E551=\"\",\"***TRANSLATED TEXT MISSING***\",E551&IF(B551=\"\",G551&\" \",IF(OR(LEFT(B551,3)<>\"CSL\", AND(LEFT(B551,3)=\"CSL\",H$522=\"NO\")),\" [\"&B551&\"]\"&G551&\" \",G551&\" \"))),IF(E551=\"\",\"***TRANSLATED TEXT MISSING***\",E551&G551&\" \"))","v":"none. "},".","N"]
[null,"CSL30",null,"No specific measures required","No specific measures required",{"$f":"IF(AND(H552=\"Y\",CSA!B$15=\"YES\"),IF(E552=\"\",\"***TRANSLATED TEXT MISSING***\",E552&IF(B552=\"\",G552&\" \",IF(OR(LEFT(B552,3)<>\"CSL\", AND(LEFT(B552,3)=\"CSL\",H$522=\"NO\")),\" [\"&B552&\"]\"&G552&\" \",G552&\" \"))),IF(E552=\"\",\"***TRANSLATED TEXT MISSING***\",E552&G552&\" \"))","v":"No specific measures required. "},".","N"]
[null,"CSL31",null,"Not applicable","Not applicable",{"$f":"IF(AND(H553=\"Y\",CSA!B$15=\"YES\"),IF(E553=\"\",\"***TRANSLATED TEXT MISSING***\",E553&IF(B553=\"\",G553&\" \",IF(OR(LEFT(B553,3)<>\"CSL\", AND(LEFT(B553,3)=\"CSL\",H$522=\"NO\")),\" [\"&B553&\"]\"&G553&\" \",G553&\" \"))),IF(E553=\"\",\"***TRANSLATED TEXT MISSING***\",E553&G553&\" \"))","v":"Not applicable. "},".","N"]
[null,"CSL32",null,"Exposure scenario","Exposure scenario",{"$f":"IF(AND(H554=\"Y\",CSA!B$15=\"YES\"),IF(E554=\"\",\"***TRANSLATED TEXT MISSING***\",E554&IF(B554=\"\",G554&\" \",IF(OR(LEFT(B554,3)<>\"CSL\", AND(LEFT(B554,3)=\"CSL\",H$522=\"NO\")),\" [\"&B554&\"]\"&G554&\" \",G554&\" \"))),IF(E554=\"\",\"***TRANSLATED TEXT MISSING***\",E554&G554&\" \"))","v":"Exposure scenario "},null,"N"]
[null,"CSL33",null,"Continuous and batch operation","Continuous and batch operation",{"$f":"IF(AND(H555=\"Y\",CSA!B$15=\"YES\"),IF(E555=\"\",\"***TRANSLATED TEXT MISSING***\",E555&IF(B555=\"\",G555&\" \",IF(OR(LEFT(B555,3)<>\"CSL\", AND(LEFT(B555,3)=\"CSL\",H$522=\"NO\")),\" [\"&B555&\"]\"&G555&\" \",G555&\" \"))),IF(E555=\"\",\"***TRANSLATED TEXT MISSING***\",E555&G555&\" \"))","v":"Continuous and batch operation. "},".","N"]
[null,"CSL34",null,"Maximum exposure resulting from contributing scenarios","Maximum exposure resulting from contributing scenarios",{"$f":"IF(AND(H556=\"Y\",CSA!B$15=\"YES\"),IF(E556=\"\",\"***TRANSLATED TEXT MISSING***\",E556&IF(B556=\"\",G556&\" \",IF(OR(LEFT(B556,3)<>\"CSL\", AND(LEFT(B556,3)=\"CSL\",H$522=\"NO\")),\" [\"&B556&\"]\"&G556&\" \",G556&\" \"))),IF(E556=\"\",\"***TRANSLATED TEXT MISSING***\",E556&G556&\" \"))","v":"Maximum exposure resulting from contributing scenarios. "},".","N"]
[null,"CSL35",null,"Maximum exposure resulting from contributing scenarios described","Maximum exposure resulting from contributing scenarios described",{"$f":"IF(AND(H557=\"Y\",CSA!B$15=\"YES\"),IF(E557=\"\",\"***TRANSLATED TEXT MISSING***\",E557&IF(B557=\"\",G557&\" \",IF(OR(LEFT(B557,3)<>\"CSL\", AND(LEFT(B557,3)=\"CSL\",H$522=\"NO\")),\" [\"&B557&\"]\"&G557&\" \",G557&\" \"))),IF(E557=\"\",\"***TRANSLATED TEXT MISSING***\",E557&G557&\" \"))","v":"Maximum exposure resulting from contributing scenarios described. "},".","N"]
[null,"CSL36",null,"No hazard associated with acute exposure","No hazard associated with acute exposure",{"$f":"IF(AND(H558=\"Y\",CSA!B$15=\"YES\"),IF(E558=\"\",\"***TRANSLATED TEXT MISSING***\",E558&IF(B558=\"\",G558&\" \",IF(OR(LEFT(B558,3)<>\"CSL\", AND(LEFT(B558,3)=\"CSL\",H$522=\"NO\")),\" [\"&B558&\"]\"&G558&\" \",G558&\" \"))),IF(E558=\"\",\"***TRANSLATED TEXT MISSING***\",E558&G558&\" \"))","v":"No hazard associated with acute exposure. "},".","N"]
[null,"CSL37",null,"Risk management measures described will protect against acute exposure","Risk management measures described will protect against acute exposure",{"$f":"IF(AND(H559=\"Y\",CSA!B$15=\"YES\"),IF(E559=\"\",\"***TRANSLATED TEXT MISSING***\",E559&IF(B559=\"\",G559&\" \",IF(OR(LEFT(B559,3)<>\"CSL\", AND(LEFT(B559,3)=\"CSL\",H$522=\"NO\")),\" [\"&B559&\"]\"&G559&\" \",G559&\" \"))),IF(E559=\"\",\"***TRANSLATED TEXT MISSING***\",E559&G559&\" \"))","v":"Risk management measures described will protect against acute exposure. "},".","N"]
[null,"CSL38",null,"Since exposures have been assessed on a task basis, exposure assessments will cover both long and short term exposures","Since exposures have been assessed on a task basis, exposure assessments will cover both long and short term exposures",{"$f":"IF(AND(H560=\"Y\",CSA!B$15=\"YES\"),IF(E560=\"\",\"***TRANSLATED TEXT MISSING***\",E560&IF(B560=\"\",G560&\" \",IF(OR(LEFT(B560,3)<>\"CSL\", AND(LEFT(B560,3)=\"CSL\",H$522=\"NO\")),\" [\"&B560&\"]\"&G560&\" \",G560&\" \"))),IF(E560=\"\",\"***TRANSLATED TEXT MISSING***\",E560&G560&\" \"))","v":"Since exposures have been assessed on a task basis, exposure assessments will cover both long and short term exposures. "},".","N"]
[null,"CSL39",null,"Inhalation (vapour)","Inhalation (vapour)",{"$f":"IF(AND(H561=\"Y\",CSA!B$15=\"YES\"),IF(E561=\"\",\"***TRANSLATED TEXT MISSING***\",E561&IF(B561=\"\",G561&\" \",IF(OR(LEFT(B561,3)<>\"CSL\", AND(LEFT(B561,3)=\"CSL\",H$522=\"NO\")),\" [\"&B561&\"]\"&G561&\" \",G561&\" \"))),IF(E561=\"\",\"***TRANSLATED TEXT MISSING***\",E561&G561&\" \"))","v":"Inhalation (vapour): "},":","N"]
[null,"CSL40",null,"Dermal","Dermal",{"$f":"IF(AND(H562=\"Y\",CSA!B$15=\"YES\"),IF(E562=\"\",\"***TRANSLATED TEXT MISSING***\",E562&IF(B562=\"\",G562&\" \",IF(OR(LEFT(B562,3)<>\"CSL\", AND(LEFT(B562,3)=\"CSL\",H$522=\"NO\")),\" [\"&B562&\"]\"&G562&\" \",G562&\" \"))),IF(E562=\"\",\"***TRANSLATED TEXT MISSING***\",E562&G562&\" \"))","v":"Dermal: "},":","N"]
[null,"CSL41",null,"Inhalation (aerosol)","Inhalation (aerosol)",{"$f":"IF(AND(H563=\"Y\",CSA!B$15=\"YES\"),IF(E563=\"\",\"***TRANSLATED TEXT MISSING***\",E563&IF(B563=\"\",G563&\" \",IF(OR(LEFT(B563,3)<>\"CSL\", AND(LEFT(B563,3)=\"CSL\",H$522=\"NO\")),\" [\"&B563&\"]\"&G563&\" \",G563&\" \"))),IF(E563=\"\",\"***TRANSLATED TEXT MISSING***\",E563&G563&\" \"))","v":"Inhalation (aerosol): "},":","N"]
[null,"CSL42",null,"Risk characterisation ratio","Risk characterisation ratio",{"$f":"IF(AND(H564=\"Y\",CSA!B$15=\"YES\"),IF(E564=\"\",\"***TRANSLATED TEXT MISSING***\",E564&IF(B564=\"\",G564&\" \",IF(OR(LEFT(B564,3)<>\"CSL\", AND(LEFT(B564,3)=\"CSL\",H$522=\"NO\")),\" [\"&B564&\"]\"&G564&\" \",G564&\" \"))),IF(E564=\"\",\"***TRANSLATED TEXT MISSING***\",E564&G564&\" \"))","v":"Risk characterisation ratio: "},":","N"]
[null,"CSL43",null,"PEC for microorganisms in STP","PEC for microorganisms in STP",{"$f":"IF(AND(H565=\"Y\",CSA!B$15=\"YES\"),IF(E565=\"\",\"***TRANSLATED TEXT MISSING***\",E565&IF(B565=\"\",G565&\" \",IF(OR(LEFT(B565,3)<>\"CSL\", AND(LEFT(B565,3)=\"CSL\",H$522=\"NO\")),\" [\"&B565&\"]\"&G565&\" \",G565&\" \"))),IF(E565=\"\",\"***TRANSLATED TEXT MISSING***\",E565&G565&\" \"))","v":"PEC for microorganisms in STP: "},":","N"]
[null,"CSL44",null,"Local PEC in surface water","Local PEC in surface water",{"$f":"IF(AND(H566=\"Y\",CSA!B$15=\"YES\"),IF(E566=\"\",\"***TRANSLATED TEXT MISSING***\",E566&IF(B566=\"\",G566&\" \",IF(OR(LEFT(B566,3)<>\"CSL\", AND(LEFT(B566,3)=\"CSL\",H$522=\"NO\")),\" [\"&B566&\"]\"&G566&\" \",G566&\" \"))),IF(E566=\"\",\"***TRANSLATED TEXT MISSING***\",E566&G566&\" \"))","v":"Local PEC in surface water: "},":","N"]
[null,"CSL45",null,"Local PEC in fresh water sediment","Local PEC in fresh water sediment",{"$f":"IF(AND(H567=\"Y\",CSA!B$15=\"YES\"),IF(E567=\"\",\"***TRANSLATED TEXT MISSING***\",E567&IF(B567=\"\",G567&\" \",IF(OR(LEFT(B567,3)<>\"CSL\", AND(LEFT(B567,3)=\"CSL\",H$522=\"NO\")),\" [\"&B567&\"]\"&G567&\" \",G567&\" \"))),IF(E567=\"\",\"***TRANSLATED TEXT MISSING***\",E567&G567&\" \"))","v":"Local PEC in fresh water sediment: "},":","N"]
[null,"CSL46",null,"Local PEC in sea water during emission episode","Local PEC in sea water during emission episode",{"$f":"IF(AND(H568=\"Y\",CSA!B$15=\"YES\"),IF(E568=\"\",\"***TRANSLATED TEXT MISSING***\",E568&IF(B568=\"\",G568&\" \",IF(OR(LEFT(B568,3)<>\"CSL\", AND(LEFT(B568,3)=\"CSL\",H$522=\"NO\")),\" [\"&B568&\"]\"&G568&\" \",G568&\" \"))),IF(E568=\"\",\"***TRANSLATED TEXT MISSING***\",E568&G568&\" \"))","v":"Local PEC in sea water during emission episode: "},":","N"]
[null,"CSL47",null,"Local PEC in marine sediment","Local PEC in marine sediment",{"$f":"IF(AND(H569=\"Y\",CSA!B$15=\"YES\"),IF(E569=\"\",\"***TRANSLATED TEXT MISSING***\",E569&IF(B569=\"\",G569&\" \",IF(OR(LEFT(B569,3)<>\"CSL\", AND(LEFT(B569,3)=\"CSL\",H$522=\"NO\")),\" [\"&B569&\"]\"&G569&\" \",G569&\" \"))),IF(E569=\"\",\"***TRANSLATED TEXT MISSING***\",E569&G569&\" \"))","v":"Local PEC in marine sediment: "},":","N"]
[null,"CSL48",null,"Local PEC in soil","Local PEC in soil",{"$f":"IF(AND(H570=\"Y\",CSA!B$15=\"YES\"),IF(E570=\"\",\"***TRANSLATED TEXT MISSING***\",E570&IF(B570=\"\",G570&\" \",IF(OR(LEFT(B570,3)<>\"CSL\", AND(LEFT(B570,3)=\"CSL\",H$522=\"NO\")),\" [\"&B570&\"]\"&G570&\" \",G570&\" \"))),IF(E570=\"\",\"***TRANSLATED TEXT MISSING***\",E570&G570&\" \"))","v":"Local PEC in soil: "},":","N"]
[null,"CSL49",null,"The downstream user can check the compliance of his site by comparing site specific data with defaults used in the exposure assessment. The site specific quotient should be inferior or equal to the spERC quotient","The downstream user can check the compliance of his site by comparing site specific data with defaults used in the exposure assessment. The site specific quotient should be inferior or equal to the spERC quotient",{"$f":"IF(AND(H571=\"Y\",CSA!B$15=\"YES\"),IF(E571=\"\",\"***TRANSLATED TEXT MISSING***\",E571&IF(B571=\"\",G571&\" \",IF(OR(LEFT(B571,3)<>\"CSL\", AND(LEFT(B571,3)=\"CSL\",H$522=\"NO\")),\" [\"&B571&\"]\"&G571&\" \",G571&\" \"))),IF(E571=\"\",\"***TRANSLATED TEXT MISSING***\",E571&G571&\" \"))","v":"The downstream user can check the compliance of his site by comparing site specific data with defaults used in the exposure assessment. The site specific quotient should be inferior or equal to the spERC quotient. "},".","Y"]
[null,"CSL50",null,"where:  mspERC: Susbstance use rate in spERC.  \nEER,spERC: Efficacy of RMM in spERC. \nFrelease,,spERC: Initial release fraction in spERC. \nDFspERC: dilution factor of STP effluent in river.\n\nmsite: Susbstance use rate at site. \nEER,site: Efficacy of RMM at site. \nFrelease,,site: Initial release fraction at site. \nDFsite: dilution factor of STP effluent in river","where:  mspERC: Susbstance use rate in spERC.  \nEER,spERC: Efficacy of RMM in spERC. \nFrelease,,spERC: Initial release fraction in spERC. \nDFspERC: dilution factor of STP effluent in river.\n\nmsite: Susbstance use rate at site. \nEER,site: Efficacy of RMM at site. \nFrelease,,site: Initial release fraction at site. \nDFsite: dilution factor of STP effluent in river",{"$f":"IF(AND(H572=\"Y\",CSA!B$15=\"YES\"),IF(E572=\"\",\"***TRANSLATED TEXT MISSING***\",E572&IF(B572=\"\",G572&\" \",IF(OR(LEFT(B572,3)<>\"CSL\", AND(LEFT(B572,3)=\"CSL\",H$522=\"NO\")),\" [\"&B572&\"]\"&G572&\" \",G572&\" \"))),IF(E572=\"\",\"***TRANSLATED TEXT MISSING***\",E572&G572&\" \"))","v":"where:  mspERC: Susbstance use rate in spERC.  \nEER,spERC: Efficacy of RMM in spERC. \nFrelease,,spERC: Initial release fraction in spERC. \nDFspERC: dilution factor of STP effluent in river.\n\nmsite: Susbstance use rate at site. \nEER,site: Efficacy of RMM at site. \nFrelease,,site: Initial release fraction at site. \nDFsite: dilution factor of STP effluent in river. "},".","N"]
[null,"CSL51",null,"No corrections required as all exposures are assumed to be for 8 hours (worse case assessment)","No corrections required as all exposures are assumed to be for 8 hours (worse case assessment)",{"$f":"IF(AND(H573=\"Y\",CSA!B$15=\"YES\"),IF(E573=\"\",\"***TRANSLATED TEXT MISSING***\",E573&IF(B573=\"\",G573&\" \",IF(OR(LEFT(B573,3)<>\"CSL\", AND(LEFT(B573,3)=\"CSL\",H$522=\"NO\")),\" [\"&B573&\"]\"&G573&\" \",G573&\" \"))),IF(E573=\"\",\"***TRANSLATED TEXT MISSING***\",E573&G573&\" \"))","v":"No corrections required as all exposures are assumed to be for 8 hours (worse case assessment). "},".","Y"]
[null,"CSL52",null,"If risk management measures do not correspond with users operating conditions, please consult with supplier","If risk management measures do not correspond with users operating conditions, please consult with supplier",{"$f":"IF(AND(H574=\"Y\",CSA!B$15=\"YES\"),IF(E574=\"\",\"***TRANSLATED TEXT MISSING***\",E574&IF(B574=\"\",G574&\" \",IF(OR(LEFT(B574,3)<>\"CSL\", AND(LEFT(B574,3)=\"CSL\",H$522=\"NO\")),\" [\"&B574&\"]\"&G574&\" \",G574&\" \"))),IF(E574=\"\",\"***TRANSLATED TEXT MISSING***\",E574&G574&\" \"))","v":"If risk management measures do not correspond with users operating conditions, please consult with supplier. "},".","Y"]
[null,"CSL53",null,"No further information available","No further information available",{"$f":"IF(AND(H575=\"Y\",CSA!B$15=\"YES\"),IF(E575=\"\",\"***TRANSLATED TEXT MISSING***\",E575&IF(B575=\"\",G575&\" \",IF(OR(LEFT(B575,3)<>\"CSL\", AND(LEFT(B575,3)=\"CSL\",H$522=\"NO\")),\" [\"&B575&\"]\"&G575&\" \",G575&\" \"))),IF(E575=\"\",\"***TRANSLATED TEXT MISSING***\",E575&G575&\" \"))","v":"No further information available. "},".","N"]
[null,"CSL54",null,"Miscible in water","Miscible in water",{"$f":"IF(AND(H576=\"Y\",CSA!B$15=\"YES\"),IF(E576=\"\",\"***TRANSLATED TEXT MISSING***\",E576&IF(B576=\"\",G576&\" \",IF(OR(LEFT(B576,3)<>\"CSL\", AND(LEFT(B576,3)=\"CSL\",H$522=\"NO\")),\" [\"&B576&\"]\"&G576&\" \",G576&\" \"))),IF(E576=\"\",\"***TRANSLATED TEXT MISSING***\",E576&G576&\" \"))","v":"Miscible in water. "},".","Y"]
[null,"CSL55",null,"Insoluble in water (<0.1mg/l)","Insoluble in water (<0.1mg/l)",{"$f":"IF(AND(H577=\"Y\",CSA!B$15=\"YES\"),IF(E577=\"\",\"***TRANSLATED TEXT MISSING***\",E577&IF(B577=\"\",G577&\" \",IF(OR(LEFT(B577,3)<>\"CSL\", AND(LEFT(B577,3)=\"CSL\",H$522=\"NO\")),\" [\"&B577&\"]\"&G577&\" \",G577&\" \"))),IF(E577=\"\",\"***TRANSLATED TEXT MISSING***\",E577&G577&\" \"))","v":"Insoluble in water (<0.1mg/l). "},".","Y"]
[null,"CSL56",null,"Slightly soluble in water (0.1-100mg/l)","Slightly soluble in water (0.1-100mg/l)",{"$f":"IF(AND(H578=\"Y\",CSA!B$15=\"YES\"),IF(E578=\"\",\"***TRANSLATED TEXT MISSING***\",E578&IF(B578=\"\",G578&\" \",IF(OR(LEFT(B578,3)<>\"CSL\", AND(LEFT(B578,3)=\"CSL\",H$522=\"NO\")),\" [\"&B578&\"]\"&G578&\" \",G578&\" \"))),IF(E578=\"\",\"***TRANSLATED TEXT MISSING***\",E578&G578&\" \"))","v":"Slightly soluble in water (0.1-100mg/l). "},".","Y"]
[null,"CSL57",null,"Moderately soluble in water (100-1000mg/l","Moderately soluble in water (100-1000mg/l",{"$f":"IF(AND(H579=\"Y\",CSA!B$15=\"YES\"),IF(E579=\"\",\"***TRANSLATED TEXT MISSING***\",E579&IF(B579=\"\",G579&\" \",IF(OR(LEFT(B579,3)<>\"CSL\", AND(LEFT(B579,3)=\"CSL\",H$522=\"NO\")),\" [\"&B579&\"]\"&G579&\" \",G579&\" \"))),IF(E579=\"\",\"***TRANSLATED TEXT MISSING***\",E579&G579&\" \"))","v":"Moderately soluble in water (100-1000mg/l. "},".","Y"]
[null,"CSL58",null,"Soluble in water (1-10g/l)","Soluble in water (1-10g/l)",{"$f":"IF(AND(H580=\"Y\",CSA!B$15=\"YES\"),IF(E580=\"\",\"***TRANSLATED TEXT MISSING***\",E580&IF(B580=\"\",G580&\" \",IF(OR(LEFT(B580,3)<>\"CSL\", AND(LEFT(B580,3)=\"CSL\",H$522=\"NO\")),\" [\"&B580&\"]\"&G580&\" \",G580&\" \"))),IF(E580=\"\",\"***TRANSLATED TEXT MISSING***\",E580&G580&\" \"))","v":"Soluble in water (1-10g/l). "},".","Y"]
[null,"CSL59",null,"Very soluble in water (>10g/l)","Very soluble in water (>10g/l)",{"$f":"IF(AND(H581=\"Y\",CSA!B$15=\"YES\"),IF(E581=\"\",\"***TRANSLATED TEXT MISSING***\",E581&IF(B581=\"\",G581&\" \",IF(OR(LEFT(B581,3)<>\"CSL\", AND(LEFT(B581,3)=\"CSL\",H$522=\"NO\")),\" [\"&B581&\"]\"&G581&\" \",G581&\" \"))),IF(E581=\"\",\"***TRANSLATED TEXT MISSING***\",E581&G581&\" \"))","v":"Very soluble in water (>10g/l). "},".","Y"]
[null,"CSL60",null,"Decomposes in water","Decomposes in water",{"$f":"IF(AND(H582=\"Y\",CSA!B$15=\"YES\"),IF(E582=\"\",\"***TRANSLATED TEXT MISSING***\",E582&IF(B582=\"\",G582&\" \",IF(OR(LEFT(B582,3)<>\"CSL\", AND(LEFT(B582,3)=\"CSL\",H$522=\"NO\")),\" [\"&B582&\"]\"&G582&\" \",G582&\" \"))),IF(E582=\"\",\"***TRANSLATED TEXT MISSING***\",E582&G582&\" \"))","v":"Decomposes in water. "},".","Y"]
[null,"CSL61",null,"Non-toxic to aquatic species","Non-toxic to aquatic species",{"$f":"IF(AND(H583=\"Y\",CSA!B$15=\"YES\"),IF(E583=\"\",\"***TRANSLATED TEXT MISSING***\",E583&IF(B583=\"\",G583&\" \",IF(OR(LEFT(B583,3)<>\"CSL\", AND(LEFT(B583,3)=\"CSL\",H$522=\"NO\")),\" [\"&B583&\"]\"&G583&\" \",G583&\" \"))),IF(E583=\"\",\"***TRANSLATED TEXT MISSING***\",E583&G583&\" \"))","v":"Non-toxic to aquatic species. "},".","Y"]
[null,"CSL62",null,"Practically non-toxic to aquatic species","Practically non-toxic to aquatic species",{"$f":"IF(AND(H584=\"Y\",CSA!B$15=\"YES\"),IF(E584=\"\",\"***TRANSLATED TEXT MISSING***\",E584&IF(B584=\"\",G584&\" \",IF(OR(LEFT(B584,3)<>\"CSL\", AND(LEFT(B584,3)=\"CSL\",H$522=\"NO\")),\" [\"&B584&\"]\"&G584&\" \",G584&\" \"))),IF(E584=\"\",\"***TRANSLATED TEXT MISSING***\",E584&G584&\" \"))","v":"Practically non-toxic to aquatic species. "},".","Y"]
[null,"CSL63",null,"Slightly toxic to aquatic species","Slightly toxic to aquatic species",{"$f":"IF(AND(H585=\"Y\",CSA!B$15=\"YES\"),IF(E585=\"\",\"***TRANSLATED TEXT MISSING***\",E585&IF(B585=\"\",G585&\" \",IF(OR(LEFT(B585,3)<>\"CSL\", AND(LEFT(B585,3)=\"CSL\",H$522=\"NO\")),\" [\"&B585&\"]\"&G585&\" \",G585&\" \"))),IF(E585=\"\",\"***TRANSLATED TEXT MISSING***\",E585&G585&\" \"))","v":"Slightly toxic to aquatic species. "},".","Y"]
[null,"CSL64",null,"Harmful to aquatic species","Harmful to aquatic species",{"$f":"IF(AND(H586=\"Y\",CSA!B$15=\"YES\"),IF(E586=\"\",\"***TRANSLATED TEXT MISSING***\",E586&IF(B586=\"\",G586&\" \",IF(OR(LEFT(B586,3)<>\"CSL\", AND(LEFT(B586,3)=\"CSL\",H$522=\"NO\")),\" [\"&B586&\"]\"&G586&\" \",G586&\" \"))),IF(E586=\"\",\"***TRANSLATED TEXT MISSING***\",E586&G586&\" \"))","v":"Harmful to aquatic species. "},".","Y"]
[null,"CSL65",null,"Toxic to aquatic species","Toxic to aquatic species",{"$f":"IF(AND(H587=\"Y\",CSA!B$15=\"YES\"),IF(E587=\"\",\"***TRANSLATED TEXT MISSING***\",E587&IF(B587=\"\",G587&\" \",IF(OR(LEFT(B587,3)<>\"CSL\", AND(LEFT(B587,3)=\"CSL\",H$522=\"NO\")),\" [\"&B587&\"]\"&G587&\" \",G587&\" \"))),IF(E587=\"\",\"***TRANSLATED TEXT MISSING***\",E587&G587&\" \"))","v":"Toxic to aquatic species. "},".","Y"]
[null,"CSL66",null,"Very toxic to aquatic species","Very toxic to aquatic species",{"$f":"IF(AND(H588=\"Y\",CSA!B$15=\"YES\"),IF(E588=\"\",\"***TRANSLATED TEXT MISSING***\",E588&IF(B588=\"\",G588&\" \",IF(OR(LEFT(B588,3)<>\"CSL\", AND(LEFT(B588,3)=\"CSL\",H$522=\"NO\")),\" [\"&B588&\"]\"&G588&\" \",G588&\" \"))),IF(E588=\"\",\"***TRANSLATED TEXT MISSING***\",E588&G588&\" \"))","v":"Very toxic to aquatic species. "},".","Y"]
[null,"CSL67",null,"Low bioaccumulation potential","Low bioaccumulation potential",{"$f":"IF(AND(H589=\"Y\",CSA!B$15=\"YES\"),IF(E589=\"\",\"***TRANSLATED TEXT MISSING***\",E589&IF(B589=\"\",G589&\" \",IF(OR(LEFT(B589,3)<>\"CSL\", AND(LEFT(B589,3)=\"CSL\",H$522=\"NO\")),\" [\"&B589&\"]\"&G589&\" \",G589&\" \"))),IF(E589=\"\",\"***TRANSLATED TEXT MISSING***\",E589&G589&\" \"))","v":"Low bioaccumulation potential. "},".","Y"]
[null,"CSL68",null,"Some bioaccumulation potential","Some bioaccumulation potential",{"$f":"IF(AND(H590=\"Y\",CSA!B$15=\"YES\"),IF(E590=\"\",\"***TRANSLATED TEXT MISSING***\",E590&IF(B590=\"\",G590&\" \",IF(OR(LEFT(B590,3)<>\"CSL\", AND(LEFT(B590,3)=\"CSL\",H$522=\"NO\")),\" [\"&B590&\"]\"&G590&\" \",G590&\" \"))),IF(E590=\"\",\"***TRANSLATED TEXT MISSING***\",E590&G590&\" \"))","v":"Some bioaccumulation potential. "},".","Y"]
[null,"CSL69",null,"High bioaccumulation potential","High bioaccumulation potential",{"$f":"IF(AND(H591=\"Y\",CSA!B$15=\"YES\"),IF(E591=\"\",\"***TRANSLATED TEXT MISSING***\",E591&IF(B591=\"\",G591&\" \",IF(OR(LEFT(B591,3)<>\"CSL\", AND(LEFT(B591,3)=\"CSL\",H$522=\"NO\")),\" [\"&B591&\"]\"&G591&\" \",G591&\" \"))),IF(E591=\"\",\"***TRANSLATED TEXT MISSING***\",E591&G591&\" \"))","v":"High bioaccumulation potential. "},".","Y"]
[null,"CSL70",null,"Used ESIG SpERCs","Used ESIG SpERCs",{"$f":"IF(AND(H592=\"Y\",CSA!B$15=\"YES\"),IF(E592=\"\",\"***TRANSLATED TEXT MISSING***\",E592&IF(B592=\"\",G592&\" \",IF(OR(LEFT(B592,3)<>\"CSL\", AND(LEFT(B592,3)=\"CSL\",H$522=\"NO\")),\" [\"&B592&\"]\"&G592&\" \",G592&\" \"))),IF(E592=\"\",\"***TRANSLATED TEXT MISSING***\",E592&G592&\" \"))","v":"Used ESIG SpERCs. "},".","Y"]
[null,"CSL71",null,"Assessment based on measured data","Assessment based on measured data",{"$f":"IF(AND(H593=\"Y\",CSA!B$15=\"YES\"),IF(E593=\"\",\"***TRANSLATED TEXT MISSING***\",E593&IF(B593=\"\",G593&\" \",IF(OR(LEFT(B593,3)<>\"CSL\", AND(LEFT(B593,3)=\"CSL\",H$522=\"NO\")),\" [\"&B593&\"]\"&G593&\" \",G593&\" \"))),IF(E593=\"\",\"***TRANSLATED TEXT MISSING***\",E593&G593&\" \"))","v":"Assessment based on measured data. "},".","Y"]
[null,"CSL72",null,"Assessment method","Assessment method",{"$f":"IF(AND(H594=\"Y\",CSA!B$15=\"YES\"),IF(E594=\"\",\"***TRANSLATED TEXT MISSING***\",E594&IF(B594=\"\",G594&\" \",IF(OR(LEFT(B594,3)<>\"CSL\", AND(LEFT(B594,3)=\"CSL\",H$522=\"NO\")),\" [\"&B594&\"]\"&G594&\" \",G594&\" \"))),IF(E594=\"\",\"***TRANSLATED TEXT MISSING***\",E594&G594&\" \"))","v":"Assessment method: "},":","N"]
[null,"CSL73",null,"kg/day","kg/day",{"$f":"IF(AND(H595=\"Y\",CSA!B$15=\"YES\"),IF(E595=\"\",\"***TRANSLATED TEXT MISSING***\",E595&IF(B595=\"\",G595&\" \",IF(OR(LEFT(B595,3)<>\"CSL\", AND(LEFT(B595,3)=\"CSL\",H$522=\"NO\")),\" [\"&B595&\"]\"&G595&\" \",G595&\" \"))),IF(E595=\"\",\"***TRANSLATED TEXT MISSING***\",E595&G595&\" \"))","v":"kg/day. "},".","N"]
[null,"CSL74",null,"Environmental factors not influenced by risk management","Environmental factors not influenced by risk management",{"$f":"IF(AND(H596=\"Y\",CSA!B$15=\"YES\"),IF(E596=\"\",\"***TRANSLATED TEXT MISSING***\",E596&IF(B596=\"\",G596&\" \",IF(OR(LEFT(B596,3)<>\"CSL\", AND(LEFT(B596,3)=\"CSL\",H$522=\"NO\")),\" [\"&B596&\"]\"&G596&\" \",G596&\" \"))),IF(E596=\"\",\"***TRANSLATED TEXT MISSING***\",E596&G596&\" \"))","v":"Environmental factors not influenced by risk management: "},":","N"]
[null,"CSL75",null,"Technical conditions and measures at a process level to prevent release and technical conditions and measures to control dispersion from source towards workers","Technical conditions and measures at a process level to prevent release and technical conditions and measures to control dispersion from source towards workers",{"$f":"IF(AND(H597=\"Y\",CSA!B$15=\"YES\"),IF(E597=\"\",\"***TRANSLATED TEXT MISSING***\",E597&IF(B597=\"\",G597&\" \",IF(OR(LEFT(B597,3)<>\"CSL\", AND(LEFT(B597,3)=\"CSL\",H$522=\"NO\")),\" [\"&B597&\"]\"&G597&\" \",G597&\" \"))),IF(E597=\"\",\"***TRANSLATED TEXT MISSING***\",E597&G597&\" \"))","v":"Technical conditions and measures at a process level to prevent release and technical conditions and measures to control dispersion from source towards workers: "},":","N"]
[null,"CSL76",null,"tonnes/year","tonnes/year",{"$f":"IF(AND(H598=\"Y\",CSA!B$15=\"YES\"),IF(E598=\"\",\"***TRANSLATED TEXT MISSING***\",E598&IF(B598=\"\",G598&\" \",IF(OR(LEFT(B598,3)<>\"CSL\", AND(LEFT(B598,3)=\"CSL\",H$522=\"NO\")),\" [\"&B598&\"]\"&G598&\" \",G598&\" \"))),IF(E598=\"\",\"***TRANSLATED TEXT MISSING***\",E598&G598&\" \"))","v":"tonnes/year. "},".","N"]
[null,"CSL77",null,"To scale from an exposure of 1-4 hours to one >4 hours, multiply by 1.7","To scale from an exposure of 1-4 hours to one >4 hours, multiply by 1.7",{"$f":"IF(AND(H599=\"Y\",CSA!B$15=\"YES\"),IF(E599=\"\",\"***TRANSLATED TEXT MISSING***\",E599&IF(B599=\"\",G599&\" \",IF(OR(LEFT(B599,3)<>\"CSL\", AND(LEFT(B599,3)=\"CSL\",H$522=\"NO\")),\" [\"&B599&\"]\"&G599&\" \",G599&\" \"))),IF(E599=\"\",\"***TRANSLATED TEXT MISSING***\",E599&G599&\" \"))","v":"To scale from an exposure of 1-4 hours to one >4 hours, multiply by 1.7. "},".","Y"]
[null,"CSL78",null,"To scale from an exposure of 15mins-1 hour to one of 1-4 hours, multiply by 3","To scale from an exposure of 15mins-1 hour to one of 1-4 hours, multiply by 3",{"$f":"IF(AND(H600=\"Y\",CSA!B$15=\"YES\"),IF(E600=\"\",\"***TRANSLATED TEXT MISSING***\",E600&IF(B600=\"\",G600&\" \",IF(OR(LEFT(B600,3)<>\"CSL\", AND(LEFT(B600,3)=\"CSL\",H$522=\"NO\")),\" [\"&B600&\"]\"&G600&\" \",G600&\" \"))),IF(E600=\"\",\"***TRANSLATED TEXT MISSING***\",E600&G600&\" \"))","v":"To scale from an exposure of 15mins-1 hour to one of 1-4 hours, multiply by 3. "},".","Y"]
[null,"CSL79",null,"To scale from an exposure of <15mins to one of 15mins-1 hour, multiply by 2","To scale from an exposure of <15mins to one of 15mins-1 hour, multiply by 2",{"$f":"IF(AND(H601=\"Y\",CSA!B$15=\"YES\"),IF(E601=\"\",\"***TRANSLATED TEXT MISSING***\",E601&IF(B601=\"\",G601&\" \",IF(OR(LEFT(B601,3)<>\"CSL\", AND(LEFT(B601,3)=\"CSL\",H$522=\"NO\")),\" [\"&B601&\"]\"&G601&\" \",G601&\" \"))),IF(E601=\"\",\"***TRANSLATED TEXT MISSING***\",E601&G601&\" \"))","v":"To scale from an exposure of <15mins to one of 15mins-1 hour, multiply by 2. "},".","Y"]
[null,"CSL80",null,"No scaling information available","No scaling information available",{"$f":"IF(AND(H602=\"Y\",CSA!B$15=\"YES\"),IF(E602=\"\",\"***TRANSLATED TEXT MISSING***\",E602&IF(B602=\"\",G602&\" \",IF(OR(LEFT(B602,3)<>\"CSL\", AND(LEFT(B602,3)=\"CSL\",H$522=\"NO\")),\" [\"&B602&\"]\"&G602&\" \",G602&\" \"))),IF(E602=\"\",\"***TRANSLATED TEXT MISSING***\",E602&G602&\" \"))","v":"No scaling information available. "},".","Y"]
[null,"CSL81",null,"To scale from a concentration of 5-25% to 100%, multiply by 1.7","To scale from a concentration of 5-25% to 100%, multiply by 1.7",{"$f":"IF(AND(H603=\"Y\",CSA!B$15=\"YES\"),IF(E603=\"\",\"***TRANSLATED TEXT MISSING***\",E603&IF(B603=\"\",G603&\" \",IF(OR(LEFT(B603,3)<>\"CSL\", AND(LEFT(B603,3)=\"CSL\",H$522=\"NO\")),\" [\"&B603&\"]\"&G603&\" \",G603&\" \"))),IF(E603=\"\",\"***TRANSLATED TEXT MISSING***\",E603&G603&\" \"))","v":"To scale from a concentration of 5-25% to 100%, multiply by 1.7. "},".","Y"]
[null,"CSL82",null,"To scale from a concentration of 1-5% to 5-25%, multiply by 3","To scale from a concentration of 1-5% to 5-25%, multiply by 3",{"$f":"IF(AND(H604=\"Y\",CSA!B$15=\"YES\"),IF(E604=\"\",\"***TRANSLATED TEXT MISSING***\",E604&IF(B604=\"\",G604&\" \",IF(OR(LEFT(B604,3)<>\"CSL\", AND(LEFT(B604,3)=\"CSL\",H$522=\"NO\")),\" [\"&B604&\"]\"&G604&\" \",G604&\" \"))),IF(E604=\"\",\"***TRANSLATED TEXT MISSING***\",E604&G604&\" \"))","v":"To scale from a concentration of 1-5% to 5-25%, multiply by 3. "},".","Y"]
[null,"CSL83",null,"To scale from a concentration of <1% to 1-5%, multiply by 2","To scale from a concentration of <1% to 1-5%, multiply by 2",{"$f":"IF(AND(H605=\"Y\",CSA!B$15=\"YES\"),IF(E605=\"\",\"***TRANSLATED TEXT MISSING***\",E605&IF(B605=\"\",G605&\" \",IF(OR(LEFT(B605,3)<>\"CSL\", AND(LEFT(B605,3)=\"CSL\",H$522=\"NO\")),\" [\"&B605&\"]\"&G605&\" \",G605&\" \"))),IF(E605=\"\",\"***TRANSLATED TEXT MISSING***\",E605&G605&\" \"))","v":"To scale from a concentration of <1% to 1-5%, multiply by 2. "},".","Y"]
[null,"CSL84",null,"If following scaling RCR>1, additional risk reduction measures will need to be applied.","If following scaling RCR>1, additional risk reduction measures will need to be applied.",{"$f":"IF(AND(H606=\"Y\",CSA!B$15=\"YES\"),IF(E606=\"\",\"***TRANSLATED TEXT MISSING***\",E606&IF(B606=\"\",G606&\" \",IF(OR(LEFT(B606,3)<>\"CSL\", AND(LEFT(B606,3)=\"CSL\",H$522=\"NO\")),\" [\"&B606&\"]\"&G606&\" \",G606&\" \"))),IF(E606=\"\",\"***TRANSLATED TEXT MISSING***\",E606&G606&\" \"))","v":"If following scaling RCR>1, additional risk reduction measures will need to be applied.. "},".","Y"]
[null,"CSL85",null,"(eg road/railcar bottom loading/unloading, marine vessel/barge loading/unloading)","(eg road/railcar bottom loading/unloading, marine vessel/barge loading/unloading",{"$f":"IF(AND(H607=\"Y\",CSA!B$15=\"YES\"),IF(E607=\"\",\"***TRANSLATED TEXT MISSING***\",E607&IF(B607=\"\",G607&\" \",IF(OR(LEFT(B607,3)<>\"CSL\", AND(LEFT(B607,3)=\"CSL\",H$522=\"NO\")),\" [\"&B607&\"]\"&G607&\" \",G607&\" \"))),IF(E607=\"\",\"***TRANSLATED TEXT MISSING***\",E607&G607&\" \"))","v":"(eg road/railcar bottom loading/unloading, marine vessel/barge loading/unloading. "},".","Y"]
["Waste disposal","CSL86",null,"Treat as hazardous waste","Treat as hazardous waste",{"$f":"IF(AND(H608=\"Y\",CSA!B$15=\"YES\"),IF(E608=\"\",\"***TRANSLATED TEXT MISSING***\",E608&IF(B608=\"\",G608&\" \",IF(OR(LEFT(B608,3)<>\"CSL\", AND(LEFT(B608,3)=\"CSL\",H$522=\"NO\")),\" [\"&B608&\"]\"&G608&\" \",G608&\" \"))),IF(E608=\"\",\"***TRANSLATED TEXT MISSING***\",E608&G608&\" \"))","v":"Treat as hazardous waste. "},".","Y"]
["Waste disposal","CSL87",null,"Estimated amount entering waste treatment no greater than","Estimated amount entering waste treatment no greater than",{"$f":"IF(AND(H609=\"Y\",CSA!B$15=\"YES\"),IF(E609=\"\",\"***TRANSLATED TEXT MISSING***\",E609&IF(B609=\"\",G609&\" \",IF(OR(LEFT(B609,3)<>\"CSL\", AND(LEFT(B609,3)=\"CSL\",H$522=\"NO\")),\" [\"&B609&\"]\"&G609&\" \",G609&\" \"))),IF(E609=\"\",\"***TRANSLATED TEXT MISSING***\",E609&G609&\" \"))","v":"Estimated amount entering waste treatment no greater than: "},":","Y"]
["Waste disposal","CSL88",null,"Type of treatment suitable for waste","Type of treatment suitable for waste",{"$f":"IF(AND(H610=\"Y\",CSA!B$15=\"YES\"),IF(E610=\"\",\"***TRANSLATED TEXT MISSING***\",E610&IF(B610=\"\",G610&\" \",IF(OR(LEFT(B610,3)<>\"CSL\", AND(LEFT(B610,3)=\"CSL\",H$522=\"NO\")),\" [\"&B610&\"]\"&G610&\" \",G610&\" \"))),IF(E610=\"\",\"***TRANSLATED TEXT MISSING***\",E610&G610&\" \"))","v":"Type of treatment suitable for waste: "},":","Y"]
["Waste disposal","CSL89",null,"approved landfill","approved landfill",{"$f":"IF(AND(H611=\"Y\",CSA!B$15=\"YES\"),IF(E611=\"\",\"***TRANSLATED TEXT MISSING***\",E611&IF(B611=\"\",G611&\" \",IF(OR(LEFT(B611,3)<>\"CSL\", AND(LEFT(B611,3)=\"CSL\",H$522=\"NO\")),\" [\"&B611&\"]\"&G611&\" \",G611&\" \"))),IF(E611=\"\",\"***TRANSLATED TEXT MISSING***\",E611&G611&\" \"))","v":"approved landfill: "},":","Y"]
["Waste disposal","CSL90",null,"incineration","incineration",{"$f":"IF(AND(H612=\"Y\",CSA!B$15=\"YES\"),IF(E612=\"\",\"***TRANSLATED TEXT MISSING***\",E612&IF(B612=\"\",G612&\" \",IF(OR(LEFT(B612,3)<>\"CSL\", AND(LEFT(B612,3)=\"CSL\",H$522=\"NO\")),\" [\"&B612&\"]\"&G612&\" \",G612&\" \"))),IF(E612=\"\",\"***TRANSLATED TEXT MISSING***\",E612&G612&\" \"))","v":"incineration: "},":","Y"]
["Waste disposal","CSL91",null,"cement kiln fuels","cement kiln fuels",{"$f":"IF(AND(H613=\"Y\",CSA!B$15=\"YES\"),IF(E613=\"\",\"***TRANSLATED TEXT MISSING***\",E613&IF(B613=\"\",G613&\" \",IF(OR(LEFT(B613,3)<>\"CSL\", AND(LEFT(B613,3)=\"CSL\",H$522=\"NO\")),\" [\"&B613&\"]\"&G613&\" \",G613&\" \"))),IF(E613=\"\",\"***TRANSLATED TEXT MISSING***\",E613&G613&\" \"))","v":"cement kiln fuels: "},":","Y"]
["Waste disposal","CSL92",null,"redistillation","redistillation",{"$f":"IF(AND(H614=\"Y\",CSA!B$15=\"YES\"),IF(E614=\"\",\"***TRANSLATED TEXT MISSING***\",E614&IF(B614=\"\",G614&\" \",IF(OR(LEFT(B614,3)<>\"CSL\", AND(LEFT(B614,3)=\"CSL\",H$522=\"NO\")),\" [\"&B614&\"]\"&G614&\" \",G614&\" \"))),IF(E614=\"\",\"***TRANSLATED TEXT MISSING***\",E614&G614&\" \"))","v":"redistillation: "},":","Y"]
["Waste disposal","CSL93",null,"Removal efficiency (%)","Removal efficiency (%)",{"$f":"IF(AND(H615=\"Y\",CSA!B$15=\"YES\"),IF(E615=\"\",\"***TRANSLATED TEXT MISSING***\",E615&IF(B615=\"\",G615&\" \",IF(OR(LEFT(B615,3)<>\"CSL\", AND(LEFT(B615,3)=\"CSL\",H$522=\"NO\")),\" [\"&B615&\"]\"&G615&\" \",G615&\" \"))),IF(E615=\"\",\"***TRANSLATED TEXT MISSING***\",E615&G615&\" \"))","v":"Removal efficiency (%): "},":","Y"]
["Waste disposal","CSL94",null,"No suitable recovery methods available","No suitable recovery methods available",{"$f":"IF(AND(H616=\"Y\",CSA!B$15=\"YES\"),IF(E616=\"\",\"***TRANSLATED TEXT MISSING***\",E616&IF(B616=\"\",G616&\" \",IF(OR(LEFT(B616,3)<>\"CSL\", AND(LEFT(B616,3)=\"CSL\",H$522=\"NO\")),\" [\"&B616&\"]\"&G616&\" \",G616&\" \"))),IF(E616=\"\",\"***TRANSLATED TEXT MISSING***\",E616&G616&\" \"))","v":"No suitable recovery methods available: "},":","Y"]
[null,"CSL95",null,"Covers the use in adhesives, including  exposures during use (including product transfer and preparation, application by brush, spray by hand or similar methods) and equipment cleaning.","Covers the use in adhesives, including  exposures during use (including product transfer and preparation, application by brush, spray by hand or similar methods) and equipment cleaning",{"$f":"IF(AND(H617=\"Y\",CSA!B$15=\"YES\"),IF(E617=\"\",\"***TRANSLATED TEXT MISSING***\",E617&IF(B617=\"\",G617&\" \",IF(OR(LEFT(B617,3)<>\"CSL\", AND(LEFT(B617,3)=\"CSL\",H$522=\"NO\")),\" [\"&B617&\"]\"&G617&\" \",G617&\" \"))),IF(E617=\"\",\"***TRANSLATED TEXT MISSING***\",E617&G617&\" \"))","v":"Covers the use in adhesives, including  exposures during use (including product transfer and preparation, application by brush, spray by hand or similar methods) and equipment cleaning. "},".","Y"]
[null,"CSL96",null,"Covers the application of insulation foam and exposures during use","Covers the application of insulation foam and exposures during use",{"$f":"IF(AND(H618=\"Y\",CSA!B$15=\"YES\"),IF(E618=\"\",\"***TRANSLATED TEXT MISSING***\",E618&IF(B618=\"\",G618&\" \",IF(OR(LEFT(B618,3)<>\"CSL\", AND(LEFT(B618,3)=\"CSL\",H$522=\"NO\")),\" [\"&B618&\"]\"&G618&\" \",G618&\" \"))),IF(E618=\"\",\"***TRANSLATED TEXT MISSING***\",E618&G618&\" \"))","v":"Covers the application of insulation foam and exposures during use. "},".","Y"]
[null,"CSL97",null,"insulation foam","insulation foam",{"$f":"IF(AND(H619=\"Y\",CSA!B$15=\"YES\"),IF(E619=\"\",\"***TRANSLATED TEXT MISSING***\",E619&IF(B619=\"\",G619&\" \",IF(OR(LEFT(B619,3)<>\"CSL\", AND(LEFT(B619,3)=\"CSL\",H$522=\"NO\")),\" [\"&B619&\"]\"&G619&\" \",G619&\" \"))),IF(E619=\"\",\"***TRANSLATED TEXT MISSING***\",E619&G619&\" \"))","v":"insulation foam. "},".","Y"]
[null,"CSL98",null,"Use as a process chemical","Use as a process chemical",{"$f":"IF(AND(H620=\"Y\",CSA!B$15=\"YES\"),IF(E620=\"\",\"***TRANSLATED TEXT MISSING***\",E620&IF(B620=\"\",G620&\" \",IF(OR(LEFT(B620,3)<>\"CSL\", AND(LEFT(B620,3)=\"CSL\",H$522=\"NO\")),\" [\"&B620&\"]\"&G620&\" \",G620&\" \"))),IF(E620=\"\",\"***TRANSLATED TEXT MISSING***\",E620&G620&\" \"))","v":"Use as a process chemical. "},".","N"]
[null,"CSL99",null,"Use a wet scrubber or dry filtration system to control air emissions of aerosols","Use a wet scrubber or dry filtration system to control air emissions of aerosols",{"$f":"IF(AND(H621=\"Y\",CSA!B$15=\"YES\"),IF(E621=\"\",\"***TRANSLATED TEXT MISSING***\",E621&IF(B621=\"\",G621&\" \",IF(OR(LEFT(B621,3)<>\"CSL\", AND(LEFT(B621,3)=\"CSL\",H$522=\"NO\")),\" [\"&B621&\"]\"&G621&\" \",G621&\" \"))),IF(E621=\"\",\"***TRANSLATED TEXT MISSING***\",E621&G621&\" \"))","v":"Use a wet scrubber or dry filtration system to control air emissions of aerosols. "},".","Y"]
[null,"CSL100",null,"Dispose of waste water from wet scrubbers using a waste disposal contractor only.","Dispose of waste water from wet scrubbers using a waste disposal contractor only.",{"$f":"IF(AND(H622=\"Y\",CSA!B$15=\"YES\"),IF(E622=\"\",\"***TRANSLATED TEXT MISSING***\",E622&IF(B622=\"\",G622&\" \",IF(OR(LEFT(B622,3)<>\"CSL\", AND(LEFT(B622,3)=\"CSL\",H$522=\"NO\")),\" [\"&B622&\"]\"&G622&\" \",G622&\" \"))),IF(E622=\"\",\"***TRANSLATED TEXT MISSING***\",E622&G622&\" \"))","v":"Dispose of waste water from wet scrubbers using a waste disposal contractor only.. "},".","Y"]
[null,"CSL101",null,"Greases","Greases",{"$f":"IF(AND(H623=\"Y\",CSA!B$15=\"YES\"),IF(E623=\"\",\"***TRANSLATED TEXT MISSING***\",E623&IF(B623=\"\",G623&\" \",IF(OR(LEFT(B623,3)<>\"CSL\", AND(LEFT(B623,3)=\"CSL\",H$522=\"NO\")),\" [\"&B623&\"]\"&G623&\" \",G623&\" \"))),IF(E623=\"\",\"***TRANSLATED TEXT MISSING***\",E623&G623&\" \"))","v":"Greases. "},".","N"]
[null,"CSL102",null,"kg/day","kg/day",{"$f":"IF(AND(H624=\"Y\",CSA!B$15=\"YES\"),IF(E624=\"\",\"***TRANSLATED TEXT MISSING***\",E624&IF(B624=\"\",G624&\" \",IF(OR(LEFT(B624,3)<>\"CSL\", AND(LEFT(B624,3)=\"CSL\",H$522=\"NO\")),\" [\"&B624&\"]\"&G624&\" \",G624&\" \"))),IF(E624=\"\",\"***TRANSLATED TEXT MISSING***\",E624&G624&\" \"))","v":"kg/day. "},".","N"]
[null,"CSL103",null,"Production of polymers, filled polymers, foams, coatings, adhesives, sealants","Production of polymers, filled polymers, foams, coatings, adhesives, sealants",{"$f":"IF(AND(H625=\"Y\",CSA!B$15=\"YES\"),IF(E625=\"\",\"***TRANSLATED TEXT MISSING***\",E625&IF(B625=\"\",G625&\" \",IF(OR(LEFT(B625,3)<>\"CSL\", AND(LEFT(B625,3)=\"CSL\",H$522=\"NO\")),\" [\"&B625&\"]\"&G625&\" \",G625&\" \"))),IF(E625=\"\",\"***TRANSLATED TEXT MISSING***\",E625&G625&\" \"))","v":"Production of polymers, filled polymers, foams, coatings, adhesives, sealants. "},".","Y"]
["OC","CSL104",null,"All waste water emissions should be discharged to domestic sewage treatment or collected and sent for waste disposal","All waste water emissions should be discharged to domestic sewage treatment or collected and sent for waste disposal",{"$f":"IF(AND(H626=\"Y\",CSA!B$15=\"YES\"),IF(E626=\"\",\"***TRANSLATED TEXT MISSING***\",E626&IF(B626=\"\",G626&\" \",IF(OR(LEFT(B626,3)<>\"CSL\", AND(LEFT(B626,3)=\"CSL\",H$522=\"NO\")),\" [\"&B626&\"]\"&G626&\" \",G626&\" \"))),IF(E626=\"\",\"***TRANSLATED TEXT MISSING***\",E626&G626&\" \"))","v":"All waste water emissions should be discharged to domestic sewage treatment or collected and sent for waste disposal. "},".","Y"]
["Waste rec","CSL105",null,"This substance is consumed during use and no waste suitable for recovery is generated","This substance is consumed during use and no waste suitable for recovery is generated",{"$f":"IF(AND(H627=\"Y\",CSA!B$15=\"YES\"),IF(E627=\"\",\"***TRANSLATED TEXT MISSING***\",E627&IF(B627=\"\",G627&\" \",IF(OR(LEFT(B627,3)<>\"CSL\", AND(LEFT(B627,3)=\"CSL\",H$522=\"NO\")),\" [\"&B627&\"]\"&G627&\" \",G627&\" \"))),IF(E627=\"\",\"***TRANSLATED TEXT MISSING***\",E627&G627&\" \"))","v":"This substance is consumed during use and no waste suitable for recovery is generated. "},".","Y"]
["DSU","CSL106",null,"Scaling not applicable for wide dispersive uses","Scaling not applicable for wide dispersive uses",{"$f":"IF(AND(H628=\"Y\",CSA!B$15=\"YES\"),IF(E628=\"\",\"***TRANSLATED TEXT MISSING***\",E628&IF(B628=\"\",G628&\" \",IF(OR(LEFT(B628,3)<>\"CSL\", AND(LEFT(B628,3)=\"CSL\",H$522=\"NO\")),\" [\"&B628&\"]\"&G628&\" \",G628&\" \"))),IF(E628=\"\",\"***TRANSLATED TEXT MISSING***\",E628&G628&\" \"))","v":"Scaling not applicable for wide dispersive uses. "},".","Y"]
["Cons","CSL107",null,"Application and use","Application and use",{"$f":"IF(AND(H629=\"Y\",CSA!B$15=\"YES\"),IF(E629=\"\",\"***TRANSLATED TEXT MISSING***\",E629&IF(B629=\"\",G629&\" \",IF(OR(LEFT(B629,3)<>\"CSL\", AND(LEFT(B629,3)=\"CSL\",H$522=\"NO\")),\" [\"&B629&\"]\"&G629&\" \",G629&\" \"))),IF(E629=\"\",\"***TRANSLATED TEXT MISSING***\",E629&G629&\" \"))","v":"Application and use. "},".","N"]
["Cons","CSL108",null,"Diluted before use. ","Diluted before use. ",{"$f":"IF(AND(H630=\"Y\",CSA!B$15=\"YES\"),IF(E630=\"\",\"***TRANSLATED TEXT MISSING***\",E630&IF(B630=\"\",G630&\" \",IF(OR(LEFT(B630,3)<>\"CSL\", AND(LEFT(B630,3)=\"CSL\",H$522=\"NO\")),\" [\"&B630&\"]\"&G630&\" \",G630&\" \"))),IF(E630=\"\",\"***TRANSLATED TEXT MISSING***\",E630&G630&\" \"))","v":"Diluted before use. . "},".","Y"]
["Cons","CSL109",null,"Typical dilution factor","Typical dilution factor",{"$f":"IF(AND(H631=\"Y\",CSA!B$15=\"YES\"),IF(E631=\"\",\"***TRANSLATED TEXT MISSING***\",E631&IF(B631=\"\",G631&\" \",IF(OR(LEFT(B631,3)<>\"CSL\", AND(LEFT(B631,3)=\"CSL\",H$522=\"NO\")),\" [\"&B631&\"]\"&G631&\" \",G631&\" \"))),IF(E631=\"\",\"***TRANSLATED TEXT MISSING***\",E631&G631&\" \"))","v":"Typical dilution factor: "},":","Y"]
["Cons","CSL110",null,"times per day","times per day",{"$f":"IF(AND(H632=\"Y\",CSA!B$15=\"YES\"),IF(E632=\"\",\"***TRANSLATED TEXT MISSING***\",E632&IF(B632=\"\",G632&\" \",IF(OR(LEFT(B632,3)<>\"CSL\", AND(LEFT(B632,3)=\"CSL\",H$522=\"NO\")),\" [\"&B632&\"]\"&G632&\" \",G632&\" \"))),IF(E632=\"\",\"***TRANSLATED TEXT MISSING***\",E632&G632&\" \"))","v":"times per day. "},".","Y"]
["Cons","CSL111",null,"times per week","times per week",{"$f":"IF(AND(H633=\"Y\",CSA!B$15=\"YES\"),IF(E633=\"\",\"***TRANSLATED TEXT MISSING***\",E633&IF(B633=\"\",G633&\" \",IF(OR(LEFT(B633,3)<>\"CSL\", AND(LEFT(B633,3)=\"CSL\",H$522=\"NO\")),\" [\"&B633&\"]\"&G633&\" \",G633&\" \"))),IF(E633=\"\",\"***TRANSLATED TEXT MISSING***\",E633&G633&\" \"))","v":"times per week. "},".","Y"]
["Cons","CSL112",null,"times per year","times per year",{"$f":"IF(AND(H634=\"Y\",CSA!B$15=\"YES\"),IF(E634=\"\",\"***TRANSLATED TEXT MISSING***\",E634&IF(B634=\"\",G634&\" \",IF(OR(LEFT(B634,3)<>\"CSL\", AND(LEFT(B634,3)=\"CSL\",H$522=\"NO\")),\" [\"&B634&\"]\"&G634&\" \",G634&\" \"))),IF(E634=\"\",\"***TRANSLATED TEXT MISSING***\",E634&G634&\" \"))","v":"times per year. "},".","Y"]
["Cons","CSL113",null,"minutes per event","minutes per event",{"$f":"IF(AND(H635=\"Y\",CSA!B$15=\"YES\"),IF(E635=\"\",\"***TRANSLATED TEXT MISSING***\",E635&IF(B635=\"\",G635&\" \",IF(OR(LEFT(B635,3)<>\"CSL\", AND(LEFT(B635,3)=\"CSL\",H$522=\"NO\")),\" [\"&B635&\"]\"&G635&\" \",G635&\" \"))),IF(E635=\"\",\"***TRANSLATED TEXT MISSING***\",E635&G635&\" \"))","v":"minutes per event. "},".","Y"]
["Cons","CSL114",null,"hours per event","hours per event",{"$f":"IF(AND(H636=\"Y\",CSA!B$15=\"YES\"),IF(E636=\"\",\"***TRANSLATED TEXT MISSING***\",E636&IF(B636=\"\",G636&\" \",IF(OR(LEFT(B636,3)<>\"CSL\", AND(LEFT(B636,3)=\"CSL\",H$522=\"NO\")),\" [\"&B636&\"]\"&G636&\" \",G636&\" \"))),IF(E636=\"\",\"***TRANSLATED TEXT MISSING***\",E636&G636&\" \"))","v":"hours per event. "},".","Y"]
["Cons","CSL115",null,"palm of one hand","palm of one hand",{"$f":"IF(AND(H637=\"Y\",CSA!B$15=\"YES\"),IF(E637=\"\",\"***TRANSLATED TEXT MISSING***\",E637&IF(B637=\"\",G637&\" \",IF(OR(LEFT(B637,3)<>\"CSL\", AND(LEFT(B637,3)=\"CSL\",H$522=\"NO\")),\" [\"&B637&\"]\"&G637&\" \",G637&\" \"))),IF(E637=\"\",\"***TRANSLATED TEXT MISSING***\",E637&G637&\" \"))","v":"palm of one hand. "},".","Y"]
["Cons","CSL116",null,"palms of both hands","palms of both hands",{"$f":"IF(AND(H638=\"Y\",CSA!B$15=\"YES\"),IF(E638=\"\",\"***TRANSLATED TEXT MISSING***\",E638&IF(B638=\"\",G638&\" \",IF(OR(LEFT(B638,3)<>\"CSL\", AND(LEFT(B638,3)=\"CSL\",H$522=\"NO\")),\" [\"&B638&\"]\"&G638&\" \",G638&\" \"))),IF(E638=\"\",\"***TRANSLATED TEXT MISSING***\",E638&G638&\" \"))","v":"palms of both hands. "},".","Y"]
["Cons","CSL117",null,"one hand only","one hand only",{"$f":"IF(AND(H639=\"Y\",CSA!B$15=\"YES\"),IF(E639=\"\",\"***TRANSLATED TEXT MISSING***\",E639&IF(B639=\"\",G639&\" \",IF(OR(LEFT(B639,3)<>\"CSL\", AND(LEFT(B639,3)=\"CSL\",H$522=\"NO\")),\" [\"&B639&\"]\"&G639&\" \",G639&\" \"))),IF(E639=\"\",\"***TRANSLATED TEXT MISSING***\",E639&G639&\" \"))","v":"one hand only. "},".","Y"]
["Cons","CSL118",null,"both hands","both hands",{"$f":"IF(AND(H640=\"Y\",CSA!B$15=\"YES\"),IF(E640=\"\",\"***TRANSLATED TEXT MISSING***\",E640&IF(B640=\"\",G640&\" \",IF(OR(LEFT(B640,3)<>\"CSL\", AND(LEFT(B640,3)=\"CSL\",H$522=\"NO\")),\" [\"&B640&\"]\"&G640&\" \",G640&\" \"))),IF(E640=\"\",\"***TRANSLATED TEXT MISSING***\",E640&G640&\" \"))","v":"both hands. "},".","Y"]
["Cons","CSL119",null,"both hands and forearms","both hands and forearms",{"$f":"IF(AND(H641=\"Y\",CSA!B$15=\"YES\"),IF(E641=\"\",\"***TRANSLATED TEXT MISSING***\",E641&IF(B641=\"\",G641&\" \",IF(OR(LEFT(B641,3)<>\"CSL\", AND(LEFT(B641,3)=\"CSL\",H$522=\"NO\")),\" [\"&B641&\"]\"&G641&\" \",G641&\" \"))),IF(E641=\"\",\"***TRANSLATED TEXT MISSING***\",E641&G641&\" \"))","v":"both hands and forearms. "},".","Y"]
["EP-waste","CSL120",null,"The substance is completely released to the environment or destroyed during use and no significant waste is generated","The substance is completely released to the environment or destroyed during use and no significant waste is generated",{"$f":"IF(AND(H642=\"Y\",CSA!B$15=\"YES\"),IF(E642=\"\",\"***TRANSLATED TEXT MISSING***\",E642&IF(B642=\"\",G642&\" \",IF(OR(LEFT(B642,3)<>\"CSL\", AND(LEFT(B642,3)=\"CSL\",H$522=\"NO\")),\" [\"&B642&\"]\"&G642&\" \",G642&\" \"))),IF(E642=\"\",\"***TRANSLATED TEXT MISSING***\",E642&G642&\" \"))","v":"The substance is completely released to the environment or destroyed during use and no significant waste is generated. "},".","Y"]
["Cons","CSL121",null,"Avoid contact with eyes when using product","Avoid contact with eyes when using product",{"$f":"IF(AND(H643=\"Y\",CSA!B$15=\"YES\"),IF(E643=\"\",\"***TRANSLATED TEXT MISSING***\",E643&IF(B643=\"\",G643&\" \",IF(OR(LEFT(B643,3)<>\"CSL\", AND(LEFT(B643,3)=\"CSL\",H$522=\"NO\")),\" [\"&B643&\"]\"&G643&\" \",G643&\" \"))),IF(E643=\"\",\"***TRANSLATED TEXT MISSING***\",E643&G643&\" \"))","v":"Avoid contact with eyes when using product. "},".","Y"]
["Cons","CSL122",null,"Covers use in cement additives","Covers use in cement additives",{"$f":"IF(AND(H644=\"Y\",CSA!B$15=\"YES\"),IF(E644=\"\",\"***TRANSLATED TEXT MISSING***\",E644&IF(B644=\"\",G644&\" \",IF(OR(LEFT(B644,3)<>\"CSL\", AND(LEFT(B644,3)=\"CSL\",H$522=\"NO\")),\" [\"&B644&\"]\"&G644&\" \",G644&\" \"))),IF(E644=\"\",\"***TRANSLATED TEXT MISSING***\",E644&G644&\" \"))","v":"Covers use in cement additives. "},".","Y"]
["GES","CSL123",null,"Covers the use as a cement additive, including  exposures during use (including product transfer, mixing and preparation and manual application) and equipment cleaning.","Covers the use as a cement additive, including  exposures during use (including product transfer, mixing and preparation and manual application) and equipment cleaning",{"$f":"IF(AND(H645=\"Y\",CSA!B$15=\"YES\"),IF(E645=\"\",\"***TRANSLATED TEXT MISSING***\",E645&IF(B645=\"\",G645&\" \",IF(OR(LEFT(B645,3)<>\"CSL\", AND(LEFT(B645,3)=\"CSL\",H$522=\"NO\")),\" [\"&B645&\"]\"&G645&\" \",G645&\" \"))),IF(E645=\"\",\"***TRANSLATED TEXT MISSING***\",E645&G645&\" \"))","v":"Covers the use as a cement additive, including  exposures during use (including product transfer, mixing and preparation and manual application) and equipment cleaning. "},".","Y"]
[null,"CSL124",null,"Use in wood protection products","Use in wood protection products",{"$f":"IF(AND(H646=\"Y\",CSA!B$15=\"YES\"),IF(E646=\"\",\"***TRANSLATED TEXT MISSING***\",E646&IF(B646=\"\",G646&\" \",IF(OR(LEFT(B646,3)<>\"CSL\", AND(LEFT(B646,3)=\"CSL\",H$522=\"NO\")),\" [\"&B646&\"]\"&G646&\" \",G646&\" \"))),IF(E646=\"\",\"***TRANSLATED TEXT MISSING***\",E646&G646&\" \"))","v":"Use in wood protection products. "},".","Y"]
[null,"CSL125",null,"Personal care products","Personal care products",{"$f":"IF(AND(H647=\"Y\",CSA!B$15=\"YES\"),IF(E647=\"\",\"***TRANSLATED TEXT MISSING***\",E647&IF(B647=\"\",G647&\" \",IF(OR(LEFT(B647,3)<>\"CSL\", AND(LEFT(B647,3)=\"CSL\",H$522=\"NO\")),\" [\"&B647&\"]\"&G647&\" \",G647&\" \"))),IF(E647=\"\",\"***TRANSLATED TEXT MISSING***\",E647&G647&\" \"))","v":"Personal care products. "},".","Y"]
[null,"CSL126",null,"Intermittent","Intermittent",{"$f":"IF(AND(H648=\"Y\",CSA!B$15=\"YES\"),IF(E648=\"\",\"***TRANSLATED TEXT MISSING***\",E648&IF(B648=\"\",G648&\" \",IF(OR(LEFT(B648,3)<>\"CSL\", AND(LEFT(B648,3)=\"CSL\",H$522=\"NO\")),\" [\"&B648&\"]\"&G648&\" \",G648&\" \"))),IF(E648=\"\",\"***TRANSLATED TEXT MISSING***\",E648&G648&\" \"))","v":"Intermittent. "},".","Y"]
[null,"CSL127",null,"A&B table approach","A&B table approach",{"$f":"IF(AND(H649=\"Y\",CSA!B$15=\"YES\"),IF(E649=\"\",\"***TRANSLATED TEXT MISSING***\",E649&IF(B649=\"\",G649&\" \",IF(OR(LEFT(B649,3)<>\"CSL\", AND(LEFT(B649,3)=\"CSL\",H$522=\"NO\")),\" [\"&B649&\"]\"&G649&\" \",G649&\" \"))),IF(E649=\"\",\"***TRANSLATED TEXT MISSING***\",E649&G649&\" \"))","v":"A&B table approach. "},".","Y"]
[null,"CSL128",null,"(regional only)","(regional only)",{"$f":"IF(AND(H650=\"Y\",CSA!B$15=\"YES\"),IF(E650=\"\",\"***TRANSLATED TEXT MISSING***\",E650&IF(B650=\"\",G650&\" \",IF(OR(LEFT(B650,3)<>\"CSL\", AND(LEFT(B650,3)=\"CSL\",H$522=\"NO\")),\" [\"&B650&\"]\"&G650&\" \",G650&\" \"))),IF(E650=\"\",\"***TRANSLATED TEXT MISSING***\",E650&G650&\" \"))","v":"(regional only). "},".","Y"]
[null,"CSL129",null,"No corrections required as all exposures are assumed to be substance concentrations of up to 100%","No corrections required as all exposures are assumed to be substance concentrations of up to 100%",{"$f":"IF(AND(H651=\"Y\",CSA!B$15=\"YES\"),IF(E651=\"\",\"***TRANSLATED TEXT MISSING***\",E651&IF(B651=\"\",G651&\" \",IF(OR(LEFT(B651,3)<>\"CSL\", AND(LEFT(B651,3)=\"CSL\",H$522=\"NO\")),\" [\"&B651&\"]\"&G651&\" \",G651&\" \"))),IF(E651=\"\",\"***TRANSLATED TEXT MISSING***\",E651&G651&\" \"))","v":"No corrections required as all exposures are assumed to be substance concentrations of up to 100%. "},".","Y"]
[null,"CSL130",null,"Use as a processing aid for paper, leather and textile production","Use as a processing aid for paper, leather and textile production",{"$f":"IF(AND(H652=\"Y\",CSA!B$15=\"YES\"),IF(E652=\"\",\"***TRANSLATED TEXT MISSING***\",E652&IF(B652=\"\",G652&\" \",IF(OR(LEFT(B652,3)<>\"CSL\", AND(LEFT(B652,3)=\"CSL\",H$522=\"NO\")),\" [\"&B652&\"]\"&G652&\" \",G652&\" \"))),IF(E652=\"\",\"***TRANSLATED TEXT MISSING***\",E652&G652&\" \"))","v":"Use as a processing aid for paper, leather and textile production. "},".","Y"]
[null,"CSL131",null,"Covers the use as a processing additive in the manufacture of paper, leather and textiles, including  exposures during use (including product transfer, mixing and preparation plus manual and automated application) and equipment cleaning","Covers the use as a processing additive in the manufacture of paper, leather and textiles, including  exposures during use (including product transfer, mixing and preparation plus manual and automated application) and equipment cleaning",{"$f":"IF(AND(H653=\"Y\",CSA!B$15=\"YES\"),IF(E653=\"\",\"***TRANSLATED TEXT MISSING***\",E653&IF(B653=\"\",G653&\" \",IF(OR(LEFT(B653,3)<>\"CSL\", AND(LEFT(B653,3)=\"CSL\",H$522=\"NO\")),\" [\"&B653&\"]\"&G653&\" \",G653&\" \"))),IF(E653=\"\",\"***TRANSLATED TEXT MISSING***\",E653&G653&\" \"))","v":"Covers the use as a processing additive in the manufacture of paper, leather and textiles, including  exposures during use (including product transfer, mixing and preparation plus manual and automated application) and equipment cleaning. "},".","Y"]
[null,"CSL132",null,"Use as a gas and water treatment chemical","Use as a gas and water treatment chemical",{"$f":"IF(AND(H654=\"Y\",CSA!B$15=\"YES\"),IF(E654=\"\",\"***TRANSLATED TEXT MISSING***\",E654&IF(B654=\"\",G654&\" \",IF(OR(LEFT(B654,3)<>\"CSL\", AND(LEFT(B654,3)=\"CSL\",H$522=\"NO\")),\" [\"&B654&\"]\"&G654&\" \",G654&\" \"))),IF(E654=\"\",\"***TRANSLATED TEXT MISSING***\",E654&G654&\" \"))","v":"Use as a gas and water treatment chemical. "},".","Y"]
[null,"CSL133",null,"Covers the use of the substance for the treatment of gas and water at industrial facilities in open and closed systems","Covers the use of the substance for the treatment of gas and water at industrial facilities in open and closed systems",{"$f":"IF(AND(H655=\"Y\",CSA!B$15=\"YES\"),IF(E655=\"\",\"***TRANSLATED TEXT MISSING***\",E655&IF(B655=\"\",G655&\" \",IF(OR(LEFT(B655,3)<>\"CSL\", AND(LEFT(B655,3)=\"CSL\",H$522=\"NO\")),\" [\"&B655&\"]\"&G655&\" \",G655&\" \"))),IF(E655=\"\",\"***TRANSLATED TEXT MISSING***\",E655&G655&\" \"))","v":"Covers the use of the substance for the treatment of gas and water at industrial facilities in open and closed systems. "},".","Y"]
[null,"CSL134",null,"Processing operations with minerals/metals","Processing operations with minerals/metals",{"$f":"IF(AND(H656=\"Y\",CSA!B$15=\"YES\"),IF(E656=\"\",\"***TRANSLATED TEXT MISSING***\",E656&IF(B656=\"\",G656&\" \",IF(OR(LEFT(B656,3)<>\"CSL\", AND(LEFT(B656,3)=\"CSL\",H$522=\"NO\")),\" [\"&B656&\"]\"&G656&\" \",G656&\" \"))),IF(E656=\"\",\"***TRANSLATED TEXT MISSING***\",E656&G656&\" \"))","v":"Processing operations with minerals/metals. "},".","Y"]
[null,"CSL135",null,"Use in metal working fluids","Use in metal working fluids",{"$f":"IF(AND(H657=\"Y\",CSA!B$15=\"YES\"),IF(E657=\"\",\"***TRANSLATED TEXT MISSING***\",E657&IF(B657=\"\",G657&\" \",IF(OR(LEFT(B657,3)<>\"CSL\", AND(LEFT(B657,3)=\"CSL\",H$522=\"NO\")),\" [\"&B657&\"]\"&G657&\" \",G657&\" \"))),IF(E657=\"\",\"***TRANSLATED TEXT MISSING***\",E657&G657&\" \"))","v":"Use in metal working fluids. "},".","Y"]
[null,"CSL136",null,"Covers the use as an additive in metal working fluids, including  exposures during use (including product transfer, mixing and preparation and manual and machine application) and equipment cleaning.","Covers the use as an additive in metal working fluids, including  exposures during use (including product transfer, mixing and preparation and manual and machine application) and equipment cleaning",{"$f":"IF(AND(H658=\"Y\",CSA!B$15=\"YES\"),IF(E658=\"\",\"***TRANSLATED TEXT MISSING***\",E658&IF(B658=\"\",G658&\" \",IF(OR(LEFT(B658,3)<>\"CSL\", AND(LEFT(B658,3)=\"CSL\",H$522=\"NO\")),\" [\"&B658&\"]\"&G658&\" \",G658&\" \"))),IF(E658=\"\",\"***TRANSLATED TEXT MISSING***\",E658&G658&\" \"))","v":"Covers the use as an additive in metal working fluids, including  exposures during use (including product transfer, mixing and preparation and manual and machine application) and equipment cleaning. "},".","Y"]
[null,"CSL137",null,"Use in electroplating","Use in electroplating",{"$f":"IF(AND(H659=\"Y\",CSA!B$15=\"YES\"),IF(E659=\"\",\"***TRANSLATED TEXT MISSING***\",E659&IF(B659=\"\",G659&\" \",IF(OR(LEFT(B659,3)<>\"CSL\", AND(LEFT(B659,3)=\"CSL\",H$522=\"NO\")),\" [\"&B659&\"]\"&G659&\" \",G659&\" \"))),IF(E659=\"\",\"***TRANSLATED TEXT MISSING***\",E659&G659&\" \"))","v":"Use in electroplating. "},".","Y"]
[null,"CSL138",null,"Covers the use as an additive in electroplating fluids, including  exposures during use (including product transfer, mixing and preparation and manual and machine application) and equipment cleaning","Covers the use as an additive in electroplating fluids, including  exposures during use (including product transfer, mixing and preparation and manual and machine application) and equipment cleaning",{"$f":"IF(AND(H660=\"Y\",CSA!B$15=\"YES\"),IF(E660=\"\",\"***TRANSLATED TEXT MISSING***\",E660&IF(B660=\"\",G660&\" \",IF(OR(LEFT(B660,3)<>\"CSL\", AND(LEFT(B660,3)=\"CSL\",H$522=\"NO\")),\" [\"&B660&\"]\"&G660&\" \",G660&\" \"))),IF(E660=\"\",\"***TRANSLATED TEXT MISSING***\",E660&G660&\" \"))","v":"Covers the use as an additive in electroplating fluids, including  exposures during use (including product transfer, mixing and preparation and manual and machine application) and equipment cleaning. "},".","Y"]
["Waste disposal","CSL139",null,"biological treatment","biological treatment",{"$f":"IF(AND(H661=\"Y\",CSA!B$15=\"YES\"),IF(E661=\"\",\"***TRANSLATED TEXT MISSING***\",E661&IF(B661=\"\",G661&\" \",IF(OR(LEFT(B661,3)<>\"CSL\", AND(LEFT(B661,3)=\"CSL\",H$522=\"NO\")),\" [\"&B661&\"]\"&G661&\" \",G661&\" \"))),IF(E661=\"\",\"***TRANSLATED TEXT MISSING***\",E661&G661&\" \"))","v":"biological treatment. "},".","Y"]
[null,"CSL140",null,"Also covers ink removers","Also covers ink removers",{"$f":"IF(AND(H662=\"Y\",CSA!B$15=\"YES\"),IF(E662=\"\",\"***TRANSLATED TEXT MISSING***\",E662&IF(B662=\"\",G662&\" \",IF(OR(LEFT(B662,3)<>\"CSL\", AND(LEFT(B662,3)=\"CSL\",H$522=\"NO\")),\" [\"&B662&\"]\"&G662&\" \",G662&\" \"))),IF(E662=\"\",\"***TRANSLATED TEXT MISSING***\",E662&G662&\" \"))","v":"Also covers ink removers. "},".","Y"]
[null,"CSL141",null,"Use as an additive","Use as an additive",{"$f":"IF(AND(H663=\"Y\",CSA!B$15=\"YES\"),IF(E663=\"\",\"***TRANSLATED TEXT MISSING***\",E663&IF(B663=\"\",G663&\" \",IF(OR(LEFT(B663,3)<>\"CSL\", AND(LEFT(B663,3)=\"CSL\",H$522=\"NO\")),\" [\"&B663&\"]\"&G663&\" \",G663&\" \"))),IF(E663=\"\",\"***TRANSLATED TEXT MISSING***\",E663&G663&\" \"))","v":"Use as an additive. "},".","Y"]
[null,"CSL142",null,"Use as a processing aid","Use as a processing aid",{"$f":"IF(AND(H664=\"Y\",CSA!B$15=\"YES\"),IF(E664=\"\",\"***TRANSLATED TEXT MISSING***\",E664&IF(B664=\"\",G664&\" \",IF(OR(LEFT(B664,3)<>\"CSL\", AND(LEFT(B664,3)=\"CSL\",H$522=\"NO\")),\" [\"&B664&\"]\"&G664&\" \",G664&\" \"))),IF(E664=\"\",\"***TRANSLATED TEXT MISSING***\",E664&G664&\" \"))","v":"Use as a processing aid. "},".","Y"]
["CS","CSL143",null,"Cutting, Grinding, Drilling, Sanding.","Cutting, Grinding, Drilling, Sanding.",{"$f":"IF(AND(H665=\"Y\",CSA!B$15=\"YES\"),IF(E665=\"\",\"***TRANSLATED TEXT MISSING***\",E665&IF(B665=\"\",G665&\" \",IF(OR(LEFT(B665,3)<>\"CSL\", AND(LEFT(B665,3)=\"CSL\",H$522=\"NO\")),\" [\"&B665&\"]\"&G665&\" \",G665&\" \"))),IF(E665=\"\",\"***TRANSLATED TEXT MISSING***\",E665&G665&\" \"))","v":"Cutting, Grinding, Drilling, Sanding.. "},".","Y"]
["CS","CSL144",null,"By powered machinery","By powered machinery",{"$f":"IF(AND(H666=\"Y\",CSA!B$15=\"YES\"),IF(E666=\"\",\"***TRANSLATED TEXT MISSING***\",E666&IF(B666=\"\",G666&\" \",IF(OR(LEFT(B666,3)<>\"CSL\", AND(LEFT(B666,3)=\"CSL\",H$522=\"NO\")),\" [\"&B666&\"]\"&G666&\" \",G666&\" \"))),IF(E666=\"\",\"***TRANSLATED TEXT MISSING***\",E666&G666&\" \"))","v":"By powered machinery. "},".","Y"]
["CS","CSL145",null,"Assembly/Disassembly","Assembly/Disassembly",{"$f":"IF(AND(H667=\"Y\",CSA!B$15=\"YES\"),IF(E667=\"\",\"***TRANSLATED TEXT MISSING***\",E667&IF(B667=\"\",G667&\" \",IF(OR(LEFT(B667,3)<>\"CSL\", AND(LEFT(B667,3)=\"CSL\",H$522=\"NO\")),\" [\"&B667&\"]\"&G667&\" \",G667&\" \"))),IF(E667=\"\",\"***TRANSLATED TEXT MISSING***\",E667&G667&\" \"))","v":"Assembly/Disassembly. "},".","Y"]
[null,"CSL146",null,"exposure resulting from contributing scenario","exposure resulting from contributing scenario",{"$f":"IF(AND(H668=\"Y\",CSA!B$15=\"YES\"),IF(E668=\"\",\"***TRANSLATED TEXT MISSING***\",E668&IF(B668=\"\",G668&\" \",IF(OR(LEFT(B668,3)<>\"CSL\", AND(LEFT(B668,3)=\"CSL\",H$522=\"NO\")),\" [\"&B668&\"]\"&G668&\" \",G668&\" \"))),IF(E668=\"\",\"***TRANSLATED TEXT MISSING***\",E668&G668&\" \"))","v":"exposure resulting from contributing scenario: "},":","N"]
[null,"CSL147",null,"Use as an process chemical or extraction solvent","Use as an extraction solvent",{"$f":"IF(AND(H669=\"Y\",CSA!B$15=\"YES\"),IF(E669=\"\",\"***TRANSLATED TEXT MISSING***\",E669&IF(B669=\"\",G669&\" \",IF(OR(LEFT(B669,3)<>\"CSL\", AND(LEFT(B669,3)=\"CSL\",H$522=\"NO\")),\" [\"&B669&\"]\"&G669&\" \",G669&\" \"))),IF(E669=\"\",\"***TRANSLATED TEXT MISSING***\",E669&G669&\" \"))","v":"Use as an extraction solvent. "},".","Y"]
[null,"CSL148",null,"Covers the use as a process chemical or extraction solvent, including  exposures during use (including product transfer, mixing and preparation plus manual and automated application) and equipment cleaning.","Covers the use as an extraction solvent, including  exposures during use (including product transfer, mixing and preparation plus manual and automated application) and equipment cleaning",{"$f":"IF(AND(H670=\"Y\",CSA!B$15=\"YES\"),IF(E670=\"\",\"***TRANSLATED TEXT MISSING***\",E670&IF(B670=\"\",G670&\" \",IF(OR(LEFT(B670,3)<>\"CSL\", AND(LEFT(B670,3)=\"CSL\",H$522=\"NO\")),\" [\"&B670&\"]\"&G670&\" \",G670&\" \"))),IF(E670=\"\",\"***TRANSLATED TEXT MISSING***\",E670&G670&\" \"))","v":"Covers the use as an extraction solvent, including  exposures during use (including product transfer, mixing and preparation plus manual and automated application) and equipment cleaning. "},".","Y"]
[null,"CSL149",null,"Covers the use in coatings (paints, inks, adhesives, etc) including  exposures during use (including materials receipt, storage, preparation and transfer from bulk and semi-bulk, application by spray and film formation) and equipment cleaning, maintenance and associated laboratory activities","Covers the use in coatings (paints, inks, adhesives, etc) including  exposures during use (including materials receipt, storage, preparation and transfer from bulk and semi-bulk, application by spray and film formation) and equipment cleaning, maintenance and associated laboratory activities",{"$f":"IF(AND(H671=\"Y\",CSA!B$15=\"YES\"),IF(E671=\"\",\"***TRANSLATED TEXT MISSING***\",E671&IF(B671=\"\",G671&\" \",IF(OR(LEFT(B671,3)<>\"CSL\", AND(LEFT(B671,3)=\"CSL\",H$522=\"NO\")),\" [\"&B671&\"]\"&G671&\" \",G671&\" \"))),IF(E671=\"\",\"***TRANSLATED TEXT MISSING***\",E671&G671&\" \"))","v":"Covers the use in coatings (paints, inks, adhesives, etc) including  exposures during use (including materials receipt, storage, preparation and transfer from bulk and semi-bulk, application by spray and film formation) and equipment cleaning, maintenance and associated laboratory activities. "},".","Y"]
[null,"CSL150",null,"Covers the use in coatings (paints, inks, adhesives, etc) including  exposures during use (including materials receipt, storage, preparation and transfer from bulk and semi-bulk, application by roller, spreader, dip, flow, fluidised bed on production lines and film formation) and equipment cleaning, maintenance and associated laboratory activities","Covers the use in coatings (paints, inks, adhesives, etc) including  exposures during use (including materials receipt, storage, preparation and transfer from bulk and semi-bulk, application by roller, spreader, dip, flow, fluidised bed on production lines and film formation) and equipment cleaning, maintenance and associated laboratory activities",{"$f":"IF(AND(H672=\"Y\",CSA!B$15=\"YES\"),IF(E672=\"\",\"***TRANSLATED TEXT MISSING***\",E672&IF(B672=\"\",G672&\" \",IF(OR(LEFT(B672,3)<>\"CSL\", AND(LEFT(B672,3)=\"CSL\",H$522=\"NO\")),\" [\"&B672&\"]\"&G672&\" \",G672&\" \"))),IF(E672=\"\",\"***TRANSLATED TEXT MISSING***\",E672&G672&\" \"))","v":"Covers the use in coatings (paints, inks, adhesives, etc) including  exposures during use (including materials receipt, storage, preparation and transfer from bulk and semi-bulk, application by roller, spreader, dip, flow, fluidised bed on production lines and film formation) and equipment cleaning, maintenance and associated laboratory activities. "},".","Y"]
[null,"CSL151",null,"Release factors refined to produce RCRs less than 1","Release factors refined to produce RCRs less than 1",{"$f":"IF(AND(H673=\"Y\",CSA!B$15=\"YES\"),IF(E673=\"\",\"***TRANSLATED TEXT MISSING***\",E673&IF(B673=\"\",G673&\" \",IF(OR(LEFT(B673,3)<>\"CSL\", AND(LEFT(B673,3)=\"CSL\",H$522=\"NO\")),\" [\"&B673&\"]\"&G673&\" \",G673&\" \"))),IF(E673=\"\",\"***TRANSLATED TEXT MISSING***\",E673&G673&\" \"))","v":"Release factors refined to produce RCRs less than 1. "},".","Y"]
["Consumer","CSL152",null,"Chronic systemic dermal exposure","Chronic systemic dermal exposure",{"$f":"IF(AND(H674=\"Y\",CSA!B$15=\"YES\"),IF(E674=\"\",\"***TRANSLATED TEXT MISSING***\",E674&IF(B674=\"\",G674&\" \",IF(OR(LEFT(B674,3)<>\"CSL\", AND(LEFT(B674,3)=\"CSL\",H$522=\"NO\")),\" [\"&B674&\"]\"&G674&\" \",G674&\" \"))),IF(E674=\"\",\"***TRANSLATED TEXT MISSING***\",E674&G674&\" \"))","v":"Chronic systemic dermal exposure: "},":","N"]
["Consumer","CSL153",null,"Chronic inhalation exposure based on a yearly average","Chronic inhalation exposure based on a yearly average",{"$f":"IF(AND(H675=\"Y\",CSA!B$15=\"YES\"),IF(E675=\"\",\"***TRANSLATED TEXT MISSING***\",E675&IF(B675=\"\",G675&\" \",IF(OR(LEFT(B675,3)<>\"CSL\", AND(LEFT(B675,3)=\"CSL\",H$522=\"NO\")),\" [\"&B675&\"]\"&G675&\" \",G675&\" \"))),IF(E675=\"\",\"***TRANSLATED TEXT MISSING***\",E675&G675&\" \"))","v":"Chronic inhalation exposure based on a yearly average: "},":","N"]
["Consumer","CSL154",null,"Acute inhalation exposure based on a single 24hr day","Acute inhalation exposure based on a single 24hr day",{"$f":"IF(AND(H676=\"Y\",CSA!B$15=\"YES\"),IF(E676=\"\",\"***TRANSLATED TEXT MISSING***\",E676&IF(B676=\"\",G676&\" \",IF(OR(LEFT(B676,3)<>\"CSL\", AND(LEFT(B676,3)=\"CSL\",H$522=\"NO\")),\" [\"&B676&\"]\"&G676&\" \",G676&\" \"))),IF(E676=\"\",\"***TRANSLATED TEXT MISSING***\",E676&G676&\" \"))","v":"Acute inhalation exposure based on a single 24hr day: "},":","N"]
[null,"CSL155",null,"mg/kg/day","mg/kg/day",{"$f":"IF(AND(H677=\"Y\",CSA!B$15=\"YES\"),IF(E677=\"\",\"***TRANSLATED TEXT MISSING***\",E677&IF(B677=\"\",G677&\" \",IF(OR(LEFT(B677,3)<>\"CSL\", AND(LEFT(B677,3)=\"CSL\",H$522=\"NO\")),\" [\"&B677&\"]\"&G677&\" \",G677&\" \"))),IF(E677=\"\",\"***TRANSLATED TEXT MISSING***\",E677&G677&\" \"))","v":"mg/kg/day. "},".","N"]
[null,"CSL156",null,"(chronic exposure)","(chronic exposure)",{"$f":"IF(AND(H678=\"Y\",CSA!B$15=\"YES\"),IF(E678=\"\",\"***TRANSLATED TEXT MISSING***\",E678&IF(B678=\"\",G678&\" \",IF(OR(LEFT(B678,3)<>\"CSL\", AND(LEFT(B678,3)=\"CSL\",H$522=\"NO\")),\" [\"&B678&\"]\"&G678&\" \",G678&\" \"))),IF(E678=\"\",\"***TRANSLATED TEXT MISSING***\",E678&G678&\" \"))","v":"(chronic exposure). "},".","N"]
[null,"CSL157",null,"(acute exposure)","(acute exposure)",{"$f":"IF(AND(H679=\"Y\",CSA!B$15=\"YES\"),IF(E679=\"\",\"***TRANSLATED TEXT MISSING***\",E679&IF(B679=\"\",G679&\" \",IF(OR(LEFT(B679,3)<>\"CSL\", AND(LEFT(B679,3)=\"CSL\",H$522=\"NO\")),\" [\"&B679&\"]\"&G679&\" \",G679&\" \"))),IF(E679=\"\",\"***TRANSLATED TEXT MISSING***\",E679&G679&\" \"))","v":"(acute exposure). "},".","N"]
["EO","CSL158",null,"This substance is not considered hazardous to the environment.  Because the substance is highly hazardous to human health, the substance is used in accordance with Strictly Controlled Conditions (SCC) as defined in Chapter 2, Article 18(4) of Regulation (EC) No. 1907.2006 i.e.: the substance is rigorously contained by technical means during its manufacture and use, including cleaning and maintenance of equipment, sampling, analysis, loading and unloading of equipment or vessels, waste disposal or purification and storage; procedural and control technologies are be used to minimise emission and any resulting exposure; only properly trained and authorised personnel handle the substance. In the case of cleaning and maintenance works, special procedures such as purging and washing are applied before the system is opened and entered.  Procedural and/or control technologies are used to minimise emissions and the resulting exposure during purification or cleaning and maintenance procedures and these procedures are well documented and strictly supervised.  For this reason, environmental exposure is considered negligible and a quantitiative risk assessment is not considered necessary","This substance is not considered hazardous to the environment.  Because the substance is highly hazardous to human health, the substance is used in accordance with Strictly Controlled Conditions (SCC) as defined in Chapter 2, Article 18(4) of Regulation (EC) No. 1907.2006 i.e.: the substance is rigorously contained by technical means during its manufacture and use, including cleaning and maintenance of equipment, sampling, analysis, loading and unloading of equipment or vessels, waste disposal or purification and storage; procedural and control technologies are be used to minimise emission and any resulting exposure; only properly trained and authorised personnel handle the substance. In the case of cleaning and maintenance works, special procedures such as purging and washing are applied before the system is opened and entered.  Procedural and/or control technologies are used to minimise emissions and the resulting exposure during purification or cleaning and maintenance procedures and these procedures are well documented and strictly supervised.  For this reason, environmental exposure is considered negligible and a quantitiative risk assessment is not considered necessary",{"$f":"IF(AND(H680=\"Y\",CSA!B$15=\"YES\"),IF(E680=\"\",\"***TRANSLATED TEXT MISSING***\",E680&IF(B680=\"\",G680&\" \",IF(OR(LEFT(B680,3)<>\"CSL\", AND(LEFT(B680,3)=\"CSL\",H$522=\"NO\")),\" [\"&B680&\"]\"&G680&\" \",G680&\" \"))),IF(E680=\"\",\"***TRANSLATED TEXT MISSING***\",E680&G680&\" \"))","v":"This substance is not considered hazardous to the environment.  Because the substance is highly hazardous to human health, the substance is used in accordance with Strictly Controlled Conditions (SCC) as defined in Chapter 2, Article 18(4) of Regulation (EC) No. 1907.2006 i.e.: the substance is rigorously contained by technical means during its manufacture and use, including cleaning and maintenance of equipment, sampling, analysis, loading and unloading of equipment or vessels, waste disposal or purification and storage; procedural and control technologies are be used to minimise emission and any resulting exposure; only properly trained and authorised personnel handle the substance. In the case of cleaning and maintenance works, special procedures such as purging and washing are applied before the system is opened and entered.  Procedural and/or control technologies are used to minimise emissions and the resulting exposure during purification or cleaning and maintenance procedures and these procedures are well documented and strictly supervised.  For this reason, environmental exposure is considered negligible and a quantitiative risk assessment is not considered necessary. "},".","Y"]
[null,"CSL159",null,"It is not possible to derive a DNEL for this end point","It is not possible to derive a DNEL for this end point",{"$f":"IF(AND(H681=\"Y\",CSA!B$15=\"YES\"),IF(E681=\"\",\"***TRANSLATED TEXT MISSING***\",E681&IF(B681=\"\",G681&\" \",IF(OR(LEFT(B681,3)<>\"CSL\", AND(LEFT(B681,3)=\"CSL\",H$522=\"NO\")),\" [\"&B681&\"]\"&G681&\" \",G681&\" \"))),IF(E681=\"\",\"***TRANSLATED TEXT MISSING***\",E681&G681&\" \"))","v":"It is not possible to derive a DNEL for this end point. "},".","Y"]
[null,"CSL160",null,"The risk is considered to be negligible","The risk is considered to be negligible",{"$f":"IF(AND(H682=\"Y\",CSA!B$15=\"YES\"),IF(E682=\"\",\"***TRANSLATED TEXT MISSING***\",E682&IF(B682=\"\",G682&\" \",IF(OR(LEFT(B682,3)<>\"CSL\", AND(LEFT(B682,3)=\"CSL\",H$522=\"NO\")),\" [\"&B682&\"]\"&G682&\" \",G682&\" \"))),IF(E682=\"\",\"***TRANSLATED TEXT MISSING***\",E682&G682&\" \"))","v":"The risk is considered to be negligible. "},".","Y"]
[null,"CSL161",null,"Use under strictly controlled conditions","Use under strictly controlled conditions",{"$f":"IF(AND(H683=\"Y\",CSA!B$15=\"YES\"),IF(E683=\"\",\"***TRANSLATED TEXT MISSING***\",E683&IF(B683=\"\",G683&\" \",IF(OR(LEFT(B683,3)<>\"CSL\", AND(LEFT(B683,3)=\"CSL\",H$522=\"NO\")),\" [\"&B683&\"]\"&G683&\" \",G683&\" \"))),IF(E683=\"\",\"***TRANSLATED TEXT MISSING***\",E683&G683&\" \"))","v":"Use under strictly controlled conditions. "},".","Y"]
["GES1B_Ia","CSL162",null,"Use of substance as an intermediate (under Strictly Controlled Conditions). Includes recycling/ recovery, material transfers, storage,  sampling, associated laboratory activities, maintenance and loading (including marine vessel/barge, road/rail car and bulk container).","Use of substance as an intermediate (under Strictly Controlled Conditions). Includes recycling/ recovery, material transfers, storage,  sampling, associated laboratory activities, maintenance and loading (including marine vessel/barge, road/rail car and bulk container)",{"$f":"IF(AND(H684=\"Y\",CSA!B$15=\"YES\"),IF(E684=\"\",\"***TRANSLATED TEXT MISSING***\",E684&IF(B684=\"\",G684&\" \",IF(OR(LEFT(B684,3)<>\"CSL\", AND(LEFT(B684,3)=\"CSL\",H$522=\"NO\")),\" [\"&B684&\"]\"&G684&\" \",G684&\" \"))),IF(E684=\"\",\"***TRANSLATED TEXT MISSING***\",E684&G684&\" \"))","v":"Use of substance as an intermediate (under Strictly Controlled Conditions). Includes recycling/ recovery, material transfers, storage,  sampling, associated laboratory activities, maintenance and loading (including marine vessel/barge, road/rail car and bulk container). "},".","Y"]
[null,"CSL163",null,"LEV should have an efficiency of at least (%)","LEV should have an efficiency of at least (%)",{"$f":"IF(AND(H685=\"Y\",CSA!B$15=\"YES\"),IF(E685=\"\",\"***TRANSLATED TEXT MISSING***\",E685&IF(B685=\"\",G685&\" \",IF(OR(LEFT(B685,3)<>\"CSL\", AND(LEFT(B685,3)=\"CSL\",H$522=\"NO\")),\" [\"&B685&\"]\"&G685&\" \",G685&\" \"))),IF(E685=\"\",\"***TRANSLATED TEXT MISSING***\",E685&G685&\" \"))","v":"LEV should have an efficiency of at least (%): "},":","Y"]
["blank","CSL164",null,null,null,{"$f":"IF(AND(H686=\"Y\",CSA!B$15=\"YES\"),IF(E686=\"\",\"***TRANSLATED TEXT MISSING***\",E686&IF(B686=\"\",G686&\" \",IF(OR(LEFT(B686,3)<>\"CSL\", AND(LEFT(B686,3)=\"CSL\",H$522=\"NO\")),\" [\"&B686&\"]\"&G686&\" \",G686&\" \"))),IF(E686=\"\",\"***TRANSLATED TEXT MISSING***\",E686&G686&\" \"))","v":"***TRANSLATED TEXT MISSING***"},"."]
[null,"CSL165",null,"e.g. road/railcar bottom loading/unloading","e.g. road/railcar bottom loading/unloading",{"$f":"IF(AND(H687=\"Y\",CSA!B$15=\"YES\"),IF(E687=\"\",\"***TRANSLATED TEXT MISSING***\",E687&IF(B687=\"\",G687&\" \",IF(OR(LEFT(B687,3)<>\"CSL\", AND(LEFT(B687,3)=\"CSL\",H$522=\"NO\")),\" [\"&B687&\"]\"&G687&\" \",G687&\" \"))),IF(E687=\"\",\"***TRANSLATED TEXT MISSING***\",E687&G687&\" \"))","v":"e.g. road/railcar bottom loading/unloading. "},".","Y"]
[null,"CSL166",null,"e.g.  marine vessel/barge loading/unloading","e.g.  marine vessel/barge loading/unloading",{"$f":"IF(AND(H688=\"Y\",CSA!B$15=\"YES\"),IF(E688=\"\",\"***TRANSLATED TEXT MISSING***\",E688&IF(B688=\"\",G688&\" \",IF(OR(LEFT(B688,3)<>\"CSL\", AND(LEFT(B688,3)=\"CSL\",H$522=\"NO\")),\" [\"&B688&\"]\"&G688&\" \",G688&\" \"))),IF(E688=\"\",\"***TRANSLATED TEXT MISSING***\",E688&G688&\" \"))","v":"e.g.  marine vessel/barge loading/unloading. "},".","Y"]
[null,"CSL167",null,"Specific European guidelines for the distribution of propylene oxide can be found at http://www.petrochemistry.net/ftp/pressroom/Guidelines_PO_UK_WEB.pdf","Specific European guidelines for the distribution of propylene oxide can be found at http://www.petrochemistry.net/ftp/pressroom/Guidelines_PO_UK_WEB.pdf",{"$f":"IF(AND(H689=\"Y\",CSA!B$15=\"YES\"),IF(E689=\"\",\"***TRANSLATED TEXT MISSING***\",E689&IF(B689=\"\",G689&\" \",IF(OR(LEFT(B689,3)<>\"CSL\", AND(LEFT(B689,3)=\"CSL\",H$522=\"NO\")),\" [\"&B689&\"]\"&G689&\" \",G689&\" \"))),IF(E689=\"\",\"***TRANSLATED TEXT MISSING***\",E689&G689&\" \"))","v":"Specific European guidelines for the distribution of propylene oxide can be found at http://www.petrochemistry.net/ftp/pressroom/Guidelines_PO_UK_WEB.pdf. "},".","Y"]
["WWTP","CSL168",null,"Assumed industrial waste water treatment plant flow (m3/d)","Assumed industrial waste water treatment plant flow (m3/d)",{"$f":"IF(AND(H690=\"Y\",CSA!B$15=\"YES\"),IF(E690=\"\",\"***TRANSLATED TEXT MISSING***\",E690&IF(B690=\"\",G690&\" \",IF(OR(LEFT(B690,3)<>\"CSL\", AND(LEFT(B690,3)=\"CSL\",H$522=\"NO\")),\" [\"&B690&\"]\"&G690&\" \",G690&\" \"))),IF(E690=\"\",\"***TRANSLATED TEXT MISSING***\",E690&G690&\" \"))","v":"Assumed industrial waste water treatment plant flow (m3/d): "},":","Y"]
[null,"CSL169",null,"Local exhaust ventilation not available","Local exhaust ventilation not available",{"$f":"IF(AND(H691=\"Y\",CSA!B$15=\"YES\"),IF(E691=\"\",\"***TRANSLATED TEXT MISSING***\",E691&IF(B691=\"\",G691&\" \",IF(OR(LEFT(B691,3)<>\"CSL\", AND(LEFT(B691,3)=\"CSL\",H$522=\"NO\")),\" [\"&B691&\"]\"&G691&\" \",G691&\" \"))),IF(E691=\"\",\"***TRANSLATED TEXT MISSING***\",E691&G691&\" \"))","v":"Local exhaust ventilation not available. "},".","Y"]
[null,"CSL170",null,"Local exhaust ventilation available","Local exhaust ventilation available",{"$f":"IF(AND(H692=\"Y\",CSA!B$15=\"YES\"),IF(E692=\"\",\"***TRANSLATED TEXT MISSING***\",E692&IF(B692=\"\",G692&\" \",IF(OR(LEFT(B692,3)<>\"CSL\", AND(LEFT(B692,3)=\"CSL\",H$522=\"NO\")),\" [\"&B692&\"]\"&G692&\" \",G692&\" \"))),IF(E692=\"\",\"***TRANSLATED TEXT MISSING***\",E692&G692&\" \"))","v":"Local exhaust ventilation available. "},".","Y"]
["EE","CSL171",null,"Advanced REACH tool (ART) v1.00","Advanced REACH tool (ART) v1.01",{"$f":"IF(AND(H693=\"Y\",CSA!B$15=\"YES\"),IF(E693=\"\",\"***TRANSLATED TEXT MISSING***\",E693&IF(B693=\"\",G693&\" \",IF(OR(LEFT(B693,3)<>\"CSL\", AND(LEFT(B693,3)=\"CSL\",H$522=\"NO\")),\" [\"&B693&\"]\"&G693&\" \",G693&\" \"))),IF(E693=\"\",\"***TRANSLATED TEXT MISSING***\",E693&G693&\" \"))","v":"Advanced REACH tool (ART) v1.01. "},".","Y"]
[null,"CSL172",null,"All waste water and surface water run off from process area must be collected for treatment","All waste water and surface water run off from process area must be collected for treatment",{"$f":"IF(AND(H694=\"Y\",CSA!B$15=\"YES\"),IF(E694=\"\",\"***TRANSLATED TEXT MISSING***\",E694&IF(B694=\"\",G694&\" \",IF(OR(LEFT(B694,3)<>\"CSL\", AND(LEFT(B694,3)=\"CSL\",H$522=\"NO\")),\" [\"&B694&\"]\"&G694&\" \",G694&\" \"))),IF(E694=\"\",\"***TRANSLATED TEXT MISSING***\",E694&G694&\" \"))","v":"All waste water and surface water run off from process area must be collected for treatment. "},".","Y"]
["CS","CSL173",null,"catalyst inactivation","catalyst inactivation",{"$f":"IF(AND(H695=\"Y\",CSA!B$15=\"YES\"),IF(E695=\"\",\"***TRANSLATED TEXT MISSING***\",E695&IF(B695=\"\",G695&\" \",IF(OR(LEFT(B695,3)<>\"CSL\", AND(LEFT(B695,3)=\"CSL\",H$522=\"NO\")),\" [\"&B695&\"]\"&G695&\" \",G695&\" \"))),IF(E695=\"\",\"***TRANSLATED TEXT MISSING***\",E695&G695&\" \"))","v":"catalyst inactivation; "},";","Y"]
["CS","CSL174",null,"removal of unreacted monomer","removal of unreacted monomer",{"$f":"IF(AND(H696=\"Y\",CSA!B$15=\"YES\"),IF(E696=\"\",\"***TRANSLATED TEXT MISSING***\",E696&IF(B696=\"\",G696&\" \",IF(OR(LEFT(B696,3)<>\"CSL\", AND(LEFT(B696,3)=\"CSL\",H$522=\"NO\")),\" [\"&B696&\"]\"&G696&\" \",G696&\" \"))),IF(E696=\"\",\"***TRANSLATED TEXT MISSING***\",E696&G696&\" \"))","v":"removal of unreacted monomer; "},";","Y"]
["CS","CSL175",null,"washing and sparging","washing and sparging",{"$f":"IF(AND(H697=\"Y\",CSA!B$15=\"YES\"),IF(E697=\"\",\"***TRANSLATED TEXT MISSING***\",E697&IF(B697=\"\",G697&\" \",IF(OR(LEFT(B697,3)<>\"CSL\", AND(LEFT(B697,3)=\"CSL\",H$522=\"NO\")),\" [\"&B697&\"]\"&G697&\" \",G697&\" \"))),IF(E697=\"\",\"***TRANSLATED TEXT MISSING***\",E697&G697&\" \"))","v":"washing and sparging; "},";","Y"]
["CS","CSL176",null,"Polymer finishing","Polymer finishing",{"$f":"IF(AND(H698=\"Y\",CSA!B$15=\"YES\"),IF(E698=\"\",\"***TRANSLATED TEXT MISSING***\",E698&IF(B698=\"\",G698&\" \",IF(OR(LEFT(B698,3)<>\"CSL\", AND(LEFT(B698,3)=\"CSL\",H$522=\"NO\")),\" [\"&B698&\"]\"&G698&\" \",G698&\" \"))),IF(E698=\"\",\"***TRANSLATED TEXT MISSING***\",E698&G698&\" \"))","v":"Polymer finishing: "},":","Y"]
[null,"CSL177",null,"Wastewater treatment plant must incorporate both primary and secondary treatments","Wastewater treatment plant must incorporate both primary and secondary treatments",{"$f":"IF(AND(H699=\"Y\",CSA!B$15=\"YES\"),IF(E699=\"\",\"***TRANSLATED TEXT MISSING***\",E699&IF(B699=\"\",G699&\" \",IF(OR(LEFT(B699,3)<>\"CSL\", AND(LEFT(B699,3)=\"CSL\",H$522=\"NO\")),\" [\"&B699&\"]\"&G699&\" \",G699&\" \"))),IF(E699=\"\",\"***TRANSLATED TEXT MISSING***\",E699&G699&\" \"))","v":"Wastewater treatment plant must incorporate both primary and secondary treatments. "},".","Y"]
[null,"CSL178",null,"Use as a grinding aid","Use as a grinding aid",{"$f":"IF(AND(H700=\"Y\",CSA!B$15=\"YES\"),IF(E700=\"\",\"***TRANSLATED TEXT MISSING***\",E700&IF(B700=\"\",G700&\" \",IF(OR(LEFT(B700,3)<>\"CSL\", AND(LEFT(B700,3)=\"CSL\",H$522=\"NO\")),\" [\"&B700&\"]\"&G700&\" \",G700&\" \"))),IF(E700=\"\",\"***TRANSLATED TEXT MISSING***\",E700&G700&\" \"))","v":"Use as a grinding aid "}]
[null,"CSL179",null,"Covers the use described in the exposure scenario title, including  exposures during use (including materials receipt, storage, preparation and transfer from bulk and semi-bulk) and equipment cleaning, maintenance and associated laboratory activities","Covers the use described in the exposure scenario title, including  exposures during use (including materials receipt, storage, preparation and transfer from bulk and semi-bulk) and equipment cleaning, maintenance and associated laboratory activities",{"$f":"IF(AND(H701=\"Y\",CSA!B$15=\"YES\"),IF(E701=\"\",\"***TRANSLATED TEXT MISSING***\",E701&IF(B701=\"\",G701&\" \",IF(OR(LEFT(B701,3)<>\"CSL\", AND(LEFT(B701,3)=\"CSL\",H$522=\"NO\")),\" [\"&B701&\"]\"&G701&\" \",G701&\" \"))),IF(E701=\"\",\"***TRANSLATED TEXT MISSING***\",E701&G701&\" \"))","v":"Covers the use described in the exposure scenario title, including  exposures during use (including materials receipt, storage, preparation and transfer from bulk and semi-bulk) and equipment cleaning, maintenance and associated laboratory activities "}]
["CS","CSL180",null,"Occasional controlled exposure","Occasional controlled exposure",{"$f":"IF(AND(H702=\"Y\",CSA!B$15=\"YES\"),IF(E702=\"\",\"***TRANSLATED TEXT MISSING***\",E702&IF(B702=\"\",G702&\" \",IF(OR(LEFT(B702,3)<>\"CSL\", AND(LEFT(B702,3)=\"CSL\",H$522=\"NO\")),\" [\"&B702&\"]\"&G702&\" \",G702&\" \"))),IF(E702=\"\",\"***TRANSLATED TEXT MISSING***\",E702&G702&\" \"))","v":"Occasional controlled exposure. "},".","Y"]
[null,"CSL181",null,"e.g. road/railcar top loading/unloading","e.g. road/railcar top loading/unloading",{"$f":"IF(AND(H703=\"Y\",CSA!B$15=\"YES\"),IF(E703=\"\",\"***TRANSLATED TEXT MISSING***\",E703&IF(B703=\"\",G703&\" \",IF(OR(LEFT(B703,3)<>\"CSL\", AND(LEFT(B703,3)=\"CSL\",H$522=\"NO\")),\" [\"&B703&\"]\"&G703&\" \",G703&\" \"))),IF(E703=\"\",\"***TRANSLATED TEXT MISSING***\",E703&G703&\" \"))","v":"e.g. road/railcar top loading/unloading. "},".","Y"]
["Cons","CSL182",null,"Covers  uses described in the exposure scenario title and exposures during use, including product preparation and transfer and equipment cleaning.  Application methods covered: brush, roller, spray by hand or similar methods","Covers  uses described in the exposure scenario title and exposures during use, including product preparation and transfer and equipment cleaning.  Application methods covered: brush, roller, spray by hand or similar methods",{"$f":"IF(AND(H704=\"Y\",CSA!B$15=\"YES\"),IF(E704=\"\",\"***TRANSLATED TEXT MISSING***\",E704&IF(B704=\"\",G704&\" \",IF(OR(LEFT(B704,3)<>\"CSL\", AND(LEFT(B704,3)=\"CSL\",H$522=\"NO\")),\" [\"&B704&\"]\"&G704&\" \",G704&\" \"))),IF(E704=\"\",\"***TRANSLATED TEXT MISSING***\",E704&G704&\" \"))","v":"Covers  uses described in the exposure scenario title and exposures during use, including product preparation and transfer and equipment cleaning.  Application methods covered: brush, roller, spray by hand or similar methods. "},".","Y"]
["Cons","CSL183",null,"Spray away from exposed person","Spray away from exposed person",{"$f":"IF(AND(H705=\"Y\",CSA!B$15=\"YES\"),IF(E705=\"\",\"***TRANSLATED TEXT MISSING***\",E705&IF(B705=\"\",G705&\" \",IF(OR(LEFT(B705,3)<>\"CSL\", AND(LEFT(B705,3)=\"CSL\",H$522=\"NO\")),\" [\"&B705&\"]\"&G705&\" \",G705&\" \"))),IF(E705=\"\",\"***TRANSLATED TEXT MISSING***\",E705&G705&\" \"))","v":"Spray away from exposed person. "},".","Y"]
["Cons","CSL184",null,"printing ink and toner cartridge, filling and refilling, use and evaporation","printing ink and toner cartridge, filling and refilling, use and evaporation",{"$f":"IF(AND(H706=\"Y\",CSA!B$15=\"YES\"),IF(E706=\"\",\"***TRANSLATED TEXT MISSING***\",E706&IF(B706=\"\",G706&\" \",IF(OR(LEFT(B706,3)<>\"CSL\", AND(LEFT(B706,3)=\"CSL\",H$522=\"NO\")),\" [\"&B706&\"]\"&G706&\" \",G706&\" \"))),IF(E706=\"\",\"***TRANSLATED TEXT MISSING***\",E706&G706&\" \"))","v":"printing ink and toner cartridge, filling and refilling, use and evaporation. "},".","Y"]
[null,"CSL185",null,"No skin contact assumed","No skin contact assumed",{"$f":"IF(AND(H707=\"Y\",CSA!B$15=\"YES\"),IF(E707=\"\",\"***TRANSLATED TEXT MISSING***\",E707&IF(B707=\"\",G707&\" \",IF(OR(LEFT(B707,3)<>\"CSL\", AND(LEFT(B707,3)=\"CSL\",H$522=\"NO\")),\" [\"&B707&\"]\"&G707&\" \",G707&\" \"))),IF(E707=\"\",\"***TRANSLATED TEXT MISSING***\",E707&G707&\" \"))","v":"No skin contact assumed. "},".","Y"]
["Cons","CSL186",null,"Floor cleaning products","Floor cleaning products",{"$f":"IF(AND(H708=\"Y\",CSA!B$15=\"YES\"),IF(E708=\"\",\"***TRANSLATED TEXT MISSING***\",E708&IF(B708=\"\",G708&\" \",IF(OR(LEFT(B708,3)<>\"CSL\", AND(LEFT(B708,3)=\"CSL\",H$522=\"NO\")),\" [\"&B708&\"]\"&G708&\" \",G708&\" \"))),IF(E708=\"\",\"***TRANSLATED TEXT MISSING***\",E708&G708&\" \"))","v":"Floor cleaning products. "},".","Y"]
["Use","CSL187",null,"Use in biocidal products (non active component)","Use in biocidal products (non active component)",{"$f":"IF(AND(H709=\"Y\",CSA!B$15=\"YES\"),IF(E709=\"\",\"***TRANSLATED TEXT MISSING***\",E709&IF(B709=\"\",G709&\" \",IF(OR(LEFT(B709,3)<>\"CSL\", AND(LEFT(B709,3)=\"CSL\",H$522=\"NO\")),\" [\"&B709&\"]\"&G709&\" \",G709&\" \"))),IF(E709=\"\",\"***TRANSLATED TEXT MISSING***\",E709&G709&\" \"))","v":"Use in biocidal products (non active component). "},".","Y"]
["RMM","CSL188",null,"Avoid generation of aerosols during handling","Avoid generation of aerosols during handling",{"$f":"IF(AND(H710=\"Y\",CSA!B$15=\"YES\"),IF(E710=\"\",\"***TRANSLATED TEXT MISSING***\",E710&IF(B710=\"\",G710&\" \",IF(OR(LEFT(B710,3)<>\"CSL\", AND(LEFT(B710,3)=\"CSL\",H$522=\"NO\")),\" [\"&B710&\"]\"&G710&\" \",G710&\" \"))),IF(E710=\"\",\"***TRANSLATED TEXT MISSING***\",E710&G710&\" \"))","v":"Avoid generation of aerosols during handling. "},".","Y"]
["RMM","CSL189",null,"Charging of vessels should be automated or semi-automated to limit opportunity for inhalation and dermal exposure","Charging of vessels should be automated or semi-automated to limit opportunity for inhalation and dermal exposure",{"$f":"IF(AND(H711=\"Y\",CSA!B$15=\"YES\"),IF(E711=\"\",\"***TRANSLATED TEXT MISSING***\",E711&IF(B711=\"\",G711&\" \",IF(OR(LEFT(B711,3)<>\"CSL\", AND(LEFT(B711,3)=\"CSL\",H$522=\"NO\")),\" [\"&B711&\"]\"&G711&\" \",G711&\" \"))),IF(E711=\"\",\"***TRANSLATED TEXT MISSING***\",E711&G711&\" \"))","v":"Charging of vessels should be automated or semi-automated to limit opportunity for inhalation and dermal exposure. "},".","Y"]
["RMM","CSL190",null,"Connecting and disconnecting of transfer hoses should be automated or semi-automated to limit opportunity for inhalation and dermal exposure","Connecting and disconnecting of transfer hoses should be automated or semi-automated to limit opportunity for inhalation and dermal exposure",{"$f":"IF(AND(H712=\"Y\",CSA!B$15=\"YES\"),IF(E712=\"\",\"***TRANSLATED TEXT MISSING***\",E712&IF(B712=\"\",G712&\" \",IF(OR(LEFT(B712,3)<>\"CSL\", AND(LEFT(B712,3)=\"CSL\",H$522=\"NO\")),\" [\"&B712&\"]\"&G712&\" \",G712&\" \"))),IF(E712=\"\",\"***TRANSLATED TEXT MISSING***\",E712&G712&\" \"))","v":"Connecting and disconnecting of transfer hoses should be automated or semi-automated to limit opportunity for inhalation and dermal exposure. "},".","Y"]
["CS","CSL191",null,"Low energy spreading using hand held tools","Low energy spreading using hand held tools",{"$f":"IF(AND(H713=\"Y\",CSA!B$15=\"YES\"),IF(E713=\"\",\"***TRANSLATED TEXT MISSING***\",E713&IF(B713=\"\",G713&\" \",IF(OR(LEFT(B713,3)<>\"CSL\", AND(LEFT(B713,3)=\"CSL\",H$522=\"NO\")),\" [\"&B713&\"]\"&G713&\" \",G713&\" \"))),IF(E713=\"\",\"***TRANSLATED TEXT MISSING***\",E713&G713&\" \"))","v":"Low energy spreading using hand held tools. "},".","Y"]
["RMM","CSL192",null,"Spraying should use no or low compressed air use","Spraying should use no or low compressed air use",{"$f":"IF(AND(H714=\"Y\",CSA!B$15=\"YES\"),IF(E714=\"\",\"***TRANSLATED TEXT MISSING***\",E714&IF(B714=\"\",G714&\" \",IF(OR(LEFT(B714,3)<>\"CSL\", AND(LEFT(B714,3)=\"CSL\",H$522=\"NO\")),\" [\"&B714&\"]\"&G714&\" \",G714&\" \"))),IF(E714=\"\",\"***TRANSLATED TEXT MISSING***\",E714&G714&\" \"))","v":"Spraying should use no or low compressed air use. "},".","Y"]
["RMM","CSL193",null,"Spraying should bein a horizontal or downward direction away from user","Spraying should bein a horizontal or downward direction away from user",{"$f":"IF(AND(H715=\"Y\",CSA!B$15=\"YES\"),IF(E715=\"\",\"***TRANSLATED TEXT MISSING***\",E715&IF(B715=\"\",G715&\" \",IF(OR(LEFT(B715,3)<>\"CSL\", AND(LEFT(B715,3)=\"CSL\",H$522=\"NO\")),\" [\"&B715&\"]\"&G715&\" \",G715&\" \"))),IF(E715=\"\",\"***TRANSLATED TEXT MISSING***\",E715&G715&\" \"))","v":"Spraying should bein a horizontal or downward direction away from user. "},".","Y"]
[null,"CSL194",null,"Avoid frequent and direct contact with product","Avoid frequent and direct contact with product",{"$f":"IF(AND(H716=\"Y\",CSA!B$15=\"YES\"),IF(E716=\"\",\"***TRANSLATED TEXT MISSING***\",E716&IF(B716=\"\",G716&\" \",IF(OR(LEFT(B716,3)<>\"CSL\", AND(LEFT(B716,3)=\"CSL\",H$522=\"NO\")),\" [\"&B716&\"]\"&G716&\" \",G716&\" \"))),IF(E716=\"\",\"***TRANSLATED TEXT MISSING***\",E716&G716&\" \"))","v":"Avoid frequent and direct contact with product. "},".","Y"]
[null,"CSL195",null,"Management controls should be in place to ensure that risk management measures in place are being used correctly and that operational conditions are followed","Management controls should be in place to ensure that risk management measures in place are being used correctly and that operational conditions are followed",{"$f":"IF(AND(H717=\"Y\",CSA!B$15=\"YES\"),IF(E717=\"\",\"***TRANSLATED TEXT MISSING***\",E717&IF(B717=\"\",G717&\" \",IF(OR(LEFT(B717,3)<>\"CSL\", AND(LEFT(B717,3)=\"CSL\",H$522=\"NO\")),\" [\"&B717&\"]\"&G717&\" \",G717&\" \"))),IF(E717=\"\",\"***TRANSLATED TEXT MISSING***\",E717&G717&\" \"))","v":"Management controls should be in place to ensure that risk management measures in place are being used correctly and that operational conditions are followed. "},".","Y"]
[null,"CSL196",null,"Minimise manual operations","Minimise manual operations",{"$f":"IF(AND(H718=\"Y\",CSA!B$15=\"YES\"),IF(E718=\"\",\"***TRANSLATED TEXT MISSING***\",E718&IF(B718=\"\",G718&\" \",IF(OR(LEFT(B718,3)<>\"CSL\", AND(LEFT(B718,3)=\"CSL\",H$522=\"NO\")),\" [\"&B718&\"]\"&G718&\" \",G718&\" \"))),IF(E718=\"\",\"***TRANSLATED TEXT MISSING***\",E718&G718&\" \"))","v":"Minimise manual operations. "},".","Y"]
[null,"CSL197","spraying","Ensure task is carried out outside of the breathing zone of a worker","Ensure task is carried out outside of the breathing zone of a worker",{"$f":"IF(AND(H719=\"Y\",CSA!B$15=\"YES\"),IF(E719=\"\",\"***TRANSLATED TEXT MISSING***\",E719&IF(B719=\"\",G719&\" \",IF(OR(LEFT(B719,3)<>\"CSL\", AND(LEFT(B719,3)=\"CSL\",H$522=\"NO\")),\" [\"&B719&\"]\"&G719&\" \",G719&\" \"))),IF(E719=\"\",\"***TRANSLATED TEXT MISSING***\",E719&G719&\" \"))","v":"Ensure task is carried out outside of the breathing zone of a worker. "},".","Y"]
[null,"CSL198",null,"Ensure regular inspection and maintenance of equipment and machinery","Ensure regular inspection and maintenance of equipment and machinery",{"$f":"IF(AND(H720=\"Y\",CSA!B$15=\"YES\"),IF(E720=\"\",\"***TRANSLATED TEXT MISSING***\",E720&IF(B720=\"\",G720&\" \",IF(OR(LEFT(B720,3)<>\"CSL\", AND(LEFT(B720,3)=\"CSL\",H$522=\"NO\")),\" [\"&B720&\"]\"&G720&\" \",G720&\" \"))),IF(E720=\"\",\"***TRANSLATED TEXT MISSING***\",E720&G720&\" \"))","v":"Ensure regular inspection and maintenance of equipment and machinery. "},".","Y"]
[null,"CSL199",null,"Use in a spray booth","Use in a spray booth",{"$f":"IF(AND(H721=\"Y\",CSA!B$15=\"YES\"),IF(E721=\"\",\"***TRANSLATED TEXT MISSING***\",E721&IF(B721=\"\",G721&\" \",IF(OR(LEFT(B721,3)<>\"CSL\", AND(LEFT(B721,3)=\"CSL\",H$522=\"NO\")),\" [\"&B721&\"]\"&G721&\" \",G721&\" \"))),IF(E721=\"\",\"***TRANSLATED TEXT MISSING***\",E721&G721&\" \"))","v":"Use in a spray booth. "},".","Y"]
[null,"CSL200",null,"(with modifications)","(with modifications)",{"$f":"IF(AND(H722=\"Y\",CSA!B$15=\"YES\"),IF(E722=\"\",\"***TRANSLATED TEXT MISSING***\",E722&IF(B722=\"\",G722&\" \",IF(OR(LEFT(B722,3)<>\"CSL\", AND(LEFT(B722,3)=\"CSL\",H$522=\"NO\")),\" [\"&B722&\"]\"&G722&\" \",G722&\" \"))),IF(E722=\"\",\"***TRANSLATED TEXT MISSING***\",E722&G722&\" \"))","v":"(with modifications). "},".","Y"]
[723,"CSL201","OC","Covers percentage substance in the product up to (%)","Covers percentage substance in the product up to (%)",{"$f":"IF(AND(H723=\"Y\",CSA!B$15=\"YES\"),IF(E723=\"\",\"***TRANSLATED TEXT MISSING***\",E723&IF(B723=\"\",G723&\" \",IF(OR(LEFT(B723,3)<>\"CSL\", AND(LEFT(B723,3)=\"CSL\",H$522=\"NO\")),\" [\"&B723&\"]\"&G723&\" \",G723&\" \"))),IF(E723=\"\",\"***TRANSLATED TEXT MISSING***\",E723&G723&\" \"))","v":"Covers percentage substance in the product up to (%): "},":","Y"]
[723,"CSL202","OC","Avoid carrying out operation for more than (hours)","Avoid carrying out operation for more than (hours)",{"$f":"IF(AND(H724=\"Y\",CSA!B$15=\"YES\"),IF(E724=\"\",\"***TRANSLATED TEXT MISSING***\",E724&IF(B724=\"\",G724&\" \",IF(OR(LEFT(B724,3)<>\"CSL\", AND(LEFT(B724,3)=\"CSL\",H$522=\"NO\")),\" [\"&B724&\"]\"&G724&\" \",G724&\" \"))),IF(E724=\"\",\"***TRANSLATED TEXT MISSING***\",E724&G724&\" \"))","v":"Avoid carrying out operation for more than (hours): "},":","Y"]
[null,"CSL203",null,"The substance is not classified as hazardous to the environment","The substance is not classified as hazardous to the environment",{"$f":"IF(AND(H725=\"Y\",CSA!B$15=\"YES\"),IF(E725=\"\",\"***TRANSLATED TEXT MISSING***\",E725&IF(B725=\"\",G725&\" \",IF(OR(LEFT(B725,3)<>\"CSL\", AND(LEFT(B725,3)=\"CSL\",H$522=\"NO\")),\" [\"&B725&\"]\"&G725&\" \",G725&\" \"))),IF(E725=\"\",\"***TRANSLATED TEXT MISSING***\",E725&G725&\" \"))","v":"The substance is not classified as hazardous to the environment. "},".","Y"]
[null,"CSL204",null,"A quantitative risk assessment is not required for the environment","A quantitative risk assessment is not required for the environment",{"$f":"IF(AND(H726=\"Y\",CSA!B$15=\"YES\"),IF(E726=\"\",\"***TRANSLATED TEXT MISSING***\",E726&IF(B726=\"\",G726&\" \",IF(OR(LEFT(B726,3)<>\"CSL\", AND(LEFT(B726,3)=\"CSL\",H$522=\"NO\")),\" [\"&B726&\"]\"&G726&\" \",G726&\" \"))),IF(E726=\"\",\"***TRANSLATED TEXT MISSING***\",E726&G726&\" \"))","v":"A quantitative risk assessment is not required for the environment. "},".","Y"]
[null,"CSL205",null,"Greasing, high energy","Greasing, high energy",{"$f":"IF(AND(H727=\"Y\",CSA!B$15=\"YES\"),IF(E727=\"\",\"***TRANSLATED TEXT MISSING***\",E727&IF(B727=\"\",G727&\" \",IF(OR(LEFT(B727,3)<>\"CSL\", AND(LEFT(B727,3)=\"CSL\",H$522=\"NO\")),\" [\"&B727&\"]\"&G727&\" \",G727&\" \"))),IF(E727=\"\",\"***TRANSLATED TEXT MISSING***\",E727&G727&\" \"))","v":"Greasing, high energy. "},".","Y"]
[null,"CSL206",null,"Heat and pressure transfer","Heat and pressure transfer",{"$f":"IF(AND(H728=\"Y\",CSA!B$15=\"YES\"),IF(E728=\"\",\"***TRANSLATED TEXT MISSING***\",E728&IF(B728=\"\",G728&\" \",IF(OR(LEFT(B728,3)<>\"CSL\", AND(LEFT(B728,3)=\"CSL\",H$522=\"NO\")),\" [\"&B728&\"]\"&G728&\" \",G728&\" \"))),IF(E728=\"\",\"***TRANSLATED TEXT MISSING***\",E728&G728&\" \"))","v":"Heat and pressure transfer. "},".","Y"]
[null,"CSL207",null,"(dispersive, closed systems)","(dispersive, closed systems)",{"$f":"IF(AND(H729=\"Y\",CSA!B$15=\"YES\"),IF(E729=\"\",\"***TRANSLATED TEXT MISSING***\",E729&IF(B729=\"\",G729&\" \",IF(OR(LEFT(B729,3)<>\"CSL\", AND(LEFT(B729,3)=\"CSL\",H$522=\"NO\")),\" [\"&B729&\"]\"&G729&\" \",G729&\" \"))),IF(E729=\"\",\"***TRANSLATED TEXT MISSING***\",E729&G729&\" \"))","v":"(dispersive, closed systems). "},".","Y"]
[null,"CSL208",null,"Risk management measures common to all contributing scenarios","Risk management measures common to all contributing scenarios",{"$f":"IF(AND(H730=\"Y\",CSA!B$15=\"YES\"),IF(E730=\"\",\"***TRANSLATED TEXT MISSING***\",E730&IF(B730=\"\",G730&\" \",IF(OR(LEFT(B730,3)<>\"CSL\", AND(LEFT(B730,3)=\"CSL\",H$522=\"NO\")),\" [\"&B730&\"]\"&G730&\" \",G730&\" \"))),IF(E730=\"\",\"***TRANSLATED TEXT MISSING***\",E730&G730&\" \"))","v":"Risk management measures common to all contributing scenarios. "},".","Y"]
[null,"CSL209",null,"operation of closed equipment containing functional fluids","operation of closed equipment containing functional fluids",{"$f":"IF(AND(H731=\"Y\",CSA!B$15=\"YES\"),IF(E731=\"\",\"***TRANSLATED TEXT MISSING***\",E731&IF(B731=\"\",G731&\" \",IF(OR(LEFT(B731,3)<>\"CSL\", AND(LEFT(B731,3)=\"CSL\",H$522=\"NO\")),\" [\"&B731&\"]\"&G731&\" \",G731&\" \"))),IF(E731=\"\",\"***TRANSLATED TEXT MISSING***\",E731&G731&\" \"))","v":"operation of closed equipment containing functional fluids. "},".","Y"]
[null,"CSL210",null,"(modified to account for low vapour pressure of substance)","(modified to account for low vapour pressure of substance)",{"$f":"IF(AND(H732=\"Y\",CSA!B$15=\"YES\"),IF(E732=\"\",\"***TRANSLATED TEXT MISSING***\",E732&IF(B732=\"\",G732&\" \",IF(OR(LEFT(B732,3)<>\"CSL\", AND(LEFT(B732,3)=\"CSL\",H$522=\"NO\")),\" [\"&B732&\"]\"&G732&\" \",G732&\" \"))),IF(E732=\"\",\"***TRANSLATED TEXT MISSING***\",E732&G732&\" \"))","v":"(modified to account for low vapour pressure of substance). "},".","Y"]
[null,"CSL211",null,"(modified to account for evaporation of substance from the skin)","(modified to account for evaporation of substance from the skin)",{"$f":"IF(AND(H733=\"Y\",CSA!B$15=\"YES\"),IF(E733=\"\",\"***TRANSLATED TEXT MISSING***\",E733&IF(B733=\"\",G733&\" \",IF(OR(LEFT(B733,3)<>\"CSL\", AND(LEFT(B733,3)=\"CSL\",H$522=\"NO\")),\" [\"&B733&\"]\"&G733&\" \",G733&\" \"))),IF(E733=\"\",\"***TRANSLATED TEXT MISSING***\",E733&G733&\" \"))","v":"(modified to account for evaporation of substance from the skin). "},".","Y"]
[null,"CSL212",null,"Includes use of functional fluids in crack detection systems","Includes use of functional fluids in crack detection systems",{"$f":"IF(AND(H734=\"Y\",CSA!B$15=\"YES\"),IF(E734=\"\",\"***TRANSLATED TEXT MISSING***\",E734&IF(B734=\"\",G734&\" \",IF(OR(LEFT(B734,3)<>\"CSL\", AND(LEFT(B734,3)=\"CSL\",H$522=\"NO\")),\" [\"&B734&\"]\"&G734&\" \",G734&\" \"))),IF(E734=\"\",\"***TRANSLATED TEXT MISSING***\",E734&G734&\" \"))","v":"Includes use of functional fluids in crack detection systems. "},".","Y"]
[null,"CSL213",null,"Dilution of a concentrate","Dilution of a concentrate",{"$f":"IF(AND(H735=\"Y\",CSA!B$15=\"YES\"),IF(E735=\"\",\"***TRANSLATED TEXT MISSING***\",E735&IF(B735=\"\",G735&\" \",IF(OR(LEFT(B735,3)<>\"CSL\", AND(LEFT(B735,3)=\"CSL\",H$522=\"NO\")),\" [\"&B735&\"]\"&G735&\" \",G735&\" \"))),IF(E735=\"\",\"***TRANSLATED TEXT MISSING***\",E735&G735&\" \"))","v":"Dilution of a concentrate. "},".","Y"]
[null,"CSL214",null,"Dilution of a concentrate to prepare various end use mixtures, eg. Pest control products.","Dilution of a concentrate to prepare various end use mixtures, eg. Pest control products.",{"$f":"IF(AND(H736=\"Y\",CSA!B$15=\"YES\"),IF(E736=\"\",\"***TRANSLATED TEXT MISSING***\",E736&IF(B736=\"\",G736&\" \",IF(OR(LEFT(B736,3)<>\"CSL\", AND(LEFT(B736,3)=\"CSL\",H$522=\"NO\")),\" [\"&B736&\"]\"&G736&\" \",G736&\" \"))),IF(E736=\"\",\"***TRANSLATED TEXT MISSING***\",E736&G736&\" \"))","v":"Dilution of a concentrate to prepare various end use mixtures, eg. Pest control products.. "},".","Y"]
[null,"CSL215",null,"fuel deliveries","fuel deliveries",{"$f":"IF(AND(H737=\"Y\",CSA!B$15=\"YES\"),IF(E737=\"\",\"***TRANSLATED TEXT MISSING***\",E737&IF(B737=\"\",G737&\" \",IF(OR(LEFT(B737,3)<>\"CSL\", AND(LEFT(B737,3)=\"CSL\",H$522=\"NO\")),\" [\"&B737&\"]\"&G737&\" \",G737&\" \"))),IF(E737=\"\",\"***TRANSLATED TEXT MISSING***\",E737&G737&\" \"))","v":"fuel deliveries. "},".","Y"]
[null,"CSL216",null,"refuelling vehicles; aircraft, marine ","refuelling vehicles; aircraft, marine ",{"$f":"IF(AND(H738=\"Y\",CSA!B$15=\"YES\"),IF(E738=\"\",\"***TRANSLATED TEXT MISSING***\",E738&IF(B738=\"\",G738&\" \",IF(OR(LEFT(B738,3)<>\"CSL\", AND(LEFT(B738,3)=\"CSL\",H$522=\"NO\")),\" [\"&B738&\"]\"&G738&\" \",G738&\" \"))),IF(E738=\"\",\"***TRANSLATED TEXT MISSING***\",E738&G738&\" \"))","v":"refuelling vehicles; aircraft, marine . "},".","Y"]
[null,"CSL217",null,"use as a fuel additive diluent","use as a fuel additive diluent",{"$f":"IF(AND(H739=\"Y\",CSA!B$15=\"YES\"),IF(E739=\"\",\"***TRANSLATED TEXT MISSING***\",E739&IF(B739=\"\",G739&\" \",IF(OR(LEFT(B739,3)<>\"CSL\", AND(LEFT(B739,3)=\"CSL\",H$522=\"NO\")),\" [\"&B739&\"]\"&G739&\" \",G739&\" \"))),IF(E739=\"\",\"***TRANSLATED TEXT MISSING***\",E739&G739&\" \"))","v":"use as a fuel additive diluent. "},".","Y"]
[null,"CSL218",null,"Including closed EDM processes","Including closed EDM processes",{"$f":"IF(AND(H740=\"Y\",CSA!B$15=\"YES\"),IF(E740=\"\",\"***TRANSLATED TEXT MISSING***\",E740&IF(B740=\"\",G740&\" \",IF(OR(LEFT(B740,3)<>\"CSL\", AND(LEFT(B740,3)=\"CSL\",H$522=\"NO\")),\" [\"&B740&\"]\"&G740&\" \",G740&\" \"))),IF(E740=\"\",\"***TRANSLATED TEXT MISSING***\",E740&G740&\" \"))","v":"Including closed EDM processes. "},".","Y"]
[null,"CSL219",null,"Including open EDM processes","Including open EDM processes",{"$f":"IF(AND(H741=\"Y\",CSA!B$15=\"YES\"),IF(E741=\"\",\"***TRANSLATED TEXT MISSING***\",E741&IF(B741=\"\",G741&\" \",IF(OR(LEFT(B741,3)<>\"CSL\", AND(LEFT(B741,3)=\"CSL\",H$522=\"NO\")),\" [\"&B741&\"]\"&G741&\" \",G741&\" \"))),IF(E741=\"\",\"***TRANSLATED TEXT MISSING***\",E741&G741&\" \"))","v":"Including open EDM processes. "},".","Y"]
[null,"CSL220",null,"Manual roller application or brushing","Manual roller application or brushing",{"$f":"IF(AND(H742=\"Y\",CSA!B$15=\"YES\"),IF(E742=\"\",\"***TRANSLATED TEXT MISSING***\",E742&IF(B742=\"\",G742&\" \",IF(OR(LEFT(B742,3)<>\"CSL\", AND(LEFT(B742,3)=\"CSL\",H$522=\"NO\")),\" [\"&B742&\"]\"&G742&\" \",G742&\" \"))),IF(E742=\"\",\"***TRANSLATED TEXT MISSING***\",E742&G742&\" \"))","v":"Manual roller application or brushing. "},".","Y"]
[null,"CSL221",null,"Water based products","Water based products",{"$f":"IF(AND(H743=\"Y\",CSA!B$15=\"YES\"),IF(E743=\"\",\"***TRANSLATED TEXT MISSING***\",E743&IF(B743=\"\",G743&\" \",IF(OR(LEFT(B743,3)<>\"CSL\", AND(LEFT(B743,3)=\"CSL\",H$522=\"NO\")),\" [\"&B743&\"]\"&G743&\" \",G743&\" \"))),IF(E743=\"\",\"***TRANSLATED TEXT MISSING***\",E743&G743&\" \"))","v":"Water based products. "},".","Y"]
[null,"CSL222",null,"Solvent based products","Solvent based products",{"$f":"IF(AND(H744=\"Y\",CSA!B$15=\"YES\"),IF(E744=\"\",\"***TRANSLATED TEXT MISSING***\",E744&IF(B744=\"\",G744&\" \",IF(OR(LEFT(B744,3)<>\"CSL\", AND(LEFT(B744,3)=\"CSL\",H$522=\"NO\")),\" [\"&B744&\"]\"&G744&\" \",G744&\" \"))),IF(E744=\"\",\"***TRANSLATED TEXT MISSING***\",E744&G744&\" \"))","v":"Solvent based products. "},".","Y"]
[null,"CSL223",null,"for example, deliveries to dealerships","for example, deliveries to dealerships",{"$f":"IF(AND(H745=\"Y\",CSA!B$15=\"YES\"),IF(E745=\"\",\"***TRANSLATED TEXT MISSING***\",E745&IF(B745=\"\",G745&\" \",IF(OR(LEFT(B745,3)<>\"CSL\", AND(LEFT(B745,3)=\"CSL\",H$522=\"NO\")),\" [\"&B745&\"]\"&G745&\" \",G745&\" \"))),IF(E745=\"\",\"***TRANSLATED TEXT MISSING***\",E745&G745&\" \"))","v":"for example, deliveries to dealerships. "},".","Y"]
[null,"CSL224",null,"not available","not available",{"$f":"IF(AND(H746=\"Y\",CSA!B$15=\"YES\"),IF(E746=\"\",\"***TRANSLATED TEXT MISSING***\",E746&IF(B746=\"\",G746&\" \",IF(OR(LEFT(B746,3)<>\"CSL\", AND(LEFT(B746,3)=\"CSL\",H$522=\"NO\")),\" [\"&B746&\"]\"&G746&\" \",G746&\" \"))),IF(E746=\"\",\"***TRANSLATED TEXT MISSING***\",E746&G746&\" \"))","v":"not available. "},".","Y"]
[null,"CSL225",null,"(no DNEL available)","(no DNEL available)",{"$f":"IF(AND(H747=\"Y\",CSA!B$15=\"YES\"),IF(E747=\"\",\"***TRANSLATED TEXT MISSING***\",E747&IF(B747=\"\",G747&\" \",IF(OR(LEFT(B747,3)<>\"CSL\", AND(LEFT(B747,3)=\"CSL\",H$522=\"NO\")),\" [\"&B747&\"]\"&G747&\" \",G747&\" \"))),IF(E747=\"\",\"***TRANSLATED TEXT MISSING***\",E747&G747&\" \"))","v":"(no DNEL available). "},".","Y"]
[null,"CSL226",null,"(no PNEC available)","(no PNEC available)",{"$f":"IF(AND(H748=\"Y\",CSA!B$15=\"YES\"),IF(E748=\"\",\"***TRANSLATED TEXT MISSING***\",E748&IF(B748=\"\",G748&\" \",IF(OR(LEFT(B748,3)<>\"CSL\", AND(LEFT(B748,3)=\"CSL\",H$522=\"NO\")),\" [\"&B748&\"]\"&G748&\" \",G748&\" \"))),IF(E748=\"\",\"***TRANSLATED TEXT MISSING***\",E748&G748&\" \"))","v":"(no PNEC available). "},".","Y"]
["not INEOS","CSL227",null,"Site","Site",{"$f":"IF(AND(H749=\"Y\",CSA!B$15=\"YES\"),IF(E749=\"\",\"***TRANSLATED TEXT MISSING***\",E749&IF(B749=\"\",G749&\" \",IF(OR(LEFT(B749,3)<>\"CSL\", AND(LEFT(B749,3)=\"CSL\",H$522=\"NO\")),\" [\"&B749&\"]\"&G749&\" \",G749&\" \"))),IF(E749=\"\",\"***TRANSLATED TEXT MISSING***\",E749&G749&\" \"))","v":"Site. "},".","Y"]
["not INEOS","CSL228",null,"Air","Air",{"$f":"IF(AND(H750=\"Y\",CSA!B$15=\"YES\"),IF(E750=\"\",\"***TRANSLATED TEXT MISSING***\",E750&IF(B750=\"\",G750&\" \",IF(OR(LEFT(B750,3)<>\"CSL\", AND(LEFT(B750,3)=\"CSL\",H$522=\"NO\")),\" [\"&B750&\"]\"&G750&\" \",G750&\" \"))),IF(E750=\"\",\"***TRANSLATED TEXT MISSING***\",E750&G750&\" \"))","v":"Air. "},".","Y"]
["not INEOS","CSL229",null,"Water","Water",{"$f":"IF(AND(H751=\"Y\",CSA!B$15=\"YES\"),IF(E751=\"\",\"***TRANSLATED TEXT MISSING***\",E751&IF(B751=\"\",G751&\" \",IF(OR(LEFT(B751,3)<>\"CSL\", AND(LEFT(B751,3)=\"CSL\",H$522=\"NO\")),\" [\"&B751&\"]\"&G751&\" \",G751&\" \"))),IF(E751=\"\",\"***TRANSLATED TEXT MISSING***\",E751&G751&\" \"))","v":"Water. "},".","Y"]
["not INEOS","CSL230",null,"Soil","Soil",{"$f":"IF(AND(H752=\"Y\",CSA!B$15=\"YES\"),IF(E752=\"\",\"***TRANSLATED TEXT MISSING***\",E752&IF(B752=\"\",G752&\" \",IF(OR(LEFT(B752,3)<>\"CSL\", AND(LEFT(B752,3)=\"CSL\",H$522=\"NO\")),\" [\"&B752&\"]\"&G752&\" \",G752&\" \"))),IF(E752=\"\",\"***TRANSLATED TEXT MISSING***\",E752&G752&\" \"))","v":"Soil. "},".","Y"]
["not INEOS","CSL231","CS","Discharging the rectifier","Discharging the rectifier",{"$f":"IF(AND(H753=\"Y\",CSA!B$15=\"YES\"),IF(E753=\"\",\"***TRANSLATED TEXT MISSING***\",E753&IF(B753=\"\",G753&\" \",IF(OR(LEFT(B753,3)<>\"CSL\", AND(LEFT(B753,3)=\"CSL\",H$522=\"NO\")),\" [\"&B753&\"]\"&G753&\" \",G753&\" \"))),IF(E753=\"\",\"***TRANSLATED TEXT MISSING***\",E753&G753&\" \"))","v":"Discharging the rectifier. "},".","Y"]
["not INEOS","CSL232","CS","Discharging the autoclave","Discharging the autoclave",{"$f":"IF(AND(H754=\"Y\",CSA!B$15=\"YES\"),IF(E754=\"\",\"***TRANSLATED TEXT MISSING***\",E754&IF(B754=\"\",G754&\" \",IF(OR(LEFT(B754,3)<>\"CSL\", AND(LEFT(B754,3)=\"CSL\",H$522=\"NO\")),\" [\"&B754&\"]\"&G754&\" \",G754&\" \"))),IF(E754=\"\",\"***TRANSLATED TEXT MISSING***\",E754&G754&\" \"))","v":"Discharging the autoclave. "},".","Y"]
["not INEOS","CSL233","CS","FF tar distillation","FF tar distillation",{"$f":"IF(AND(H755=\"Y\",CSA!B$15=\"YES\"),IF(E755=\"\",\"***TRANSLATED TEXT MISSING***\",E755&IF(B755=\"\",G755&\" \",IF(OR(LEFT(B755,3)<>\"CSL\", AND(LEFT(B755,3)=\"CSL\",H$522=\"NO\")),\" [\"&B755&\"]\"&G755&\" \",G755&\" \"))),IF(E755=\"\",\"***TRANSLATED TEXT MISSING***\",E755&G755&\" \"))","v":"FF tar distillation. "},".","Y"]
["not INEOS","CSL234",null,"Manufacture of pesticides","Manufacture of pesticides",{"$f":"IF(AND(H756=\"Y\",CSA!B$15=\"YES\"),IF(E756=\"\",\"***TRANSLATED TEXT MISSING***\",E756&IF(B756=\"\",G756&\" \",IF(OR(LEFT(B756,3)<>\"CSL\", AND(LEFT(B756,3)=\"CSL\",H$522=\"NO\")),\" [\"&B756&\"]\"&G756&\" \",G756&\" \"))),IF(E756=\"\",\"***TRANSLATED TEXT MISSING***\",E756&G756&\" \"))","v":"Manufacture of pesticides. "},".","Y"]
[null,"CSL235",null,"Manufacture of abrasive wheels, brake linings and refractories","Manufacture of abrasive wheels, brake linings and refractories",{"$f":"IF(AND(H757=\"Y\",CSA!B$15=\"YES\"),IF(E757=\"\",\"***TRANSLATED TEXT MISSING***\",E757&IF(B757=\"\",G757&\" \",IF(OR(LEFT(B757,3)<>\"CSL\", AND(LEFT(B757,3)=\"CSL\",H$522=\"NO\")),\" [\"&B757&\"]\"&G757&\" \",G757&\" \"))),IF(E757=\"\",\"***TRANSLATED TEXT MISSING***\",E757&G757&\" \"))","v":"Manufacture of abrasive wheels, brake linings and refractories. "},".","Y"]
["see 704","CSL236",null,"Covers  uses described in the exposure scenario title and exposures during use, including product preparation and transfer and equipment cleaning","Covers  uses described in the exposure scenario title and exposures during use, including product preparation and transfer and equipment cleaning",{"$f":"IF(AND(H758=\"Y\",CSA!B$15=\"YES\"),IF(E758=\"\",\"***TRANSLATED TEXT MISSING***\",E758&IF(B758=\"\",G758&\" \",IF(OR(LEFT(B758,3)<>\"CSL\", AND(LEFT(B758,3)=\"CSL\",H$522=\"NO\")),\" [\"&B758&\"]\"&G758&\" \",G758&\" \"))),IF(E758=\"\",\"***TRANSLATED TEXT MISSING***\",E758&G758&\" \"))","v":"Covers  uses described in the exposure scenario title and exposures during use, including product preparation and transfer and equipment cleaning. "},".","Y"]
[null,"CSL237",null,"Manufacture of foundry molds","Manufacture of foundry molds",{"$f":"IF(AND(H759=\"Y\",CSA!B$15=\"YES\"),IF(E759=\"\",\"***TRANSLATED TEXT MISSING***\",E759&IF(B759=\"\",G759&\" \",IF(OR(LEFT(B759,3)<>\"CSL\", AND(LEFT(B759,3)=\"CSL\",H$522=\"NO\")),\" [\"&B759&\"]\"&G759&\" \",G759&\" \"))),IF(E759=\"\",\"***TRANSLATED TEXT MISSING***\",E759&G759&\" \"))","v":"Manufacture of foundry molds. "},".","Y"]
[null,"CSL238",null,"no data","no data",{"$f":"IF(AND(H760=\"Y\",CSA!B$15=\"YES\"),IF(E760=\"\",\"***TRANSLATED TEXT MISSING***\",E760&IF(B760=\"\",G760&\" \",IF(OR(LEFT(B760,3)<>\"CSL\", AND(LEFT(B760,3)=\"CSL\",H$522=\"NO\")),\" [\"&B760&\"]\"&G760&\" \",G760&\" \"))),IF(E760=\"\",\"***TRANSLATED TEXT MISSING***\",E760&G760&\" \"))","v":"no data. "},".","Y"]
[null,"CSL239",null,"Formulation of sand mixtures containing the substance","Formulation of sand mixtures containing the substance",{"$f":"IF(AND(H761=\"Y\",CSA!B$15=\"YES\"),IF(E761=\"\",\"***TRANSLATED TEXT MISSING***\",E761&IF(B761=\"\",G761&\" \",IF(OR(LEFT(B761,3)<>\"CSL\", AND(LEFT(B761,3)=\"CSL\",H$522=\"NO\")),\" [\"&B761&\"]\"&G761&\" \",G761&\" \"))),IF(E761=\"\",\"***TRANSLATED TEXT MISSING***\",E761&G761&\" \"))","v":"Formulation of sand mixtures containing the substance. "},".","Y"]
[null,"CSL240",null,"Wood treatment","Wood treatment",{"$f":"IF(AND(H762=\"Y\",CSA!B$15=\"YES\"),IF(E762=\"\",\"***TRANSLATED TEXT MISSING***\",E762&IF(B762=\"\",G762&\" \",IF(OR(LEFT(B762,3)<>\"CSL\", AND(LEFT(B762,3)=\"CSL\",H$522=\"NO\")),\" [\"&B762&\"]\"&G762&\" \",G762&\" \"))),IF(E762=\"\",\"***TRANSLATED TEXT MISSING***\",E762&G762&\" \"))","v":"Wood treatment. "},".","Y"]
[null,"CSL241",null,"Impregnation by pressure treatment","Impregnation by pressure treatment",{"$f":"IF(AND(H763=\"Y\",CSA!B$15=\"YES\"),IF(E763=\"\",\"***TRANSLATED TEXT MISSING***\",E763&IF(B763=\"\",G763&\" \",IF(OR(LEFT(B763,3)<>\"CSL\", AND(LEFT(B763,3)=\"CSL\",H$522=\"NO\")),\" [\"&B763&\"]\"&G763&\" \",G763&\" \"))),IF(E763=\"\",\"***TRANSLATED TEXT MISSING***\",E763&G763&\" \"))","v":"Impregnation by pressure treatment. "},".","Y"]
[null,null,null,null,"Automated process",{"$f":"IF(AND(H764=\"Y\",CSA!B$15=\"YES\"),IF(E764=\"\",\"***TRANSLATED TEXT MISSING***\",E764&IF(B764=\"\",G764&\" \",IF(OR(LEFT(B764,3)<>\"CSL\", AND(LEFT(B764,3)=\"CSL\",H$522=\"NO\")),\" [\"&B764&\"]\"&G764&\" \",G764&\" \"))),IF(E764=\"\",\"***TRANSLATED TEXT MISSING***\",E764&G764&\" \"))","v":"Automated process. "},".","Y"]
[null,null,null,null,"Keep container tightly closed",{"$f":"IF(AND(H765=\"Y\",CSA!B$15=\"YES\"),IF(E765=\"\",\"***TRANSLATED TEXT MISSING***\",E765&IF(B765=\"\",G765&\" \",IF(OR(LEFT(B765,3)<>\"CSL\", AND(LEFT(B765,3)=\"CSL\",H$522=\"NO\")),\" [\"&B765&\"]\"&G765&\" \",G765&\" \"))),IF(E765=\"\",\"***TRANSLATED TEXT MISSING***\",E765&G765&\" \"))","v":"Keep container tightly closed. "},".","Y"]
[null,null,null,null,"Do not discharge to sewers or drains",{"$f":"IF(AND(H766=\"Y\",CSA!B$15=\"YES\"),IF(E766=\"\",\"***TRANSLATED TEXT MISSING***\",E766&IF(B766=\"\",G766&\" \",IF(OR(LEFT(B766,3)<>\"CSL\", AND(LEFT(B766,3)=\"CSL\",H$522=\"NO\")),\" [\"&B766&\"]\"&G766&\" \",G766&\" \"))),IF(E766=\"\",\"***TRANSLATED TEXT MISSING***\",E766&G766&\" \"))","v":"Do not discharge to sewers or drains. "},".","Y"]
[null,null,null,null,"Do not release wastewater directly into the environment",{"$f":"IF(AND(H767=\"Y\",CSA!B$15=\"YES\"),IF(E767=\"\",\"***TRANSLATED TEXT MISSING***\",E767&IF(B767=\"\",G767&\" \",IF(OR(LEFT(B767,3)<>\"CSL\", AND(LEFT(B767,3)=\"CSL\",H$522=\"NO\")),\" [\"&B767&\"]\"&G767&\" \",G767&\" \"))),IF(E767=\"\",\"***TRANSLATED TEXT MISSING***\",E767&G767&\" \"))","v":"Do not release wastewater directly into the environment. "},".","Y"]
[null,null,null,null,"Industrial use",{"$f":"IF(AND(H768=\"Y\",CSA!B$15=\"YES\"),IF(E768=\"\",\"***TRANSLATED TEXT MISSING***\",E768&IF(B768=\"\",G768&\" \",IF(OR(LEFT(B768,3)<>\"CSL\", AND(LEFT(B768,3)=\"CSL\",H$522=\"NO\")),\" [\"&B768&\"]\"&G768&\" \",G768&\" \"))),IF(E768=\"\",\"***TRANSLATED TEXT MISSING***\",E768&G768&\" \"))","v":"Industrial use. "},".","Y"]
[null,null,null,null,"Professional use",{"$f":"IF(AND(H769=\"Y\",CSA!B$15=\"YES\"),IF(E769=\"\",\"***TRANSLATED TEXT MISSING***\",E769&IF(B769=\"\",G769&\" \",IF(OR(LEFT(B769,3)<>\"CSL\", AND(LEFT(B769,3)=\"CSL\",H$522=\"NO\")),\" [\"&B769&\"]\"&G769&\" \",G769&\" \"))),IF(E769=\"\",\"***TRANSLATED TEXT MISSING***\",E769&G769&\" \"))","v":"Professional use. "},".","Y"]
[null,null,null,null,"Covers used in preparations in non-spray applications (eg as a processing aid, cleaning agent, solvent or component of a coating.)",{"$f":"IF(AND(H770=\"Y\",CSA!B$15=\"YES\"),IF(E770=\"\",\"***TRANSLATED TEXT MISSING***\",E770&IF(B770=\"\",G770&\" \",IF(OR(LEFT(B770,3)<>\"CSL\", AND(LEFT(B770,3)=\"CSL\",H$522=\"NO\")),\" [\"&B770&\"]\"&G770&\" \",G770&\" \"))),IF(E770=\"\",\"***TRANSLATED TEXT MISSING***\",E770&G770&\" \"))","v":"Covers used in preparations in non-spray applications (eg as a processing aid, cleaning agent, solvent or component of a coating.). "},".","Y"]
[null,null,null,null,"Application methods included: brushing, roller application, treatment by dipping, pouring, immersion or soaking.",{"$f":"IF(AND(H771=\"Y\",CSA!B$15=\"YES\"),IF(E771=\"\",\"***TRANSLATED TEXT MISSING***\",E771&IF(B771=\"\",G771&\" \",IF(OR(LEFT(B771,3)<>\"CSL\", AND(LEFT(B771,3)=\"CSL\",H$522=\"NO\")),\" [\"&B771&\"]\"&G771&\" \",G771&\" \"))),IF(E771=\"\",\"***TRANSLATED TEXT MISSING***\",E771&G771&\" \"))","v":"Application methods included: brushing, roller application, treatment by dipping, pouring, immersion or soaking.. "},".","Y"]
[null,null,null,null,"(automotive)",{"$f":"IF(AND(H772=\"Y\",CSA!B$15=\"YES\"),IF(E772=\"\",\"***TRANSLATED TEXT MISSING***\",E772&IF(B772=\"\",G772&\" \",IF(OR(LEFT(B772,3)<>\"CSL\", AND(LEFT(B772,3)=\"CSL\",H$522=\"NO\")),\" [\"&B772&\"]\"&G772&\" \",G772&\" \"))),IF(E772=\"\",\"***TRANSLATED TEXT MISSING***\",E772&G772&\" \"))","v":"(automotive). "},".","Y"]
[null,null,null,null,"Use as a domestic fuel ",{"$f":"IF(AND(H773=\"Y\",CSA!B$15=\"YES\"),IF(E773=\"\",\"***TRANSLATED TEXT MISSING***\",E773&IF(B773=\"\",G773&\" \",IF(OR(LEFT(B773,3)<>\"CSL\", AND(LEFT(B773,3)=\"CSL\",H$522=\"NO\")),\" [\"&B773&\"]\"&G773&\" \",G773&\" \"))),IF(E773=\"\",\"***TRANSLATED TEXT MISSING***\",E773&G773&\" \"))","v":"Use as a domestic fuel . "},".","Y"]
[null,null,null,null,"(non-automotive)",{"$f":"IF(AND(H774=\"Y\",CSA!B$15=\"YES\"),IF(E774=\"\",\"***TRANSLATED TEXT MISSING***\",E774&IF(B774=\"\",G774&\" \",IF(OR(LEFT(B774,3)<>\"CSL\", AND(LEFT(B774,3)=\"CSL\",H$522=\"NO\")),\" [\"&B774&\"]\"&G774&\" \",G774&\" \"))),IF(E774=\"\",\"***TRANSLATED TEXT MISSING***\",E774&G774&\" \"))","v":"(non-automotive). "},".","Y"]
[null,null,null,null,"Use in products containing small quantities of substance",{"$f":"IF(AND(H775=\"Y\",CSA!B$15=\"YES\"),IF(E775=\"\",\"***TRANSLATED TEXT MISSING***\",E775&IF(B775=\"\",G775&\" \",IF(OR(LEFT(B775,3)<>\"CSL\", AND(LEFT(B775,3)=\"CSL\",H$522=\"NO\")),\" [\"&B775&\"]\"&G775&\" \",G775&\" \"))),IF(E775=\"\",\"***TRANSLATED TEXT MISSING***\",E775&G775&\" \"))","v":"Use in products containing small quantities of substance. "},".","Y"]
[null,null,null,null,"Use in enclosed systems",{"$f":"IF(AND(H776=\"Y\",CSA!B$15=\"YES\"),IF(E776=\"\",\"***TRANSLATED TEXT MISSING***\",E776&IF(B776=\"\",G776&\" \",IF(OR(LEFT(B776,3)<>\"CSL\", AND(LEFT(B776,3)=\"CSL\",H$522=\"NO\")),\" [\"&B776&\"]\"&G776&\" \",G776&\" \"))),IF(E776=\"\",\"***TRANSLATED TEXT MISSING***\",E776&G776&\" \"))","v":"Use in enclosed systems. "},".","Y"]
[null,null,null,null,"Use in screenwash products",{"$f":"IF(AND(H777=\"Y\",CSA!B$15=\"YES\"),IF(E777=\"\",\"***TRANSLATED TEXT MISSING***\",E777&IF(B777=\"\",G777&\" \",IF(OR(LEFT(B777,3)<>\"CSL\", AND(LEFT(B777,3)=\"CSL\",H$522=\"NO\")),\" [\"&B777&\"]\"&G777&\" \",G777&\" \"))),IF(E777=\"\",\"***TRANSLATED TEXT MISSING***\",E777&G777&\" \"))","v":"Use in screenwash products. "},".","Y"]
[null,null,null,null,"Use of domestic fuel products, eg fuel burners, fondue sets, heaters, barbecue fluids etc.  Includes equipment refuelling.",{"$f":"IF(AND(H778=\"Y\",CSA!B$15=\"YES\"),IF(E778=\"\",\"***TRANSLATED TEXT MISSING***\",E778&IF(B778=\"\",G778&\" \",IF(OR(LEFT(B778,3)<>\"CSL\", AND(LEFT(B778,3)=\"CSL\",H$522=\"NO\")),\" [\"&B778&\"]\"&G778&\" \",G778&\" \"))),IF(E778=\"\",\"***TRANSLATED TEXT MISSING***\",E778&G778&\" \"))","v":"Use of domestic fuel products, eg fuel burners, fondue sets, heaters, barbecue fluids etc.  Includes equipment refuelling.. "},".","Y"]
[null,null,null,null,"Excludes use in cosmetics and toiletries",{"$f":"IF(AND(H779=\"Y\",CSA!B$15=\"YES\"),IF(E779=\"\",\"***TRANSLATED TEXT MISSING***\",E779&IF(B779=\"\",G779&\" \",IF(OR(LEFT(B779,3)<>\"CSL\", AND(LEFT(B779,3)=\"CSL\",H$522=\"NO\")),\" [\"&B779&\"]\"&G779&\" \",G779&\" \"))),IF(E779=\"\",\"***TRANSLATED TEXT MISSING***\",E779&G779&\" \"))","v":"Excludes use in cosmetics and toiletries. "},".","Y"]
[null,null,null,null,"Avoid breathing spray",{"$f":"IF(AND(H780=\"Y\",CSA!B$15=\"YES\"),IF(E780=\"\",\"***TRANSLATED TEXT MISSING***\",E780&IF(B780=\"\",G780&\" \",IF(OR(LEFT(B780,3)<>\"CSL\", AND(LEFT(B780,3)=\"CSL\",H$522=\"NO\")),\" [\"&B780&\"]\"&G780&\" \",G780&\" \"))),IF(E780=\"\",\"***TRANSLATED TEXT MISSING***\",E780&G780&\" \"))","v":"Avoid breathing spray. "},".","Y"]
[null,null,null,null,"Covers application or use by",{"$f":"IF(AND(H781=\"Y\",CSA!B$15=\"YES\"),IF(E781=\"\",\"***TRANSLATED TEXT MISSING***\",E781&IF(B781=\"\",G781&\" \",IF(OR(LEFT(B781,3)<>\"CSL\", AND(LEFT(B781,3)=\"CSL\",H$522=\"NO\")),\" [\"&B781&\"]\"&G781&\" \",G781&\" \"))),IF(E781=\"\",\"***TRANSLATED TEXT MISSING***\",E781&G781&\" \"))","v":"Covers application or use by. "},".","Y"]
[null,null,null,null,"Use in fire fighting foams",{"$f":"IF(AND(H782=\"Y\",CSA!B$15=\"YES\"),IF(E782=\"\",\"***TRANSLATED TEXT MISSING***\",E782&IF(B782=\"\",G782&\" \",IF(OR(LEFT(B782,3)<>\"CSL\", AND(LEFT(B782,3)=\"CSL\",H$522=\"NO\")),\" [\"&B782&\"]\"&G782&\" \",G782&\" \"))),IF(E782=\"\",\"***TRANSLATED TEXT MISSING***\",E782&G782&\" \"))","v":"Use in fire fighting foams. "},".","Y"]
[null,null,null,null,"Covers the use in manual and fixed systems",{"$f":"IF(AND(H783=\"Y\",CSA!B$15=\"YES\"),IF(E783=\"\",\"***TRANSLATED TEXT MISSING***\",E783&IF(B783=\"\",G783&\" \",IF(OR(LEFT(B783,3)<>\"CSL\", AND(LEFT(B783,3)=\"CSL\",H$522=\"NO\")),\" [\"&B783&\"]\"&G783&\" \",G783&\" \"))),IF(E783=\"\",\"***TRANSLATED TEXT MISSING***\",E783&G783&\" \"))","v":"Covers the use in manual and fixed systems. "},".","Y"]
[null,null,null,null,"Covers the use in sprinkler systems",{"$f":"IF(AND(H784=\"Y\",CSA!B$15=\"YES\"),IF(E784=\"\",\"***TRANSLATED TEXT MISSING***\",E784&IF(B784=\"\",G784&\" \",IF(OR(LEFT(B784,3)<>\"CSL\", AND(LEFT(B784,3)=\"CSL\",H$522=\"NO\")),\" [\"&B784&\"]\"&G784&\" \",G784&\" \"))),IF(E784=\"\",\"***TRANSLATED TEXT MISSING***\",E784&G784&\" \"))","v":"Covers the use in sprinkler systems. "},".","Y"]
[null,null,null,null,"Covers training activities",{"$f":"IF(AND(H785=\"Y\",CSA!B$15=\"YES\"),IF(E785=\"\",\"***TRANSLATED TEXT MISSING***\",E785&IF(B785=\"\",G785&\" \",IF(OR(LEFT(B785,3)<>\"CSL\", AND(LEFT(B785,3)=\"CSL\",H$522=\"NO\")),\" [\"&B785&\"]\"&G785&\" \",G785&\" \"))),IF(E785=\"\",\"***TRANSLATED TEXT MISSING***\",E785&G785&\" \"))","v":"Covers training activities. "},".","Y"]
[null,null,null,null,"Loading and unloading of concentrate",{"$f":"IF(AND(H786=\"Y\",CSA!B$15=\"YES\"),IF(E786=\"\",\"***TRANSLATED TEXT MISSING***\",E786&IF(B786=\"\",G786&\" \",IF(OR(LEFT(B786,3)<>\"CSL\", AND(LEFT(B786,3)=\"CSL\",H$522=\"NO\")),\" [\"&B786&\"]\"&G786&\" \",G786&\" \"))),IF(E786=\"\",\"***TRANSLATED TEXT MISSING***\",E786&G786&\" \"))","v":"Loading and unloading of concentrate. "},".","Y"]
[null,null,null,null,"Entry after systems have been in use",{"$f":"IF(AND(H787=\"Y\",CSA!B$15=\"YES\"),IF(E787=\"\",\"***TRANSLATED TEXT MISSING***\",E787&IF(B787=\"\",G787&\" \",IF(OR(LEFT(B787,3)<>\"CSL\", AND(LEFT(B787,3)=\"CSL\",H$522=\"NO\")),\" [\"&B787&\"]\"&G787&\" \",G787&\" \"))),IF(E787=\"\",\"***TRANSLATED TEXT MISSING***\",E787&G787&\" \"))","v":"Entry after systems have been in use. "},".","Y"]
[null,null,null,null,"Note: it is assumed that workers are not planned to be present when sprinklers activate",{"$f":"IF(AND(H788=\"Y\",CSA!B$15=\"YES\"),IF(E788=\"\",\"***TRANSLATED TEXT MISSING***\",E788&IF(B788=\"\",G788&\" \",IF(OR(LEFT(B788,3)<>\"CSL\", AND(LEFT(B788,3)=\"CSL\",H$522=\"NO\")),\" [\"&B788&\"]\"&G788&\" \",G788&\" \"))),IF(E788=\"\",\"***TRANSLATED TEXT MISSING***\",E788&G788&\" \"))","v":"Note: it is assumed that workers are not planned to be present when sprinklers activate. "},".","Y"]
[null,null,null,null,"Used CHARM model",{"$f":"IF(AND(H789=\"Y\",CSA!B$15=\"YES\"),IF(E789=\"\",\"***TRANSLATED TEXT MISSING***\",E789&IF(B789=\"\",G789&\" \",IF(OR(LEFT(B789,3)<>\"CSL\", AND(LEFT(B789,3)=\"CSL\",H$522=\"NO\")),\" [\"&B789&\"]\"&G789&\" \",G789&\" \"))),IF(E789=\"\",\"***TRANSLATED TEXT MISSING***\",E789&G789&\" \"))","v":"Used CHARM model. "},".","Y"]
[null,null,null,null,"Release factors used provided by end user",{"$f":"IF(AND(H790=\"Y\",CSA!B$15=\"YES\"),IF(E790=\"\",\"***TRANSLATED TEXT MISSING***\",E790&IF(B790=\"\",G790&\" \",IF(OR(LEFT(B790,3)<>\"CSL\", AND(LEFT(B790,3)=\"CSL\",H$522=\"NO\")),\" [\"&B790&\"]\"&G790&\" \",G790&\" \"))),IF(E790=\"\",\"***TRANSLATED TEXT MISSING***\",E790&G790&\" \"))","v":"Release factors used provided by end user. "},".","Y"]
[null,null,null,null,"Collect spent foam either for disposal or treatment in a waste water treatment plant",{"$f":"IF(AND(H791=\"Y\",CSA!B$15=\"YES\"),IF(E791=\"\",\"***TRANSLATED TEXT MISSING***\",E791&IF(B791=\"\",G791&\" \",IF(OR(LEFT(B791,3)<>\"CSL\", AND(LEFT(B791,3)=\"CSL\",H$522=\"NO\")),\" [\"&B791&\"]\"&G791&\" \",G791&\" \"))),IF(E791=\"\",\"***TRANSLATED TEXT MISSING***\",E791&G791&\" \"))","v":"Collect spent foam either for disposal or treatment in a waste water treatment plant. "},".","Y"]
[null,null,null,null,"Marine and offshore use",{"$f":"IF(AND(H792=\"Y\",CSA!B$15=\"YES\"),IF(E792=\"\",\"***TRANSLATED TEXT MISSING***\",E792&IF(B792=\"\",G792&\" \",IF(OR(LEFT(B792,3)<>\"CSL\", AND(LEFT(B792,3)=\"CSL\",H$522=\"NO\")),\" [\"&B792&\"]\"&G792&\" \",G792&\" \"))),IF(E792=\"\",\"***TRANSLATED TEXT MISSING***\",E792&G792&\" \"))","v":"Marine and offshore use. "},".","Y"]
[null,null,null,null,"Aviation use",{"$f":"IF(AND(H793=\"Y\",CSA!B$15=\"YES\"),IF(E793=\"\",\"***TRANSLATED TEXT MISSING***\",E793&IF(B793=\"\",G793&\" \",IF(OR(LEFT(B793,3)<>\"CSL\", AND(LEFT(B793,3)=\"CSL\",H$522=\"NO\")),\" [\"&B793&\"]\"&G793&\" \",G793&\" \"))),IF(E793=\"\",\"***TRANSLATED TEXT MISSING***\",E793&G793&\" \"))","v":"Aviation use. "},".","Y"]
[null,null,null,null,"Fire brigades use",{"$f":"IF(AND(H794=\"Y\",CSA!B$15=\"YES\"),IF(E794=\"\",\"***TRANSLATED TEXT MISSING***\",E794&IF(B794=\"\",G794&\" \",IF(OR(LEFT(B794,3)<>\"CSL\", AND(LEFT(B794,3)=\"CSL\",H$522=\"NO\")),\" [\"&B794&\"]\"&G794&\" \",G794&\" \"))),IF(E794=\"\",\"***TRANSLATED TEXT MISSING***\",E794&G794&\" \"))","v":"Fire brigades use. "},".","Y"]
[null,null,null,null,"Small scale applications",{"$f":"IF(AND(H795=\"Y\",CSA!B$15=\"YES\"),IF(E795=\"\",\"***TRANSLATED TEXT MISSING***\",E795&IF(B795=\"\",G795&\" \",IF(OR(LEFT(B795,3)<>\"CSL\", AND(LEFT(B795,3)=\"CSL\",H$522=\"NO\")),\" [\"&B795&\"]\"&G795&\" \",G795&\" \"))),IF(E795=\"\",\"***TRANSLATED TEXT MISSING***\",E795&G795&\" \"))","v":"Small scale applications. "},".","Y"]
[null,null,null,null,"Where possible",{"$f":"IF(AND(H796=\"Y\",CSA!B$15=\"YES\"),IF(E796=\"\",\"***TRANSLATED TEXT MISSING***\",E796&IF(B796=\"\",G796&\" \",IF(OR(LEFT(B796,3)<>\"CSL\", AND(LEFT(B796,3)=\"CSL\",H$522=\"NO\")),\" [\"&B796&\"]\"&G796&\" \",G796&\" \"))),IF(E796=\"\",\"***TRANSLATED TEXT MISSING***\",E796&G796&\" \"))","v":"Where possible. "},".","Y"]
[null,null,null,null,"Hazardous waste incineration",{"$f":"IF(AND(H797=\"Y\",CSA!B$15=\"YES\"),IF(E797=\"\",\"***TRANSLATED TEXT MISSING***\",E797&IF(B797=\"\",G797&\" \",IF(OR(LEFT(B797,3)<>\"CSL\", AND(LEFT(B797,3)=\"CSL\",H$522=\"NO\")),\" [\"&B797&\"]\"&G797&\" \",G797&\" \"))),IF(E797=\"\",\"***TRANSLATED TEXT MISSING***\",E797&G797&\" \"))","v":"Hazardous waste incineration. "},".","Y"]
[null,null,null,null,"Release factors",{"$f":"IF(AND(H798=\"Y\",CSA!B$15=\"YES\"),IF(E798=\"\",\"***TRANSLATED TEXT MISSING***\",E798&IF(B798=\"\",G798&\" \",IF(OR(LEFT(B798,3)<>\"CSL\", AND(LEFT(B798,3)=\"CSL\",H$522=\"NO\")),\" [\"&B798&\"]\"&G798&\" \",G798&\" \"))),IF(E798=\"\",\"***TRANSLATED TEXT MISSING***\",E798&G798&\" \"))","v":"Release factors. "},".","Y"]
[null,null,null,null,"Guidance on the information requirements and chemical safety assessment, chapter R19",{"$f":"IF(AND(H799=\"Y\",CSA!B$15=\"YES\"),IF(E799=\"\",\"***TRANSLATED TEXT MISSING***\",E799&IF(B799=\"\",G799&\" \",IF(OR(LEFT(B799,3)<>\"CSL\", AND(LEFT(B799,3)=\"CSL\",H$522=\"NO\")),\" [\"&B799&\"]\"&G799&\" \",G799&\" \"))),IF(E799=\"\",\"***TRANSLATED TEXT MISSING***\",E799&G799&\" \"))","v":"Guidance on the information requirements and chemical safety assessment, chapter R19. "},".","Y"]
[null,"CSL276",null,"Avoid contact with contaminated tools and objects","Avoid contact with contaminated tools and objects",{"$f":"IF(AND(H800=\"Y\",CSA!B$15=\"YES\"),IF(E800=\"\",\"***TRANSLATED TEXT MISSING***\",E800&IF(B800=\"\",G800&\" \",IF(OR(LEFT(B800,3)<>\"CSL\", AND(LEFT(B800,3)=\"CSL\",H$522=\"NO\")),\" [\"&B800&\"]\"&G800&\" \",G800&\" \"))),IF(E800=\"\",\"***TRANSLATED TEXT MISSING***\",E800&G800&\" \"))","v":"Avoid contact with contaminated tools and objects. "},".","Y"]
[null,"CSL277",null,"Avoid contact with skin","Avoid contact with skin",{"$f":"IF(AND(H801=\"Y\",CSA!B$15=\"YES\"),IF(E801=\"\",\"***TRANSLATED TEXT MISSING***\",E801&IF(B801=\"\",G801&\" \",IF(OR(LEFT(B801,3)<>\"CSL\", AND(LEFT(B801,3)=\"CSL\",H$522=\"NO\")),\" [\"&B801&\"]\"&G801&\" \",G801&\" \"))),IF(E801=\"\",\"***TRANSLATED TEXT MISSING***\",E801&G801&\" \"))","v":"Avoid contact with skin. "},".","Y"]
[null,"S2",null,"Keep out of reach of children","Keep out of reach of children",{"$f":"IF(AND(H802=\"Y\",CSA!B$15=\"YES\"),IF(E802=\"\",\"***TRANSLATED TEXT MISSING***\",E802&IF(B802=\"\",G802&\" \",IF(OR(LEFT(B802,3)<>\"CSL\", AND(LEFT(B802,3)=\"CSL\",H$522=\"NO\")),\" [\"&B802&\"]\"&G802&\" \",G802&\" \"))),IF(E802=\"\",\"***TRANSLATED TEXT MISSING***\",E802&G802&\" \"))","v":"Keep out of reach of children [S2]. "},".","Y"]
[null,"CSL278",null,"Lamp oils and grill lighters must be packaged in black opaque containers not exceeding 1 litre","Lamp oils and grill lighters must be packaged in black opaque containers not exceeding 1 litre",{"$f":"IF(AND(H803=\"Y\",CSA!B$15=\"YES\"),IF(E803=\"\",\"***TRANSLATED TEXT MISSING***\",E803&IF(B803=\"\",G803&\" \",IF(OR(LEFT(B803,3)<>\"CSL\", AND(LEFT(B803,3)=\"CSL\",H$522=\"NO\")),\" [\"&B803&\"]\"&G803&\" \",G803&\" \"))),IF(E803=\"\",\"***TRANSLATED TEXT MISSING***\",E803&G803&\" \"))","v":"Lamp oils and grill lighters must be packaged in black opaque containers not exceeding 1 litre. "},".","Y"]
[null,"CSL279",null,"Discharge to aquatic environment is prohibited by law and industry prohibits release","Discharge to aquatic environment is prohibited by law and industry prohibits release",{"$f":"IF(AND(H804=\"Y\",CSA!B$15=\"YES\"),IF(E804=\"\",\"***TRANSLATED TEXT MISSING***\",E804&IF(B804=\"\",G804&\" \",IF(OR(LEFT(B804,3)<>\"CSL\", AND(LEFT(B804,3)=\"CSL\",H$522=\"NO\")),\" [\"&B804&\"]\"&G804&\" \",G804&\" \"))),IF(E804=\"\",\"***TRANSLATED TEXT MISSING***\",E804&G804&\" \"))","v":"Discharge to aquatic environment is prohibited by law and industry prohibits release. "},".","Y"]
[null,"CSL280",null,"Dispose of waste wipe cloths in closed containers","Dispose of waste wipe cloths in closed containers",{"$f":"IF(AND(H805=\"Y\",CSA!B$15=\"YES\"),IF(E805=\"\",\"***TRANSLATED TEXT MISSING***\",E805&IF(B805=\"\",G805&\" \",IF(OR(LEFT(B805,3)<>\"CSL\", AND(LEFT(B805,3)=\"CSL\",H$522=\"NO\")),\" [\"&B805&\"]\"&G805&\" \",G805&\" \"))),IF(E805=\"\",\"***TRANSLATED TEXT MISSING***\",E805&G805&\" \"))","v":"Dispose of waste wipe cloths in closed containers. "},".","Y"]
[null,"CSL281",null,"Based on data from EU risk assessment","Based on data from EU risk assessment",{"$f":"IF(AND(H806=\"Y\",CSA!B$15=\"YES\"),IF(E806=\"\",\"***TRANSLATED TEXT MISSING***\",E806&IF(B806=\"\",G806&\" \",IF(OR(LEFT(B806,3)<>\"CSL\", AND(LEFT(B806,3)=\"CSL\",H$522=\"NO\")),\" [\"&B806&\"]\"&G806&\" \",G806&\" \"))),IF(E806=\"\",\"***TRANSLATED TEXT MISSING***\",E806&G806&\" \"))","v":"Based on data from EU risk assessment. "},".","Y"]

{"sheet":"UMC","index":6,"n_rows":163,"n_cols":9,"rows_kept":163,"cut":false,"hidden":false,"merged":[]}
["BDI code","ESIG_ESVOC Code","TYPE","English original phrase","Translated phrase (ENGLISH)","Composite phrase to be used in ES Annex - USE THIS COLUMN","Punctuation","Use code in phrase?"]
[]
[null,null,"PROC 1","Use in closed process, no likelihood of exposure","Use in closed process, no likelihood of exposure",{"$f":"IF(AND(H3=\"Y\",CSA!B$15=\"YES\"),IF(E3=\"\",\"***TRANSLATED TEXT MISSING***\",E3&IF(C3=\"\",G3&\" \",IF(OR(LEFT(C3,5)<>\"INEOS\", AND(LEFT(C3,5)=\"INEOS\",WPG!H$522=\"NO\")),\" [\"&C3&\"]\"&G3&\" \",G3&\" \"))),IF(E3=\"\",\"***TRANSLATED TEXT MISSING***\",E3&G3&\" \"))","v":"Use in closed process, no likelihood of exposure [PROC 1]. "},".","Y"]
[null,null,"PROC 2","Use in closed, continuous process with occasional controlled exposure","Use in closed, continuous process with occasional controlled exposure",{"$f":"IF(AND(H4=\"Y\",CSA!B$15=\"YES\"),IF(E4=\"\",\"***TRANSLATED TEXT MISSING***\",E4&IF(C4=\"\",G4&\" \",IF(OR(LEFT(C4,5)<>\"INEOS\", AND(LEFT(C4,5)=\"INEOS\",WPG!H$522=\"NO\")),\" [\"&C4&\"]\"&G4&\" \",G4&\" \"))),IF(E4=\"\",\"***TRANSLATED TEXT MISSING***\",E4&G4&\" \"))","v":"Use in closed, continuous process with occasional controlled exposure [PROC 2]. "},".","Y"]
[null,null,"PROC 3","Use in closed batch process (synthesis or formulation)","Use in closed batch process (synthesis or formulation)",{"$f":"IF(AND(H5=\"Y\",CSA!B$15=\"YES\"),IF(E5=\"\",\"***TRANSLATED TEXT MISSING***\",E5&IF(C5=\"\",G5&\" \",IF(OR(LEFT(C5,5)<>\"INEOS\", AND(LEFT(C5,5)=\"INEOS\",WPG!H$522=\"NO\")),\" [\"&C5&\"]\"&G5&\" \",G5&\" \"))),IF(E5=\"\",\"***TRANSLATED TEXT MISSING***\",E5&G5&\" \"))","v":"Use in closed batch process (synthesis or formulation) [PROC 3]. "},".","Y"]
[null,null,"PROC 4","Use in batch and other process (synthesis) where opportunity for exposure arises","Use in batch and other process (synthesis) where opportunity for exposure arises",{"$f":"IF(AND(H6=\"Y\",CSA!B$15=\"YES\"),IF(E6=\"\",\"***TRANSLATED TEXT MISSING***\",E6&IF(C6=\"\",G6&\" \",IF(OR(LEFT(C6,5)<>\"INEOS\", AND(LEFT(C6,5)=\"INEOS\",WPG!H$522=\"NO\")),\" [\"&C6&\"]\"&G6&\" \",G6&\" \"))),IF(E6=\"\",\"***TRANSLATED TEXT MISSING***\",E6&G6&\" \"))","v":"Use in batch and other process (synthesis) where opportunity for exposure arises [PROC 4]. "},".","Y"]
[null,null,"PROC 5","Mixing or blending in batch processes for formulation of preparations* and ar- ticles (multistage and/or significant con- tact)","Mixing or blending in batch processes for formulation of preparations* and articles (multistage and/or significant contact)",{"$f":"IF(AND(H7=\"Y\",CSA!B$15=\"YES\"),IF(E7=\"\",\"***TRANSLATED TEXT MISSING***\",E7&IF(C7=\"\",G7&\" \",IF(OR(LEFT(C7,5)<>\"INEOS\", AND(LEFT(C7,5)=\"INEOS\",WPG!H$522=\"NO\")),\" [\"&C7&\"]\"&G7&\" \",G7&\" \"))),IF(E7=\"\",\"***TRANSLATED TEXT MISSING***\",E7&G7&\" \"))","v":"Mixing or blending in batch processes for formulation of preparations* and articles (multistage and/or significant contact) [PROC 5]. "},".","Y"]
[null,null,"PROC 6","Calendering operations","Calendering operations",{"$f":"IF(AND(H8=\"Y\",CSA!B$15=\"YES\"),IF(E8=\"\",\"***TRANSLATED TEXT MISSING***\",E8&IF(C8=\"\",G8&\" \",IF(OR(LEFT(C8,5)<>\"INEOS\", AND(LEFT(C8,5)=\"INEOS\",WPG!H$522=\"NO\")),\" [\"&C8&\"]\"&G8&\" \",G8&\" \"))),IF(E8=\"\",\"***TRANSLATED TEXT MISSING***\",E8&G8&\" \"))","v":"Calendering operations [PROC 6]. "},".","Y"]
[null,null,"PROC 7","Industrial spraying","Industrial spraying",{"$f":"IF(AND(H9=\"Y\",CSA!B$15=\"YES\"),IF(E9=\"\",\"***TRANSLATED TEXT MISSING***\",E9&IF(C9=\"\",G9&\" \",IF(OR(LEFT(C9,5)<>\"INEOS\", AND(LEFT(C9,5)=\"INEOS\",WPG!H$522=\"NO\")),\" [\"&C9&\"]\"&G9&\" \",G9&\" \"))),IF(E9=\"\",\"***TRANSLATED TEXT MISSING***\",E9&G9&\" \"))","v":"Industrial spraying [PROC 7]. "},".","Y"]
[null,null,"PROC 8a","Transfer of substance or preparation (charging/discharging) from/to ves- sels/large containers at non-dedicated facilities","Transfer of substance or preparation (charging/discharging) from/to vessels/large containers at non-dedicated facilities",{"$f":"IF(AND(H10=\"Y\",CSA!B$15=\"YES\"),IF(E10=\"\",\"***TRANSLATED TEXT MISSING***\",E10&IF(C10=\"\",G10&\" \",IF(OR(LEFT(C10,5)<>\"INEOS\", AND(LEFT(C10,5)=\"INEOS\",WPG!H$522=\"NO\")),\" [\"&C10&\"]\"&G10&\" \",G10&\" \"))),IF(E10=\"\",\"***TRANSLATED TEXT MISSING***\",E10&G10&\" \"))","v":"Transfer of substance or preparation (charging/discharging) from/to vessels/large containers at non-dedicated facilities [PROC 8a]. "},".","Y"]
[null,null,"PROC 8b","Transfer of substance or preparation (charging/discharging) from/to ves- sels/large containers at dedicated facili- ties","Transfer of substance or preparation (charging/discharging) from/to vessels/large containers at dedicated facilities",{"$f":"IF(AND(H11=\"Y\",CSA!B$15=\"YES\"),IF(E11=\"\",\"***TRANSLATED TEXT MISSING***\",E11&IF(C11=\"\",G11&\" \",IF(OR(LEFT(C11,5)<>\"INEOS\", AND(LEFT(C11,5)=\"INEOS\",WPG!H$522=\"NO\")),\" [\"&C11&\"]\"&G11&\" \",G11&\" \"))),IF(E11=\"\",\"***TRANSLATED TEXT MISSING***\",E11&G11&\" \"))","v":"Transfer of substance or preparation (charging/discharging) from/to vessels/large containers at dedicated facilities [PROC 8b]. "},".","Y"]
[null,null,"PROC 9","Transfer of substance or preparation into small containers (dedicated filling line, including weighing)","Transfer of substance or preparation into small containers (dedicated filling line, including weighing)",{"$f":"IF(AND(H12=\"Y\",CSA!B$15=\"YES\"),IF(E12=\"\",\"***TRANSLATED TEXT MISSING***\",E12&IF(C12=\"\",G12&\" \",IF(OR(LEFT(C12,5)<>\"INEOS\", AND(LEFT(C12,5)=\"INEOS\",WPG!H$522=\"NO\")),\" [\"&C12&\"]\"&G12&\" \",G12&\" \"))),IF(E12=\"\",\"***TRANSLATED TEXT MISSING***\",E12&G12&\" \"))","v":"Transfer of substance or preparation into small containers (dedicated filling line, including weighing) [PROC 9]. "},".","Y"]
[null,null,"PROC 10","Roller application or brushing","Roller application or brushing",{"$f":"IF(AND(H13=\"Y\",CSA!B$15=\"YES\"),IF(E13=\"\",\"***TRANSLATED TEXT MISSING***\",E13&IF(C13=\"\",G13&\" \",IF(OR(LEFT(C13,5)<>\"INEOS\", AND(LEFT(C13,5)=\"INEOS\",WPG!H$522=\"NO\")),\" [\"&C13&\"]\"&G13&\" \",G13&\" \"))),IF(E13=\"\",\"***TRANSLATED TEXT MISSING***\",E13&G13&\" \"))","v":"Roller application or brushing [PROC 10]. "},".","Y"]
[null,null,"PROC 11","Non industrial spraying","Non industrial spraying",{"$f":"IF(AND(H14=\"Y\",CSA!B$15=\"YES\"),IF(E14=\"\",\"***TRANSLATED TEXT MISSING***\",E14&IF(C14=\"\",G14&\" \",IF(OR(LEFT(C14,5)<>\"INEOS\", AND(LEFT(C14,5)=\"INEOS\",WPG!H$522=\"NO\")),\" [\"&C14&\"]\"&G14&\" \",G14&\" \"))),IF(E14=\"\",\"***TRANSLATED TEXT MISSING***\",E14&G14&\" \"))","v":"Non industrial spraying [PROC 11]. "},".","Y"]
[null,null,"PROC 12","Use of blowing agents in manufacture of foam","Use of blowing agents in manufacture of foam",{"$f":"IF(AND(H15=\"Y\",CSA!B$15=\"YES\"),IF(E15=\"\",\"***TRANSLATED TEXT MISSING***\",E15&IF(C15=\"\",G15&\" \",IF(OR(LEFT(C15,5)<>\"INEOS\", AND(LEFT(C15,5)=\"INEOS\",WPG!H$522=\"NO\")),\" [\"&C15&\"]\"&G15&\" \",G15&\" \"))),IF(E15=\"\",\"***TRANSLATED TEXT MISSING***\",E15&G15&\" \"))","v":"Use of blowing agents in manufacture of foam [PROC 12]. "},".","Y"]
[null,null,"PROC 13","Treatment of articles by dipping and pouring","Treatment of articles by dipping and pouring",{"$f":"IF(AND(H16=\"Y\",CSA!B$15=\"YES\"),IF(E16=\"\",\"***TRANSLATED TEXT MISSING***\",E16&IF(C16=\"\",G16&\" \",IF(OR(LEFT(C16,5)<>\"INEOS\", AND(LEFT(C16,5)=\"INEOS\",WPG!H$522=\"NO\")),\" [\"&C16&\"]\"&G16&\" \",G16&\" \"))),IF(E16=\"\",\"***TRANSLATED TEXT MISSING***\",E16&G16&\" \"))","v":"Treatment of articles by dipping and pouring [PROC 13]. "},".","Y"]
[null,null,"PROC 14","Production of preparations* or articles by tabletting, compression, extrusion, pelletisation","Production of preparations or articles by tabletting, compression, extrusion, pelletisation",{"$f":"IF(AND(H17=\"Y\",CSA!B$15=\"YES\"),IF(E17=\"\",\"***TRANSLATED TEXT MISSING***\",E17&IF(C17=\"\",G17&\" \",IF(OR(LEFT(C17,5)<>\"INEOS\", AND(LEFT(C17,5)=\"INEOS\",WPG!H$522=\"NO\")),\" [\"&C17&\"]\"&G17&\" \",G17&\" \"))),IF(E17=\"\",\"***TRANSLATED TEXT MISSING***\",E17&G17&\" \"))","v":"Production of preparations or articles by tabletting, compression, extrusion, pelletisation [PROC 14]. "},".","Y"]
[null,null,"PROC 15","Use as laboratory reagent","Use as laboratory reagent",{"$f":"IF(AND(H18=\"Y\",CSA!B$15=\"YES\"),IF(E18=\"\",\"***TRANSLATED TEXT MISSING***\",E18&IF(C18=\"\",G18&\" \",IF(OR(LEFT(C18,5)<>\"INEOS\", AND(LEFT(C18,5)=\"INEOS\",WPG!H$522=\"NO\")),\" [\"&C18&\"]\"&G18&\" \",G18&\" \"))),IF(E18=\"\",\"***TRANSLATED TEXT MISSING***\",E18&G18&\" \"))","v":"Use as laboratory reagent [PROC 15]. "},".","Y"]
[null,null,"PROC 16","Using material as fuel sources, limited exposure to unburned product to be expected","Using material as fuel sources, limited exposure to unburned product to be expected",{"$f":"IF(AND(H19=\"Y\",CSA!B$15=\"YES\"),IF(E19=\"\",\"***TRANSLATED TEXT MISSING***\",E19&IF(C19=\"\",G19&\" \",IF(OR(LEFT(C19,5)<>\"INEOS\", AND(LEFT(C19,5)=\"INEOS\",WPG!H$522=\"NO\")),\" [\"&C19&\"]\"&G19&\" \",G19&\" \"))),IF(E19=\"\",\"***TRANSLATED TEXT MISSING***\",E19&G19&\" \"))","v":"Using material as fuel sources, limited exposure to unburned product to be expected [PROC 16]. "},".","Y"]
[null,null,"PROC 17","Lubrication at high energy conditions and in partly open process","Lubrication at high energy conditions and in partly open process",{"$f":"IF(AND(H20=\"Y\",CSA!B$15=\"YES\"),IF(E20=\"\",\"***TRANSLATED TEXT MISSING***\",E20&IF(C20=\"\",G20&\" \",IF(OR(LEFT(C20,5)<>\"INEOS\", AND(LEFT(C20,5)=\"INEOS\",WPG!H$522=\"NO\")),\" [\"&C20&\"]\"&G20&\" \",G20&\" \"))),IF(E20=\"\",\"***TRANSLATED TEXT MISSING***\",E20&G20&\" \"))","v":"Lubrication at high energy conditions and in partly open process [PROC 17]. "},".","Y"]
[null,null,"PROC 18","Greasing at high energy conditions","Greasing at high energy conditions",{"$f":"IF(AND(H21=\"Y\",CSA!B$15=\"YES\"),IF(E21=\"\",\"***TRANSLATED TEXT MISSING***\",E21&IF(C21=\"\",G21&\" \",IF(OR(LEFT(C21,5)<>\"INEOS\", AND(LEFT(C21,5)=\"INEOS\",WPG!H$522=\"NO\")),\" [\"&C21&\"]\"&G21&\" \",G21&\" \"))),IF(E21=\"\",\"***TRANSLATED TEXT MISSING***\",E21&G21&\" \"))","v":"Greasing at high energy conditions [PROC 18]. "},".","Y"]
[null,null,"PROC 19","Hand-mixing with intimate contact and only PPE available","Hand-mixing with intimate contact and only PPE available",{"$f":"IF(AND(H22=\"Y\",CSA!B$15=\"YES\"),IF(E22=\"\",\"***TRANSLATED TEXT MISSING***\",E22&IF(C22=\"\",G22&\" \",IF(OR(LEFT(C22,5)<>\"INEOS\", AND(LEFT(C22,5)=\"INEOS\",WPG!H$522=\"NO\")),\" [\"&C22&\"]\"&G22&\" \",G22&\" \"))),IF(E22=\"\",\"***TRANSLATED TEXT MISSING***\",E22&G22&\" \"))","v":"Hand-mixing with intimate contact and only PPE available [PROC 19]. "},".","Y"]
[null,null,"PROC 20","Heat and pressure transfer fluids in dispersive, professional use but closed systems","Heat and pressure transfer fluids in dispersive, professional use but closed systems",{"$f":"IF(AND(H23=\"Y\",CSA!B$15=\"YES\"),IF(E23=\"\",\"***TRANSLATED TEXT MISSING***\",E23&IF(C23=\"\",G23&\" \",IF(OR(LEFT(C23,5)<>\"INEOS\", AND(LEFT(C23,5)=\"INEOS\",WPG!H$522=\"NO\")),\" [\"&C23&\"]\"&G23&\" \",G23&\" \"))),IF(E23=\"\",\"***TRANSLATED TEXT MISSING***\",E23&G23&\" \"))","v":"Heat and pressure transfer fluids in dispersive, professional use but closed systems [PROC 20]. "},".","Y"]
[null,null,"PROC 21","Low energy manipulation of substances bound in materials and/or articles","Low energy manipulation of substances bound in materials and/or articles",{"$f":"IF(AND(H24=\"Y\",CSA!B$15=\"YES\"),IF(E24=\"\",\"***TRANSLATED TEXT MISSING***\",E24&IF(C24=\"\",G24&\" \",IF(OR(LEFT(C24,5)<>\"INEOS\", AND(LEFT(C24,5)=\"INEOS\",WPG!H$522=\"NO\")),\" [\"&C24&\"]\"&G24&\" \",G24&\" \"))),IF(E24=\"\",\"***TRANSLATED TEXT MISSING***\",E24&G24&\" \"))","v":"Low energy manipulation of substances bound in materials and/or articles [PROC 21]. "},".","Y"]
[null,null,"PROC 22","Potentially closed processing opera- tions with minerals/metals at elevated temperature Industrial setting","Potentially closed processing operations with minerals/metals at elevated temperature Industrial setting",{"$f":"IF(AND(H25=\"Y\",CSA!B$15=\"YES\"),IF(E25=\"\",\"***TRANSLATED TEXT MISSING***\",E25&IF(C25=\"\",G25&\" \",IF(OR(LEFT(C25,5)<>\"INEOS\", AND(LEFT(C25,5)=\"INEOS\",WPG!H$522=\"NO\")),\" [\"&C25&\"]\"&G25&\" \",G25&\" \"))),IF(E25=\"\",\"***TRANSLATED TEXT MISSING***\",E25&G25&\" \"))","v":"Potentially closed processing operations with minerals/metals at elevated temperature Industrial setting [PROC 22]. "},".","Y"]
[null,null,"PROC 23","Open processing and transfer opera- tions with minerals/metals at elevated temperature","Open processing and transfer operations with minerals/metals at elevated temperature",{"$f":"IF(AND(H26=\"Y\",CSA!B$15=\"YES\"),IF(E26=\"\",\"***TRANSLATED TEXT MISSING***\",E26&IF(C26=\"\",G26&\" \",IF(OR(LEFT(C26,5)<>\"INEOS\", AND(LEFT(C26,5)=\"INEOS\",WPG!H$522=\"NO\")),\" [\"&C26&\"]\"&G26&\" \",G26&\" \"))),IF(E26=\"\",\"***TRANSLATED TEXT MISSING***\",E26&G26&\" \"))","v":"Open processing and transfer operations with minerals/metals at elevated temperature [PROC 23]. "},".","Y"]
[null,null,"PROC 24","High (mechanical) energy work-up of substances bound in materials and/or articles","High (mechanical) energy work-up of substances bound in materials and/or articles",{"$f":"IF(AND(H27=\"Y\",CSA!B$15=\"YES\"),IF(E27=\"\",\"***TRANSLATED TEXT MISSING***\",E27&IF(C27=\"\",G27&\" \",IF(OR(LEFT(C27,5)<>\"INEOS\", AND(LEFT(C27,5)=\"INEOS\",WPG!H$522=\"NO\")),\" [\"&C27&\"]\"&G27&\" \",G27&\" \"))),IF(E27=\"\",\"***TRANSLATED TEXT MISSING***\",E27&G27&\" \"))","v":"High (mechanical) energy work-up of substances bound in materials and/or articles [PROC 24]. "},".","Y"]
[null,null,"PROC 25","Other hot work operations with metals","Other hot work operations with metals",{"$f":"IF(AND(H28=\"Y\",CSA!B$15=\"YES\"),IF(E28=\"\",\"***TRANSLATED TEXT MISSING***\",E28&IF(C28=\"\",G28&\" \",IF(OR(LEFT(C28,5)<>\"INEOS\", AND(LEFT(C28,5)=\"INEOS\",WPG!H$522=\"NO\")),\" [\"&C28&\"]\"&G28&\" \",G28&\" \"))),IF(E28=\"\",\"***TRANSLATED TEXT MISSING***\",E28&G28&\" \"))","v":"Other hot work operations with metals [PROC 25]. "},".","Y"]
[null,null,"PROC 26","Handling of solid inorganic substances at ambient temperature","Handling of solid inorganic substances at ambient temperature",{"$f":"IF(AND(H29=\"Y\",CSA!B$15=\"YES\"),IF(E29=\"\",\"***TRANSLATED TEXT MISSING***\",E29&IF(C29=\"\",G29&\" \",IF(OR(LEFT(C29,5)<>\"INEOS\", AND(LEFT(C29,5)=\"INEOS\",WPG!H$522=\"NO\")),\" [\"&C29&\"]\"&G29&\" \",G29&\" \"))),IF(E29=\"\",\"***TRANSLATED TEXT MISSING***\",E29&G29&\" \"))","v":"Handling of solid inorganic substances at ambient temperature [PROC 26]. "},".","Y"]
[null,null,"PROC 27a","Production of metal powders (hot proc- esses)","Production of metal powders (hot processes)",{"$f":"IF(AND(H30=\"Y\",CSA!B$15=\"YES\"),IF(E30=\"\",\"***TRANSLATED TEXT MISSING***\",E30&IF(C30=\"\",G30&\" \",IF(OR(LEFT(C30,5)<>\"INEOS\", AND(LEFT(C30,5)=\"INEOS\",WPG!H$522=\"NO\")),\" [\"&C30&\"]\"&G30&\" \",G30&\" \"))),IF(E30=\"\",\"***TRANSLATED TEXT MISSING***\",E30&G30&\" \"))","v":"Production of metal powders (hot processes) [PROC 27a]. "},".","Y"]
[null,null,"PROC 27B","Production of metal powders (wet proc- esses)","Production of metal powders (wet processes)",{"$f":"IF(AND(H31=\"Y\",CSA!B$15=\"YES\"),IF(E31=\"\",\"***TRANSLATED TEXT MISSING***\",E31&IF(C31=\"\",G31&\" \",IF(OR(LEFT(C31,5)<>\"INEOS\", AND(LEFT(C31,5)=\"INEOS\",WPG!H$522=\"NO\")),\" [\"&C31&\"]\"&G31&\" \",G31&\" \"))),IF(E31=\"\",\"***TRANSLATED TEXT MISSING***\",E31&G31&\" \"))","v":"Production of metal powders (wet processes) [PROC 27B]. "},".","Y"]
[null,null,"PROC 28","Manual maintenance (cleaning and repair) of machinery","Manual maintenance (cleaning and repair) of machinery",{"$f":"IF(AND(H32=\"Y\",CSA!B$15=\"YES\"),IF(E32=\"\",\"***TRANSLATED TEXT MISSING***\",E32&IF(C32=\"\",G32&\" \",IF(OR(LEFT(C32,5)<>\"INEOS\", AND(LEFT(C32,5)=\"INEOS\",WPG!H$522=\"NO\")),\" [\"&C32&\"]\"&G32&\" \",G32&\" \"))),IF(E32=\"\",\"***TRANSLATED TEXT MISSING***\",E32&G32&\" \"))","v":"Manual maintenance (cleaning and repair) of machinery [PROC 28]. "},".","Y"]
[]
[]
[]
[]
[]
[]
[]
[null,null,"PROC 1","Use of the substances in high integrity contained system where little potential exists for exposures, e.g. any sampling via closed loop systems ","Use of the substances in high integrity contained systemwhere little potential exists for exposures, e.g. any sam-pling via closed loop systems",{"$f":"IF(AND(H40=\"Y\",CSA!B$15=\"YES\"),IF(E40=\"\",\"***TRANSLATED TEXT MISSING***\",E40&IF(C40=\"\",G40&\" \",IF(OR(LEFT(C40,5)<>\"INEOS\", AND(LEFT(C40,5)=\"INEOS\",WPG!H$522=\"NO\")),\" [\"&C40&\"]\"&G40&\" \",G40&\" \"))),IF(E40=\"\",\"***TRANSLATED TEXT MISSING***\",E40&G40&\" \"))","v":"Use of the substances in high integrity contained systemwhere little potential exists for exposures, e.g. any sam-pling via closed loop systems. "},".","N"]
[null,null,"PROC 2","Continuous process but where the design philosophy is not specifically aimed at minimizing emissions  It is not high integrity and occasional expose will arise e.g. through maintenance, sampling and equipment breakages ","Continuous process but where the design philosophy is not specifically aimed at minimizing emissions  It is not high integrity and occasional expose will arise e.g. through maintenance, sampling and equipment breakages",{"$f":"IF(AND(H41=\"Y\",CSA!B$15=\"YES\"),IF(E41=\"\",\"***TRANSLATED TEXT MISSING***\",E41&IF(C41=\"\",G41&\" \",IF(OR(LEFT(C41,5)<>\"INEOS\", AND(LEFT(C41,5)=\"INEOS\",WPG!H$522=\"NO\")),\" [\"&C41&\"]\"&G41&\" \",G41&\" \"))),IF(E41=\"\",\"***TRANSLATED TEXT MISSING***\",E41&G41&\" \"))","v":"Continuous process but where the design philosophy is not specifically aimed at minimizing emissions  It is not high integrity and occasional expose will arise e.g. through maintenance, sampling and equipment breakages. "},".","N"]
[null,null,"PROC 3","Batch manufacture of a chemical or formulation where the predominant handling is in a contained manner, e.g. through enclosed transfers, but where some opportunity for contact with chemicals occurs, e.g. through sampling ","Batch manufacture of a chemical or formulation where the predominant handling is in a contained manner, e.g. through enclosed transfers, but where some opportunity for contact with chemicals occurs, e.g. through sampling",{"$f":"IF(AND(H42=\"Y\",CSA!B$15=\"YES\"),IF(E42=\"\",\"***TRANSLATED TEXT MISSING***\",E42&IF(C42=\"\",G42&\" \",IF(OR(LEFT(C42,5)<>\"INEOS\", AND(LEFT(C42,5)=\"INEOS\",WPG!H$522=\"NO\")),\" [\"&C42&\"]\"&G42&\" \",G42&\" \"))),IF(E42=\"\",\"***TRANSLATED TEXT MISSING***\",E42&G42&\" \"))","v":"Batch manufacture of a chemical or formulation where the predominant handling is in a contained manner, e.g. through enclosed transfers, but where some opportunity for contact with chemicals occurs, e.g. through sampling. "},".","N"]
[null,null,"PROC 4","Use in batch manufacture of a chemical where significant opportunity for exposure arises, e.g. during charging, sampling or discharge of material, and when the nature of the design is likely to result in exposure ","Use in batch manufacture of a chemical where significant opportunity for exposure arises, e.g. during charging, sampling or discharge of material, and when the nature of the design is likely to result in exposure",{"$f":"IF(AND(H43=\"Y\",CSA!B$15=\"YES\"),IF(E43=\"\",\"***TRANSLATED TEXT MISSING***\",E43&IF(C43=\"\",G43&\" \",IF(OR(LEFT(C43,5)<>\"INEOS\", AND(LEFT(C43,5)=\"INEOS\",WPG!H$522=\"NO\")),\" [\"&C43&\"]\"&G43&\" \",G43&\" \"))),IF(E43=\"\",\"***TRANSLATED TEXT MISSING***\",E43&G43&\" \"))","v":"Use in batch manufacture of a chemical where significant opportunity for exposure arises, e.g. during charging, sampling or discharge of material, and when the nature of the design is likely to result in exposure. "},".","N"]
[null,null,"PROC 5","Manufacture or formulation of chemical products or arti-cles using technologies related to mixing and blending of solid or liquid materials, and where the process is in stages and provides the opportunity for significant con-tact at any stage ","Manufacture or formulation of chemical products or arti-cles using technologies related to mixing and blending of solid or liquid materials, and where the process is in stages and provides the opportunity for significant con-tact at any stage",{"$f":"IF(AND(H44=\"Y\",CSA!B$15=\"YES\"),IF(E44=\"\",\"***TRANSLATED TEXT MISSING***\",E44&IF(C44=\"\",G44&\" \",IF(OR(LEFT(C44,5)<>\"INEOS\", AND(LEFT(C44,5)=\"INEOS\",WPG!H$522=\"NO\")),\" [\"&C44&\"]\"&G44&\" \",G44&\" \"))),IF(E44=\"\",\"***TRANSLATED TEXT MISSING***\",E44&G44&\" \"))","v":"Manufacture or formulation of chemical products or arti-cles using technologies related to mixing and blending of solid or liquid materials, and where the process is in stages and provides the opportunity for significant con-tact at any stage. "},".","N"]
[null,null,"PROC 6","Processing of product matrix Calendering at elevated temperature an large exposed surface ","Processing of product matrix Calendering at elevated temperature an large exposed surface",{"$f":"IF(AND(H45=\"Y\",CSA!B$15=\"YES\"),IF(E45=\"\",\"***TRANSLATED TEXT MISSING***\",E45&IF(C45=\"\",G45&\" \",IF(OR(LEFT(C45,5)<>\"INEOS\", AND(LEFT(C45,5)=\"INEOS\",WPG!H$522=\"NO\")),\" [\"&C45&\"]\"&G45&\" \",G45&\" \"))),IF(E45=\"\",\"***TRANSLATED TEXT MISSING***\",E45&G45&\" \"))","v":"Processing of product matrix Calendering at elevated temperature an large exposed surface. "},".","N"]
[null,null,"PROC 7","Air dispersive techniques.  Spraying for surface coating, adhesives, pol-ishes/cleaners, air care products, sandblasting .  Substances can be inhaled as aerosols. The energy of the aerosol particles may require advanced exposure controls; in case of coating, overspray may lead to waste water and waste. ","Air dispersive techniques.  Spraying for surface coating, adhesives, pol-ishes/cleaners, air care products, sandblasting .  Substances can be inhaled as aerosols. The energy of the aerosol particles may require advanced exposure controls; in case of coating, overspray may lead to waste water and waste",{"$f":"IF(AND(H46=\"Y\",CSA!B$15=\"YES\"),IF(E46=\"\",\"***TRANSLATED TEXT MISSING***\",E46&IF(C46=\"\",G46&\" \",IF(OR(LEFT(C46,5)<>\"INEOS\", AND(LEFT(C46,5)=\"INEOS\",WPG!H$522=\"NO\")),\" [\"&C46&\"]\"&G46&\" \",G46&\" \"))),IF(E46=\"\",\"***TRANSLATED TEXT MISSING***\",E46&G46&\" \"))","v":"Air dispersive techniques.  Spraying for surface coating, adhesives, pol-ishes/cleaners, air care products, sandblasting .  Substances can be inhaled as aerosols. The energy of the aerosol particles may require advanced exposure controls; in case of coating, overspray may lead to waste water and waste. "},".","N"]
[null,null,"PROC 8a","Sampling, loading, filling, transfer, dumping, bagging in non- dedicated facilities. Exposure related to dust, va-pour, aerosols or spillage, and cleaning of equipment to be expected. ","Sampling, loading, filling, transfer, dumping, bagging in non- dedicated facilities. Exposure related to dust, va-pour, aerosols or spillage, and cleaning of equipment to be expected",{"$f":"IF(AND(H47=\"Y\",CSA!B$15=\"YES\"),IF(E47=\"\",\"***TRANSLATED TEXT MISSING***\",E47&IF(C47=\"\",G47&\" \",IF(OR(LEFT(C47,5)<>\"INEOS\", AND(LEFT(C47,5)=\"INEOS\",WPG!H$522=\"NO\")),\" [\"&C47&\"]\"&G47&\" \",G47&\" \"))),IF(E47=\"\",\"***TRANSLATED TEXT MISSING***\",E47&G47&\" \"))","v":"Sampling, loading, filling, transfer, dumping, bagging in non- dedicated facilities. Exposure related to dust, va-pour, aerosols or spillage, and cleaning of equipment to be expected. "},".","N"]
[null,null,"PROC 8b","Sampling, loading, filling, transfer, dumping, bagging in dedicated facilities. Exposure related to dust, vapour, aerosols or spillage, and cleaning of equipment to be expected. ","Sampling, loading, filling, transfer, dumping, bagging in dedicated facilities. Exposure related to dust, vapour, aerosols or spillage, and cleaning of equipment to be expected",{"$f":"IF(AND(H48=\"Y\",CSA!B$15=\"YES\"),IF(E48=\"\",\"***TRANSLATED TEXT MISSING***\",E48&IF(C48=\"\",G48&\" \",IF(OR(LEFT(C48,5)<>\"INEOS\", AND(LEFT(C48,5)=\"INEOS\",WPG!H$522=\"NO\")),\" [\"&C48&\"]\"&G48&\" \",G48&\" \"))),IF(E48=\"\",\"***TRANSLATED TEXT MISSING***\",E48&G48&\" \"))","v":"Sampling, loading, filling, transfer, dumping, bagging in dedicated facilities. Exposure related to dust, vapour, aerosols or spillage, and cleaning of equipment to be expected. "},".","N"]
[null,null,"PROC 9","Filling lines specifically designed to both capture vapour and aerosol emissions and minimise spillage ","Filling lines specifically designed to both capture vapour and aerosol emissions and minimise spillage",{"$f":"IF(AND(H49=\"Y\",CSA!B$15=\"YES\"),IF(E49=\"\",\"***TRANSLATED TEXT MISSING***\",E49&IF(C49=\"\",G49&\" \",IF(OR(LEFT(C49,5)<>\"INEOS\", AND(LEFT(C49,5)=\"INEOS\",WPG!H$522=\"NO\")),\" [\"&C49&\"]\"&G49&\" \",G49&\" \"))),IF(E49=\"\",\"***TRANSLATED TEXT MISSING***\",E49&G49&\" \"))","v":"Filling lines specifically designed to both capture vapour and aerosol emissions and minimise spillage. "},".","N"]
[null,null,"PROC 10","Low energy spreading of e.g. coatings.  Including cleaning of surfaces. Substance can be inhaled as vapours, skin contact can occur through droplets, splashes, working with wipes and handling of treated sur-faces. ","Low energy spreading of e.g. coatings.  Including cleaning of surfaces. Substance can be inhaled as vapours, skin contact can occur through droplets, splashes, working with wipes and handling of treated surfaces",{"$f":"IF(AND(H50=\"Y\",CSA!B$15=\"YES\"),IF(E50=\"\",\"***TRANSLATED TEXT MISSING***\",E50&IF(C50=\"\",G50&\" \",IF(OR(LEFT(C50,5)<>\"INEOS\", AND(LEFT(C50,5)=\"INEOS\",WPG!H$522=\"NO\")),\" [\"&C50&\"]\"&G50&\" \",G50&\" \"))),IF(E50=\"\",\"***TRANSLATED TEXT MISSING***\",E50&G50&\" \"))","v":"Low energy spreading of e.g. coatings.  Including cleaning of surfaces. Substance can be inhaled as vapours, skin contact can occur through droplets, splashes, working with wipes and handling of treated surfaces. "},".","N"]
[null,null,"PROC 11","Air dispersive techniques.  Spraying for surface coating, adhesives, polishes/cleaners, air care products, sandblasting.  Substances can be inhaled as aerosols. The energy of the aerosol particles may require advanced exposure controls. ","Air dispersive techniques.  Spraying for surface coating, adhesives, polishes/cleaners, air care products, sandblasting.  Substances can be inhaled as aerosols. The energy of the aerosol particles may require advanced exposure controls",{"$f":"IF(AND(H51=\"Y\",CSA!B$15=\"YES\"),IF(E51=\"\",\"***TRANSLATED TEXT MISSING***\",E51&IF(C51=\"\",G51&\" \",IF(OR(LEFT(C51,5)<>\"INEOS\", AND(LEFT(C51,5)=\"INEOS\",WPG!H$522=\"NO\")),\" [\"&C51&\"]\"&G51&\" \",G51&\" \"))),IF(E51=\"\",\"***TRANSLATED TEXT MISSING***\",E51&G51&\" \"))","v":"Air dispersive techniques.  Spraying for surface coating, adhesives, polishes/cleaners, air care products, sandblasting.  Substances can be inhaled as aerosols. The energy of the aerosol particles may require advanced exposure controls. "},".","N"]
[null,null,"PROC 12",null,null,{"$f":"IF(AND(H52=\"Y\",CSA!B$15=\"YES\"),IF(E52=\"\",\"***TRANSLATED TEXT MISSING***\",E52&IF(C52=\"\",G52&\" \",IF(OR(LEFT(C52,5)<>\"INEOS\", AND(LEFT(C52,5)=\"INEOS\",WPG!H$522=\"NO\")),\" [\"&C52&\"]\"&G52&\" \",G52&\" \"))),IF(E52=\"\",\"***TRANSLATED TEXT MISSING***\",E52&G52&\" \"))","v":"***TRANSLATED TEXT MISSING***"},".","N"]
[null,null,"PROC 13","Immersion operations.  Treatment of articles by dipping, pouring, immersing, soaking, washing out or washing in substances; including cold formation or resin type matrix. Includes handling of treated objects (e.g. after dying, plating,).  Substance is applied to a surface by low energy tech-niques such as dipping the article into a bath or pouring a preparation onto a surface","Immersion operations.  Treatment of articles by dipping, pouring, immersing, soaking, washing out or washing in substances; including cold formation or resin type matrix. Includes handling of treated objects (e.g. after dying, plating,).  Substance is applied to a surface by low energy tech-niques such as dipping the article into a bath or pouring a preparation onto a surface",{"$f":"IF(AND(H53=\"Y\",CSA!B$15=\"YES\"),IF(E53=\"\",\"***TRANSLATED TEXT MISSING***\",E53&IF(C53=\"\",G53&\" \",IF(OR(LEFT(C53,5)<>\"INEOS\", AND(LEFT(C53,5)=\"INEOS\",WPG!H$522=\"NO\")),\" [\"&C53&\"]\"&G53&\" \",G53&\" \"))),IF(E53=\"\",\"***TRANSLATED TEXT MISSING***\",E53&G53&\" \"))","v":"Immersion operations.  Treatment of articles by dipping, pouring, immersing, soaking, washing out or washing in substances; including cold formation or resin type matrix. Includes handling of treated objects (e.g. after dying, plating,).  Substance is applied to a surface by low energy tech-niques such as dipping the article into a bath or pouring a preparation onto a surface. "},".","N"]
[null,null,"PROC 14","Processing of preparations and/or substances (liquid and solid) into preparations or articles. Substances in the chemical matrix may be exposed to elevated mechanical and/or thermal energy conditions. Exposure is predomi-nantly related to volatiles and/or generated fumes, dust may be formed as well. ","Processing of preparations and/or substances (liquid and solid) into preparations or articles. Substances in the chemical matrix may be exposed to elevated mechanical and/or thermal energy conditions. Exposure is predomi-nantly related to volatiles and/or generated fumes, dust may be formed as well",{"$f":"IF(AND(H54=\"Y\",CSA!B$15=\"YES\"),IF(E54=\"\",\"***TRANSLATED TEXT MISSING***\",E54&IF(C54=\"\",G54&\" \",IF(OR(LEFT(C54,5)<>\"INEOS\", AND(LEFT(C54,5)=\"INEOS\",WPG!H$522=\"NO\")),\" [\"&C54&\"]\"&G54&\" \",G54&\" \"))),IF(E54=\"\",\"***TRANSLATED TEXT MISSING***\",E54&G54&\" \"))","v":"Processing of preparations and/or substances (liquid and solid) into preparations or articles. Substances in the chemical matrix may be exposed to elevated mechanical and/or thermal energy conditions. Exposure is predomi-nantly related to volatiles and/or generated fumes, dust may be formed as well. "},".","N"]
[null,null,"PROC 15","Use of substances at small scale laboratory (< 1 l or 1 kg present at workplace). Larger laboratories and R+D in-stallations should be treated as industrial processes. ","Use of substances at small scale laboratory (< 1 l or 1 kg present at workplace). Larger laboratories and R+D in-stallations should be treated as industrial processes",{"$f":"IF(AND(H55=\"Y\",CSA!B$15=\"YES\"),IF(E55=\"\",\"***TRANSLATED TEXT MISSING***\",E55&IF(C55=\"\",G55&\" \",IF(OR(LEFT(C55,5)<>\"INEOS\", AND(LEFT(C55,5)=\"INEOS\",WPG!H$522=\"NO\")),\" [\"&C55&\"]\"&G55&\" \",G55&\" \"))),IF(E55=\"\",\"***TRANSLATED TEXT MISSING***\",E55&G55&\" \"))","v":"Use of substances at small scale laboratory (< 1 l or 1 kg present at workplace). Larger laboratories and R+D in-stallations should be treated as industrial processes. "},".","N"]
[null,null,"PROC 16","Covers the use of material as fuel sources (including ad-ditives) where limited exposure to the product in its un-burned form is expected. Does not cover exposure as a consequence of spillage or combustion. ","Covers the use of material as fuel sources (including ad-ditives) where limited exposure to the product in its un-burned form is expected. Does not cover exposure as a consequence of spillage or combustion",{"$f":"IF(AND(H56=\"Y\",CSA!B$15=\"YES\"),IF(E56=\"\",\"***TRANSLATED TEXT MISSING***\",E56&IF(C56=\"\",G56&\" \",IF(OR(LEFT(C56,5)<>\"INEOS\", AND(LEFT(C56,5)=\"INEOS\",WPG!H$522=\"NO\")),\" [\"&C56&\"]\"&G56&\" \",G56&\" \"))),IF(E56=\"\",\"***TRANSLATED TEXT MISSING***\",E56&G56&\" \"))","v":"Covers the use of material as fuel sources (including ad-ditives) where limited exposure to the product in its un-burned form is expected. Does not cover exposure as a consequence of spillage or combustion. "},".","N"]
[null,null,"PROC 17","Lubrication at high energy conditions (temperature, fric-tion) between moving parts and substance; significant part of process is open to workers..  The metal working fluid may form aerosols or fumes due to rapidly moving metal parts. ","Lubrication at high energy conditions (temperature, fric-tion) between moving parts and substance; significant part of process is open to workers..  The metal working fluid may form aerosols or fumes due to rapidly moving metal parts",{"$f":"IF(AND(H57=\"Y\",CSA!B$15=\"YES\"),IF(E57=\"\",\"***TRANSLATED TEXT MISSING***\",E57&IF(C57=\"\",G57&\" \",IF(OR(LEFT(C57,5)<>\"INEOS\", AND(LEFT(C57,5)=\"INEOS\",WPG!H$522=\"NO\")),\" [\"&C57&\"]\"&G57&\" \",G57&\" \"))),IF(E57=\"\",\"***TRANSLATED TEXT MISSING***\",E57&G57&\" \"))","v":"Lubrication at high energy conditions (temperature, fric-tion) between moving parts and substance; significant part of process is open to workers..  The metal working fluid may form aerosols or fumes due to rapidly moving metal parts. "},".","N"]
[null,null,"PROC 18","Use as lubricant where significant energy or temperature is applied between the substance and the moving parts ","Use as lubricant where significant energy or temperature is applied between the substance and the moving parts ",{"$f":"IF(AND(H58=\"Y\",CSA!B$15=\"YES\"),IF(E58=\"\",\"***TRANSLATED TEXT MISSING***\",E58&IF(C58=\"\",G58&\" \",IF(OR(LEFT(C58,5)<>\"INEOS\", AND(LEFT(C58,5)=\"INEOS\",WPG!H$522=\"NO\")),\" [\"&C58&\"]\"&G58&\" \",G58&\" \"))),IF(E58=\"\",\"***TRANSLATED TEXT MISSING***\",E58&G58&\" \"))","v":"Use as lubricant where significant energy or temperature is applied between the substance and the moving parts . "},".","N"]
[null,null,"PROC 19","Addresses occupations where intimate and intentional contact with substances occurs without any specific ex-posure controls other than PPE. ","Addresses occupations where intimate and intentional contact with substances occurs without any specific ex-posure controls other than PPE",{"$f":"IF(AND(H59=\"Y\",CSA!B$15=\"YES\"),IF(E59=\"\",\"***TRANSLATED TEXT MISSING***\",E59&IF(C59=\"\",G59&\" \",IF(OR(LEFT(C59,5)<>\"INEOS\", AND(LEFT(C59,5)=\"INEOS\",WPG!H$522=\"NO\")),\" [\"&C59&\"]\"&G59&\" \",G59&\" \"))),IF(E59=\"\",\"***TRANSLATED TEXT MISSING***\",E59&G59&\" \"))","v":"Addresses occupations where intimate and intentional contact with substances occurs without any specific ex-posure controls other than PPE. "},".","N"]
[null,null,"PROC 20","Motor and engine oils, brake fluids.  Also in these applications, the lubricant may be exposed to high energy conditions and chemical reactions may take place during use. Exhausted fluids need to be dis-posed of as waste. Repair and maintenance may lead to skin contact. ","Motor and engine oils, brake fluids.  Also in these applications, the lubricant may be exposed to high energy conditions and chemical reactions may take place during use. Exhausted fluids need to be dis-posed of as waste. Repair and maintenance may lead to skin contact",{"$f":"IF(AND(H60=\"Y\",CSA!B$15=\"YES\"),IF(E60=\"\",\"***TRANSLATED TEXT MISSING***\",E60&IF(C60=\"\",G60&\" \",IF(OR(LEFT(C60,5)<>\"INEOS\", AND(LEFT(C60,5)=\"INEOS\",WPG!H$522=\"NO\")),\" [\"&C60&\"]\"&G60&\" \",G60&\" \"))),IF(E60=\"\",\"***TRANSLATED TEXT MISSING***\",E60&G60&\" \"))","v":"Motor and engine oils, brake fluids.  Also in these applications, the lubricant may be exposed to high energy conditions and chemical reactions may take place during use. Exhausted fluids need to be dis-posed of as waste. Repair and maintenance may lead to skin contact. "},".","N"]
[null,null,"PROC 21","Manual cutting, cold rolling or assembly/disassembly of material/article (including metals in massive form), possi-bly resulting in the release of fibres, metal fumes or dust ","Manual cutting, cold rolling or assembly/disassembly of material/article (including metals in massive form), possi-bly resulting in the release of fibres, metal fumes or dust",{"$f":"IF(AND(H61=\"Y\",CSA!B$15=\"YES\"),IF(E61=\"\",\"***TRANSLATED TEXT MISSING***\",E61&IF(C61=\"\",G61&\" \",IF(OR(LEFT(C61,5)<>\"INEOS\", AND(LEFT(C61,5)=\"INEOS\",WPG!H$522=\"NO\")),\" [\"&C61&\"]\"&G61&\" \",G61&\" \"))),IF(E61=\"\",\"***TRANSLATED TEXT MISSING***\",E61&G61&\" \"))","v":"Manual cutting, cold rolling or assembly/disassembly of material/article (including metals in massive form), possi-bly resulting in the release of fibres, metal fumes or dust. "},".","N"]
[null,null,"PROC 22","Activities at smelters, furnaces, refineries, coke ovens.  Exposure related to dust and fumes to be expected. Emission from direct cooling may be relevant","Activities at smelters, furnaces, refineries, coke ovens.  Exposure related to dust and fumes to be expected. Emission from direct cooling may be relevant",{"$f":"IF(AND(H62=\"Y\",CSA!B$15=\"YES\"),IF(E62=\"\",\"***TRANSLATED TEXT MISSING***\",E62&IF(C62=\"\",G62&\" \",IF(OR(LEFT(C62,5)<>\"INEOS\", AND(LEFT(C62,5)=\"INEOS\",WPG!H$522=\"NO\")),\" [\"&C62&\"]\"&G62&\" \",G62&\" \"))),IF(E62=\"\",\"***TRANSLATED TEXT MISSING***\",E62&G62&\" \"))","v":"Activities at smelters, furnaces, refineries, coke ovens.  Exposure related to dust and fumes to be expected. Emission from direct cooling may be relevant. "},".","N"]
[null,null,"PROC 23","Sand and die casting, tapping and casting melted solids, drossing of melted solids, hot dip galvanising, raking of melted solids in paving.  Exposure related to dust and fumes to be expected ","Sand and die casting, tapping and casting melted solids, drossing of melted solids, hot dip galvanising, raking of melted solids in paving.  Exposure related to dust and fumes to be expected",{"$f":"IF(AND(H63=\"Y\",CSA!B$15=\"YES\"),IF(E63=\"\",\"***TRANSLATED TEXT MISSING***\",E63&IF(C63=\"\",G63&\" \",IF(OR(LEFT(C63,5)<>\"INEOS\", AND(LEFT(C63,5)=\"INEOS\",WPG!H$522=\"NO\")),\" [\"&C63&\"]\"&G63&\" \",G63&\" \"))),IF(E63=\"\",\"***TRANSLATED TEXT MISSING***\",E63&G63&\" \"))","v":"Sand and die casting, tapping and casting melted solids, drossing of melted solids, hot dip galvanising, raking of melted solids in paving.  Exposure related to dust and fumes to be expected. "},".","N"]
[null,null,"PROC 24","Substantial thermal or kinetic energy applied to sub-stance (including metals in massive form) by hot roll-ing/forming, grinding, mechanical cutting, drilling or sand-ing. Exposure is predominantly expected to be to dust. Dust or aerosol emission as result of direct cooling may be expected","Substantial thermal or kinetic energy applied to sub-stance (including metals in massive form) by hot roll-ing/forming, grinding, mechanical cutting, drilling or sand-ing. Exposure is predominantly expected to be to dust. Dust or aerosol emission as result of direct cooling may be expected",{"$f":"IF(AND(H64=\"Y\",CSA!B$15=\"YES\"),IF(E64=\"\",\"***TRANSLATED TEXT MISSING***\",E64&IF(C64=\"\",G64&\" \",IF(OR(LEFT(C64,5)<>\"INEOS\", AND(LEFT(C64,5)=\"INEOS\",WPG!H$522=\"NO\")),\" [\"&C64&\"]\"&G64&\" \",G64&\" \"))),IF(E64=\"\",\"***TRANSLATED TEXT MISSING***\",E64&G64&\" \"))","v":"Substantial thermal or kinetic energy applied to sub-stance (including metals in massive form) by hot roll-ing/forming, grinding, mechanical cutting, drilling or sand-ing. Exposure is predominantly expected to be to dust. Dust or aerosol emission as result of direct cooling may be expected. "},".","N"]
[null,null,"PROC 25","Welding, soldering, gouging, brazing, flame cutting.  Exposure is predominantly expected to fumes and gases","Welding, soldering, gouging, brazing, flame cutting.  Exposure is predominantly expected to fumes and gases",{"$f":"IF(AND(H65=\"Y\",CSA!B$15=\"YES\"),IF(E65=\"\",\"***TRANSLATED TEXT MISSING***\",E65&IF(C65=\"\",G65&\" \",IF(OR(LEFT(C65,5)<>\"INEOS\", AND(LEFT(C65,5)=\"INEOS\",WPG!H$522=\"NO\")),\" [\"&C65&\"]\"&G65&\" \",G65&\" \"))),IF(E65=\"\",\"***TRANSLATED TEXT MISSING***\",E65&G65&\" \"))","v":"Welding, soldering, gouging, brazing, flame cutting.  Exposure is predominantly expected to fumes and gases. "},".","N"]
[null,null,"PROC 26","Transfer and handling of ores, concentrates, raw metal oxides and scrap; packaging, un-packaging, mix-ing/blending and weighing of metal powders or other minerals","Transfer and handling of ores, concentrates, raw metal oxides and scrap; packaging, un-packaging, mix-ing/blending and weighing of metal powders or other minerals",{"$f":"IF(AND(H66=\"Y\",CSA!B$15=\"YES\"),IF(E66=\"\",\"***TRANSLATED TEXT MISSING***\",E66&IF(C66=\"\",G66&\" \",IF(OR(LEFT(C66,5)<>\"INEOS\", AND(LEFT(C66,5)=\"INEOS\",WPG!H$522=\"NO\")),\" [\"&C66&\"]\"&G66&\" \",G66&\" \"))),IF(E66=\"\",\"***TRANSLATED TEXT MISSING***\",E66&G66&\" \"))","v":"Transfer and handling of ores, concentrates, raw metal oxides and scrap; packaging, un-packaging, mix-ing/blending and weighing of metal powders or other minerals. "},".","N"]
[null,null,"PROC 27a","Production of metal powders by hot metallurgical proc-esses (atomisation, dry dispersion)","Production of metal powders by hot metallurgical proc-esses (atomisation, dry dispersion)",{"$f":"IF(AND(H67=\"Y\",CSA!B$15=\"YES\"),IF(E67=\"\",\"***TRANSLATED TEXT MISSING***\",E67&IF(C67=\"\",G67&\" \",IF(OR(LEFT(C67,5)<>\"INEOS\", AND(LEFT(C67,5)=\"INEOS\",WPG!H$522=\"NO\")),\" [\"&C67&\"]\"&G67&\" \",G67&\" \"))),IF(E67=\"\",\"***TRANSLATED TEXT MISSING***\",E67&G67&\" \"))","v":"Production of metal powders by hot metallurgical proc-esses (atomisation, dry dispersion). "},".","N"]
[null,null,"PROC 27B","Production of metal powders by wet metallurgical processes (atomisation, dry dispersion)","Production of metal powders by wet metallurgical processes (atomisation, dry dispersion)",{"$f":"IF(AND(H68=\"Y\",CSA!B$15=\"YES\"),IF(E68=\"\",\"***TRANSLATED TEXT MISSING***\",E68&IF(C68=\"\",G68&\" \",IF(OR(LEFT(C68,5)<>\"INEOS\", AND(LEFT(C68,5)=\"INEOS\",WPG!H$522=\"NO\")),\" [\"&C68&\"]\"&G68&\" \",G68&\" \"))),IF(E68=\"\",\"***TRANSLATED TEXT MISSING***\",E68&G68&\" \"))","v":"Production of metal powders by wet metallurgical processes (atomisation, dry dispersion). "},".","N"]
[null,null,"PROC 28","Covers maintenance activities for uses where the maintenance is not already included in any of the other process categories. The category covers for example:\n• activities when closed systems are opened and potentially entered for cleaning\n• generally dedicated/separate cleaning tasks conducted on a shift or less frequent basis (e.g. between individual production batches)\n• removal of splashes around the machinery removal of filters or material from filters\n• cleaning of floors that are not directly around the machinery, but still need cleaning for instance because of dust deposition when handling a dusty product ","Covers maintenance activities for uses where the maintenance is not already included in any of the other process categories. The category covers for example:\n• activities when closed systems are opened and potentially entered for cleaning\n• generally dedicated/separate cleaning tasks conducted on a shift or less frequent basis (e.g. between individual production batches)\n• removal of splashes around the machinery removal of filters or material from filters\n• cleaning of floors that are not directly around the machinery, but still need cleaning for instance because of dust deposition when handling a dusty product ",{"$f":"IF(AND(H69=\"Y\",CSA!B$15=\"YES\"),IF(E69=\"\",\"***TRANSLATED TEXT MISSING***\",E69&IF(C69=\"\",G69&\" \",IF(OR(LEFT(C69,5)<>\"INEOS\", AND(LEFT(C69,5)=\"INEOS\",WPG!H$522=\"NO\")),\" [\"&C69&\"]\"&G69&\" \",G69&\" \"))),IF(E69=\"\",\"***TRANSLATED TEXT MISSING***\",E69&G69&\" \"))","v":"Covers maintenance activities for uses where the maintenance is not already included in any of the other process categories. The category covers for example:\n• activities when closed systems are opened and potentially entered for cleaning\n• generally dedicated/separate cleaning tasks conducted on a shift or less frequent basis (e.g. between individual production batches)\n• removal of splashes around the machinery removal of filters or material from filters\n• cleaning of floors that are not directly around the machinery, but still need cleaning for instance because of dust deposition when handling a dusty product . "},".","N"]
[]
[]
[]
[]
[]
["ERC1",null,"ERC1","Manufacture of substances","Manufacture of substances",{"$f":"IF(AND(H75=\"Y\",CSA!B$15=\"YES\"),IF(E75=\"\",\"***TRANSLATED TEXT MISSING***\",E75&IF(C75=\"\",G75&\" \",IF(OR(LEFT(C75,5)<>\"INEOS\", AND(LEFT(C75,5)=\"INEOS\",WPG!H$522=\"NO\")),\" [\"&C75&\"]\"&G75&\" \",G75&\" \"))),IF(E75=\"\",\"***TRANSLATED TEXT MISSING***\",E75&G75&\" \"))","v":"Manufacture of substances [ERC1]. "},".","Y","ERC01"]
["ERC2",null,"ERC2","Formulation of preparations","Formulation of preparations",{"$f":"IF(AND(H76=\"Y\",CSA!B$15=\"YES\"),IF(E76=\"\",\"***TRANSLATED TEXT MISSING***\",E76&IF(C76=\"\",G76&\" \",IF(OR(LEFT(C76,5)<>\"INEOS\", AND(LEFT(C76,5)=\"INEOS\",WPG!H$522=\"NO\")),\" [\"&C76&\"]\"&G76&\" \",G76&\" \"))),IF(E76=\"\",\"***TRANSLATED TEXT MISSING***\",E76&G76&\" \"))","v":"Formulation of preparations [ERC2]. "},".","Y","ERC02"]
["ERC3",null,"ERC3","Formulation in materials","Formulation in materials",{"$f":"IF(AND(H77=\"Y\",CSA!B$15=\"YES\"),IF(E77=\"\",\"***TRANSLATED TEXT MISSING***\",E77&IF(C77=\"\",G77&\" \",IF(OR(LEFT(C77,5)<>\"INEOS\", AND(LEFT(C77,5)=\"INEOS\",WPG!H$522=\"NO\")),\" [\"&C77&\"]\"&G77&\" \",G77&\" \"))),IF(E77=\"\",\"***TRANSLATED TEXT MISSING***\",E77&G77&\" \"))","v":"Formulation in materials [ERC3]. "},".","Y","ERC03"]
["ERC4",null,"ERC4","Industrial use of processing aids in processes and products, not becoming part of articles","Industrial use of processing aids in processes and products, not becoming part of articles",{"$f":"IF(AND(H78=\"Y\",CSA!B$15=\"YES\"),IF(E78=\"\",\"***TRANSLATED TEXT MISSING***\",E78&IF(C78=\"\",G78&\" \",IF(OR(LEFT(C78,5)<>\"INEOS\", AND(LEFT(C78,5)=\"INEOS\",WPG!H$522=\"NO\")),\" [\"&C78&\"]\"&G78&\" \",G78&\" \"))),IF(E78=\"\",\"***TRANSLATED TEXT MISSING***\",E78&G78&\" \"))","v":"Industrial use of processing aids in processes and products, not becoming part of articles [ERC4]. "},".","Y","ERC04"]
["ERC5",null,"ERC5","Industrial use resulting in inclusion into or onto a matrix","Industrial use resulting in inclusion into or onto a matrix",{"$f":"IF(AND(H79=\"Y\",CSA!B$15=\"YES\"),IF(E79=\"\",\"***TRANSLATED TEXT MISSING***\",E79&IF(C79=\"\",G79&\" \",IF(OR(LEFT(C79,5)<>\"INEOS\", AND(LEFT(C79,5)=\"INEOS\",WPG!H$522=\"NO\")),\" [\"&C79&\"]\"&G79&\" \",G79&\" \"))),IF(E79=\"\",\"***TRANSLATED TEXT MISSING***\",E79&G79&\" \"))","v":"Industrial use resulting in inclusion into or onto a matrix [ERC5]. "},".","Y","ERC05"]
["ERC6a",null,"ERC6a","Industrial use resulting in manufacture of another substance (use of intermediates)","Industrial use resulting in manufacture of another substance (use of intermediates)",{"$f":"IF(AND(H80=\"Y\",CSA!B$15=\"YES\"),IF(E80=\"\",\"***TRANSLATED TEXT MISSING***\",E80&IF(C80=\"\",G80&\" \",IF(OR(LEFT(C80,5)<>\"INEOS\", AND(LEFT(C80,5)=\"INEOS\",WPG!H$522=\"NO\")),\" [\"&C80&\"]\"&G80&\" \",G80&\" \"))),IF(E80=\"\",\"***TRANSLATED TEXT MISSING***\",E80&G80&\" \"))","v":"Industrial use resulting in manufacture of another substance (use of intermediates) [ERC6a]. "},".","Y","ERC06a"]
["ERC6b",null,"ERC6b","Industrial use of reactive processing aids","Industrial use of reactive processing aids",{"$f":"IF(AND(H81=\"Y\",CSA!B$15=\"YES\"),IF(E81=\"\",\"***TRANSLATED TEXT MISSING***\",E81&IF(C81=\"\",G81&\" \",IF(OR(LEFT(C81,5)<>\"INEOS\", AND(LEFT(C81,5)=\"INEOS\",WPG!H$522=\"NO\")),\" [\"&C81&\"]\"&G81&\" \",G81&\" \"))),IF(E81=\"\",\"***TRANSLATED TEXT MISSING***\",E81&G81&\" \"))","v":"Industrial use of reactive processing aids [ERC6b]. "},".","Y","ERC06b"]
["ERC6d",null,"ERC6d","Industrial use of process regulators for polymerisation processes in production of resins, rubbers, polymers","Industrial use of process regulators for polymerisation processes in production of resins, rubbers, polymers",{"$f":"IF(AND(H82=\"Y\",CSA!B$15=\"YES\"),IF(E82=\"\",\"***TRANSLATED TEXT MISSING***\",E82&IF(C82=\"\",G82&\" \",IF(OR(LEFT(C82,5)<>\"INEOS\", AND(LEFT(C82,5)=\"INEOS\",WPG!H$522=\"NO\")),\" [\"&C82&\"]\"&G82&\" \",G82&\" \"))),IF(E82=\"\",\"***TRANSLATED TEXT MISSING***\",E82&G82&\" \"))","v":"Industrial use of process regulators for polymerisation processes in production of resins, rubbers, polymers [ERC6d]. "},".","Y","ERC06d"]
["ERC6c",null,"ERC6c","Industrial use of monomers for manufacture of thermoplastics","Industrial use of monomers for manufacture of thermoplastics",{"$f":"IF(AND(H83=\"Y\",CSA!B$15=\"YES\"),IF(E83=\"\",\"***TRANSLATED TEXT MISSING***\",E83&IF(C83=\"\",G83&\" \",IF(OR(LEFT(C83,5)<>\"INEOS\", AND(LEFT(C83,5)=\"INEOS\",WPG!H$522=\"NO\")),\" [\"&C83&\"]\"&G83&\" \",G83&\" \"))),IF(E83=\"\",\"***TRANSLATED TEXT MISSING***\",E83&G83&\" \"))","v":"Industrial use of monomers for manufacture of thermoplastics [ERC6c]. "},".","Y","ERC06c"]
["ERC7",null,"ERC7","Industrial use of substances in closed systems","Industrial use of substances in closed systems",{"$f":"IF(AND(H84=\"Y\",CSA!B$15=\"YES\"),IF(E84=\"\",\"***TRANSLATED TEXT MISSING***\",E84&IF(C84=\"\",G84&\" \",IF(OR(LEFT(C84,5)<>\"INEOS\", AND(LEFT(C84,5)=\"INEOS\",WPG!H$522=\"NO\")),\" [\"&C84&\"]\"&G84&\" \",G84&\" \"))),IF(E84=\"\",\"***TRANSLATED TEXT MISSING***\",E84&G84&\" \"))","v":"Industrial use of substances in closed systems [ERC7]. "},".","Y","ERC07"]
["ERC8a",null,"ERC8a","Wide dispersive indoor use of processing aids in open systems","Wide dispersive indoor use of processing aids in open systems",{"$f":"IF(AND(H85=\"Y\",CSA!B$15=\"YES\"),IF(E85=\"\",\"***TRANSLATED TEXT MISSING***\",E85&IF(C85=\"\",G85&\" \",IF(OR(LEFT(C85,5)<>\"INEOS\", AND(LEFT(C85,5)=\"INEOS\",WPG!H$522=\"NO\")),\" [\"&C85&\"]\"&G85&\" \",G85&\" \"))),IF(E85=\"\",\"***TRANSLATED TEXT MISSING***\",E85&G85&\" \"))","v":"Wide dispersive indoor use of processing aids in open systems [ERC8a]. "},".","Y","ERC08a"]
["ERC8b",null,"ERC8b","Wide dispersive indoor use of reactive substances in open systems","Wide dispersive indoor use of reactive substances in open systems",{"$f":"IF(AND(H86=\"Y\",CSA!B$15=\"YES\"),IF(E86=\"\",\"***TRANSLATED TEXT MISSING***\",E86&IF(C86=\"\",G86&\" \",IF(OR(LEFT(C86,5)<>\"INEOS\", AND(LEFT(C86,5)=\"INEOS\",WPG!H$522=\"NO\")),\" [\"&C86&\"]\"&G86&\" \",G86&\" \"))),IF(E86=\"\",\"***TRANSLATED TEXT MISSING***\",E86&G86&\" \"))","v":"Wide dispersive indoor use of reactive substances in open systems [ERC8b]. "},".","Y","ERC08b"]
["ERC8c",null,"ERC8c","Wide dispersive indoor use resulting in inclusion into or onto a matrix","Wide dispersive indoor use resulting in inclusion into or onto a matrix",{"$f":"IF(AND(H87=\"Y\",CSA!B$15=\"YES\"),IF(E87=\"\",\"***TRANSLATED TEXT MISSING***\",E87&IF(C87=\"\",G87&\" \",IF(OR(LEFT(C87,5)<>\"INEOS\", AND(LEFT(C87,5)=\"INEOS\",WPG!H$522=\"NO\")),\" [\"&C87&\"]\"&G87&\" \",G87&\" \"))),IF(E87=\"\",\"***TRANSLATED TEXT MISSING***\",E87&G87&\" \"))","v":"Wide dispersive indoor use resulting in inclusion into or onto a matrix [ERC8c]. "},".","Y","ERC08c"]
["ERC8d",null,"ERC8d","Wide dispersive outdoor use of processing aids in open systems","Wide dispersive outdoor use of processing aids in open systems",{"$f":"IF(AND(H88=\"Y\",CSA!B$15=\"YES\"),IF(E88=\"\",\"***TRANSLATED TEXT MISSING***\",E88&IF(C88=\"\",G88&\" \",IF(OR(LEFT(C88,5)<>\"INEOS\", AND(LEFT(C88,5)=\"INEOS\",WPG!H$522=\"NO\")),\" [\"&C88&\"]\"&G88&\" \",G88&\" \"))),IF(E88=\"\",\"***TRANSLATED TEXT MISSING***\",E88&G88&\" \"))","v":"Wide dispersive outdoor use of processing aids in open systems [ERC8d]. "},".","Y","ERC08d"]
["ERC8e",null,"ERC8e","Wide dispersive outdoor use of reactive substances in open systems","Wide dispersive outdoor use of reactive substances in open systems",{"$f":"IF(AND(H89=\"Y\",CSA!B$15=\"YES\"),IF(E89=\"\",\"***TRANSLATED TEXT MISSING***\",E89&IF(C89=\"\",G89&\" \",IF(OR(LEFT(C89,5)<>\"INEOS\", AND(LEFT(C89,5)=\"INEOS\",WPG!H$522=\"NO\")),\" [\"&C89&\"]\"&G89&\" \",G89&\" \"))),IF(E89=\"\",\"***TRANSLATED TEXT MISSING***\",E89&G89&\" \"))","v":"Wide dispersive outdoor use of reactive substances in open systems [ERC8e]. "},".","Y","ERC08e"]
["ERC8f",null,"ERC8f","Wide dispersive outdoor use resulting in inclusion into or onto a matrix","Wide dispersive outdoor use resulting in inclusion into or onto a matrix",{"$f":"IF(AND(H90=\"Y\",CSA!B$15=\"YES\"),IF(E90=\"\",\"***TRANSLATED TEXT MISSING***\",E90&IF(C90=\"\",G90&\" \",IF(OR(LEFT(C90,5)<>\"INEOS\", AND(LEFT(C90,5)=\"INEOS\",WPG!H$522=\"NO\")),\" [\"&C90&\"]\"&G90&\" \",G90&\" \"))),IF(E90=\"\",\"***TRANSLATED TEXT MISSING***\",E90&G90&\" \"))","v":"Wide dispersive outdoor use resulting in inclusion into or onto a matrix [ERC8f]. "},".","Y","ERC08f"]
["ERC9a",null,"ERC9a","Wide dispersive indoor use of substances in closed systems","Wide dispersive indoor use of substances in closed systems",{"$f":"IF(AND(H91=\"Y\",CSA!B$15=\"YES\"),IF(E91=\"\",\"***TRANSLATED TEXT MISSING***\",E91&IF(C91=\"\",G91&\" \",IF(OR(LEFT(C91,5)<>\"INEOS\", AND(LEFT(C91,5)=\"INEOS\",WPG!H$522=\"NO\")),\" [\"&C91&\"]\"&G91&\" \",G91&\" \"))),IF(E91=\"\",\"***TRANSLATED TEXT MISSING***\",E91&G91&\" \"))","v":"Wide dispersive indoor use of substances in closed systems [ERC9a]. "},".","Y","ERC09a"]
["ERC9b",null,"ERC9b","Wide dispersive outdoor use of substances in closed systems","Wide dispersive outdoor use of substances in closed systems",{"$f":"IF(AND(H92=\"Y\",CSA!B$15=\"YES\"),IF(E92=\"\",\"***TRANSLATED TEXT MISSING***\",E92&IF(C92=\"\",G92&\" \",IF(OR(LEFT(C92,5)<>\"INEOS\", AND(LEFT(C92,5)=\"INEOS\",WPG!H$522=\"NO\")),\" [\"&C92&\"]\"&G92&\" \",G92&\" \"))),IF(E92=\"\",\"***TRANSLATED TEXT MISSING***\",E92&G92&\" \"))","v":"Wide dispersive outdoor use of substances in closed systems [ERC9b]. "},".","Y","ERC09b"]
["ERC10a",null,"ERC10a","Wide dispersive outdoor use of long-life articles and materials with low release","Wide dispersive outdoor use of long-life articles and materials with low release",{"$f":"IF(AND(H93=\"Y\",CSA!B$15=\"YES\"),IF(E93=\"\",\"***TRANSLATED TEXT MISSING***\",E93&IF(C93=\"\",G93&\" \",IF(OR(LEFT(C93,5)<>\"INEOS\", AND(LEFT(C93,5)=\"INEOS\",WPG!H$522=\"NO\")),\" [\"&C93&\"]\"&G93&\" \",G93&\" \"))),IF(E93=\"\",\"***TRANSLATED TEXT MISSING***\",E93&G93&\" \"))","v":"Wide dispersive outdoor use of long-life articles and materials with low release [ERC10a]. "},".","Y","ERC10a"]
["ERC10b",null,"ERC10b","Wide dispersive outdoor use of long-life articles and materials with high or intended release (including abrasive processing)","Wide dispersive outdoor use of long-life articles and materials with high or intended release (including abrasive processing)",{"$f":"IF(AND(H94=\"Y\",CSA!B$15=\"YES\"),IF(E94=\"\",\"***TRANSLATED TEXT MISSING***\",E94&IF(C94=\"\",G94&\" \",IF(OR(LEFT(C94,5)<>\"INEOS\", AND(LEFT(C94,5)=\"INEOS\",WPG!H$522=\"NO\")),\" [\"&C94&\"]\"&G94&\" \",G94&\" \"))),IF(E94=\"\",\"***TRANSLATED TEXT MISSING***\",E94&G94&\" \"))","v":"Wide dispersive outdoor use of long-life articles and materials with high or intended release (including abrasive processing) [ERC10b]. "},".","Y","ERC10b"]
["ERC11a",null,"ERC11a","Wide dispersive indoor use of long-life articles and materials with low release","Wide dispersive indoor use of long-life articles and materials with low release",{"$f":"IF(AND(H95=\"Y\",CSA!B$15=\"YES\"),IF(E95=\"\",\"***TRANSLATED TEXT MISSING***\",E95&IF(C95=\"\",G95&\" \",IF(OR(LEFT(C95,5)<>\"INEOS\", AND(LEFT(C95,5)=\"INEOS\",WPG!H$522=\"NO\")),\" [\"&C95&\"]\"&G95&\" \",G95&\" \"))),IF(E95=\"\",\"***TRANSLATED TEXT MISSING***\",E95&G95&\" \"))","v":"Wide dispersive indoor use of long-life articles and materials with low release [ERC11a]. "},".","Y","ERC11a"]
["ERC11b",null,"ERC11b","Wide dispersive indoor use of long-life articles and materials with high or intended release (including abrasive processing)","Wide dispersive indoor use of long-life articles and materials with high or intended release (including abrasive processing)",{"$f":"IF(AND(H96=\"Y\",CSA!B$15=\"YES\"),IF(E96=\"\",\"***TRANSLATED TEXT MISSING***\",E96&IF(C96=\"\",G96&\" \",IF(OR(LEFT(C96,5)<>\"INEOS\", AND(LEFT(C96,5)=\"INEOS\",WPG!H$522=\"NO\")),\" [\"&C96&\"]\"&G96&\" \",G96&\" \"))),IF(E96=\"\",\"***TRANSLATED TEXT MISSING***\",E96&G96&\" \"))","v":"Wide dispersive indoor use of long-life articles and materials with high or intended release (including abrasive processing) [ERC11b]. "},".","Y","ERC11b"]
["ERC12a",null,"ERC12a","Industrial processing of articles with abrasive tech niques (low release)","Industrial processing of articles with abrasive tech niques (low release)",{"$f":"IF(AND(H97=\"Y\",CSA!B$15=\"YES\"),IF(E97=\"\",\"***TRANSLATED TEXT MISSING***\",E97&IF(C97=\"\",G97&\" \",IF(OR(LEFT(C97,5)<>\"INEOS\", AND(LEFT(C97,5)=\"INEOS\",WPG!H$522=\"NO\")),\" [\"&C97&\"]\"&G97&\" \",G97&\" \"))),IF(E97=\"\",\"***TRANSLATED TEXT MISSING***\",E97&G97&\" \"))","v":"Industrial processing of articles with abrasive tech niques (low release) [ERC12a]. "},".","Y","ERC12a"]
["ERC12b",null,"ERC12b","Industrial processing of articles with abrasive techniques (high release)","Industrial processing of articles with abrasive techniques (high release)",{"$f":"IF(AND(H98=\"Y\",CSA!B$15=\"YES\"),IF(E98=\"\",\"***TRANSLATED TEXT MISSING***\",E98&IF(C98=\"\",G98&\" \",IF(OR(LEFT(C98,5)<>\"INEOS\", AND(LEFT(C98,5)=\"INEOS\",WPG!H$522=\"NO\")),\" [\"&C98&\"]\"&G98&\" \",G98&\" \"))),IF(E98=\"\",\"***TRANSLATED TEXT MISSING***\",E98&G98&\" \"))","v":"Industrial processing of articles with abrasive techniques (high release) [ERC12b]. "},".","Y","ERC12b"]
[null,null,null,null,null,{"$f":"IF(H99=\"Y\",E99&IF(C99=\"\",G99&\" \",\" [\"&C99&\"]\"&G99&\" \"),E99&G99&\" \")","v":" "}]
[null,null,null,null,null," "]
[null,null,null,null,null," "]
[]
["ERC1","ERC01_d","ERC1","Manufacture of organic and inorganic substances in chemical, petrochemical, primary metals and minerals industry including intermediates, monomers using continuous processes or batch processes applying dedicated or multi-purpose equipment, either technically controlled or operated by manual interventions","Manufacture of organic and inorganic substances in chemical, petrochemical, primary metals and minerals industry including intermediates, monomers using continuous processes or batch processes applying dedicated or multi-purpose equipment, either technically controlled or operated by manual interventions",{"$f":"IF(AND(H103=\"Y\",CSA!B$15=\"YES\"),IF(E103=\"\",\"***TRANSLATED TEXT MISSING***\",E103&IF(C103=\"\",G103&\" \",IF(OR(LEFT(C103,5)<>\"INEOS\", AND(LEFT(C103,5)=\"INEOS\",WPG!H$522=\"NO\")),\" [\"&C103&\"]\"&G103&\" \",G103&\" \"))),IF(E103=\"\",\"***TRANSLATED TEXT MISSING***\",E103&G103&\" \"))","v":"Manufacture of organic and inorganic substances in chemical, petrochemical, primary metals and minerals industry including intermediates, monomers using continuous processes or batch processes applying dedicated or multi-purpose equipment, either technically controlled or operated by manual interventions. "},".","N"]
["ERC2","ERC02_d","ERC2","Mixing and blending of substances into (chemical) preparations in all types of formulating industries, such as paints and do-it-yourself products, pigment paste, fuels, household products (cleaning products), lubricants, etc","Mixing and blending of substances into (chemical) preparations in all types of formulating industries, such as paints and do-it-yourself products, pigment paste, fuels, household products (cleaning products), lubricants, etc",{"$f":"IF(AND(H104=\"Y\",CSA!B$15=\"YES\"),IF(E104=\"\",\"***TRANSLATED TEXT MISSING***\",E104&IF(C104=\"\",G104&\" \",IF(OR(LEFT(C104,5)<>\"INEOS\", AND(LEFT(C104,5)=\"INEOS\",WPG!H$522=\"NO\")),\" [\"&C104&\"]\"&G104&\" \",G104&\" \"))),IF(E104=\"\",\"***TRANSLATED TEXT MISSING***\",E104&G104&\" \"))","v":"Mixing and blending of substances into (chemical) preparations in all types of formulating industries, such as paints and do-it-yourself products, pigment paste, fuels, household products (cleaning products), lubricants, etc. "},".","N"]
["ERC3","ERC03_d","ERC3","Mixing or blending of substances which will be physically or chemically bound into or onto a matrix (material) such as plastics additives in master batches or plastic compounds. For in- stance a plasticizers or stabilizers in PVC master-batches or products, crystal growth regulator in photographic films, etc","Mixing or blending of substances which will be physically or chemically bound into or onto a matrix (material) such as plastics additives in master batches or plastic compounds. For in- stance a plasticizers or stabilizers in PVC master-batches or products, crystal growth regulator in photographic films, etc",{"$f":"IF(AND(H105=\"Y\",CSA!B$15=\"YES\"),IF(E105=\"\",\"***TRANSLATED TEXT MISSING***\",E105&IF(C105=\"\",G105&\" \",IF(OR(LEFT(C105,5)<>\"INEOS\", AND(LEFT(C105,5)=\"INEOS\",WPG!H$522=\"NO\")),\" [\"&C105&\"]\"&G105&\" \",G105&\" \"))),IF(E105=\"\",\"***TRANSLATED TEXT MISSING***\",E105&G105&\" \"))","v":"Mixing or blending of substances which will be physically or chemically bound into or onto a matrix (material) such as plastics additives in master batches or plastic compounds. For in- stance a plasticizers or stabilizers in PVC master-batches or products, crystal growth regulator in photographic films, etc. "},".","N"]
["ERC4","ERC04_d","ERC4","Industrial use of processing aids in continuous processes or batch processes applying dedicated or multi-purpose equipment, either technically controlled or operated by manual interventions. For example, solvents used in chemical reactions or the ‘use’ of solvents during the application of paints, lubricants in metal working fluids, anti-set off agents in polymer moulding/casting","Industrial use of processing aids in continuous processes or batch processes applying dedicated or multi-purpose equipment, either technically controlled or operated by manual interventions. For example, solvents used in chemical reactions or the ‘use’ of solvents during the application of paints, lubricants in metal working fluids, anti-set off agents in polymer moulding/casting",{"$f":"IF(AND(H106=\"Y\",CSA!B$15=\"YES\"),IF(E106=\"\",\"***TRANSLATED TEXT MISSING***\",E106&IF(C106=\"\",G106&\" \",IF(OR(LEFT(C106,5)<>\"INEOS\", AND(LEFT(C106,5)=\"INEOS\",WPG!H$522=\"NO\")),\" [\"&C106&\"]\"&G106&\" \",G106&\" \"))),IF(E106=\"\",\"***TRANSLATED TEXT MISSING***\",E106&G106&\" \"))","v":"Industrial use of processing aids in continuous processes or batch processes applying dedicated or multi-purpose equipment, either technically controlled or operated by manual interventions. For example, solvents used in chemical reactions or the ‘use’ of solvents during the application of paints, lubricants in metal working fluids, anti-set off agents in polymer moulding/casting. "},".","N"]
["ERC5","ERC05_d","ERC5","Industrial use of substances as such or in preparations (non-processing aids), which will be physically or chemically bound into or onto a matrix (material) such as binding agent in paints and coatings or adhesives, dyes in textile fabrics and leather products, metals in coatings applied through plating and galvanizing processes. The category covers substances in articles with a particular function and also substances remaining in the article after having been used as processing aid in an earlier life cycle stage (e.g. heat stabilisers in plastic processing).","Industrial use of substances as such or in preparations (non-processing aids), which will be physically or chemically bound into or onto a matrix (material) such as binding agent in paints and coatings or adhesives, dyes in textile fabrics and leather products, metals in coatings applied through plating and galvanizing processes. The category covers substances in articles with a particular function and also substances remaining in the article after having been used as processing aid in an earlier life cycle stage (e.g. heat stabilisers in plastic processing).",{"$f":"IF(AND(H107=\"Y\",CSA!B$15=\"YES\"),IF(E107=\"\",\"***TRANSLATED TEXT MISSING***\",E107&IF(C107=\"\",G107&\" \",IF(OR(LEFT(C107,5)<>\"INEOS\", AND(LEFT(C107,5)=\"INEOS\",WPG!H$522=\"NO\")),\" [\"&C107&\"]\"&G107&\" \",G107&\" \"))),IF(E107=\"\",\"***TRANSLATED TEXT MISSING***\",E107&G107&\" \"))","v":"Industrial use of substances as such or in preparations (non-processing aids), which will be physically or chemically bound into or onto a matrix (material) such as binding agent in paints and coatings or adhesives, dyes in textile fabrics and leather products, metals in coatings applied through plating and galvanizing processes. The category covers substances in articles with a particular function and also substances remaining in the article after having been used as processing aid in an earlier life cycle stage (e.g. heat stabilisers in plastic processing).. "},".","N"]
["ERC6a","ERC06a_d","ERC6a","Use of intermediates in primarily the chemical industry using continuous processes or batch processes applying dedicated or multi-purpose equipment, either technically controlled or operated by manual interventions, for the synthesis (manufacture) of other substances. For instance the use of chemical building blocks (feedstock) in the synthesis of agrochemicals, pharmaceuticals, monomers, etc","Use of intermediates in primarily the chemical industry using continuous processes or batch processes applying dedicated or multi-purpose equipment, either technically controlled or operated by manual interventions, for the synthesis (manufacture) of other substances. For instance the use of chemical building blocks (feedstock) in the synthesis of agrochemicals, pharmaceuticals, monomers, etc",{"$f":"IF(AND(H108=\"Y\",CSA!B$15=\"YES\"),IF(E108=\"\",\"***TRANSLATED TEXT MISSING***\",E108&IF(C108=\"\",G108&\" \",IF(OR(LEFT(C108,5)<>\"INEOS\", AND(LEFT(C108,5)=\"INEOS\",WPG!H$522=\"NO\")),\" [\"&C108&\"]\"&G108&\" \",G108&\" \"))),IF(E108=\"\",\"***TRANSLATED TEXT MISSING***\",E108&G108&\" \"))","v":"Use of intermediates in primarily the chemical industry using continuous processes or batch processes applying dedicated or multi-purpose equipment, either technically controlled or operated by manual interventions, for the synthesis (manufacture) of other substances. For instance the use of chemical building blocks (feedstock) in the synthesis of agrochemicals, pharmaceuticals, monomers, etc. "},".","N"]
["ERC6b","ERC06b_d","ERC6b","Industrial use of reactive processing aids in continuous processes or batch processes applying dedicated or multi-purpose equipment, either technically controlled or operated by manual interventions. For example the use of bleaching agents in the paper industry","Industrial use of reactive processing aids in continuous processes or batch processes applying dedicated or multi-purpose equipment, either technically controlled or operated by manual interventions. For example the use of bleaching agents in the paper industry",{"$f":"IF(AND(H109=\"Y\",CSA!B$15=\"YES\"),IF(E109=\"\",\"***TRANSLATED TEXT MISSING***\",E109&IF(C109=\"\",G109&\" \",IF(OR(LEFT(C109,5)<>\"INEOS\", AND(LEFT(C109,5)=\"INEOS\",WPG!H$522=\"NO\")),\" [\"&C109&\"]\"&G109&\" \",G109&\" \"))),IF(E109=\"\",\"***TRANSLATED TEXT MISSING***\",E109&G109&\" \"))","v":"Industrial use of reactive processing aids in continuous processes or batch processes applying dedicated or multi-purpose equipment, either technically controlled or operated by manual interventions. For example the use of bleaching agents in the paper industry. "},".","N"]
["ERC6d","ERC06d_d","ERC6d","Industrial use of chemicals (cross-linking agents, curing agents) in the production of thermosets and rubbers, polymer processing. For instance the use of styrene in polyester production or vulcanization agents in the production of rubbers","Industrial use of chemicals (cross-linking agents, curing agents) in the production of thermosets and rubbers, polymer processing. For instance the use of styrene in polyester production or vulcanization agents in the production of rubbers",{"$f":"IF(AND(H110=\"Y\",CSA!B$15=\"YES\"),IF(E110=\"\",\"***TRANSLATED TEXT MISSING***\",E110&IF(C110=\"\",G110&\" \",IF(OR(LEFT(C110,5)<>\"INEOS\", AND(LEFT(C110,5)=\"INEOS\",WPG!H$522=\"NO\")),\" [\"&C110&\"]\"&G110&\" \",G110&\" \"))),IF(E110=\"\",\"***TRANSLATED TEXT MISSING***\",E110&G110&\" \"))","v":"Industrial use of chemicals (cross-linking agents, curing agents) in the production of thermosets and rubbers, polymer processing. For instance the use of styrene in polyester production or vulcanization agents in the production of rubbers. "},".","N"]
["ERC6c","ERC06c_d","ERC6c","Industrial use of monomers in the production of polymers, plastics (thermoplastics), polymerization processes. For example the use of vinyl chloride monomer in the production of PVC","Industrial use of monomers in the production of polymers, plastics (thermoplastics), polymerization processes. For example the use of vinyl chloride monomer in the production of PVC",{"$f":"IF(AND(H111=\"Y\",CSA!B$15=\"YES\"),IF(E111=\"\",\"***TRANSLATED TEXT MISSING***\",E111&IF(C111=\"\",G111&\" \",IF(OR(LEFT(C111,5)<>\"INEOS\", AND(LEFT(C111,5)=\"INEOS\",WPG!H$522=\"NO\")),\" [\"&C111&\"]\"&G111&\" \",G111&\" \"))),IF(E111=\"\",\"***TRANSLATED TEXT MISSING***\",E111&G111&\" \"))","v":"Industrial use of monomers in the production of polymers, plastics (thermoplastics), polymerization processes. For example the use of vinyl chloride monomer in the production of PVC. "},".","N"]
["ERC7","ERC07_d","ERC7","Industrial use of substances in closed systems. Use in closed equipment, such as the use of liquids in hydraulic systems, cooling liquids in refrigerators and lubricants in engines and dielectric fluids in electric transformers and oil in heat exchangers. No intended contact between functional fluids and products foreseen, and thus low emissions via waste water and waste air to be expected","Industrial use of substances in closed systems. Use in closed equipment, such as the use of liquids in hydraulic systems, cooling liquids in refrigerators and lubricants in engines and dielectric fluids in electric transformers and oil in heat exchangers. No intended contact between functional fluids and products foreseen, and thus low emissions via waste water and waste air to be expected",{"$f":"IF(AND(H112=\"Y\",CSA!B$15=\"YES\"),IF(E112=\"\",\"***TRANSLATED TEXT MISSING***\",E112&IF(C112=\"\",G112&\" \",IF(OR(LEFT(C112,5)<>\"INEOS\", AND(LEFT(C112,5)=\"INEOS\",WPG!H$522=\"NO\")),\" [\"&C112&\"]\"&G112&\" \",G112&\" \"))),IF(E112=\"\",\"***TRANSLATED TEXT MISSING***\",E112&G112&\" \"))","v":"Industrial use of substances in closed systems. Use in closed equipment, such as the use of liquids in hydraulic systems, cooling liquids in refrigerators and lubricants in engines and dielectric fluids in electric transformers and oil in heat exchangers. No intended contact between functional fluids and products foreseen, and thus low emissions via waste water and waste air to be expected. "},".","N"]
["ERC8a","ERC08a_d","ERC8a","Indoor use of processing aids by the public at large or professional use. Use (usually) results in direct release into the environment/sewage system, for example, detergents in fabric washing, machine wash liquids and lavatory cleaners, automotive and bicycle care products (polishes, lubricants, de-icers), solvents in paints and adhesives or fragrances and aerosol propellants in air fresheners","Indoor use of processing aids by the public at large or professional use. Use (usually) results in direct release into the environment/sewage system, for example, detergents in fabric washing, machine wash liquids and lavatory cleaners, automotive and bicycle care products (polishes, lubricants, de-icers), solvents in paints and adhesives or fragrances and aerosol propellants in air fresheners",{"$f":"IF(AND(H113=\"Y\",CSA!B$15=\"YES\"),IF(E113=\"\",\"***TRANSLATED TEXT MISSING***\",E113&IF(C113=\"\",G113&\" \",IF(OR(LEFT(C113,5)<>\"INEOS\", AND(LEFT(C113,5)=\"INEOS\",WPG!H$522=\"NO\")),\" [\"&C113&\"]\"&G113&\" \",G113&\" \"))),IF(E113=\"\",\"***TRANSLATED TEXT MISSING***\",E113&G113&\" \"))","v":"Indoor use of processing aids by the public at large or professional use. Use (usually) results in direct release into the environment/sewage system, for example, detergents in fabric washing, machine wash liquids and lavatory cleaners, automotive and bicycle care products (polishes, lubricants, de-icers), solvents in paints and adhesives or fragrances and aerosol propellants in air fresheners. "},".","N"]
["ERC8b","ERC08b_d","ERC8b","Indoor use of reactive substances by the public at large or professional use. Use (usually) results in direct release into the environment, for example, sodium hypochlorite in lavatory cleaners, bleaching agents in fabric washing products, hydrogen peroxide in dental care products","Indoor use of reactive substances by the public at large or professional use. Use (usually) results in direct release into the environment, for example, sodium hypochlorite in lavatory cleaners, bleaching agents in fabric washing products, hydrogen peroxide in dental care products",{"$f":"IF(AND(H114=\"Y\",CSA!B$15=\"YES\"),IF(E114=\"\",\"***TRANSLATED TEXT MISSING***\",E114&IF(C114=\"\",G114&\" \",IF(OR(LEFT(C114,5)<>\"INEOS\", AND(LEFT(C114,5)=\"INEOS\",WPG!H$522=\"NO\")),\" [\"&C114&\"]\"&G114&\" \",G114&\" \"))),IF(E114=\"\",\"***TRANSLATED TEXT MISSING***\",E114&G114&\" \"))","v":"Indoor use of reactive substances by the public at large or professional use. Use (usually) results in direct release into the environment, for example, sodium hypochlorite in lavatory cleaners, bleaching agents in fabric washing products, hydrogen peroxide in dental care products. "},".","N"]
["ERC8c","ERC08c_d","ERC8c","Indoor use of substances (non-processing aids) by the public at large or professional use, which will be physically or chemically bound into or onto a matrix (material) such as binding agent in paints and coatings or adhesives, dyeing of textile fabrics","Indoor use of substances (non-processing aids) by the public at large or professional use, which will be physically or chemically bound into or onto a matrix (material) such as binding agent in paints and coatings or adhesives, dyeing of textile fabrics",{"$f":"IF(AND(H115=\"Y\",CSA!B$15=\"YES\"),IF(E115=\"\",\"***TRANSLATED TEXT MISSING***\",E115&IF(C115=\"\",G115&\" \",IF(OR(LEFT(C115,5)<>\"INEOS\", AND(LEFT(C115,5)=\"INEOS\",WPG!H$522=\"NO\")),\" [\"&C115&\"]\"&G115&\" \",G115&\" \"))),IF(E115=\"\",\"***TRANSLATED TEXT MISSING***\",E115&G115&\" \"))","v":"Indoor use of substances (non-processing aids) by the public at large or professional use, which will be physically or chemically bound into or onto a matrix (material) such as binding agent in paints and coatings or adhesives, dyeing of textile fabrics. "},".","N"]
["ERC8d","ERC08d_d","ERC8d","Outdoor use of processing aids by the public at large or professional use. Use (usually) results in direct release into the environment, for example, automotive and bicycle care products (polishes, lubricants, de-icers, detergents), solvents in paints and adhesives","Outdoor use of processing aids by the public at large or professional use. Use (usually) results in direct release into the environment, for example, automotive and bicycle care products (polishes, lubricants, de-icers, detergents), solvents in paints and adhesives",{"$f":"IF(AND(H116=\"Y\",CSA!B$15=\"YES\"),IF(E116=\"\",\"***TRANSLATED TEXT MISSING***\",E116&IF(C116=\"\",G116&\" \",IF(OR(LEFT(C116,5)<>\"INEOS\", AND(LEFT(C116,5)=\"INEOS\",WPG!H$522=\"NO\")),\" [\"&C116&\"]\"&G116&\" \",G116&\" \"))),IF(E116=\"\",\"***TRANSLATED TEXT MISSING***\",E116&G116&\" \"))","v":"Outdoor use of processing aids by the public at large or professional use. Use (usually) results in direct release into the environment, for example, automotive and bicycle care products (polishes, lubricants, de-icers, detergents), solvents in paints and adhesives. "},".","N"]
["ERC8e","ERC08e_d","ERC8e","Outdoor use of reactive substances by the public at large or professional use. Use (usually) results in direct release into the environment, for example, the use of sodium hypochlorite or hydrogen peroxide for surface cleaning (building materials)","Outdoor use of reactive substances by the public at large or professional use. Use (usually) results in direct release into the environment, for example, the use of sodium hypochlorite or hydrogen peroxide for surface cleaning (building materials)",{"$f":"IF(AND(H117=\"Y\",CSA!B$15=\"YES\"),IF(E117=\"\",\"***TRANSLATED TEXT MISSING***\",E117&IF(C117=\"\",G117&\" \",IF(OR(LEFT(C117,5)<>\"INEOS\", AND(LEFT(C117,5)=\"INEOS\",WPG!H$522=\"NO\")),\" [\"&C117&\"]\"&G117&\" \",G117&\" \"))),IF(E117=\"\",\"***TRANSLATED TEXT MISSING***\",E117&G117&\" \"))","v":"Outdoor use of reactive substances by the public at large or professional use. Use (usually) results in direct release into the environment, for example, the use of sodium hypochlorite or hydrogen peroxide for surface cleaning (building materials). "},".","N"]
["ERC8f","ERC08f_d","ERC8f","Outdoor use of substances (non-processing aids) by the public at large or professional use, which will be physically or chemically bound into or onto a matrix (material) such as binding agent in paints and coatings or adhesives","Outdoor use of substances (non-processing aids) by the public at large or professional use, which will be physically or chemically bound into or onto a matrix (material) such as binding agent in paints and coatings or adhesives",{"$f":"IF(AND(H118=\"Y\",CSA!B$15=\"YES\"),IF(E118=\"\",\"***TRANSLATED TEXT MISSING***\",E118&IF(C118=\"\",G118&\" \",IF(OR(LEFT(C118,5)<>\"INEOS\", AND(LEFT(C118,5)=\"INEOS\",WPG!H$522=\"NO\")),\" [\"&C118&\"]\"&G118&\" \",G118&\" \"))),IF(E118=\"\",\"***TRANSLATED TEXT MISSING***\",E118&G118&\" \"))","v":"Outdoor use of substances (non-processing aids) by the public at large or professional use, which will be physically or chemically bound into or onto a matrix (material) such as binding agent in paints and coatings or adhesives. "},".","N"]
["ERC9a","ERC09a_d","ERC9a","Indoor use of substances by the public at large or professional (small scale) use in closed systems. Use in closed equipment, such as the use of cooling liquids in refrigerators, oil-based electric heaters","Indoor use of substances by the public at large or professional (small scale) use in closed systems. Use in closed equipment, such as the use of cooling liquids in refrigerators, oil-based electric heaters",{"$f":"IF(AND(H119=\"Y\",CSA!B$15=\"YES\"),IF(E119=\"\",\"***TRANSLATED TEXT MISSING***\",E119&IF(C119=\"\",G119&\" \",IF(OR(LEFT(C119,5)<>\"INEOS\", AND(LEFT(C119,5)=\"INEOS\",WPG!H$522=\"NO\")),\" [\"&C119&\"]\"&G119&\" \",G119&\" \"))),IF(E119=\"\",\"***TRANSLATED TEXT MISSING***\",E119&G119&\" \"))","v":"Indoor use of substances by the public at large or professional (small scale) use in closed systems. Use in closed equipment, such as the use of cooling liquids in refrigerators, oil-based electric heaters. "},".","N"]
["ERC9b","ERC09b_d","ERC9b","Outdoor use of substances by the public at large or professional (small scale) use in closed systems. Use in closed equipment, such as the use of hydraulic liquids in automotive suspension, lubricants in motor oil and break fluids in automotive brake systems","Outdoor use of substances by the public at large or professional (small scale) use in closed systems. Use in closed equipment, such as the use of hydraulic liquids in automotive suspension, lubricants in motor oil and break fluids in automotive brake systems",{"$f":"IF(AND(H120=\"Y\",CSA!B$15=\"YES\"),IF(E120=\"\",\"***TRANSLATED TEXT MISSING***\",E120&IF(C120=\"\",G120&\" \",IF(OR(LEFT(C120,5)<>\"INEOS\", AND(LEFT(C120,5)=\"INEOS\",WPG!H$522=\"NO\")),\" [\"&C120&\"]\"&G120&\" \",G120&\" \"))),IF(E120=\"\",\"***TRANSLATED TEXT MISSING***\",E120&G120&\" \"))","v":"Outdoor use of substances by the public at large or professional (small scale) use in closed systems. Use in closed equipment, such as the use of hydraulic liquids in automotive suspension, lubricants in motor oil and break fluids in automotive brake systems. "},".","N"]
["ERC10a","ERC10a_d","ERC10a","Low release of substances included into or onto articles and materials during their service life in outdoor use, such as metal, wooden and plastic construction and building materials (gutters, drains, frames, etc)","Low release of substances included into or onto articles and materials during their service life in outdoor use, such as metal, wooden and plastic construction and building materials (gutters, drains, frames, etc)",{"$f":"IF(AND(H121=\"Y\",CSA!B$15=\"YES\"),IF(E121=\"\",\"***TRANSLATED TEXT MISSING***\",E121&IF(C121=\"\",G121&\" \",IF(OR(LEFT(C121,5)<>\"INEOS\", AND(LEFT(C121,5)=\"INEOS\",WPG!H$522=\"NO\")),\" [\"&C121&\"]\"&G121&\" \",G121&\" \"))),IF(E121=\"\",\"***TRANSLATED TEXT MISSING***\",E121&G121&\" \"))","v":"Low release of substances included into or onto articles and materials during their service life in outdoor use, such as metal, wooden and plastic construction and building materials (gutters, drains, frames, etc). "},".","N"]
["ERC10b","ERC10b_d","ERC10b","Substances included into or onto articles and materials with high or intended release during their service life from outdoor use. Such as tyres, treated wooden products, treated textile and fabric like sun blinds and parasols and furniture, zinc anodes in commercial shipping and pleasure craft, and brake pads in trucks or cars. This also includes releases from the article ma- trix as a result of processing by workers. These are processes typically related to PROC 21, 24, 25, for example: Sanding of buildings (bridges, facades) or vehicles (ships)","Substances included into or onto articles and materials with high or intended release during their service life from outdoor use. Such as tyres, treated wooden products, treated textile and fabric like sun blinds and parasols and furniture, zinc anodes in commercial shipping and pleasure craft, and brake pads in trucks or cars. This also includes releases from the article ma- trix as a result of processing by workers. These are processes typically related to PROC 21, 24, 25, for example: Sanding of buildings (bridges, facades) or vehicles (ships)",{"$f":"IF(AND(H122=\"Y\",CSA!B$15=\"YES\"),IF(E122=\"\",\"***TRANSLATED TEXT MISSING***\",E122&IF(C122=\"\",G122&\" \",IF(OR(LEFT(C122,5)<>\"INEOS\", AND(LEFT(C122,5)=\"INEOS\",WPG!H$522=\"NO\")),\" [\"&C122&\"]\"&G122&\" \",G122&\" \"))),IF(E122=\"\",\"***TRANSLATED TEXT MISSING***\",E122&G122&\" \"))","v":"Substances included into or onto articles and materials with high or intended release during their service life from outdoor use. Such as tyres, treated wooden products, treated textile and fabric like sun blinds and parasols and furniture, zinc anodes in commercial shipping and pleasure craft, and brake pads in trucks or cars. This also includes releases from the article ma- trix as a result of processing by workers. These are processes typically related to PROC 21, 24, 25, for example: Sanding of buildings (bridges, facades) or vehicles (ships). "},".","N"]
["ERC11a","ERC11a_d","ERC11a","Low release of substances included into or onto articles and materials during their service life from indoor use. For example, flooring, furniture, toys, construction materials, curtains, foot- wear, leather products, paper and cardboard products (magazines, books, news paper and packaging paper), electronic equipment (casing)","Low release of substances included into or onto articles and materials during their service life from indoor use. For example, flooring, furniture, toys, construction materials, curtains, foot- wear, leather products, paper and cardboard products (magazines, books, news paper and packaging paper), electronic equipment (casing)",{"$f":"IF(AND(H123=\"Y\",CSA!B$15=\"YES\"),IF(E123=\"\",\"***TRANSLATED TEXT MISSING***\",E123&IF(C123=\"\",G123&\" \",IF(OR(LEFT(C123,5)<>\"INEOS\", AND(LEFT(C123,5)=\"INEOS\",WPG!H$522=\"NO\")),\" [\"&C123&\"]\"&G123&\" \",G123&\" \"))),IF(E123=\"\",\"***TRANSLATED TEXT MISSING***\",E123&G123&\" \"))","v":"Low release of substances included into or onto articles and materials during their service life from indoor use. For example, flooring, furniture, toys, construction materials, curtains, foot- wear, leather products, paper and cardboard products (magazines, books, news paper and packaging paper), electronic equipment (casing). "},".","N"]
["ERC11b","ERC11b_d","ERC11b","Substances included into or onto articles and materials with high or intended release during their service life from indoor use. For example: release from fabrics, textiles (clothing, floor rugs) during washing. This also includes releases from the arti- cle matrix as a result of processing by workers. These are processes typically related to PROC 21, 24, 25. For example removal of indoor paints","Substances included into or onto articles and materials with high or intended release during their service life from indoor use. For example: release from fabrics, textiles (clothing, floor rugs) during washing. This also includes releases from the arti- cle matrix as a result of processing by workers. These are processes typically related to PROC 21, 24, 25. For example removal of indoor paints",{"$f":"IF(AND(H124=\"Y\",CSA!B$15=\"YES\"),IF(E124=\"\",\"***TRANSLATED TEXT MISSING***\",E124&IF(C124=\"\",G124&\" \",IF(OR(LEFT(C124,5)<>\"INEOS\", AND(LEFT(C124,5)=\"INEOS\",WPG!H$522=\"NO\")),\" [\"&C124&\"]\"&G124&\" \",G124&\" \"))),IF(E124=\"\",\"***TRANSLATED TEXT MISSING***\",E124&G124&\" \"))","v":"Substances included into or onto articles and materials with high or intended release during their service life from indoor use. For example: release from fabrics, textiles (clothing, floor rugs) during washing. This also includes releases from the arti- cle matrix as a result of processing by workers. These are processes typically related to PROC 21, 24, 25. For example removal of indoor paints. "},".","N"]
["ERC12a","ERC12a_d","ERC12a","Substances included into or onto articles and materials are released (intended or not) from the article matrix as a result of processing by workers. These processes are typically related to PROC 21, 24, 25. Processes where the removal of material is intended, but the expected release remains low, include for example: cutting of textile, cutting, machining or grinding of metal or polymers in engineering industries","Substances included into or onto articles and materials are released (intended or not) from the article matrix as a result of processing by workers. These processes are typically related to PROC 21, 24, 25. Processes where the removal of material is intended, but the expected release remains low, include for example: cutting of textile, cutting, machining or grinding of metal or polymers in engineering industries",{"$f":"IF(AND(H125=\"Y\",CSA!B$15=\"YES\"),IF(E125=\"\",\"***TRANSLATED TEXT MISSING***\",E125&IF(C125=\"\",G125&\" \",IF(OR(LEFT(C125,5)<>\"INEOS\", AND(LEFT(C125,5)=\"INEOS\",WPG!H$522=\"NO\")),\" [\"&C125&\"]\"&G125&\" \",G125&\" \"))),IF(E125=\"\",\"***TRANSLATED TEXT MISSING***\",E125&G125&\" \"))","v":"Substances included into or onto articles and materials are released (intended or not) from the article matrix as a result of processing by workers. These processes are typically related to PROC 21, 24, 25. Processes where the removal of material is intended, but the expected release remains low, include for example: cutting of textile, cutting, machining or grinding of metal or polymers in engineering industries. "},".","N"]
["ERC12b","ERC12b_d","ERC12b","Substances included into or onto articles and materials are re- leased (intended or not) from/with the article matrix as a result of processing by workers. These processes are typically related to PROC 21, 24, 25. Processes where the removal of material is intended, and high amounts of dust may be expected, includes for example: sanding operations or paint stripping by shot-blasting","Substances included into or onto articles and materials are re- leased (intended or not) from/with the article matrix as a result of processing by workers. These processes are typically related to PROC 21, 24, 25. Processes where the removal of material is intended, and high amounts of dust may be expected, includes for example: sanding operations or paint stripping by shot-blasting",{"$f":"IF(AND(H126=\"Y\",CSA!B$15=\"YES\"),IF(E126=\"\",\"***TRANSLATED TEXT MISSING***\",E126&IF(C126=\"\",G126&\" \",IF(OR(LEFT(C126,5)<>\"INEOS\", AND(LEFT(C126,5)=\"INEOS\",WPG!H$522=\"NO\")),\" [\"&C126&\"]\"&G126&\" \",G126&\" \"))),IF(E126=\"\",\"***TRANSLATED TEXT MISSING***\",E126&G126&\" \"))","v":"Substances included into or onto articles and materials are re- leased (intended or not) from/with the article matrix as a result of processing by workers. These processes are typically related to PROC 21, 24, 25. Processes where the removal of material is intended, and high amounts of dust may be expected, includes for example: sanding operations or paint stripping by shot-blasting. "},".","N"]
[null,null,null,null,null," "]
[null,null,null,null,null," "]
[null,null,null,null,null," "]
[]
[null,"SU3","SU3","Industrial uses: Uses of substances as such or in preparations at industrial sites","Industrial uses: Uses of substances as such or in preparations at industrial sites",{"$f":"IF(AND(H131=\"Y\",CSA!B$15=\"YES\"),IF(E131=\"\",\"***TRANSLATED TEXT MISSING***\",E131&IF(C131=\"\",G131&\" \",IF(OR(LEFT(C131,5)<>\"INEOS\", AND(LEFT(C131,5)=\"INEOS\",WPG!H$522=\"NO\")),\" [\"&C131&\"]\"&G131&\" \",G131&\" \"))),IF(E131=\"\",\"***TRANSLATED TEXT MISSING***\",E131&G131&\" \"))","v":"Industrial uses: Uses of substances as such or in preparations at industrial sites [SU3]. "},".","Y"]
[null,"SU21","SU21","Consumer uses: Private households (= general public = consumers)","Consumer uses: Private households (= general public = consumers)",{"$f":"IF(AND(H132=\"Y\",CSA!B$15=\"YES\"),IF(E132=\"\",\"***TRANSLATED TEXT MISSING***\",E132&IF(C132=\"\",G132&\" \",IF(OR(LEFT(C132,5)<>\"INEOS\", AND(LEFT(C132,5)=\"INEOS\",WPG!H$522=\"NO\")),\" [\"&C132&\"]\"&G132&\" \",G132&\" \"))),IF(E132=\"\",\"***TRANSLATED TEXT MISSING***\",E132&G132&\" \"))","v":"Consumer uses: Private households (= general public = consumers) [SU21]. "},".","Y"]
[null,"SU22","SU22","Professional uses: Public domain (administration, education, entertainment, services, craftsmen)","Professional uses: Public domain (administration, education, entertainment, services, craftsmen)",{"$f":"IF(AND(H133=\"Y\",CSA!B$15=\"YES\"),IF(E133=\"\",\"***TRANSLATED TEXT MISSING***\",E133&IF(C133=\"\",G133&\" \",IF(OR(LEFT(C133,5)<>\"INEOS\", AND(LEFT(C133,5)=\"INEOS\",WPG!H$522=\"NO\")),\" [\"&C133&\"]\"&G133&\" \",G133&\" \"))),IF(E133=\"\",\"***TRANSLATED TEXT MISSING***\",E133&G133&\" \"))","v":"Professional uses: Public domain (administration, education, entertainment, services, craftsmen) [SU22]. "},".","Y"]
[null,null,null,null,null,{"$f":"IF(AND(H134=\"Y\",CSA!B$15=\"YES\"),IF(E134=\"\",\"***TRANSLATED TEXT MISSING***\",E134&IF(C134=\"\",G134&\" \",IF(OR(LEFT(C134,5)<>\"INEOS\", AND(LEFT(C134,5)=\"INEOS\",WPG!H$522=\"NO\")),\" [\"&C134&\"]\"&G134&\" \",G134&\" \"))),IF(E134=\"\",\"***TRANSLATED TEXT MISSING***\",E134&G134&\" \"))","v":"***TRANSLATED TEXT MISSING***"},".","Y"]
[null,"SU1","SU1","Agriculture, forestry, fishery","Agriculture, forestry, fishery",{"$f":"IF(AND(H135=\"Y\",CSA!B$15=\"YES\"),IF(E135=\"\",\"***TRANSLATED TEXT MISSING***\",E135&IF(C135=\"\",G135&\" \",IF(OR(LEFT(C135,5)<>\"INEOS\", AND(LEFT(C135,5)=\"INEOS\",WPG!H$522=\"NO\")),\" [\"&C135&\"]\"&G135&\" \",G135&\" \"))),IF(E135=\"\",\"***TRANSLATED TEXT MISSING***\",E135&G135&\" \"))","v":"Agriculture, forestry, fishery [SU1]. "},".","Y"]
[null,"SU2a","SU2a","Mining, (without offshore industries)","Mining, (without offshore industries)",{"$f":"IF(AND(H136=\"Y\",CSA!B$15=\"YES\"),IF(E136=\"\",\"***TRANSLATED TEXT MISSING***\",E136&IF(C136=\"\",G136&\" \",IF(OR(LEFT(C136,5)<>\"INEOS\", AND(LEFT(C136,5)=\"INEOS\",WPG!H$522=\"NO\")),\" [\"&C136&\"]\"&G136&\" \",G136&\" \"))),IF(E136=\"\",\"***TRANSLATED TEXT MISSING***\",E136&G136&\" \"))","v":"Mining, (without offshore industries) [SU2a]. "},".","Y"]
[null,"SU2b","SU2b","Offshore industries","Offshore industries",{"$f":"IF(AND(H137=\"Y\",CSA!B$15=\"YES\"),IF(E137=\"\",\"***TRANSLATED TEXT MISSING***\",E137&IF(C137=\"\",G137&\" \",IF(OR(LEFT(C137,5)<>\"INEOS\", AND(LEFT(C137,5)=\"INEOS\",WPG!H$522=\"NO\")),\" [\"&C137&\"]\"&G137&\" \",G137&\" \"))),IF(E137=\"\",\"***TRANSLATED TEXT MISSING***\",E137&G137&\" \"))","v":"Offshore industries [SU2b]. "},".","Y"]
[null,"SU4","SU4","Manufacture of food products","Manufacture of food products",{"$f":"IF(AND(H138=\"Y\",CSA!B$15=\"YES\"),IF(E138=\"\",\"***TRANSLATED TEXT MISSING***\",E138&IF(C138=\"\",G138&\" \",IF(OR(LEFT(C138,5)<>\"INEOS\", AND(LEFT(C138,5)=\"INEOS\",WPG!H$522=\"NO\")),\" [\"&C138&\"]\"&G138&\" \",G138&\" \"))),IF(E138=\"\",\"***TRANSLATED TEXT MISSING***\",E138&G138&\" \"))","v":"Manufacture of food products [SU4]. "},".","Y"]
[null,"SU5","SU5","Manufacture of textiles, leather, fur","Manufacture of textiles, leather, fur",{"$f":"IF(AND(H139=\"Y\",CSA!B$15=\"YES\"),IF(E139=\"\",\"***TRANSLATED TEXT MISSING***\",E139&IF(C139=\"\",G139&\" \",IF(OR(LEFT(C139,5)<>\"INEOS\", AND(LEFT(C139,5)=\"INEOS\",WPG!H$522=\"NO\")),\" [\"&C139&\"]\"&G139&\" \",G139&\" \"))),IF(E139=\"\",\"***TRANSLATED TEXT MISSING***\",E139&G139&\" \"))","v":"Manufacture of textiles, leather, fur [SU5]. "},".","Y"]
[null,"SU6a","SU6a","Manufacture of wood and wood products","Manufacture of wood and wood products",{"$f":"IF(AND(H140=\"Y\",CSA!B$15=\"YES\"),IF(E140=\"\",\"***TRANSLATED TEXT MISSING***\",E140&IF(C140=\"\",G140&\" \",IF(OR(LEFT(C140,5)<>\"INEOS\", AND(LEFT(C140,5)=\"INEOS\",WPG!H$522=\"NO\")),\" [\"&C140&\"]\"&G140&\" \",G140&\" \"))),IF(E140=\"\",\"***TRANSLATED TEXT MISSING***\",E140&G140&\" \"))","v":"Manufacture of wood and wood products [SU6a]. "},".","Y"]
[null,"SU6b","SU6b","Manufacture of pulp, paper and paper products","Manufacture of pulp, paper and paper products",{"$f":"IF(AND(H141=\"Y\",CSA!B$15=\"YES\"),IF(E141=\"\",\"***TRANSLATED TEXT MISSING***\",E141&IF(C141=\"\",G141&\" \",IF(OR(LEFT(C141,5)<>\"INEOS\", AND(LEFT(C141,5)=\"INEOS\",WPG!H$522=\"NO\")),\" [\"&C141&\"]\"&G141&\" \",G141&\" \"))),IF(E141=\"\",\"***TRANSLATED TEXT MISSING***\",E141&G141&\" \"))","v":"Manufacture of pulp, paper and paper products [SU6b]. "},".","Y"]
[null,"SU7","SU7","Printing and reproduction of recorded media","Printing and reproduction of recorded media",{"$f":"IF(AND(H142=\"Y\",CSA!B$15=\"YES\"),IF(E142=\"\",\"***TRANSLATED TEXT MISSING***\",E142&IF(C142=\"\",G142&\" \",IF(OR(LEFT(C142,5)<>\"INEOS\", AND(LEFT(C142,5)=\"INEOS\",WPG!H$522=\"NO\")),\" [\"&C142&\"]\"&G142&\" \",G142&\" \"))),IF(E142=\"\",\"***TRANSLATED TEXT MISSING***\",E142&G142&\" \"))","v":"Printing and reproduction of recorded media [SU7]. "},".","Y"]
[null,"SU8","SU8","Manufacture of bulk, large scale chemicals (including petroleum products)","Manufacture of bulk, large scale chemicals (including petroleum products)",{"$f":"IF(AND(H143=\"Y\",CSA!B$15=\"YES\"),IF(E143=\"\",\"***TRANSLATED TEXT MISSING***\",E143&IF(C143=\"\",G143&\" \",IF(OR(LEFT(C143,5)<>\"INEOS\", AND(LEFT(C143,5)=\"INEOS\",WPG!H$522=\"NO\")),\" [\"&C143&\"]\"&G143&\" \",G143&\" \"))),IF(E143=\"\",\"***TRANSLATED TEXT MISSING***\",E143&G143&\" \"))","v":"Manufacture of bulk, large scale chemicals (including petroleum products) [SU8]. "},".","Y"]
[null,"SU9","SU9","Manufacture of fine chemicals","Manufacture of fine chemicals",{"$f":"IF(AND(H144=\"Y\",CSA!B$15=\"YES\"),IF(E144=\"\",\"***TRANSLATED TEXT MISSING***\",E144&IF(C144=\"\",G144&\" \",IF(OR(LEFT(C144,5)<>\"INEOS\", AND(LEFT(C144,5)=\"INEOS\",WPG!H$522=\"NO\")),\" [\"&C144&\"]\"&G144&\" \",G144&\" \"))),IF(E144=\"\",\"***TRANSLATED TEXT MISSING***\",E144&G144&\" \"))","v":"Manufacture of fine chemicals [SU9]. "},".","Y"]
[null,"SU10","SU10","Formulation [mixing] of preparations and/or re-packaging (excluding alloys)","Formulation [mixing] of preparations and/or re-packaging (excluding alloys)",{"$f":"IF(AND(H145=\"Y\",CSA!B$15=\"YES\"),IF(E145=\"\",\"***TRANSLATED TEXT MISSING***\",E145&IF(C145=\"\",G145&\" \",IF(OR(LEFT(C145,5)<>\"INEOS\", AND(LEFT(C145,5)=\"INEOS\",WPG!H$522=\"NO\")),\" [\"&C145&\"]\"&G145&\" \",G145&\" \"))),IF(E145=\"\",\"***TRANSLATED TEXT MISSING***\",E145&G145&\" \"))","v":"Formulation [mixing] of preparations and/or re-packaging (excluding alloys) [SU10]. "},".","Y"]
[null,"SU11","SU11","Manufacture of rubber products","Manufacture of rubber products",{"$f":"IF(AND(H146=\"Y\",CSA!B$15=\"YES\"),IF(E146=\"\",\"***TRANSLATED TEXT MISSING***\",E146&IF(C146=\"\",G146&\" \",IF(OR(LEFT(C146,5)<>\"INEOS\", AND(LEFT(C146,5)=\"INEOS\",WPG!H$522=\"NO\")),\" [\"&C146&\"]\"&G146&\" \",G146&\" \"))),IF(E146=\"\",\"***TRANSLATED TEXT MISSING***\",E146&G146&\" \"))","v":"Manufacture of rubber products [SU11]. "},".","Y"]
[null,"SU12","SU12","Manufacture of plastics products, including compounding and conversion","Manufacture of plastics products, including compounding and conversion",{"$f":"IF(AND(H147=\"Y\",CSA!B$15=\"YES\"),IF(E147=\"\",\"***TRANSLATED TEXT MISSING***\",E147&IF(C147=\"\",G147&\" \",IF(OR(LEFT(C147,5)<>\"INEOS\", AND(LEFT(C147,5)=\"INEOS\",WPG!H$522=\"NO\")),\" [\"&C147&\"]\"&G147&\" \",G147&\" \"))),IF(E147=\"\",\"***TRANSLATED TEXT MISSING***\",E147&G147&\" \"))","v":"Manufacture of plastics products, including compounding and conversion [SU12]. "},".","Y"]
[null,"SU13","SU13","Manufacture of other non-metallic mineral products, e.g. plasters, cement","Manufacture of other non-metallic mineral products, e.g. plasters, cement",{"$f":"IF(AND(H148=\"Y\",CSA!B$15=\"YES\"),IF(E148=\"\",\"***TRANSLATED TEXT MISSING***\",E148&IF(C148=\"\",G148&\" \",IF(OR(LEFT(C148,5)<>\"INEOS\", AND(LEFT(C148,5)=\"INEOS\",WPG!H$522=\"NO\")),\" [\"&C148&\"]\"&G148&\" \",G148&\" \"))),IF(E148=\"\",\"***TRANSLATED TEXT MISSING***\",E148&G148&\" \"))","v":"Manufacture of other non-metallic mineral products, e.g. plasters, cement [SU13]. "},".","Y"]
[null,"SU14","SU14","Manufacture of basic metals, including alloys","Manufacture of basic metals, including alloys",{"$f":"IF(AND(H149=\"Y\",CSA!B$15=\"YES\"),IF(E149=\"\",\"***TRANSLATED TEXT MISSING***\",E149&IF(C149=\"\",G149&\" \",IF(OR(LEFT(C149,5)<>\"INEOS\", AND(LEFT(C149,5)=\"INEOS\",WPG!H$522=\"NO\")),\" [\"&C149&\"]\"&G149&\" \",G149&\" \"))),IF(E149=\"\",\"***TRANSLATED TEXT MISSING***\",E149&G149&\" \"))","v":"Manufacture of basic metals, including alloys [SU14]. "},".","Y"]
[null,"SU15","SU15","Manufacture of fabricated metal products, except machinery and equipment","Manufacture of fabricated metal products, except machinery and equipment",{"$f":"IF(AND(H150=\"Y\",CSA!B$15=\"YES\"),IF(E150=\"\",\"***TRANSLATED TEXT MISSING***\",E150&IF(C150=\"\",G150&\" \",IF(OR(LEFT(C150,5)<>\"INEOS\", AND(LEFT(C150,5)=\"INEOS\",WPG!H$522=\"NO\")),\" [\"&C150&\"]\"&G150&\" \",G150&\" \"))),IF(E150=\"\",\"***TRANSLATED TEXT MISSING***\",E150&G150&\" \"))","v":"Manufacture of fabricated metal products, except machinery and equipment [SU15]. "},".","Y"]
[null,"SU16","SU16","Manufacture of computer, electronic and optical products, electrical equipment","Manufacture of computer, electronic and optical products, electrical equipment",{"$f":"IF(AND(H151=\"Y\",CSA!B$15=\"YES\"),IF(E151=\"\",\"***TRANSLATED TEXT MISSING***\",E151&IF(C151=\"\",G151&\" \",IF(OR(LEFT(C151,5)<>\"INEOS\", AND(LEFT(C151,5)=\"INEOS\",WPG!H$522=\"NO\")),\" [\"&C151&\"]\"&G151&\" \",G151&\" \"))),IF(E151=\"\",\"***TRANSLATED TEXT MISSING***\",E151&G151&\" \"))","v":"Manufacture of computer, electronic and optical products, electrical equipment [SU16]. "},".","Y"]
[null,"SU17","SU17","General manufacturing, e.g. machinery, equipment, vehicles, other transport equipment","General manufacturing, e.g. machinery, equipment, vehicles, other transport equipment",{"$f":"IF(AND(H152=\"Y\",CSA!B$15=\"YES\"),IF(E152=\"\",\"***TRANSLATED TEXT MISSING***\",E152&IF(C152=\"\",G152&\" \",IF(OR(LEFT(C152,5)<>\"INEOS\", AND(LEFT(C152,5)=\"INEOS\",WPG!H$522=\"NO\")),\" [\"&C152&\"]\"&G152&\" \",G152&\" \"))),IF(E152=\"\",\"***TRANSLATED TEXT MISSING***\",E152&G152&\" \"))","v":"General manufacturing, e.g. machinery, equipment, vehicles, other transport equipment [SU17]. "},".","Y"]
[null,"SU18","SU18","Manufacture of furniture","Manufacture of furniture",{"$f":"IF(AND(H153=\"Y\",CSA!B$15=\"YES\"),IF(E153=\"\",\"***TRANSLATED TEXT MISSING***\",E153&IF(C153=\"\",G153&\" \",IF(OR(LEFT(C153,5)<>\"INEOS\", AND(LEFT(C153,5)=\"INEOS\",WPG!H$522=\"NO\")),\" [\"&C153&\"]\"&G153&\" \",G153&\" \"))),IF(E153=\"\",\"***TRANSLATED TEXT MISSING***\",E153&G153&\" \"))","v":"Manufacture of furniture [SU18]. "},".","Y"]
[null,"SU19","SU19","Building and construction work","Building and construction work",{"$f":"IF(AND(H154=\"Y\",CSA!B$15=\"YES\"),IF(E154=\"\",\"***TRANSLATED TEXT MISSING***\",E154&IF(C154=\"\",G154&\" \",IF(OR(LEFT(C154,5)<>\"INEOS\", AND(LEFT(C154,5)=\"INEOS\",WPG!H$522=\"NO\")),\" [\"&C154&\"]\"&G154&\" \",G154&\" \"))),IF(E154=\"\",\"***TRANSLATED TEXT MISSING***\",E154&G154&\" \"))","v":"Building and construction work [SU19]. "},".","Y"]
[null,"SU20","SU20","Health services","Health services",{"$f":"IF(AND(H155=\"Y\",CSA!B$15=\"YES\"),IF(E155=\"\",\"***TRANSLATED TEXT MISSING***\",E155&IF(C155=\"\",G155&\" \",IF(OR(LEFT(C155,5)<>\"INEOS\", AND(LEFT(C155,5)=\"INEOS\",WPG!H$522=\"NO\")),\" [\"&C155&\"]\"&G155&\" \",G155&\" \"))),IF(E155=\"\",\"***TRANSLATED TEXT MISSING***\",E155&G155&\" \"))","v":"Health services [SU20]. "},".","Y"]
[null,"SU23","SU23","Electricity, steam, gas water supply and sewage treatment","Electricity, steam, gas water supply and sewage treatment",{"$f":"IF(AND(H156=\"Y\",CSA!B$15=\"YES\"),IF(E156=\"\",\"***TRANSLATED TEXT MISSING***\",E156&IF(C156=\"\",G156&\" \",IF(OR(LEFT(C156,5)<>\"INEOS\", AND(LEFT(C156,5)=\"INEOS\",WPG!H$522=\"NO\")),\" [\"&C156&\"]\"&G156&\" \",G156&\" \"))),IF(E156=\"\",\"***TRANSLATED TEXT MISSING***\",E156&G156&\" \"))","v":"Electricity, steam, gas water supply and sewage treatment [SU23]. "},".","Y"]
[null,"SU24","SU24","Scientific research and development","Scientific research and development",{"$f":"IF(AND(H157=\"Y\",CSA!B$15=\"YES\"),IF(E157=\"\",\"***TRANSLATED TEXT MISSING***\",E157&IF(C157=\"\",G157&\" \",IF(OR(LEFT(C157,5)<>\"INEOS\", AND(LEFT(C157,5)=\"INEOS\",WPG!H$522=\"NO\")),\" [\"&C157&\"]\"&G157&\" \",G157&\" \"))),IF(E157=\"\",\"***TRANSLATED TEXT MISSING***\",E157&G157&\" \"))","v":"Scientific research and development [SU24]. "},".","Y"]
[null,"SU0","SU0","Other","Other",{"$f":"IF(AND(H158=\"Y\",CSA!B$15=\"YES\"),IF(E158=\"\",\"***TRANSLATED TEXT MISSING***\",E158&IF(C158=\"\",G158&\" \",IF(OR(LEFT(C158,5)<>\"INEOS\", AND(LEFT(C158,5)=\"INEOS\",WPG!H$522=\"NO\")),\" [\"&C158&\"]\"&G158&\" \",G158&\" \"))),IF(E158=\"\",\"***TRANSLATED TEXT MISSING***\",E158&G158&\" \"))","v":"Other [SU0]. "},".","Y"]
[null,null,null,null,null,{"$f":"IF(H159=\"Y\",E159&IF(C159=\"\",G159&\" \",\" [\"&C159&\"]\"&G159&\" \"),E159&G159&\" \")","v":" "}]
[null,null,null,null,null," "]
[null,null,null,null,null," "]
[null,null,null,null,null," "]
[null,null,null,null,null," "]

{"sheet":"Inhalation data","index":7,"n_rows":24,"n_cols":45,"rows_kept":24,"cut":false,"hidden":false,"merged":[]}
[null,"Industrial","Industrial","Industrial","Industrial","Professional","Professional","Professional low","Professional","Linear parameters - Ind#",null,"Linear parameters - Prof#",null,"LEV efficiency",null,"LEV RRM","LEV RRM","NOT USED","NOT USED","Low vapour pressure","Low vapour pressure","Additional skin protection phrase","Aerosol mg/m3 (medium) - INDUSTR.","Aerosol mg/m3 (medium) - PROFESS.","RMM 1 Choice 1","RMM 1 Choice 1","RMM 1 Choice 2","RMM 1 Choice 2","RMM 1 Choice 3","RMM 1 Choice 3","RMM 2 Choice 1","RMM 2 Choice 1","RMM 2 Choice 2","RMM 2 Choice 2","RMM 2 Choice 3","RMM 2 Choice 3","RMM 3 Choice 1","RMM 3 Choice 1","RMM 3 Choice 2","RMM 3 Choice 2","RMM 3 Choice 3","RMM 3 Choice 3","|ECETOC very low Ind","ECETOC very low Prof","Multiplier for 8hr to 15 min exposure"]
["PROC","High fugacity","Medium fugacity","Low fugacity default","Low fugacity","High fugacity","Medium fugacity","fugacity default","Low fugacity","A","B","A","B","Industrial","Professional","Industrial","Professional",null,null,"calculation Industrial","calculation Professional#","if appropriate",null,null,"Text choice","Reduction factor","Text choice","Reduction factor","Text choice","Reduction factor","Text choice","Reduction factor","Text choice","Reduction factor","Text choice","Reduction factor","Text choice","Reduction factor","Text choice","Reduction factor","Text choice","Reduction factor"]
["1 - Use in closed process, no likelihood of exposure",0.01,0.01,0.01,0.01,0.01,0.01,0.01,0.01,null,null,null,null,0,0,null,null,null,null,null,null,null,0.01,0.01,null,null,null,null,null,null,null,null,null,null,null,null,null,null,null,null,null,null,0.01,0.01,4]
["2 - Use in closed, continuous  process with occasional controlled exposure ",25,5,1,{"$f":"IF(AND(OR(CSA!B$7=\"NO\",CSA!B$7=\"\"),CSA!B$8=\"NO\"),IF(CSA!E$8<0.01,AQ4,D4),IF(AND(CSA!B$7=\"NO\",CSA!B$8=\"YES\"),MIN(IF(CSA!E$8<0.01,AQ4,D4),CSA!$BB$10),MIN(IF(CSA!B$8=\"NO\",IF(CSA!E$8<0.01,AQ4,D4),CSA!BB$10),IF(T4>10,MROUND(T4,5),ROUND(T4,1-1-INT(LOG10(ABS(T4))))))))","v":1},50,20,5,{"$f":"IF(AND(OR(CSA!B$7=\"NO\",CSA!B$7=\"\"),CSA!B$8=\"NO\"),IF(CSA!E$8<0.01,AR4,H4),IF(AND(CSA!B$7=\"NO\",CSA!B$8=\"YES\"),MIN(IF(CSA!E$8<0.01,AR4,H4),CSA!$BB$10),MIN(IF(CSA!B$8=\"NO\",IF(CSA!E$8<0.01,AR4,H4),CSA!BB$10),IF(U4>10,MROUND(U4,5),ROUND(U4,1-1-INT(LOG10(ABS(U4))))))))","v":5},0.46256799999999998,-0.48731999999999998,0.33389480790542819,0.37669536295739114,90,80,{"$f":"WPG!F$392","v":"Handle substance within a predominantly closed system provided with extract ventilation [E49]. "},{"$f":"WPG!$F$392","v":"Handle substance within a predominantly closed system provided with extract ventilation [E49]. "},null,null,{"$f":"10^(J4*LOG(CSA!E$8)+K4)","v":7.5721297853169318},{"$f":"10^(L4*LOG(CSA!E$8)+M4)","v":23.072868885735939},null,0.5,1,{"$f":"WPG!D$432","v":"Use a sampling system designed to control exposure"},80,{"$f":"WPG!D$373","v":"Sample via a closed loop or other system to avoid exposure"},95,{"$f":"WPG!$D419","v":"Ensure samples are obtained under containment or extract ventilation"},80,null,null,null,null,null,null,null,null,null,null,null,null,0.1,0.1,4]
["3 - Use in closed batch process (synthesis or formulation)",50,10,3,{"$f":"IF(AND(OR(CSA!B$7=\"NO\",CSA!B$7=\"\"),CSA!B$8=\"NO\"),IF(CSA!E$8<0.01,AQ5,D5),IF(AND(CSA!B$7=\"NO\",CSA!B$8=\"YES\"),MIN(IF(CSA!E$8<0.01,AQ5,D5),CSA!$BB$10),MIN(IF(CSA!B$8=\"NO\",IF(CSA!E$8<0.01,AQ5,D5),CSA!BB$10),IF(T5>10,MROUND(T5,5),ROUND(T5,1-1-INT(LOG10(ABS(T5))))))))","v":3},100,25,3,{"$f":"IF(AND(OR(CSA!B$7=\"NO\",CSA!B$7=\"\"),CSA!B$8=\"NO\"),IF(CSA!E$8<0.01,AR5,H5),IF(AND(CSA!B$7=\"NO\",CSA!B$8=\"YES\"),MIN(IF(CSA!E$8<0.01,AR5,H5),CSA!$BB$10),MIN(IF(CSA!B$8=\"NO\",IF(CSA!E$8<0.01,AR5,H5),CSA!BB$10),IF(U5>10,MROUND(U5,5),ROUND(U5,1-1-INT(LOG10(ABS(U5))))))))","v":3},0.40171099999999998,2.8483999999999999E-2,0.50859762496152772,-1.2644123982536337E-2,90,80,{"$f":"WPG!F$392","v":"Handle substance within a predominantly closed system provided with extract ventilation [E49]. "},{"$f":"WPG!$F$392","v":"Handle substance within a predominantly closed system provided with extract ventilation [E49]. "},null,null,{"$f":"10^(J5*LOG(CSA!E$8)+K5)","v":16.414804426372111},{"$f":"10^(L5*LOG(CSA!E$8)+M5)","v":30.89417482930893},null,1,1,{"$f":"WPG!D$432","v":"Use a sampling system designed to control exposure"},80,{"$f":"WPG!D$373","v":"Sample via a closed loop or other system to avoid exposure"},95,{"$f":"WPG!$D419","v":"Ensure samples are obtained under containment or extract ventilation"},80,null,null,null,null,null,null,null,null,null,null,null,null,0.1,0.1,4]
["4 - Use in batch and other process (synthesis) where opportunity for exposure arises ",100,20,5,{"$f":"IF(AND(OR(CSA!B$7=\"NO\",CSA!B$7=\"\"),CSA!B$8=\"NO\"),IF(CSA!E$8<0.01,AQ6,D6),IF(AND(CSA!B$7=\"NO\",CSA!B$8=\"YES\"),MIN(IF(CSA!E$8<0.01,AQ6,D6),CSA!$BB$10),MIN(IF(CSA!B$8=\"NO\",IF(CSA!E$8<0.01,AQ6,D6),CSA!BB$10),IF(T6>10,MROUND(T6,5),ROUND(T6,1-1-INT(LOG10(ABS(T6))))))))","v":5},250,50,10,{"$f":"IF(AND(OR(CSA!B$7=\"NO\",CSA!B$7=\"\"),CSA!B$8=\"NO\"),IF(CSA!E$8<0.01,AR6,H6),IF(AND(CSA!B$7=\"NO\",CSA!B$8=\"YES\"),MIN(IF(CSA!E$8<0.01,AR6,H6),CSA!$BB$10),MIN(IF(CSA!B$8=\"NO\",IF(CSA!E$8<0.01,AR6,H6),CSA!BB$10),IF(U6>10,MROUND(U6,5),ROUND(U6,1-1-INT(LOG10(ABS(U6))))))))","v":10},0.42907601984895999,0.23294037542762314,0.46256814557226261,0.51268434307161681,90,80,{"$f":"WPG!F$397","v":"Provide extract ventilation to points where emissions occur [E54]. "},{"$f":"WPG!$F$397","v":"Provide extract ventilation to points where emissions occur [E54]. "},null,null,{"$f":"10^(J6*LOG(CSA!E$8)+K6)","v":31.661755660637631},{"$f":"10^(L6*LOG(CSA!E$8)+M6)","v":75.722130075086724},null,5,5,{"$f":"WPG!D$432","v":"Use a sampling system designed to control exposure"},80,{"$f":"WPG!D$373","v":"Sample via a closed loop or other system to avoid exposure"},95,{"$f":"WPG!$D421","v":0},80,null,null,null,null,null,null,null,null,null,null,null,null,0.1,0.1,4]
["5 -Mixing or blending in batch processes (multistage and/or significant contact)",250,50,5,{"$f":"IF(AND(OR(CSA!B$7=\"NO\",CSA!B$7=\"\"),CSA!B$8=\"NO\"),IF(CSA!E$8<0.01,AQ7,D7),IF(AND(CSA!B$7=\"NO\",CSA!B$8=\"YES\"),MIN(IF(CSA!E$8<0.01,AQ7,D7),CSA!$BB$10),MIN(IF(CSA!B$8=\"NO\",IF(CSA!E$8<0.01,AQ7,D7),CSA!BB$10),IF(T7>10,MROUND(T7,5),ROUND(T7,1-1-INT(LOG10(ABS(T7))))))))","v":5},500,100,10,{"$f":"IF(AND(OR(CSA!B$7=\"NO\",CSA!B$7=\"\"),CSA!B$8=\"NO\"),IF(CSA!E$8<0.01,AR7,H7),IF(AND(CSA!B$7=\"NO\",CSA!B$8=\"YES\"),MIN(IF(CSA!E$8<0.01,AR7,H7),CSA!$BB$10),MIN(IF(CSA!B$8=\"NO\",IF(CSA!E$8<0.01,AR7,H7),CSA!BB$10),IF(U7>10,MROUND(U7,5),ROUND(U7,1-1-INT(LOG10(ABS(U7))))))))","v":10},0.566604190438185,0.14553390511621322,0.56660419043818488,0.4465639007801947,90,80,{"$f":"WPG!F$397","v":"Provide extract ventilation to points where emissions occur [E54]. "},{"$f":"WPG!$F$397","v":"Provide extract ventilation to points where emissions occur [E54]. "},null,null,{"$f":"10^(J7*LOG(CSA!E$8)+K7)","v":65.981181881273386},{"$f":"10^(L7*LOG(CSA!E$8)+M7)","v":131.9623637625468},null,5,5,null,null,null,null,null,null,null,null,null,null,null,null,null,null,null,null,null,null,0.1,0.1,4]
["6 -Calendering operations",250,50,5,{"$f":"IF(AND(OR(CSA!B$7=\"NO\",CSA!B$7=\"\"),CSA!B$8=\"NO\"),IF(CSA!E$8<0.01,AQ8,D8),IF(AND(CSA!B$7=\"NO\",CSA!B$8=\"YES\"),MIN(IF(CSA!E$8<0.01,AQ8,D8),CSA!$BB$10),MIN(IF(CSA!B$8=\"NO\",IF(CSA!E$8<0.01,AQ8,D8),CSA!BB$10),IF(T8>10,MROUND(T8,5),ROUND(T8,1-1-INT(LOG10(ABS(T8))))))))","v":5},500,100,10,{"$f":"IF(AND(OR(CSA!B$7=\"NO\",CSA!B$7=\"\"),CSA!B$8=\"NO\"),IF(CSA!E$8<0.01,AR8,H8),IF(AND(CSA!B$7=\"NO\",CSA!B$8=\"YES\"),MIN(IF(CSA!E$8<0.01,AR8,H8),CSA!$BB$10),MIN(IF(CSA!B$8=\"NO\",IF(CSA!E$8<0.01,AR8,H8),CSA!BB$10),IF(U8>10,MROUND(U8,5),ROUND(U8,1-1-INT(LOG10(ABS(U8))))))))","v":10},0.566604190438185,0.14553390511621322,0.56660419043818488,0.4465639007801947,90,80,{"$f":"WPG!F$397","v":"Provide extract ventilation to points where emissions occur [E54]. "},{"$f":"WPG!$F$397","v":"Provide extract ventilation to points where emissions occur [E54]. "},null,null,{"$f":"10^(J8*LOG(CSA!E$8)+K8)","v":65.981181881273386},{"$f":"10^(L8*LOG(CSA!E$8)+M8)","v":131.9623637625468},null,5,5,null,null,{"$f":"WPG!D$420","v":"Operate activity away from sources of substance emission or release"},80,null,null,null,null,null,null,null,null,null,null,null,null,null,null,0.1,0.1,4]
["7 -Industrial spraying",500,250,100,{"$f":"IF(AND(OR(CSA!B$7=\"NO\",CSA!B$7=\"\"),CSA!B$8=\"NO\"),IF(CSA!E$8<0.01,AQ9,D9),IF(AND(CSA!B$7=\"NO\",CSA!B$8=\"YES\"),MIN(IF(CSA!E$8<0.01,AQ9,D9),CSA!$BB$10),MIN(IF(CSA!B$8=\"NO\",IF(CSA!E$8<0.01,AQ9,D9),CSA!BB$10),IF(T9>10,MROUND(T9,5),ROUND(T9,1-1-INT(LOG10(ABS(T9))))))))","v":100},"n/a","n/a","n/a","n/a",0.23270938253275675,1.7688385421588222,null,null,95,null,{"$f":"WPG!F$400","v":"Carry out in a vented booth or extracted enclosure [E57]. "},null,null,null,{"$f":"10^(J9*LOG(CSA!E$8)+K9)","v":285.96869426178813},null,{"$f":"WPG!F$369","v":"Other skin protection measures such as impervious suits and face shields may be required during high dispersion activities which are likely to lead to substantial aerosol release, e.g. Spraying [E4]. "},20,null,{"$f":"WPG!D$452","v":"Ensure operatives are trained to minimise exposures"},15,{"$f":"WPG!D$420","v":"Operate activity away from sources of substance emission or release"},80,null,null,null,null,null,null,null,null,null,null,null,null,null,null,100,null,4]
["8a -Transfer of chemicals from/to vessels/ large containers at non dedicated facilities",250,50,10,{"$f":"IF(AND(OR(CSA!B$7=\"NO\",CSA!B$7=\"\"),CSA!B$8=\"NO\"),IF(CSA!E$8<0.01,AQ10,D10),IF(AND(CSA!B$7=\"NO\",CSA!B$8=\"YES\"),MIN(IF(CSA!E$8<0.01,AQ10,D10),CSA!$BB$10),MIN(IF(CSA!B$8=\"NO\",IF(CSA!E$8<0.01,AQ10,D10),CSA!BB$10),IF(T10>10,MROUND(T10,5),ROUND(T10,1-1-INT(LOG10(ABS(T10))))))))","v":10},500,100,25,{"$f":"IF(AND(OR(CSA!B$7=\"NO\",CSA!B$7=\"\"),CSA!B$8=\"NO\"),IF(CSA!E$8<0.01,AR10,H10),IF(AND(CSA!B$7=\"NO\",CSA!B$8=\"YES\"),MIN(IF(CSA!E$8<0.01,AR10,H10),CSA!$BB$10),MIN(IF(CSA!B$8=\"NO\",IF(CSA!E$8<0.01,AR10,H10),CSA!BB$10),IF(U10>10,MROUND(U10,5),ROUND(U10,1-1-INT(LOG10(ABS(U10))))))))","v":25},0.46256814557226261,0.51268434307161681,0.42907601984896004,0.9319103797636421,90,80,{"$f":"WPG!F$425","v":"Provide extract ventilation to material transfer points and other openings [E82]. "},{"$f":"WPG!$F$425","v":"Provide extract ventilation to material transfer points and other openings [E82]. "},null,null,{"$f":"10^(J10*LOG(CSA!E$8)+K10)","v":75.722130075086724},{"$f":"10^(L10*LOG(CSA!E$8)+M10)","v":158.30877830318838},null,5,10,{"$f":"WPG!D$452","v":"Ensure operatives are trained to minimise exposures"},15,{"$f":"WPG!D$420","v":"Operate activity away from sources of substance emission or release"},80,null,null,null,80,{"$f":"WPG!D396","v":"Use drum pumps"},80,{"$f":"WPG!D407","v":"Use drum pumps or carefully pour from container"},80,{"$f":"WPG!D408","v":"Drain down system prior to equipment break-in or maintenance "},80,{"$f":"WPG!D398","v":"Drain down and flush system prior to equipment break-in or maintenance "},90,{"$f":"WPG!D373","v":"Sample via a closed loop or other system to avoid exposure"},95,0.1,0.1,4]
["8b -Transfer of chemicals from/to vessels/ large containers at dedicated facilities",150,25,5,{"$f":"IF(AND(OR(CSA!B$7=\"NO\",CSA!B$7=\"\"),CSA!B$8=\"NO\"),IF(CSA!E$8<0.01,AQ11,D11),IF(AND(CSA!B$7=\"NO\",CSA!B$8=\"YES\"),MIN(IF(CSA!E$8<0.01,AQ11,D11),CSA!$BB$10),MIN(IF(CSA!B$8=\"NO\",IF(CSA!E$8<0.01,AQ11,D11),CSA!BB$10),IF(T11>10,MROUND(T11,5),ROUND(T11,1-1-INT(LOG10(ABS(T11))))))))","v":5},250,50,10,{"$f":"IF(AND(OR(CSA!B$7=\"NO\",CSA!B$7=\"\"),CSA!B$8=\"NO\"),IF(CSA!E$8<0.01,AR11,H11),IF(AND(CSA!B$7=\"NO\",CSA!B$8=\"YES\"),MIN(IF(CSA!E$8<0.01,AR11,H11),CSA!$BB$10),MIN(IF(CSA!B$8=\"NO\",IF(CSA!E$8<0.01,AR11,H11),CSA!BB$10),IF(U11>10,MROUND(U11,5),ROUND(U11,1-1-INT(LOG10(ABS(U11))))))))","v":10},0.49645891202476028,0.25147638491544488,0.48759999999999998,0.17380000000000001,95,90,{"$f":"WPG!F$409","v":"Ensure material transfers are under containment or extract ventilation [E66]. "},{"$f":"WPG!$F$409","v":"Ensure material transfers are under containment or extract ventilation [E66]. "},null,null,{"$f":"10^(J11*LOG(CSA!E$8)+K11)","v":52.256029353311064},{"$f":"10^(L11*LOG(CSA!E$8)+M11)","v":41.142307670448609},null,1,5,{"$f":"WPG!D$446","v":"Carefully handle the substance to minimise releases"},15,{"$f":"WPG!D$420","v":"Operate activity away from sources of substance emission or release"},80,{"$f":"WPG!D519","v":"Use vapour recovery units when necessary"},80,{"$f":"WPG!D519","v":"Use vapour recovery units when necessary"},80,{"$f":"WPG!D395","v":"Transfer via enclosed lines"},80,null,null,{"$f":"WPG!D424","v":"Drain or remove substance from equipment prior to break-in or maintenance "},80,{"$f":"WPG!D398","v":"Drain down and flush system prior to equipment break-in or maintenance "},90,{"$f":"WPG!D373","v":"Sample via a closed loop or other system to avoid exposure"},95,0.1,0.1,4]
["9 -Transfer of chemicals into small containers (dedicated filling line)",200,50,5,{"$f":"IF(AND(OR(CSA!B$7=\"NO\",CSA!B$7=\"\"),CSA!B$8=\"NO\"),IF(CSA!E$8<0.01,AQ12,D12),IF(AND(CSA!B$7=\"NO\",CSA!B$8=\"YES\"),MIN(IF(CSA!E$8<0.01,AQ12,D12),CSA!$BB$10),MIN(IF(CSA!B$8=\"NO\",IF(CSA!E$8<0.01,AQ12,D12),CSA!BB$10),IF(T12>10,MROUND(T12,5),ROUND(T12,1-1-INT(LOG10(ABS(T12))))))))","v":5},250,100,10,{"$f":"IF(AND(OR(CSA!B$7=\"NO\",CSA!B$7=\"\"),CSA!B$8=\"NO\"),IF(CSA!E$8<0.01,AR12,H12),IF(AND(CSA!B$7=\"NO\",CSA!B$8=\"YES\"),MIN(IF(CSA!E$8<0.01,AR12,H12),CSA!$BB$10),MIN(IF(CSA!B$8=\"NO\",IF(CSA!E$8<0.01,AR12,H12),CSA!BB$10),IF(U12>10,MROUND(U12,5),ROUND(U12,1-1-INT(LOG10(ABS(U12))))))))","v":10},0.5359626842081332,0.19181267438222904,0.47142297849465298,0.59031888830996304,90,80,{"$f":"WPG!F$394","v":"Fill containers/cans at dedicated fill points supplied with local extract ventilation [E51]. "},{"$f":"WPG!$F$394","v":"Fill containers/cans at dedicated fill points supplied with local extract ventilation [E51]. "},null,null,{"$f":"10^(J12*LOG(CSA!E$8)+K12)","v":59.590416316000905},{"$f":"10^(L12*LOG(CSA!E$8)+M12)","v":96.164923688369981},null,5,5,{"$f":"WPG!D$446","v":"Carefully handle the substance to minimise releases"},15,null,null,null,null,null,null,null,null,null,null,null,null,null,null,null,null,0.1,0.1,4]
["10 - Roller application or brushing ",250,50,10,{"$f":"IF(AND(OR(CSA!B$7=\"NO\",CSA!B$7=\"\"),CSA!B$8=\"NO\"),IF(CSA!E$8<0.01,AQ13,D13),IF(AND(CSA!B$7=\"NO\",CSA!B$8=\"YES\"),MIN(IF(CSA!E$8<0.01,AQ13,D13),CSA!$BB$10),MIN(IF(CSA!B$8=\"NO\",IF(CSA!E$8<0.01,AQ13,D13),CSA!BB$10),IF(T13>10,MROUND(T13,5),ROUND(T13,1-1-INT(LOG10(ABS(T13))))))))","v":10},500,100,25,{"$f":"IF(AND(OR(CSA!B$7=\"NO\",CSA!B$7=\"\"),CSA!B$8=\"NO\"),IF(CSA!E$8<0.01,AR13,H13),IF(AND(CSA!B$7=\"NO\",CSA!B$8=\"YES\"),MIN(IF(CSA!E$8<0.01,AR13,H13),CSA!$BB$10),MIN(IF(CSA!B$8=\"NO\",IF(CSA!E$8<0.01,AR13,H13),CSA!BB$10),IF(U13>10,MROUND(U13,5),ROUND(U13,1-1-INT(LOG10(ABS(U13))))))))","v":25},0.46256814557226261,0.51268434307161681,0.42907601984896004,0.9319103797636421,90,80,{"$f":"WPG!F$397","v":"Provide extract ventilation to points where emissions occur [E54]. "},{"$f":"WPG!$F$397","v":"Provide extract ventilation to points where emissions occur [E54]. "},null,null,{"$f":"10^(J13*LOG(CSA!E$8)+K13)","v":75.722130075086724},{"$f":"10^(L13*LOG(CSA!E$8)+M13)","v":158.30877830318838},null,5,5,{"$f":"WPG!D$452","v":"Ensure operatives are trained to minimise exposures"},15,null,null,null,null,null,null,null,null,null,null,null,null,null,null,null,null,10,25,4]
["11 - Non industrial spraying","n/a","n/a","n/a",null,1000,500,100,{"$f":"IF(AND(OR(CSA!B$7=\"NO\",CSA!B$7=\"\"),CSA!B$8=\"NO\"),IF(CSA!E$8<0.01,AR14,H14),IF(AND(CSA!B$7=\"NO\",CSA!B$8=\"YES\"),MIN(IF(CSA!E$8<0.01,AR14,H14),CSA!$BB$10),MIN(IF(CSA!B$8=\"NO\",IF(CSA!E$8<0.01,AR14,H14),CSA!BB$10),IF(U14>10,MROUND(U14,5),ROUND(U14,1-1-INT(LOG10(ABS(U14))))))))","v":100},null,null,0.33674542739867919,1.7027180998673999,null,80,null,{"$f":"WPG!$F$400","v":"Carry out in a vented booth or extracted enclosure [E57]. "},null,null,null,{"$f":"10^(L14*LOG(CSA!E$8)+M14)","v":498.36295967181854},{"$f":"WPG!F$369","v":"Other skin protection measures such as impervious suits and face shields may be required during high dispersion activities which are likely to lead to substantial aerosol release, e.g. Spraying [E4]. "},null,20,{"$f":"WPG!D$452","v":"Ensure operatives are trained to minimise exposures"},15,{"$f":"WPG!D$420","v":"Operate activity away from sources of substance emission or release"},80,null,null,null,null,null,null,null,null,null,null,null,null,null,null,null,100,4]
["12 - Use of blow agents for foam production",100,20,2,{"$f":"IF(AND(OR(CSA!B$7=\"NO\",CSA!B$7=\"\"),CSA!B$8=\"NO\"),IF(CSA!E$8<0.01,AQ15,D15),IF(AND(CSA!B$7=\"NO\",CSA!B$8=\"YES\"),MIN(IF(CSA!E$8<0.01,AQ15,D15),CSA!$BB$10),MIN(IF(CSA!B$8=\"NO\",IF(CSA!E$8<0.01,AQ15,D15),CSA!BB$10),IF(T15>10,MROUND(T15,5),ROUND(T15,1-1-INT(LOG10(ABS(T15))))))))","v":2},500,100,10,{"$f":"IF(AND(OR(CSA!B$7=\"NO\",CSA!B$7=\"\"),CSA!B$8=\"NO\"),IF(CSA!E$8<0.01,AR15,H15),IF(AND(CSA!B$7=\"NO\",CSA!B$8=\"YES\"),MIN(IF(CSA!E$8<0.01,AR15,H15),CSA!$BB$10),MIN(IF(CSA!B$8=\"NO\",IF(CSA!E$8<0.01,AR15,H15),CSA!BB$10),IF(U15>10,MROUND(U15,5),ROUND(U15,1-1-INT(LOG10(ABS(U15))))))))","v":10},0.56660419043818488,-0.25240610355582405,0.56660419043818488,0.4465639007801947,90,80,{"$f":"WPG!F$397","v":"Provide extract ventilation to points where emissions occur [E54]. "},{"$f":"WPG!$F$397","v":"Provide extract ventilation to points where emissions occur [E54]. "},null,null,{"$f":"10^(J15*LOG(CSA!E$8)+K15)","v":26.392472752509367},{"$f":"10^(L15*LOG(CSA!E$8)+M15)","v":131.9623637625468},null,null,null,null,null,null,null,null,null,null,null,null,null,null,null,null,null,null,null,null,null,2,10,4]
["13 -Treatment of articles by dipping and pouring ",250,50,10,{"$f":"IF(AND(OR(CSA!B$7=\"NO\",CSA!B$7=\"\"),CSA!B$8=\"NO\"),IF(CSA!E$8<0.01,AQ16,D16),IF(AND(CSA!B$7=\"NO\",CSA!B$8=\"YES\"),MIN(IF(CSA!E$8<0.01,AQ16,D16),CSA!$BB$10),MIN(IF(CSA!B$8=\"NO\",IF(CSA!E$8<0.01,AQ16,D16),CSA!BB$10),IF(T16>10,MROUND(T16,5),ROUND(T16,1-1-INT(LOG10(ABS(T16))))))))","v":10},250,100,10,{"$f":"IF(AND(OR(CSA!B$7=\"NO\",CSA!B$7=\"\"),CSA!B$8=\"NO\"),IF(CSA!E$8<0.01,AR16,H16),IF(AND(CSA!B$7=\"NO\",CSA!B$8=\"YES\"),MIN(IF(CSA!E$8<0.01,AR16,H16),CSA!$BB$10),MIN(IF(CSA!B$8=\"NO\",IF(CSA!E$8<0.01,AR16,H16),CSA!BB$10),IF(U16>10,MROUND(U16,5),ROUND(U16,1-1-INT(LOG10(ABS(U16))))))))","v":10},0.46256814557226261,0.51268434307161681,0.47142297849465298,0.59031888830996304,90,80,{"$f":"WPG!F$397","v":"Provide extract ventilation to points where emissions occur [E54]. "},{"$f":"WPG!$F$397","v":"Provide extract ventilation to points where emissions occur [E54]. "},null,null,{"$f":"10^(J16*LOG(CSA!E$8)+K16)","v":75.722130075086724},{"$f":"10^(L16*LOG(CSA!E$8)+M16)","v":96.164923688369981},null,1,5,{"$f":"WPG!D$452","v":"Ensure operatives are trained to minimise exposures"},15,null,null,null,null,null,null,null,null,null,null,null,null,null,null,null,null,0.1,0.1,4]
["14 - Production of preparations or articles by tabletting, compression, extrusion, pelletisation",250,50,5,{"$f":"IF(AND(OR(CSA!B$7=\"NO\",CSA!B$7=\"\"),CSA!B$8=\"NO\"),IF(CSA!E$8<0.01,AQ17,D17),IF(AND(CSA!B$7=\"NO\",CSA!B$8=\"YES\"),MIN(IF(CSA!E$8<0.01,AQ17,D17),CSA!$BB$10),MIN(IF(CSA!B$8=\"NO\",IF(CSA!E$8<0.01,AQ17,D17),CSA!BB$10),IF(T17>10,MROUND(T17,5),ROUND(T17,1-1-INT(LOG10(ABS(T17))))))))","v":5},500,100,10,{"$f":"IF(AND(OR(CSA!B$7=\"NO\",CSA!B$7=\"\"),CSA!B$8=\"NO\"),IF(CSA!E$8<0.01,AR17,H17),IF(AND(CSA!B$7=\"NO\",CSA!B$8=\"YES\"),MIN(IF(CSA!E$8<0.01,AR17,H17),CSA!$BB$10),MIN(IF(CSA!B$8=\"NO\",IF(CSA!E$8<0.01,AR17,H17),CSA!BB$10),IF(U17>10,MROUND(U17,5),ROUND(U17,1-1-INT(LOG10(ABS(U17))))))))","v":10},0.566604190438185,0.14553390511621322,0.56660419043818488,0.4465639007801947,90,80,{"$f":"WPG!$F$397","v":"Provide extract ventilation to points where emissions occur [E54]. "},{"$f":"WPG!$F$397","v":"Provide extract ventilation to points where emissions occur [E54]. "},null,null,{"$f":"10^(J17*LOG(CSA!E$8)+K17)","v":65.981181881273386},{"$f":"10^(L17*LOG(CSA!E$8)+M17)","v":131.9623637625468},null,1,5,null,null,null,null,null,null,null,null,null,null,null,null,null,null,null,null,null,null,0.1,0.1,4]
["15 - Use of laboratory reagents in small scale laboratories",50,10,5,{"$f":"IF(AND(OR(CSA!B$7=\"NO\",CSA!B$7=\"\"),CSA!B$8=\"NO\"),IF(CSA!E$8<0.01,AQ18,D18),IF(AND(CSA!B$7=\"NO\",CSA!B$8=\"YES\"),MIN(IF(CSA!E$8<0.01,AQ18,D18),CSA!$BB$10),MIN(IF(CSA!B$8=\"NO\",IF(CSA!E$8<0.01,AQ18,D18),CSA!BB$10),IF(T18>10,MROUND(T18,5),ROUND(T18,1-1-INT(LOG10(ABS(T18))))))))","v":5},50,10,5,{"$f":"IF(AND(OR(CSA!B$7=\"NO\",CSA!B$7=\"\"),CSA!B$8=\"NO\"),IF(CSA!E$8<0.01,AR18,H18),IF(AND(CSA!B$7=\"NO\",CSA!B$8=\"YES\"),MIN(IF(CSA!E$8<0.01,AR18,H18),CSA!$BB$10),MIN(IF(CSA!B$8=\"NO\",IF(CSA!E$8<0.01,AR18,H18),CSA!BB$10),IF(U18>10,MROUND(U18,5),ROUND(U18,1-1-INT(LOG10(ABS(U18))))))))","v":5},0.32503997498303766,0.29906081771904536,0.32503997498303766,0.29906081771904536,90,80,{"$f":"WPG!F$426","v":"Handle in a fume cupboard or under extract ventilation [E83]. "},{"$f":"WPG!$F$426","v":"Handle in a fume cupboard or under extract ventilation [E83]. "},null,null,{"$f":"10^(J18*LOG(CSA!E$8)+K18)","v":18.168025429238831},{"$f":"10^(L18*LOG(CSA!E$8)+M18)","v":18.168025429238831},null,0.5,0.5,null,null,null,null,null,null,null,null,null,null,null,null,null,null,null,null,null,null,0.1,0.1,4]
["16 - Using material as fuel sources, limited exposure to unburned product to be expected",25,5,1,{"$f":"IF(AND(OR(CSA!B$7=\"NO\",CSA!B$7=\"\"),CSA!B$8=\"NO\"),IF(CSA!E$8<0.01,AQ19,D19),IF(AND(CSA!B$7=\"NO\",CSA!B$8=\"YES\"),MIN(IF(CSA!E$8<0.01,AQ19,D19),CSA!$BB$10),MIN(IF(CSA!B$8=\"NO\",IF(CSA!E$8<0.01,AQ19,D19),CSA!BB$10),IF(T19>10,MROUND(T19,5),ROUND(T19,1-1-INT(LOG10(ABS(T19))))))))","v":1},50,10,1,{"$f":"IF(AND(OR(CSA!B$7=\"NO\",CSA!B$7=\"\"),CSA!B$8=\"NO\"),IF(CSA!E$8<0.01,AR19,H19),IF(AND(CSA!B$7=\"NO\",CSA!B$8=\"YES\"),MIN(IF(CSA!E$8<0.01,AR19,H19),CSA!$BB$10),MIN(IF(CSA!B$8=\"NO\",IF(CSA!E$8<0.01,AR19,H19),CSA!BB$10),IF(U19>10,MROUND(U19,5),ROUND(U19,1-1-INT(LOG10(ABS(U19))))))))","v":1},0.46256814557226267,-0.4873156569283833,0.56660419043818477,-0.55343609921980474,90,80,{"$f":"WPG!F$409","v":"Ensure material transfers are under containment or extract ventilation [E66]. "},{"$f":"WPG!$F$409","v":"Ensure material transfers are under containment or extract ventilation [E66]. "},null,null,{"$f":"10^(J19*LOG(CSA!E$8)+K19)","v":7.5722130075086707},{"$f":"10^(L19*LOG(CSA!E$8)+M19)","v":13.196236376254689},null,5,20,null,null,null,null,null,null,null,null,null,null,null,null,null,null,null,null,null,null,0.1,0.1,4]
["17 - Lubrication at high energy conditions and in partly open process",100,50,20,{"$f":"IF(AND(OR(CSA!B$7=\"NO\",CSA!B$7=\"\"),CSA!B$8=\"NO\"),IF(CSA!E$8<0.01,AQ20,D20),IF(AND(CSA!B$7=\"NO\",CSA!B$8=\"YES\"),MIN(IF(CSA!E$8<0.01,AQ20,D20),CSA!$BB$10),MIN(IF(CSA!B$8=\"NO\",IF(CSA!E$8<0.01,AQ20,D20),CSA!BB$10),IF(T20>10,MROUND(T20,5),ROUND(T20,1-1-INT(LOG10(ABS(T20))))))))","v":20},500,200,50,{"$f":"IF(AND(OR(CSA!B$7=\"NO\",CSA!B$7=\"\"),CSA!B$8=\"NO\"),IF(CSA!E$8<0.01,AR20,H20),IF(AND(CSA!B$7=\"NO\",CSA!B$8=\"YES\"),MIN(IF(CSA!E$8<0.01,AR20,H20),CSA!$BB$10),MIN(IF(CSA!B$8=\"NO\",IF(CSA!E$8<0.01,AR20,H20),CSA!BB$10),IF(U20>10,MROUND(U20,5),ROUND(U20,1-1-INT(LOG10(ABS(U20))))))))","v":50},0.23270938253275678,1.0698685378228037,0.33389480790542825,1.3766953629573908,90,80,{"$f":"WPG!F$403","v":"Minimise exposure by partial enclosure of the operation or equipment and provide extract ventilation at openings [E60]. "},{"$f":"WPG!$F$403","v":"Minimise exposure by partial enclosure of the operation or equipment and provide extract ventilation at openings [E60]. "},null,null,{"$f":"10^(J20*LOG(CSA!E$8)+K20)","v":57.193738852357612},{"$f":"10^(L20*LOG(CSA!E$8)+M20)","v":230.72868885735934},{"$f":"WPG!F$369","v":"Other skin protection measures such as impervious suits and face shields may be required during high dispersion activities which are likely to lead to substantial aerosol release, e.g. Spraying [E4]. "},20,50,null,null,null,null,null,null,null,null,null,null,null,null,null,null,null,null,null,null,20,50,4]
["18 - Greasing at high energy conditions",100,50,20,{"$f":"IF(AND(OR(CSA!B$7=\"NO\",CSA!B$7=\"\"),CSA!B$8=\"NO\"),IF(CSA!E$8<0.01,AQ21,D21),IF(AND(CSA!B$7=\"NO\",CSA!B$8=\"YES\"),MIN(IF(CSA!E$8<0.01,AQ21,D21),CSA!$BB$10),MIN(IF(CSA!B$8=\"NO\",IF(CSA!E$8<0.01,AQ21,D21),CSA!BB$10),IF(T21>10,MROUND(T21,5),ROUND(T21,1-1-INT(LOG10(ABS(T21))))))))","v":20},500,200,50,{"$f":"IF(AND(OR(CSA!B$7=\"NO\",CSA!B$7=\"\"),CSA!B$8=\"NO\"),IF(CSA!E$8<0.01,AR21,H21),IF(AND(CSA!B$7=\"NO\",CSA!B$8=\"YES\"),MIN(IF(CSA!E$8<0.01,AR21,H21),CSA!$BB$10),MIN(IF(CSA!B$8=\"NO\",IF(CSA!E$8<0.01,AR21,H21),CSA!BB$10),IF(U21>10,MROUND(U21,5),ROUND(U21,1-1-INT(LOG10(ABS(U21))))))))","v":50},0.23270938253275678,1.0698685378228037,0.33389480790542825,1.3766953629573908,90,80,{"$f":"WPG!F$403","v":"Minimise exposure by partial enclosure of the operation or equipment and provide extract ventilation at openings [E60]. "},{"$f":"WPG!$F$403","v":"Minimise exposure by partial enclosure of the operation or equipment and provide extract ventilation at openings [E60]. "},null,null,{"$f":"10^(J21*LOG(CSA!E$8)+K21)","v":57.193738852357612},{"$f":"10^(L21*LOG(CSA!E$8)+M21)","v":230.72868885735934},null,20,50,null,null,null,null,null,null,null,null,null,null,null,null,null,null,null,null,null,null,20,50,4]
["19 - Hand-mixing with intimate contact (only PPE available",250,50,10,{"$f":"IF(AND(OR(CSA!B$7=\"NO\",CSA!B$7=\"\"),CSA!B$8=\"NO\"),IF(CSA!E$8<0.01,AQ22,D22),IF(AND(CSA!B$7=\"NO\",CSA!B$8=\"YES\"),MIN(IF(CSA!E$8<0.01,AQ22,D22),CSA!$BB$10),MIN(IF(CSA!B$8=\"NO\",IF(CSA!E$8<0.01,AQ22,D22),CSA!BB$10),IF(T22>10,MROUND(T22,5),ROUND(T22,1-1-INT(LOG10(ABS(T22))))))))","v":10},500,100,15,{"$f":"IF(AND(OR(CSA!B$7=\"NO\",CSA!B$7=\"\"),CSA!B$8=\"NO\"),IF(CSA!E$8<0.01,AR22,H22),IF(AND(CSA!B$7=\"NO\",CSA!B$8=\"YES\"),MIN(IF(CSA!E$8<0.01,AR22,H22),CSA!$BB$10),MIN(IF(CSA!B$8=\"NO\",IF(CSA!E$8<0.01,AR22,H22),CSA!BB$10),IF(U22>10,MROUND(U22,5),ROUND(U22,1-1-INT(LOG10(ABS(U22))))))))","v":15},0.46256814557226261,0.51268434307161681,0.42907601984896004,0.9319103797636421,90,80,{"$f":"WPG!F397","v":"Provide extract ventilation to points where emissions occur [E54]. "},{"$f":"WPG!$F$397","v":"Provide extract ventilation to points where emissions occur [E54]. "},null,null,{"$f":"10^(J22*LOG(CSA!E$8)+K22)","v":75.722130075086724},{"$f":"10^(L22*LOG(CSA!E$8)+M22)","v":158.30877830318838},null,5,5,null,null,null,null,null,null,null,null,null,null,null,null,null,null,null,null,null,null,10,25,4]
["20 - Heat and pressure transfer fluids (closed systems) in dispersive use ","n/a","n/a","n/a","n/a",50,20,5,{"$f":"IF(AND(OR(CSA!B$7=\"NO\",CSA!B$7=\"\"),CSA!B$8=\"NO\"),IF(CSA!E$8<0.01,AR23,H23),IF(AND(CSA!B$7=\"NO\",CSA!B$8=\"YES\"),MIN(IF(CSA!E$8<0.01,AR23,H23),CSA!$BB$10),MIN(IF(CSA!B$8=\"NO\",IF(CSA!E$8<0.01,AR23,H23),CSA!BB$10),IF(U23>10,MROUND(U23,5),ROUND(U23,1-1-INT(LOG10(ABS(U23))))))))","v":5},null,null,0.33389480790542819,0.37669536295739114,null,80,null,{"$f":"WPG!$F$409","v":"Ensure material transfers are under containment or extract ventilation [E66]. "},null,null,null,{"$f":"10^(L23*LOG(CSA!E$8)+M23)","v":23.072868885735939},null,null,1,null,null,null,null,null,null,null,null,null,null,null,null,null,null,null,null,null,null,null,0.1,4]
["28 - Manual maintenance (cleaning and repair) of machinery ",250,50,10,{"$f":"IF(AND(OR(CSA!B$7=\"NO\",CSA!B$7=\"\"),CSA!B$8=\"NO\"),IF(CSA!E$8<0.01,AQ24,D24),IF(AND(CSA!B$7=\"NO\",CSA!B$8=\"YES\"),MIN(IF(CSA!E$8<0.01,AQ24,D24),CSA!$BB$10),MIN(IF(CSA!B$8=\"NO\",IF(CSA!E$8<0.01,AQ24,D24),CSA!BB$10),IF(T24>10,MROUND(T24,5),ROUND(T24,1-1-INT(LOG10(ABS(T24))))))))","v":10},500,100,25,{"$f":"IF(AND(OR(CSA!B$7=\"NO\",CSA!B$7=\"\"),CSA!B$8=\"NO\"),IF(CSA!E$8<0.01,AR24,H24),IF(AND(CSA!B$7=\"NO\",CSA!B$8=\"YES\"),MIN(IF(CSA!E$8<0.01,AR24,H24),CSA!$BB$10),MIN(IF(CSA!B$8=\"NO\",IF(CSA!E$8<0.01,AR24,H24),CSA!BB$10),IF(U24>10,MROUND(U24,5),ROUND(U24,1-1-INT(LOG10(ABS(U24))))))))","v":25},0.46256814557226261,0.51268434307161681,0.42907601984896004,0.9319103797636421,90,80,{"$f":"WPG!F$425","v":"Provide extract ventilation to material transfer points and other openings [E82]. "},{"$f":"WPG!$F$425","v":"Provide extract ventilation to material transfer points and other openings [E82]. "},null,null,{"$f":"10^(J24*LOG(CSA!E$8)+K24)","v":75.722130075086724},{"$f":"10^(L24*LOG(CSA!E$8)+M24)","v":158.30877830318838},null,5,10,{"$f":"WPG!D$452","v":"Ensure operatives are trained to minimise exposures"},15,{"$f":"WPG!D$420","v":"Operate activity away from sources of substance emission or release"},80,null,null,null,80,{"$f":"WPG!D410","v":"Provide extract ventilation to emission points when contact with warm (>50oC) lubricant is likely"},80,{"$f":"WPG!D421","v":0},80,{"$f":"WPG!D422","v":0},80,{"$f":"WPG!D412","v":"Ensure operation is undertaken outdoors "},90,{"$f":"WPG!D387","v":"Discharge sacks via suitable vented charge chute"},95,0.1,0.1,4]

{"sheet":"Dermal data","index":8,"n_rows":25,"n_cols":14,"rows_kept":25,"cut":false,"hidden":false,"merged":[[35,1,36,1],[37,1,38,1],[39,1,40,1],[44,1,45,1],[29,1,30,1],[31,1,32,1],[33,1,34,1]]}
["Generic Exposure Scenarios for Tier 1 Assessment","Weight of worker (kg)",null,70]
[null,"Exposed skin surface (cm2)","Blank column","Blank column","Predicted EASE dermal exposure (ug/cm2/day) LEV not present","Predicted dermal exposure (mg/kg/day) LEV not present","Reduction factor for presence of LEV - IND","Reduction factor for presence of LEV - PROF","Spare empty column","Mandate eye protection if R36 etc","PROC details read across from UMC sheet","PROC descriptor read across from UMC sheet","Comments for LEV present","Comments for no LEV present"]
["Wide Dispersive Uses"]
["1 - Use in closed process, no likelihood of exposure",240,null,null,10,{"$f":"ROUND(E4*$B4/($D$1*1000),2)","v":0.03},1,1,null,"NO",{"$f":"UMC!F3","v":"Use in closed process, no likelihood of exposure [PROC 1]. "},{"$f":"UMC!F40","v":"Use of the substances in high integrity contained systemwhere little potential exists for exposures, e.g. any sam-pling via closed loop systems. "},"PROC expected to have minimal exposure are assigned predicted exposures consistent with Riskofderm and other comparable source data. One hand face only"]
["2 - Use in closed, continuous  process with occasional controlled exposure ",480,null,null,200,{"$f":"ROUND(E5*$B5/($D$1*1000),2)","v":1.37},0.1,0.2,null,"YES",{"$f":"UMC!F4","v":"Use in closed, continuous process with occasional controlled exposure [PROC 2]. "},{"$f":"UMC!F41","v":"Continuous process but where the design philosophy is not specifically aimed at minimizing emissions  It is not high integrity and occasional expose will arise e.g. through maintenance, sampling and equipment breakages. "},"EASE predicts very low (non-dispersive, non- direct handling).0.1g/cm2 a realistic worst case. 2 hands face only","EASE predicts (signif breaching, direct handling, intermittent exposure). Assumes 2 hands face only"]
["3 - Use in closed batch process (synthesis or formulation)",240,null,null,200,0.69,0.1,0.2,null,"YES",{"$f":"UMC!F5","v":"Use in closed batch process (synthesis or formulation) [PROC 3]. "},{"$f":"UMC!F42","v":"Batch manufacture of a chemical or formulation where the predominant handling is in a contained manner, e.g. through enclosed transfers, but where some opportunity for contact with chemicals occurs, e.g. through sampling. "},"PROC expected to have minimal exposure are assigned predicted exposures consistent with Riskofderm and other comparable source data. One hand face only"]
["4 - Use in batch and other process (synthesis) where opportunity for exposure arises ",480,null,null,1000,6.86,0.1,0.2,null,"YES",{"$f":"UMC!F6","v":"Use in batch and other process (synthesis) where opportunity for exposure arises [PROC 4]. "},{"$f":"UMC!F43","v":"Use in batch manufacture of a chemical where significant opportunity for exposure arises, e.g. during charging, sampling or discharge of material, and when the nature of the design is likely to result in exposure. "},"EASE predicts very low (non-dispersive, non- direct handling).0.1g/cm2 a realistic worst case. 2 hands face only","EASE predicts (signif breaching, direct handling, intermittent exposure). Assumes 2 hands face only"]
["5 -Mixing or blending in batch processes (multistage and/or significant contact)",480,null,null,2000,13.71,0.1,0.2,null,"YES",{"$f":"UMC!F7","v":"Mixing or blending in batch processes for formulation of preparations* and articles (multistage and/or significant contact) [PROC 5]. "},{"$f":"UMC!F44","v":"Manufacture or formulation of chemical products or arti-cles using technologies related to mixing and blending of solid or liquid materials, and where the process is in stages and provides the opportunity for significant con-tact at any stage. "},"EASE predicts  very low. Assumes 2 hands face only, ","EASE predicts 5g/cm2(wide-dispersive, mobile dust, direct handling, intermittent).2g/cm2 a more realistic worst case. 2 hands face only, "]
["6 -Calendering operations",960,null,null,2000,27.43,0.1,0.2,null,"YES",{"$f":"UMC!F8","v":"Calendering operations [PROC 6]. "},{"$f":"UMC!F45","v":"Processing of product matrix Calendering at elevated temperature an large exposed surface. "},"EASE predicts (wide-dispersive, mobile dust,  no direct handling) very low. Assumes 2 hands face only, ","EASE predicts 5g/cm2(wide-dispersive, mobile dust, direct handling, intermittent).2g/cm2 a more realistic worst case. 2 hands face only, "]
["7 -Industrial spraying",1500,null,null,2000,42.86,0.05,null,null,"YES",{"$f":"UMC!F9","v":"Industrial spraying [PROC 7]. "},{"$f":"UMC!F46","v":"Air dispersive techniques.  Spraying for surface coating, adhesives, pol-ishes/cleaners, air care products, sandblasting .  Substances can be inhaled as aerosols. The energy of the aerosol particles may require advanced exposure controls; in case of coating, overspray may lead to waste water and waste. "},"EASE predicts 0.1 (wide-dispersive, mobile dust, direct handling, incidental). Assumes 2 hands and forearms","EASE predicts (wide-dispersive, mobile dust,  no direct handling) very low. Assumes 2 hands and forearms "]
["8a -Transfer of chemicals from/to vessels/ large containers at non dedicated facilities",960,null,null,1000,13.71,0.1,0.2,null,"YES",{"$f":"UMC!F10","v":"Transfer of substance or preparation (charging/discharging) from/to vessels/large containers at non-dedicated facilities [PROC 8a]. "},{"$f":"UMC!F47","v":"Sampling, loading, filling, transfer, dumping, bagging in non- dedicated facilities. Exposure related to dust, va-pour, aerosols or spillage, and cleaning of equipment to be expected. "},"EASE predicts (wide dispersive, direct handling, intermittent exposure). Assumes 2 hands","EASE predicts 5g/cm2 (wide dispersive, direct handling, intermittent exposure). 1g/cm2 a more realistic worst case. 2 hands"]
["8b -Transfer of chemicals from/to vessels/ large containers at dedicated facilities",960,null,null,1000,13.71,0.05,0.2,null,"YES",{"$f":"UMC!F11","v":"Transfer of substance or preparation (charging/discharging) from/to vessels/large containers at dedicated facilities [PROC 8b]. "},{"$f":"UMC!F48","v":"Sampling, loading, filling, transfer, dumping, bagging in dedicated facilities. Exposure related to dust, vapour, aerosols or spillage, and cleaning of equipment to be expected. "},"EASE predicts (wide dispersive, direct handling, intermittent exposure). Assumes 2 hands","EASE predicts 5g/cm2 (wide dispersive, direct handling, intermittent exposure). 2g/cm2 a more realistic worst case. 2 hands"]
["9 -Transfer of chemicals into small containers (dedicated filling line)",480,null,null,1000,6.86,0.1,0.2,null,"YES",{"$f":"UMC!F12","v":"Transfer of substance or preparation into small containers (dedicated filling line, including weighing) [PROC 9]. "},{"$f":"UMC!F49","v":"Filling lines specifically designed to both capture vapour and aerosol emissions and minimise spillage. "},"EASE predicts very low (non-dispersive, non- direct handling).0.1g/cm2 a realistic worst case. 2 hands face only","EASE predicts (signif breaching, direct handling, intermittent exposure). Assumes 2 hands face only"]
["10 - Roller application or brushing ",960,null,null,2000,27.43,1,1,null,"YES",{"$f":"UMC!F13","v":"Roller application or brushing [PROC 10]. "},{"$f":"UMC!F50","v":"Low energy spreading of e.g. coatings.  Including cleaning of surfaces. Substance can be inhaled as vapours, skin contact can occur through droplets, splashes, working with wipes and handling of treated surfaces. "},"EASE predicts (wide dispersive, mobile dust, direct handling, incidental). Assumes 2 hands","EASE predicts 5g/cm2 (wide dispersive, mobile dust, direct handling, intermittent). 2g/cm2 a more realistic worst case. 2 hands "]
["11 - Non industrial spraying",1500,null,null,5000,107.14,null,0.2,null,"YES",{"$f":"UMC!F14","v":"Non industrial spraying [PROC 11]. "},{"$f":"UMC!F51","v":"Air dispersive techniques.  Spraying for surface coating, adhesives, polishes/cleaners, air care products, sandblasting.  Substances can be inhaled as aerosols. The energy of the aerosol particles may require advanced exposure controls. "},"EASE predicts (wide-dispersive, mobile dust, direct handling, incidental). Assumes 2 hands and forearms","EASE predicts 5g/cm2 (wide dispersive, mobile dust, direct handling, intermittent). Assumes 2 hands and forearms "]
["12 - Use of blow agents for foam production",240,null,null,100,0.34,0.1,0.2,null,"YES",{"$f":"UMC!F15","v":"Use of blowing agents in manufacture of foam [PROC 12]. "},null,"PROC expected to have minimal exposure are assigned predicted exposures consistent with Riskofderm and other comparable source data. One hand face only"]
["13 -Treatment of articles by dipping and pouring ",480,null,null,2000,13.71,0.1,0.2,null,"YES",{"$f":"UMC!F16","v":"Treatment of articles by dipping and pouring [PROC 13]. "},{"$f":"UMC!F53","v":"Immersion operations.  Treatment of articles by dipping, pouring, immersing, soaking, washing out or washing in substances; including cold formation or resin type matrix. Includes handling of treated objects (e.g. after dying, plating,).  Substance is applied to a surface by low energy tech-niques such as dipping the article into a bath or pouring a preparation onto a surface. "},"EASE predicts very low (wide-dispersive, mobile dust,  no direct handling) 0.1g/cm2 a realistic worst case.2 hands face only, ","EASE predicts 5g/cm2 (wide-dispersive, mobile dust, direct handling, intermittent).2g/cm2 a more realistic worst case. 2 hands face only, "]
["14 - Production of preparations or articles by tabletting, compression, extrusion, pelletisation",480,null,null,500,3.43,0.1,0.2,null,"YES",{"$f":"UMC!F17","v":"Production of preparations or articles by tabletting, compression, extrusion, pelletisation [PROC 14]. "},{"$f":"UMC!F54","v":"Processing of preparations and/or substances (liquid and solid) into preparations or articles. Substances in the chemical matrix may be exposed to elevated mechanical and/or thermal energy conditions. Exposure is predomi-nantly related to volatiles and/or generated fumes, dust may be formed as well. "},"EASE predicts very low (non-dispersive, non- direct handling).0.1g/cm2 a realistic worst case. 2 hands face only","EASE predicts (signif breaching, direct handling, intermittent exposure). Assumes 2 hands face only"]
["15 - Use of laboratory reagents in small scale laboratories",240,null,null,100,0.34,0.1,0.2,null,"YES",{"$f":"UMC!F18","v":"Use as laboratory reagent [PROC 15]. "},{"$f":"UMC!F55","v":"Use of substances at small scale laboratory (< 1 l or 1 kg present at workplace). Larger laboratories and R+D in-stallations should be treated as industrial processes. "},"PROC expected to have minimal exposure are assigned predicted exposures consistent with Riskofderm and other comparable source data. One hand face only"]
["16 - Using material as fuel sources, limited exposure to unburned product to be expected",240,null,null,100,0.34,0.1,0.2,null,"NO",{"$f":"UMC!F19","v":"Using material as fuel sources, limited exposure to unburned product to be expected [PROC 16]. "},{"$f":"UMC!F56","v":"Covers the use of material as fuel sources (including ad-ditives) where limited exposure to the product in its un-burned form is expected. Does not cover exposure as a consequence of spillage or combustion. "},"PROC expected to have minimal exposure are assigned predicted exposures consistent with Riskofderm and other comparable source data. One hand face only"]
["17 - Lubrication at high energy conditions and in partly open process",960,null,null,2000,27.43,0.1,0.1,null,"YES",{"$f":"UMC!F20","v":"Lubrication at high energy conditions and in partly open process [PROC 17]. "},{"$f":"UMC!F57","v":"Lubrication at high energy conditions (temperature, fric-tion) between moving parts and substance; significant part of process is open to workers..  The metal working fluid may form aerosols or fumes due to rapidly moving metal parts. "},"EASE predicts (dispersive, mobile dust, direct handling, incidental contact). Assumes 2 hands  ","EASE predicts (dispersive, mobile dust, direct handling, intermittent contact). Assumes 2 hands"]
["18 - Greasing at high energy conditions",960,null,null,1000,13.71,0.1,0.1,null,"NO",{"$f":"UMC!F21","v":"Greasing at high energy conditions [PROC 18]. "},{"$f":"UMC!F58","v":"Use as lubricant where significant energy or temperature is applied between the substance and the moving parts . "},"EASE predicts (dispersive, mobile dust, direct handling, incidental contact). Assumes 2 hands  ","EASE predicts (dispersive, mobile dust, direct handling, intermittent contact). Assumes 2 hands"]
["19 - Hand-mixing with intimate contact (only PPE available",1980,null,null,5000,141.43,1,1,null,"YES",{"$f":"UMC!F22","v":"Hand-mixing with intimate contact and only PPE available [PROC 19]. "},{"$f":"UMC!F59","v":"Addresses occupations where intimate and intentional contact with substances occurs without any specific ex-posure controls other than PPE. "},"Values approximate to those identified in 2003 TGD and Riskofderm papers. Assumes 2 hands"]
["20 - Heat and pressure transfer fluids (closed systems) in dispersive use ",480,null,null,250,1.71,null,0.2,null,"NO",{"$f":"UMC!F23","v":"Heat and pressure transfer fluids in dispersive, professional use but closed systems [PROC 20]. "},{"$f":"UMC!F60","v":"Motor and engine oils, brake fluids.  Also in these applications, the lubricant may be exposed to high energy conditions and chemical reactions may take place during use. Exhausted fluids need to be dis-posed of as waste. Repair and maintenance may lead to skin contact. "},"EASE predicts very low (non-dispersive, non- direct handling).0.1g/cm2 a realistic worst case. 2 hands face only","EASE predicts (signif breaching, direct handling, intermittent exposure). Assumes 2 hands face only"]
["28 - Manual maintenance (cleaning and repair) of machinery ",960,null,null,1000,{"$f":"ROUND(E25*$B25/($D$1*1000),2)","v":13.71},0.1,0.2,null,"YES",{"$f":"UMC!F32","v":"Manual maintenance (cleaning and repair) of machinery [PROC 28]. "},{"$f":"UMC!F69","v":"Covers maintenance activities for uses where the maintenance is not already included in any of the other process categories. The category covers for example:\n• activities when closed systems are opened and potentially entered for cleaning\n• generally dedicated/separate cleaning tasks conducted on a shift or less frequent basis (e.g. between individual production batches)\n• removal of splashes around the machinery removal of filters or material from filters\n• cleaning of floors that are not directly around the machinery, but still need cleaning for instance because of dust deposition when handling a dusty product . "},"EASE predicts (wide dispersive, direct handling, intermittent exposure). Assumes 2 hands","EASE predicts 5g/cm2 (wide dispersive, direct handling, intermittent exposure). 1g/cm2 a more realistic worst case. 2 hands"]

{"sheet":"Add","index":9,"n_rows":6,"n_cols":4,"rows_kept":6,"cut":false,"hidden":true,"merged":[]}
[]
[]
[]
[null,null,null,"CSA"]
[null,null,null,"$AV$54"]
["Make a selection in the cell at right, then press \n\"Add Selection\" button ==>","Provide a good standard of general ventilation (not less than 3-5 air changes per hour) [E11]",null,";  Minimise exposure by partial enclosure of the operation or equipment and provide extract ventilation at openings [E60]. ;  Provide a good standard of general ventilation (not less than 3-5 air changes per hour) [E11]"]